{"text_format":"1","workbook":"xlsx","n_sheets":8,"sheets":["Ferment 1","Ferment 2","Ferment 3","Ferment range calcs","Refrigeration & Weather","What-if Analysis","What-if Chart","What-if model data"],"not_rendered":{"charts":5,"images":2,"macros":1,"external_links":0,"defined_names":17,"comments":0,"pivot_tables":0},"unopened":[{"sheet":"What-if Chart","index":6,"reason":"not_a_worksheet"}],"bounds":{"document_bytes":16777216,"sheet_cells":100000,"rows_first":2000,"rows_last":500,"rows_between":2000,"halvings":0,"cell_chars":16384,"cell_head_chars":4096},"cells_cut":0,"cells_raw":0,"read":"whole","date_system":"1900"}

{"sheet":"Ferment 1","index":0,"n_rows":87,"n_cols":21,"rows_kept":87,"cut":false,"hidden":false,"merged":[[0,0,0,2]]}
["Fermenter 1"]
["Active",null,1]
[]
["Tank Name",null,"Example 1"]
["Start Date",null,"2013-01-04"]
["Start Time",null,"12:00:00"]
[]
["Volume",null,40,"kL"]
["Initial Cell mass",null,null,"g/L"]
["Initial N",null,0.25,"g/L"]
["Insulation U value",null,3,"W/m2/C"]
["Desired ferment duration",null,10,"days"]
[]
["Prediction score",null,9.6518357449240142]
["Refrigeration cost",null,320.97524288326628]
["Ferment Completion",null,18,"days",null,null,null,null,null,null,null,null,"Cool Climate",0,"(1=Yes, 0=No)"]
["Completion low limit",null,15.5,"days",null,null,null,null,null,null,null,null,"Warm Climate",1,"(1=Yes, 0=No)"]
["Completion high limit",null,99,"days",null,null,null,null,null,null,null,null,"Wild Ferment",0,"(1=Yes, 0=No)"]
["Predicted status",null,{"$f":"IF(C2=0,\"Inactive Ferment\",IF(COUNT(C23:C83)<5,\"Insufficient data for prediction\",IF(ABS(C12-C16)<2.1,\"Good\",IF(ABS(C12-C17)<2.1,\"Low range on spec\",IF(ABS(C12-C18)<2.1,\"High range on spec\",IF(C12<C17,\"Warning -  Sluggish Ferment\",\"Warning - Rapid ferment\"))))))","v":"Warning -  Sluggish Ferment"}]
[]
["Ferment Data",null,null,null,null,null,null,null,null,null,null,null,null,null,null,"Low/High range calculations"]
["Date","Day","Baume - Actual","Temp C","DAP addition","Mixing (0=off, 1=low, 2=medium, 3=high) ","Nutrient Addition","Pump over","Aeration","Yeast Innoc.","Comments","Baume – Model",null,null,null,"Low range","High range","Adjusted Low range","Adjusted high range","Range parameters"]
[{"$f":"IF(C$6<0.5,C$5+B23,C$5+B23+0.5)","v":"2013-01-04T12:00:00"},0,13.6,15,null,null,null,null,null,null,null,13.433333333333334,null,null,null,{"$f":"IF(C23=\"\",IF(B23<$T$85,L23-TINV($T$87,$T$86-2)*(0.0536816635160681*$C$14+0.0181)*SQRT(1+1/$T$86),L23-TINV($T$87,$T$86-2)*(0.0536816635160681*$C$14+0.0181)*SQRT(1+1/$T$86+(B23-$T$85)^2/$U$85)),\"\")","v":""},{"$f":"IF(C23=\"\",IF(B23<$T$85,L23+TINV($T$87,$T$86-2)*(0.0536816635160681*$C$14+0.0181)*SQRT(1+1/$T$86),L23+TINV($T$87,$T$86-2)*(0.0536816635160681*$C$14+0.0181)*SQRT(1+1/$T$86+(B23-$T$85)^2/$U$85)),\"\")","v":""},{"$f":"IF(P23=\"\",L23,IF(P23<-3,-3,P23))","v":13.433333333333334},{"$f":"IF(Q23=\"\",L23,Q23)","v":13.433333333333334},{"$f":"IF(C23=\"\",\"\",B23)","v":0},{"$f":"IF(T23=\"\",\"\",(T23-$T$85)^2)","v":2.25}]
["2013-01-05",0.5,13.5,15,null,null,null,null,null,null,null,13.298193610192639,null,null,null,{"$f":"IF(C24=\"\",IF(B24<$T$85,L24-TINV($T$87,$T$86-2)*(0.0536816635160681*$C$14+0.0181)*SQRT(1+1/$T$86),L24-TINV($T$87,$T$86-2)*(0.0536816635160681*$C$14+0.0181)*SQRT(1+1/$T$86+(B24-$T$85)^2/$U$85)),\"\")","v":""},{"$f":"IF(C24=\"\",IF(B24<$T$85,L24+TINV($T$87,$T$86-2)*(0.0536816635160681*$C$14+0.0181)*SQRT(1+1/$T$86),L24+TINV($T$87,$T$86-2)*(0.0536816635160681*$C$14+0.0181)*SQRT(1+1/$T$86+(B24-$T$85)^2/$U$85)),\"\")","v":""},{"$f":"IF(P24=\"\",L24,IF(P24<-3,-3,P24))","v":13.298193610192639},{"$f":"IF(Q24=\"\",L24,IF(Q24>S23,S23,Q24))","v":13.298193610192639},{"$f":"IF(C24=\"\",\"\",B24)","v":0.5},{"$f":"IF(T24=\"\",\"\",(T24-$T$85)^2)","v":1}]
["2013-01-05T12:00:00",1,13.2,16,null,null,null,null,null,null,null,13.185050832489479,null,null,null,"","",13.185050832489479,{"$f":"IF(Q25=\"\",L25,IF(Q25>S24,S24,Q25))","v":13.185050832489479},1,0.25]
["2013-01-06",1.5,12.9,17,null,null,null,null,null,null,null,12.974576768958864,null,null,null,"","",12.974576768958864,12.974576768958864,1.5,0]
["2013-01-06T12:00:00",2,12.2,13,null,null,null,null,null,null,null,12.504474599525475,null,null,null,"","",12.504474599525475,12.504474599525475,2,0.25]
["2013-01-07",2.5,11.5,13.5,null,null,null,null,null,null,null,11.778901817160452,null,null,null,"","",11.778901817160452,11.778901817160452,2.5,1]
["2013-01-07T12:00:00",3,10.9,13.5,null,null,null,null,null,null,null,11.155687812168408,null,null,null,"","",11.155687812168408,11.155687812168408,3,2.25]
["2013-01-08",3.5,null,null,null,null,null,null,null,null,null,10.535805087917943,null,null,null,10.299397855529914,10.772212320305972,10.299397855529914,10.772212320305972,"",""]
["2013-01-08T12:00:00",4,null,null,null,null,null,null,null,null,null,9.9281072861657336,null,null,null,9.6704884772903466,10.185726095041121,9.6704884772903466,10.185726095041121,"",""]
["2013-01-09",4.5,null,null,null,null,null,null,null,null,null,9.3350924704833336,null,null,null,9.0537115821351666,9.6164733588315006,9.0537115821351666,9.6164733588315006,"",""]
["2013-01-09T12:00:00",5,null,null,null,null,null,null,null,null,null,8.757412024697679,null,null,null,8.4503100213680735,9.0645140280272845,8.4503100213680735,9.0645140280272845,"",""]
["2013-01-10",5.5,null,null,null,null,null,null,null,null,null,8.1956463469897542,null,null,null,7.8613160327035168,8.5299766612759917,7.8613160327035168,8.5299766612759917,"",""]
["2013-01-10T12:00:00",6,null,null,null,null,null,null,null,null,null,7.6503458935640092,null,null,null,7.2876193296999396,8.0130724574280787,7.2876193296999396,8.0130724574280787,"",""]
["2013-01-11",6.5,null,null,null,null,null,null,null,null,null,7.1220275243971116,null,null,null,6.7299904806183894,7.5140645681758338,6.7299904806183894,7.5140645681758338,"",""]
["2013-01-11T12:00:00",7,null,null,null,null,null,null,null,null,null,6.6111693099112951,null,null,null,6.1890979773890455,7.0332406424335447,6.1890979773890455,7.0332406424335447,"",""]
["2013-01-12",7.5,null,null,null,null,null,null,null,null,null,6.1182049382156221,null,null,null,5.6655195526997213,6.5708903237315228,5.6655195526997213,6.5708903237315228,"",""]
["2013-01-12T12:00:00",8,null,null,null,null,null,null,null,null,null,5.6435178255837766,null,null,null,5.1597486768542664,6.1272869743132867,5.1597486768542664,6.1272869743132867,"",""]
["2013-01-13",8.5,null,null,null,null,null,null,null,null,null,5.1874350421123969,null,null,null,4.672197424361622,5.7026726598631718,4.672197424361622,5.7026726598631718,"",""]
["2013-01-13T12:00:00",9,null,null,null,null,null,null,null,null,null,4.750221203641261,null,null,null,4.2031967995158723,5.2972456077666497,4.2031967995158723,5.2972456077666497,"",""]
["2013-01-14",9.5,null,null,null,null,null,null,null,null,null,4.3320725217397333,null,null,null,3.7529954308854996,4.9111496125939675,3.7529954308854996,4.9111496125939675,"",""]
["2013-01-14T12:00:00",10,null,null,null,null,null,null,null,null,null,3.9331112416674059,null,null,null,3.3217573849887287,4.544465098346083,3.3217573849887287,4.544465098346083,"",""]
["2013-01-15",10.5,null,null,null,null,null,null,null,null,null,3.5533807292014408,null,null,null,2.9095597280840448,4.1972017303188371,2.9095597280840448,4.1972017303188371,"",""]
["2013-01-15T12:00:00",11,null,null,null,null,null,null,null,null,null,3.192841486007914,null,null,null,2.5163903736842346,3.8692925983315933,2.5163903736842346,3.8692925983315933,"",""]
["2013-01-16",11.5,null,null,null,null,null,null,null,null,null,2.8513683747220835,null,null,null,2.1421466775579994,3.5605900718861676,2.1421466775579994,3.5605900718861676,"",""]
["2013-01-16T12:00:00",12,null,null,null,null,null,null,null,null,null,2.5287493147854514,null,null,null,1.7866351681928343,3.2708634613780685,1.7866351681928343,3.2708634613780685,"",""]
["2013-01-17",12.5,null,null,null,null,null,null,null,null,null,2.2246856657802447,null,null,null,1.4495727192378092,2.9997986123226803,1.4495727192378092,2.9997986123226803,"",""]
["2013-01-17T12:00:00",13,null,null,null,null,null,null,null,null,null,1.9387944465258922,null,null,null,1.1305893761986092,2.7469995168531751,1.1305893761986092,2.7469995168531751,"",""]
["2013-01-18",13.5,null,null,null,null,null,null,null,null,null,1.6706124487990006,null,null,null,0.82923294228129163,2.5119919553167094,0.82923294228129163,2.5119919553167094,"",""]
["2013-01-18T12:00:00",14,null,null,null,null,null,null,null,null,null,1.4196022007872129,null,null,null,0.5449753119063242,2.2942290896681015,0.5449753119063242,2.2942290896681015,"",""]
["2013-01-19",14.5,null,null,null,null,null,null,null,null,null,1.1851596266777609,null,null,null,0.2772204227664169,2.093098830589105,0.2772204227664169,2.093098830589105,"",""]
["2013-01-19T12:00:00",15,null,null,null,null,null,null,null,null,null,0.9666231461380721,null,null,null,2.531358827461816E-2,1.9079327040015261,2.531358827461816E-2,1.9079327040015261,"",""]
["2013-01-20",15.5,null,null,null,null,null,null,null,null,null,0.76328387187868163,null,null,null,-0.2114481179170985,1.7380158616744619,-0.2114481179170985,1.7380158616744619,"",""]
[{"$f":"IF(C$6<0.5,C$5+B55,C$5+B55+0.5)","v":"2013-01-20T12:00:00"},16,null,null,null,null,null,null,null,null,null,0.57439650420236954,null,null,null,-0.43380481627762979,1.5825978246823689,-0.43380481627762979,1.5825978246823689,"",""]
["2013-01-21",16.5,null,null,null,null,null,null,null,null,null,0.39919049430747272,null,null,null,-0.64252253517051727,1.4409035237854626,-0.64252253517051727,1.4409035237854626,"",""]
["2013-01-21T12:00:00",17,null,null,null,null,null,null,null,null,null,0.2368810547545738,null,null,null,-0.83838209974809608,1.3121442092572437,-0.83838209974809608,1.3121442092572437,"",""]
["2013-01-22",17.5,null,null,null,null,null,null,null,null,null,8.6679633222122188E-2,null,null,null,-1.0221685753069245,1.195527841751169,-1.0221685753069245,1.195527841751169,"",""]
["2013-01-22T12:00:00",18,null,null,null,null,null,null,null,null,null,-5.2196471844163275E-2,null,null,null,-1.1946615829811926,1.0902686392928662,-1.1946615829811926,1.0902686392928662,"",""]
["2013-01-23",18.5,null,null,null,null,null,null,null,null,null,-0.18051559645868737,null,null,null,-1.3566267277948532,0.99559553487747854,-1.3566267277948532,0.99559553487747854,"",""]
["2013-01-23T12:00:00",19,null,null,null,null,null,null,null,null,null,-0.29902445457388432,null,null,null,-1.5088082942826775,0.91075938513490895,-1.5088082942826775,0.91075938513490895,"",""]
["2013-01-24",19.5,null,null,null,null,null,null,null,null,null,-0.4084422136992471,null,null,null,-1.6519232818577014,0.83503885445920711,-1.6519232818577014,0.83503885445920711,"",""]
["2013-01-24T12:00:00",20,null,null,null,null,null,null,null,null,null,-0.50945590191351597,null,null,null,-1.7866567778123121,0.7677449739852803,-1.7866567778123121,0.7677449739852803,"",""]
["2013-01-25",20.5,null,null,null,null,null,null,null,null,null,-0.60271708433806059,null,null,null,-1.9136586049273809,0.70822443625125964,-1.9136586049273809,0.70822443625125964,"",""]
["2013-01-25T12:00:00",21,null,null,null,null,null,null,null,null,null,-0.68883970162571018,null,null,null,-2.033541135362452,0.6558617321110316,-2.033541135362452,0.6558617321110316,"",""]
["2013-01-26",21.5,null,null,null,null,null,null,null,null,null,-0.76839893330254838,null,null,null,-2.1468781329506541,0.61008026634555745,-2.1468781329506541,0.61008026634555745,"",""]
["2013-01-26T12:00:00",22,null,null,null,null,null,null,null,null,null,-0.84193093344628644,null,null,null,-2.2542044708006967,0.57034260390812375,-2.2542044708006967,0.57034260390812375,"",""]
["2013-01-27",22.5,null,null,null,null,null,null,null,null,null,-0.90993328279370955,null,null,null,-2.3560165678229015,0.53615000223548248,-2.3560165678229015,0.53615000223548248,"",""]
["2013-01-27T12:00:00",23,null,null,null,null,null,null,null,null,null,-0.97286600712188642,null,null,null,-2.4527733936330574,0.50704137938928429,-2.4527733936330574,0.50704137938928429,"",""]
["2013-01-28",23.5,null,null,null,null,null,null,null,null,null,-1.0311530238327788,null,null,null,-2.5448979034409813,0.48259185577542363,-2.5448979034409813,0.48259185577542363,"",""]
["2013-01-28T12:00:00",24,null,null,null,null,null,null,null,null,null,-1.0851838945740304,null,null,null,-2.6327787804889469,0.46241099134088604,-2.6327787804889469,0.46241099134088604,"",""]
["2013-01-29",24.5,null,null,null,null,null,null,null,null,null,-1.1353157793859163,null,null,null,-2.7167723813071256,0.44614082253529297,-2.7167723813071256,0.44614082253529297,"",""]
["2013-01-29T12:00:00",25,null,null,null,null,null,null,null,null,null,-1.1818755057109032,null,null,null,-2.7972047969362483,0.43345378551444225,-2.7972047969362483,0.43345378551444225,"",""]
["2013-01-30",25.5,null,null,null,null,null,null,null,null,null,-1.2251616825485994,null,null,null,-2.8743739602439842,0.42405059514678567,-2.8743739602439842,0.42405059514678567,"",""]
["2013-01-30T12:00:00",26,null,null,null,null,null,null,null,null,null,-1.2654468054051295,null,null,null,-2.9485517448524732,0.41765813404221386,-2.9485517448524732,0.41765813404221386,"",""]
["2013-01-31",26.5,null,null,null,null,null,null,null,null,null,-1.3029793111180936,null,null,null,-3.019986014646975,0.41402739241078779,-3,0.41402739241078779,"",""]
["2013-01-31T12:00:00",27,null,null,null,null,null,null,null,null,null,-1.3379855530231759,null,null,null,-3.08890259423741,0.41293148819105818,-3,0.41293148819105818,"",""]
["2013-02-01",27.5,null,null,null,null,null,null,null,null,null,-1.3706716763185758,null,null,null,-3.1555071401487647,0.41416378751161309,-3,0.41293148819105818,"",""]
["2013-02-01T12:00:00",28,null,null,null,null,null,null,null,null,null,-1.4012253810340567,null,null,null,-3.219986900078724,0.41753613801061062,-3,0.41293148819105818,"",""]
["2013-02-02",28.5,null,null,null,null,null,null,null,null,null,-1.4298175659335104,null,null,null,-3.2825123534928724,0.42287722162585162,-3,0.41293148819105818,"",""]
["2013-02-02T12:00:00",29,null,null,null,null,null,null,null,null,null,-1.4566038512055757,null,null,null,-3.343238731361728,0.43003102895057643,-3,0.41293148819105818,"",""]
["2013-02-03",29.5,null,null,null,null,null,null,null,null,null,-1.4817259811565056,null,null,null,-3.4023074162105438,0.43885545389753289,-3,0.41293148819105818,"",""]
["2013-02-03T12:00:00",30,null,null,null,null,null,null,null,null,null,-1.5053131105278483,null,null,null,-3.4598472260671151,0.44922100501141848,-3,0.41293148819105818,"",""]
[]
[null,null,null,null,null,null,null,null,null,null,null,null,null,null,null,null,null,null,"Range totals",{"$f":"AVERAGE(T23:T83)","v":1.5},{"$f":"SUM(U23:U83)","v":7}]
[null,null,null,null,null,null,null,null,null,null,null,null,null,null,null,null,null,null,null,{"$f":"COUNT(T23:T83)","v":7}]
[null,null,null,null,null,null,null,null,null,null,null,null,null,null,null,null,null,null,"alpha",0.75]

{"sheet":"Ferment 2","index":1,"n_rows":87,"n_cols":21,"rows_kept":87,"cut":false,"hidden":false,"merged":[[0,0,0,2]]}
["Fermenter 2"]
["Active",null,1]
[]
["Tank Name",null,"Example 2"]
["Start Date",null,"2013-01-04"]
["Start Time",null,"12:00:00"]
[]
["Volume",null,40,"kL"]
["Initial Cell mass",null,null,"g/L"]
["Initial N",null,0.25,"g/L"]
["Insulation U value",null,3,"W/m2/C"]
["Desired ferment duration",null,9,"days"]
[]
["Prediction score",null,5.7415627036665899]
["Refrigeration cost",null,289.1541832476201]
["Ferment Completion",null,8,"days",null,null,null,null,null,null,null,null,"Cool Climate",1,"(1=Yes, 0=No)"]
["Completion low limit",null,8,"days",null,null,null,null,null,null,null,null,"Warm Climate",0,"(1=Yes, 0=No)"]
["Completion high limit",null,8.5,"days",null,null,null,null,null,null,null,null,"Wild Ferment",0,"(1=Yes, 0=No)"]
["Predicted status",null,{"$f":"IF(C2=0,\"Inactive Ferment\",IF(COUNT(C23:C83)<5,\"Insufficient data for prediction\",IF(ABS(C12-C16)<2.1,\"Good\",IF(ABS(C12-C17)<2.1,\"Low range on spec\",IF(ABS(C12-C18)<2.1,\"High range on spec\",IF(C12<C17,\"Warning -  Sluggish Ferment\",\"Warning - Rapid ferment\"))))))","v":"Good"}]
[]
["Ferment Data",null,null,null,null,null,null,null,null,null,null,null,null,null,null,"Low/High range calculations"]
["Date","Day","Baume - Actual","Temp C","DAP addition","Mixing (0=off, 1=low, 2=medium, 3=high) ","Nutrient Addition","Pump over","Aeration","Yeast Innoc.","Comments","Baume – Model",null,null,null,"Low range","High range","Adjusted Low range","Adjusted high range","Range parameters"]
[{"$f":"IF(C$6<0.5,C$5+B23,C$5+B23+0.5)","v":"2013-01-04T12:00:00"},0,13.6,15,null,null,null,null,null,null,null,13.433333333333334,null,null,null,{"$f":"IF(C23=\"\",IF(B23<$T$85,L23-TINV($T$87,$T$86-2)*(0.0536816635160681*$C$14+0.0181)*SQRT(1+1/$T$86),L23-TINV($T$87,$T$86-2)*(0.0536816635160681*$C$14+0.0181)*SQRT(1+1/$T$86+(B23-$T$85)^2/$U$85)),\"\")","v":""},{"$f":"IF(C23=\"\",IF(B23<$T$85,L23+TINV($T$87,$T$86-2)*(0.0536816635160681*$C$14+0.0181)*SQRT(1+1/$T$86),L23+TINV($T$87,$T$86-2)*(0.0536816635160681*$C$14+0.0181)*SQRT(1+1/$T$86+(B23-$T$85)^2/$U$85)),\"\")","v":""},{"$f":"IF(P23=\"\",L23,IF(P23<-3,-3,P23))","v":13.433333333333334},{"$f":"IF(Q23=\"\",L23,Q23)","v":13.433333333333334},{"$f":"IF(C23=\"\",\"\",B23)","v":0},{"$f":"IF(T23=\"\",\"\",(T23-$T$85)^2)","v":9}]
["2013-01-05",0.5,13.5,15,null,null,null,null,null,null,null,13.327123531242739,null,null,null,{"$f":"IF(C24=\"\",IF(B24<$T$85,L24-TINV($T$87,$T$86-2)*(0.0536816635160681*$C$14+0.0181)*SQRT(1+1/$T$86),L24-TINV($T$87,$T$86-2)*(0.0536816635160681*$C$14+0.0181)*SQRT(1+1/$T$86+(B24-$T$85)^2/$U$85)),\"\")","v":""},{"$f":"IF(C24=\"\",IF(B24<$T$85,L24+TINV($T$87,$T$86-2)*(0.0536816635160681*$C$14+0.0181)*SQRT(1+1/$T$86),L24+TINV($T$87,$T$86-2)*(0.0536816635160681*$C$14+0.0181)*SQRT(1+1/$T$86+(B24-$T$85)^2/$U$85)),\"\")","v":""},{"$f":"IF(P24=\"\",L24,IF(P24<-3,-3,P24))","v":13.327123531242739},{"$f":"IF(Q24=\"\",L24,IF(Q24>S23,S23,Q24))","v":13.327123531242739},{"$f":"IF(C24=\"\",\"\",B24)","v":0.5},{"$f":"IF(T24=\"\",\"\",(T24-$T$85)^2)","v":6.25}]
["2013-01-05T12:00:00",1,13.2,16,null,null,null,null,null,null,null,13.232080660195098,null,null,null,"","",13.232080660195098,{"$f":"IF(Q25=\"\",L25,IF(Q25>S24,S24,Q25))","v":13.232080660195098},1,4]
["2013-01-06",1.5,12.9,17,null,null,null,null,null,null,null,13.043561349045957,null,null,null,"","",13.043561349045957,13.043561349045957,1.5,2.25]
["2013-01-06T12:00:00",2,12.2,13,null,null,null,null,null,null,null,12.568355723513225,null,null,null,"","",12.568355723513225,12.568355723513225,2,1]
["2013-01-07",2.5,11.5,13.5,null,null,null,null,null,null,null,11.671833240355793,null,null,null,"","",11.671833240355793,11.671833240355793,2.5,0.25]
["2013-01-07T12:00:00",3,10.9,13.5,null,null,null,null,null,null,null,10.818722646814622,null,null,null,"","",10.818722646814622,10.818722646814622,3,0]
["2013-01-08",3.5,10.3,16,0.1,1,null,null,null,null,null,9.9653244975928956,null,null,null,"","",9.9653244975928956,9.9653244975928956,3.5,0.25]
["2013-01-08T12:00:00",4,8.4,16,null,null,null,null,null,null,null,8.0748503552858537,null,null,null,"","",8.0748503552858537,8.0748503552858537,4,1]
["2013-01-09",4.5,6.4,16,null,null,null,null,null,null,null,6.2758973663873734,null,null,null,"","",6.2758973663873734,6.2758973663873734,4.5,2.25]
["2013-01-09T12:00:00",5,4.5999999999999996,16,null,null,null,null,null,null,null,4.783781826722624,null,null,null,"","",4.783781826722624,4.783781826722624,5,4]
["2013-01-10",5.5,3.3,16,null,null,null,null,null,null,null,3.5318915903990087,null,null,null,"","",3.5318915903990087,3.5318915903990087,5.5,6.25]
["2013-01-10T12:00:00",6,2.5,16,null,null,null,null,null,null,null,2.4800251329470742,null,null,null,"","",2.4800251329470742,2.4800251329470742,6,9]
["2013-01-11",6.5,null,null,null,null,null,null,null,null,null,1.6068775296435964,null,null,null,1.483173438360782,1.7305816209264109,1.483173438360782,1.7305816209264109,"",""]
["2013-01-11T12:00:00",7,null,null,null,null,null,null,null,null,null,0.89969088133391928,null,null,null,0.7722561830182435,1.0271255796495951,0.7722561830182435,1.0271255796495951,"",""]
["2013-01-12",7.5,null,null,null,null,null,null,null,null,null,0.34571479803706562,null,null,null,0.21417992628258456,0.4772496697915467,0.21417992628258456,0.4772496697915467,"",""]
["2013-01-12T12:00:00",8,null,null,null,null,null,null,null,null,null,-7.3055501164473763E-2,null,null,null,-0.20902668435447291,6.2915682025525388E-2,-0.20902668435447291,6.2915682025525388E-2,"",""]
["2013-01-13",8.5,null,null,null,null,null,null,null,null,null,-0.38027865728275506,null,null,null,-0.52099050058909835,-0.2395668139764118,-0.52099050058909835,-0.2395668139764118,"",""]
["2013-01-13T12:00:00",9,null,null,null,null,null,null,null,null,null,-0.60158178030418541,null,null,null,-0.74730893306992618,-0.45585462753844463,-0.74730893306992618,-0.45585462753844463,"",""]
["2013-01-14",9.5,null,null,null,null,null,null,null,null,null,-0.76022306975467002,null,null,null,-0.91121281535916543,-0.60923332415017462,-0.91121281535916543,-0.60923332415017462,"",""]
["2013-01-14T12:00:00",10,null,null,null,null,null,null,null,null,null,-0.87469076007339153,null,null,null,-1.0311654338074212,-0.71821608633936196,-1.0311654338074212,-0.71821608633936196,"",""]
["2013-01-15",10.5,null,null,null,null,null,null,null,null,null,-0.95845776419356443,null,null,null,-1.1206171419075648,-0.79629838647956419,-1.1206171419075648,-0.79629838647956419,"",""]
["2013-01-15T12:00:00",11,null,null,null,null,null,null,null,null,null,-1.0208730111326472,null,null,null,-1.1888965929864235,-0.85284942927887086,-1.1888965929864235,-0.85284942927887086,"",""]
["2013-01-16",11.5,null,null,null,null,null,null,null,null,null,-1.0682864935582959,null,null,null,-1.2423356370647021,-0.89423735005188953,-1.2423356370647021,-0.89423735005188953,"",""]
["2013-01-16T12:00:00",12,null,null,null,null,null,null,null,null,null,-1.1049966812544776,null,null,null,-1.2852165599294301,-0.9247768025795251,-1.2852165599294301,-0.9247768025795251,"",""]
["2013-01-17",12.5,null,null,null,null,null,null,null,null,null,-1.1339347880800217,null,null,null,-1.3204561675566802,-0.94741340860336321,-1.3204561675566802,-0.94741340860336321,"",""]
["2013-01-17T12:00:00",13,null,null,null,null,null,null,null,null,null,-1.1571262185705007,null,null,null,-1.3500670523825704,-0.96418538475843096,-1.3500670523825704,-0.96418538475843096,"",""]
["2013-01-18",13.5,null,null,null,null,null,null,null,null,null,-1.1759930261437694,null,null,null,-1.3754598798319897,-0.97652617245554918,-1.3754598798319897,-0.97652617245554918,"",""]
["2013-01-18T12:00:00",14,null,null,null,null,null,null,null,null,null,-1.1915507143666322,null,null,null,-1.3976400302139587,-0.9854613985193057,-1.3976400302139587,-0.9854613985193057,"",""]
["2013-01-19",14.5,null,null,null,null,null,null,null,null,null,-1.2045368194822612,null,null,null,-1.4173360359059133,-0.99173760305860903,-1.4173360359059133,-0.99173760305860903,"",""]
["2013-01-19T12:00:00",15,null,null,null,null,null,null,null,null,null,-1.2154957895251268,null,null,null,-1.4350843296008367,-0.99590724944941689,-1.4350843296008367,-0.99590724944941689,"",""]
["2013-01-20",15.5,null,null,null,null,null,null,null,null,null,-1.2248357718389036,null,null,null,-1.4512859150771074,-0.99838562860069968,-1.4512859150771074,-0.99838562860069968,"",""]
["2013-01-20T12:00:00",16,null,null,null,null,null,null,null,null,null,-1.2328671745857962,null,null,null,-1.4662448252522311,-0.99948952391936141,-1.4662448252522311,-0.99948952391936141,"",""]
["2013-01-21",16.5,null,null,null,null,null,null,null,null,null,-1.2398292546923984,null,null,null,-1.480194618891415,-0.99946389049338169,-1.480194618891415,-0.99948952391936141,"",""]
["2013-01-21T12:00:00",17,null,null,null,null,null,null,null,null,null,-1.2459087291183182,null,null,null,-1.4933169116839469,-0.99850054655268938,-1.4933169116839469,-0.99948952391936141,"",""]
["2013-01-22",17.5,null,null,null,null,null,null,null,null,null,-1.2512529944750366,null,null,null,-1.5057545255358322,-0.99675146341424092,-1.5057545255358322,-0.99948952391936141,"",""]
["2013-01-22T12:00:00",18,null,null,null,null,null,null,null,null,null,-1.2559796490993689,null,null,null,-1.5176209490543087,-0.99433834914442909,-1.5176209490543087,-0.99948952391936141,"",""]
["2013-01-23",18.5,null,null,null,null,null,null,null,null,null,-1.2601834432612344,null,null,null,-1.5290072338562866,-0.99135965266618231,-1.5290072338562866,-0.99948952391936141,"",""]
["2013-01-23T12:00:00",19,null,null,null,null,null,null,null,null,null,-1.2639414159507627,null,null,null,-1.5399870841935994,-0.98789574770792599,-1.5399870841935994,-0.99948952391936141,"",""]
["2013-01-24",19.5,null,null,null,null,null,null,null,null,null,-1.267316736286574,null,null,null,-1.5506206570842505,-0.98401281548889774,-1.5506206570842505,-0.99948952391936141,"",""]
["2013-01-24T12:00:00",20,null,null,null,null,null,null,null,null,null,-1.2703616080987352,null,null,null,-1.5609574307476473,-0.97976578544982318,-1.5609574307476473,-0.99948952391936141,"",""]
["2013-01-25",20.5,null,null,null,null,null,null,null,null,null,-1.2731194890280939,null,null,null,-1.571038392021207,-0.97520058603498083,-1.571038392021207,-0.99948952391936141,"",""]
["2013-01-25T12:00:00",21,null,null,null,null,null,null,null,null,null,-1.2756268024818036,null,null,null,-1.5808977205172461,-0.97035588444636112,-1.5808977205172461,-0.99948952391936141,"",""]
["2013-01-26",21.5,null,null,null,null,null,null,null,null,null,-1.2779142704567534,null,null,null,-1.5905640970259425,-0.96526444388756449,-1.5905640970259425,-0.99948952391936141,"",""]
["2013-01-26T12:00:00",22,null,null,null,null,null,null,null,null,null,-1.2800079601306831,null,null,null,-1.6000617286247378,-0.95995419163662832,-1.6000617286247378,-0.99948952391936141,"",""]
["2013-01-27",22.5,null,null,null,null,null,null,null,null,null,-1.281930112344343,null,null,null,-1.6094111582366331,-0.95444906645205285,-1.6094111582366331,-0.99948952391936141,"",""]
["2013-01-27T12:00:00",23,null,null,null,null,null,null,null,null,null,-1.2836998024241422,null,null,null,-1.6186299087569864,-0.94876969609129791,-1.6186299087569864,-0.99948952391936141,"",""]
["2013-01-28",23.5,null,null,null,null,null,null,null,null,null,-1.2853334710564712,null,null,null,-1.6277329991745932,-0.9429339429383492,-1.6277329991745932,-0.99948952391936141,"",""]
["2013-01-28T12:00:00",24,null,null,null,null,null,null,null,null,null,-1.2868453536533124,null,null,null,-1.6367333608797034,-0.93695734642692141,-1.6367333608797034,-0.99948952391936141,"",""]
["2013-01-29",24.5,null,null,null,null,null,null,null,null,null,-1.2882478298371483,null,null,null,-1.6456421755732795,-0.93085348410101687,-1.6456421755732795,-0.99948952391936141,"",""]
["2013-01-29T12:00:00",25,null,null,null,null,null,null,null,null,null,-1.2895517096242217,null,null,null,-1.6544691511715117,-0.92463426807693172,-1.6544691511715117,-0.99948952391936141,"",""]
["2013-01-30",25.5,null,null,null,null,null,null,null,null,null,-1.2907664691110705,null,null,null,-1.6632227483501811,-0.91831018987195989,-1.6632227483501811,-0.99948952391936141,"",""]
["2013-01-30T12:00:00",26,null,null,null,null,null,null,null,null,null,-1.2919004456253287,null,null,null,-1.6719103675508291,-0.91189052369982826,-1.6719103675508291,-0.99948952391936141,"",""]
["2013-01-31",26.5,null,null,null,null,null,null,null,null,null,-1.2929610001423657,null,null,null,-1.6805385041295908,-0.90538349615514058,-1.6805385041295908,-0.99948952391936141,"",""]
["2013-01-31T12:00:00",27,null,null,null,null,null,null,null,null,null,-1.2939546531176982,null,null,null,-1.6891128776937157,-0.89879642854168085,-1.6891128776937157,-0.99948952391936141,"",""]
["2013-02-01",27.5,null,null,null,null,null,null,null,null,null,-1.2948871986130777,null,null,null,-1.6976385404123731,-0.89213585681378227,-1.6976385404123731,-0.99948952391936141,"",""]
["2013-02-01T12:00:00",28,null,null,null,null,null,null,null,null,null,-1.2957638006079792,null,null,null,-1.7061199681139101,-0.88540763310204829,-1.7061199681139101,-0.99948952391936141,"",""]
["2013-02-02",28.5,null,null,null,null,null,null,null,null,null,-1.2965890746188342,null,null,null,-1.7145611372224709,-0.87861701201519737,-1.7145611372224709,-0.99948952391936141,"",""]
["2013-02-02T12:00:00",29,null,null,null,null,null,null,null,null,null,-1.2973671571444696,null,null,null,-1.722965589991774,-0.87176872429716523,-1.722965589991774,-0.99948952391936141,"",""]
["2013-02-03",29.5,null,null,null,null,null,null,null,null,null,-1.2981017649795157,null,null,null,-1.731336490024709,-0.86486703993432223,-1.731336490024709,-0.99948952391936141,"",""]
["2013-02-03T12:00:00",30,null,null,null,null,null,null,null,null,null,-1.2987962460591498,null,null,null,-1.7396766696955903,-0.85791582242270914,-1.7396766696955903,-0.99948952391936141,"",""]
[]
[null,null,null,null,null,null,null,null,null,null,null,null,null,null,null,null,null,null,"Range totals",{"$f":"AVERAGE(T23:T83)","v":3},{"$f":"SUM(U23:U83)","v":45.5}]
[null,null,null,null,null,null,null,null,null,null,null,null,null,null,null,null,null,null,null,{"$f":"COUNT(T23:T83)","v":13}]
[null,null,null,null,null,null,null,null,null,null,null,null,null,null,null,null,null,null,"alpha",0.75]

{"sheet":"Ferment 3","index":2,"n_rows":87,"n_cols":21,"rows_kept":87,"cut":false,"hidden":false,"merged":[[0,0,0,2]]}
["Fermenter 3"]
["Active",null,1]
[]
["Tank Name",null,"Example 3"]
["Start Date",null,"2013-01-04"]
["Start Time",null,"12:00:00"]
[]
["Volume",null,40,"kL"]
["Initial Cell mass",null,null,"g/L"]
["Initial N",null,0.25,"g/L"]
["Insulation U value",null,3,"W/m2/C"]
["Desired ferment duration",null,9,"days"]
[]
["Prediction score",null,10.536951298705462]
["Refrigeration cost",null,289.01918092204272]
["Ferment Completion",null,8,"days",null,null,null,null,null,null,null,null,"Cool Climate",1,"(1=Yes, 0=No)"]
["Completion low limit",null,7.5,"days",null,null,null,null,null,null,null,null,"Warm Climate",0,"(1=Yes, 0=No)"]
["Completion high limit",null,8,"days",null,null,null,null,null,null,null,null,"Wild Ferment",0,"(1=Yes, 0=No)"]
["Predicted status",null,{"$f":"IF(C2=0,\"Inactive Ferment\",IF(COUNT(C23:C83)<5,\"Insufficient data for prediction\",IF(ABS(C12-C16)<2.1,\"Good\",IF(ABS(C12-C17)<2.1,\"Low range on spec\",IF(ABS(C12-C18)<2.1,\"High range on spec\",IF(C12<C17,\"Warning -  Sluggish Ferment\",\"Warning - Rapid ferment\"))))))","v":"Good"}]
[]
["Ferment Data",null,null,null,null,null,null,null,null,null,null,null,null,null,null,"Low/High range calculations"]
["Date","Day","Baume - Actual","Temp C","DAP addition","Mixing (0=off, 1=low, 2=medium, 3=high) ","Nutrient Addition","Pump over","Aeration","Yeast Innoc.","Comments","Baume – Model",null,null,null,"Low range","High range","Adjusted Low range","Adjusted high range","Range parameters"]
[{"$f":"IF(C$6<0.5,C$5+B23,C$5+B23+0.5)","v":"2013-01-04T12:00:00"},0,13.6,15,null,null,null,null,null,null,null,13.433333333333334,null,null,null,{"$f":"IF(C23=\"\",IF(B23<$T$85,L23-TINV($T$87,$T$86-2)*(0.0536816635160681*$C$14+0.0181)*SQRT(1+1/$T$86),L23-TINV($T$87,$T$86-2)*(0.0536816635160681*$C$14+0.0181)*SQRT(1+1/$T$86+(B23-$T$85)^2/$U$85)),\"\")","v":""},{"$f":"IF(C23=\"\",IF(B23<$T$85,L23+TINV($T$87,$T$86-2)*(0.0536816635160681*$C$14+0.0181)*SQRT(1+1/$T$86),L23+TINV($T$87,$T$86-2)*(0.0536816635160681*$C$14+0.0181)*SQRT(1+1/$T$86+(B23-$T$85)^2/$U$85)),\"\")","v":""},{"$f":"IF(P23=\"\",L23,IF(P23<-3,-3,P23))","v":13.433333333333334},{"$f":"IF(Q23=\"\",L23,Q23)","v":13.433333333333334},{"$f":"IF(C23=\"\",\"\",B23)","v":0},{"$f":"IF(T23=\"\",\"\",(T23-$T$85)^2)","v":9}]
["2013-01-05",0.5,13.5,15,null,null,null,null,null,null,null,13.364048550989382,null,null,null,{"$f":"IF(C24=\"\",IF(B24<$T$85,L24-TINV($T$87,$T$86-2)*(0.0536816635160681*$C$14+0.0181)*SQRT(1+1/$T$86),L24-TINV($T$87,$T$86-2)*(0.0536816635160681*$C$14+0.0181)*SQRT(1+1/$T$86+(B24-$T$85)^2/$U$85)),\"\")","v":""},{"$f":"IF(C24=\"\",IF(B24<$T$85,L24+TINV($T$87,$T$86-2)*(0.0536816635160681*$C$14+0.0181)*SQRT(1+1/$T$86),L24+TINV($T$87,$T$86-2)*(0.0536816635160681*$C$14+0.0181)*SQRT(1+1/$T$86+(B24-$T$85)^2/$U$85)),\"\")","v":""},{"$f":"IF(P24=\"\",L24,IF(P24<-3,-3,P24))","v":13.364048550989382},{"$f":"IF(Q24=\"\",L24,IF(Q24>S23,S23,Q24))","v":13.364048550989382},{"$f":"IF(C24=\"\",\"\",B24)","v":0.5},{"$f":"IF(T24=\"\",\"\",(T24-$T$85)^2)","v":6.25}]
["2013-01-05T12:00:00",1,13.2,16,null,null,null,null,null,null,null,13.29700082867541,null,null,null,"","",13.29700082867541,{"$f":"IF(Q25=\"\",L25,IF(Q25>S24,S24,Q25))","v":13.29700082867541},1,4]
["2013-01-06",1.5,12.9,17,null,null,null,null,null,null,null,13.153221459856409,null,null,null,"","",13.153221459856409,13.153221459856409,1.5,2.25]
["2013-01-06T12:00:00",2,12.2,13,null,null,null,null,null,null,null,12.729715707453449,null,null,null,"","",12.729715707453449,12.729715707453449,2,1]
["2013-01-07",2.5,11.5,13.5,null,null,null,null,null,null,null,11.705205889679593,null,null,null,"","",11.705205889679593,11.705205889679593,2.5,0.25]
["2013-01-07T12:00:00",3,10.9,13.5,null,null,null,null,null,null,null,10.609700090081379,null,null,null,"","",10.609700090081379,10.609700090081379,3,0]
["2013-01-08",3.5,10.3,16,0.1,null,null,1,null,null,null,9.5139053358628818,null,null,null,"","",9.5139053358628818,9.5139053358628818,3.5,0.25]
["2013-01-08T12:00:00",4,8.4,16,null,null,null,null,null,null,null,8.2954837374386603,null,null,null,"","",8.2954837374386603,8.2954837374386603,4,1]
["2013-01-09",4.5,6.4,16,null,null,null,null,null,null,null,6.8040815076057255,null,null,null,"","",6.8040815076057255,6.8040815076057255,4.5,2.25]
["2013-01-09T12:00:00",5,4.5999999999999996,16,null,null,null,null,null,null,null,5.2254936000149126,null,null,null,"","",5.2254936000149126,5.2254936000149126,5,4]
["2013-01-10",5.5,3.3,16,null,null,null,null,null,null,null,3.6935272711363569,null,null,null,"","",3.6935272711363569,3.6935272711363569,5.5,6.25]
["2013-01-10T12:00:00",6,2.5,16,null,null,null,null,1,null,null,2.3722951918158905,null,null,null,"","",2.3722951918158905,2.3722951918158905,6,9]
["2013-01-11",6.5,null,null,null,null,null,null,null,null,null,1.3434970727984805,null,null,null,1.1222053858198866,1.5647887597770744,1.1222053858198866,1.5647887597770744,"",""]
["2013-01-11T12:00:00",7,null,null,null,null,null,null,null,null,null,0.59936655736051658,null,null,null,0.37140126472187451,0.82733184999915865,0.37140126472187451,0.82733184999915865,"",""]
["2013-01-12",7.5,null,null,null,null,null,null,null,null,null,8.1458784051197511E-2,null,null,null,-0.153841223937349,0.31675879203974405,-0.153841223937349,0.31675879203974405,"",""]
["2013-01-12T12:00:00",8,null,null,null,null,null,null,null,null,null,-0.27314489012476506,null,null,null,-0.51638092376410283,-2.9908856485427349E-2,-0.51638092376410283,-2.9908856485427349E-2,"",""]
["2013-01-13",8.5,null,null,null,null,null,null,null,null,null,-0.51669049110388843,null,null,null,-0.76840699344607222,-0.26497398876170464,-0.76840699344607222,-0.26497398876170464,"",""]
["2013-01-13T12:00:00",9,null,null,null,null,null,null,null,null,null,-0.68674142001053351,null,null,null,-0.94742970557735151,-0.42605313444371551,-0.94742970557735151,-0.42605313444371551,"",""]
["2013-01-14",9.5,null,null,null,null,null,null,null,null,null,-0.80827345511813065,null,null,null,-1.078375884025665,-0.5381710262105962,-1.078375884025665,-0.5381710262105962,"",""]
["2013-01-14T12:00:00",10,null,null,null,null,null,null,null,null,null,-0.89735899131215446,null,null,null,-1.1772732945575071,-0.61744468806680186,-1.1772732945575071,-0.61744468806680186,"",""]
["2013-01-15",10.5,null,null,null,null,null,null,null,null,null,-0.96429491379356647,null,null,null,-1.2543784662582165,-0.67421136132891657,-1.2543784662582165,-0.67421136132891657,"",""]
["2013-01-15T12:00:00",11,null,null,null,null,null,null,null,null,null,-1.015751966304151,null,null,null,-1.3163258721065176,-0.71517806050178423,-1.3163258721065176,-0.71517806050178423,"",""]
["2013-01-16",11.5,null,null,null,null,null,null,null,null,null,-1.0561336193839375,null,null,null,-1.367486527637044,-0.74478071113083089,-1.367486527637044,-0.74478071113083089,"",""]
["2013-01-16T12:00:00",12,null,null,null,null,null,null,null,null,null,-1.0884107068296589,null,null,null,-1.4108023154295779,-0.7660190982297399,-1.4108023154295779,-0.7660190982297399,"",""]
["2013-01-17",12.5,null,null,null,null,null,null,null,null,null,-1.1146327733488046,null,null,null,-1.4482970062285336,-0.7809685404690756,-1.4482970062285336,-0.7809685404690756,"",""]
["2013-01-17T12:00:00",13,null,null,null,null,null,null,null,null,null,-1.1362446658161416,null,null,null,-1.481392527609303,-0.79109680402298022,-1.481392527609303,-0.79109680402298022,"",""]
["2013-01-18",13.5,null,null,null,null,null,null,null,null,null,-1.1542858525348625,null,null,null,-1.5111079761303077,-0.7974637289394173,-1.5111079761303077,-0.7974637289394173,"",""]
["2013-01-18T12:00:00",14,null,null,null,null,null,null,null,null,null,-1.1695183638311299,null,null,null,-1.5381872728315142,-0.80084945483074566,-1.5381872728315142,-0.80084945483074566,"",""]
["2013-01-19",14.5,null,null,null,null,null,null,null,null,null,-1.1825105807680618,null,null,null,-1.5631826919470959,-0.80183846958902782,-1.5631826919470959,-0.80183846958902782,"",""]
["2013-01-19T12:00:00",15,null,null,null,null,null,null,null,null,null,-1.1936932047181712,null,null,null,-1.5865105963711765,-0.80087581306516586,-1.5865105963711765,-0.80183846958902782,"",""]
["2013-01-20",15.5,null,null,null,null,null,null,null,null,null,-1.2033973601364467,null,null,null,-1.6084893315827307,-0.79830538869016265,-1.6084893315827307,-0.80183846958902782,"",""]
["2013-01-20T12:00:00",16,null,null,null,null,null,null,null,null,null,-1.2118810031382439,null,null,null,-1.6293654491539034,-0.7943965571225845,-1.6293654491539034,-0.80183846958902782,"",""]
["2013-01-21",16.5,null,null,null,null,null,null,null,null,null,-1.2193475349073681,null,null,null,-1.6493321569456052,-0.78936291286913107,-1.6493321569456052,-0.80183846958902782,"",""]
["2013-01-21T12:00:00",17,null,null,null,null,null,null,null,null,null,-1.2259591279136792,null,null,null,-1.6685425018708671,-0.78337575395649139,-1.6685425018708671,-0.80183846958902782,"",""]
["2013-01-22",17.5,null,null,null,null,null,null,null,null,null,-1.2318464067719437,null,null,null,-1.6871189249485725,-0.77657388859531484,-1.6871189249485725,-0.80183846958902782,"",""]
["2013-01-22T12:00:00",18,null,null,null,null,null,null,null,null,null,-1.2371155767787057,null,null,null,-1.7051602796651375,-0.76907087389227369,-1.7051602796651375,-0.80183846958902782,"",""]
["2013-01-23",18.5,null,null,null,null,null,null,null,null,null,-1.241853739503594,null,null,null,-1.7227470511464225,-0.76096042786076556,-1.7227470511464225,-0.80183846958902782,"",""]
["2013-01-23T12:00:00",19,null,null,null,null,null,null,null,null,null,-1.24613290316457,null,null,null,-1.7399452821661128,-0.75232052416302719,-1.7399452821661128,-0.80183846958902782,"",""]
["2013-01-24",19.5,null,null,null,null,null,null,null,null,null,-1.2500130414189283,null,null,null,-1.7568095580970906,-0.74321652474076605,-1.7568095580970906,-0.80183846958902782,"",""]
["2013-01-24T12:00:00",20,null,null,null,null,null,null,null,null,null,-1.2535444501747934,null,null,null,-1.7733852990590195,-0.73370360129056733,-1.7733852990590195,-0.80183846958902782,"",""]
["2013-01-25",20.5,null,null,null,null,null,null,null,null,null,-1.2567695808197281,null,null,null,-1.7897105364703756,-0.72382862516908053,-1.7897105364703756,-0.80183846958902782,"",""]
["2013-01-25T12:00:00",21,null,null,null,null,null,null,null,null,null,-1.2597244788765536,null,null,null,-1.8058173019758659,-0.7136316557772413,-1.8058173019758659,-0.80183846958902782,"",""]
["2013-01-26",21.5,null,null,null,null,null,null,null,null,null,-1.2624399224180169,null,null,null,-1.8217327221758244,-0.70314712266020951,-1.8217327221758244,-0.80183846958902782,"",""]
["2013-01-26T12:00:00",22,null,null,null,null,null,null,null,null,null,-1.2649423299353897,null,null,null,-1.837479888066623,-0.69240477180415638,-1.837479888066623,-0.80183846958902782,"",""]
["2013-01-27",22.5,null,null,null,null,null,null,null,null,null,-1.2672544896598639,null,null,null,-1.8530785505095548,-0.68143042881017279,-1.8530785505095548,-0.80183846958902782,"",""]
["2013-01-27T12:00:00",23,null,null,null,null,null,null,null,null,null,-1.2693961494917347,null,null,null,-1.8685456802931601,-0.67024661869030921,-1.8685456802931601,-0.80183846958902782,"",""]
["2013-01-28",23.5,null,null,null,null,null,null,null,null,null,-1.2713844972783752,null,null,null,-1.8838959220194269,-0.65887307253732363,-1.8838959220194269,-0.80183846958902782,"",""]
["2013-01-28T12:00:00",24,null,null,null,null,null,null,null,null,null,-1.2732345542176107,null,null,null,-1.8991419641487091,-0.64732714428651239,-1.8991419641487091,-0.80183846958902782,"",""]
["2013-01-29",24.5,null,null,null,null,null,null,null,null,null,-1.274959498965458,null,null,null,-1.9142948424000266,-0.63562415553088947,-1.9142948424000266,-0.80183846958902782,"",""]
["2013-01-29T12:00:00",25,null,null,null,null,null,null,null,null,null,-1.2765709361156989,null,null,null,-1.9293641898432004,-0.62377768238819764,-1.9293641898432004,-0.80183846958902782,"",""]
["2013-01-30",25.5,null,null,null,null,null,null,null,null,null,-1.2780791197518446,null,null,null,-1.9443584440965798,-0.61179979540710938,-1.9443584440965798,-0.80183846958902782,"",""]
["2013-01-30T12:00:00",26,null,null,null,null,null,null,null,null,null,-1.279493140504707,null,null,null,-1.9592850198148488,-0.59970126119456513,-1.9592850198148488,-0.80183846958902782,"",""]
["2013-01-31",26.5,null,null,null,null,null,null,null,null,null,-1.2808210828037032,null,null,null,-1.9741504529391034,-0.58749171266830302,-1.9741504529391034,-0.80183846958902782,"",""]
["2013-01-31T12:00:00",27,null,null,null,null,null,null,null,null,null,-1.2820701576577698,null,null,null,-1.9889605218573998,-0.57517979345813974,-1.9889605218573998,-0.80183846958902782,"",""]
["2013-02-01",27.5,null,null,null,null,null,null,null,null,null,-1.2832468152471559,null,null,null,-2.0037203495937126,-0.56277328090059908,-2.0037203495937126,-0.80183846958902782,"",""]
["2013-02-01T12:00:00",28,null,null,null,null,null,null,null,null,null,-1.2843568407798289,null,null,null,-2.0184344903367073,-0.55027919122295055,-2.0184344903367073,-0.80183846958902782,"",""]
["2013-02-02",28.5,null,null,null,null,null,null,null,null,null,-1.2854054364130492,null,null,null,-2.0331070029846874,-0.53770386984141094,-2.0331070029846874,-0.80183846958902782,"",""]
["2013-02-02T12:00:00",29,null,null,null,null,null,null,null,null,null,-1.2863972915222401,null,null,null,-2.0477415138803083,-0.52505306916417216,-2.0477415138803083,-0.80183846958902782,"",""]
["2013-02-03",29.5,null,null,null,null,null,null,null,null,null,-1.2873366431855879,null,null,null,-2.0623412705085089,-0.51233201586266719,-2.0623412705085089,-0.80183846958902782,"",""]
["2013-02-03T12:00:00",30,null,null,null,null,null,null,null,null,null,-1.2882273284210024,null,null,null,-2.0769091876110473,-0.49954546923095733,-2.0769091876110473,-0.80183846958902782,"",""]
[]
[null,null,null,null,null,null,null,null,null,null,null,null,null,null,null,null,null,null,"Range totals",{"$f":"AVERAGE(T23:T83)","v":3},{"$f":"SUM(U23:U83)","v":45.5}]
[null,null,null,null,null,null,null,null,null,null,null,null,null,null,null,null,null,null,null,{"$f":"COUNT(T23:T83)","v":13}]
[null,null,null,null,null,null,null,null,null,null,null,null,null,null,null,null,null,null,"alpha",0.75]

{"sheet":"Ferment range calcs","index":3,"n_rows":64,"n_cols":23,"rows_kept":64,"cut":false,"hidden":true,"merged":[]}
[]
["Ferment 1",null,null,null,null,null,null,null,"Ferment 2",null,null,null,null,null,null,null,"Ferment 3"]
[{"$f":"'Ferment 1'!B22","v":"Day"},{"$f":"'Ferment 1'!L22","v":"Baume – Model"},{"$f":"'Ferment 1'!P22","v":"Low range"},{"$f":"'Ferment 1'!Q22","v":"High range"},{"$f":"'Ferment 1'!R22","v":"Adjusted Low range"},{"$f":"'Ferment 1'!S22","v":"Adjusted high range"},{"$f":"'Ferment 1'!T22","v":"Range parameters"},null,{"$f":"A3","v":"Day"},{"$f":"'Ferment 2'!L22","v":"Baume – Model"},{"$f":"'Ferment 2'!P22","v":"Low range"},{"$f":"'Ferment 2'!Q22","v":"High range"},{"$f":"'Ferment 2'!R22","v":"Adjusted Low range"},{"$f":"'Ferment 2'!S22","v":"Adjusted high range"},{"$f":"'Ferment 2'!T22","v":"Range parameters"},null,{"$f":"I3","v":"Day"},{"$f":"'Ferment 3'!L22","v":"Baume – Model"},{"$f":"'Ferment 3'!P22","v":"Low range"},{"$f":"'Ferment 3'!Q22","v":"High range"},{"$f":"'Ferment 3'!R22","v":"Adjusted Low range"},{"$f":"'Ferment 3'!S22","v":"Adjusted high range"},{"$f":"'Ferment 3'!T22","v":"Range parameters"}]
[{"$f":"'Ferment 1'!B23","v":0},{"$f":"'Ferment 1'!L23","v":13.433333333333334},{"$f":"'Ferment 1'!P23","v":""},{"$f":"'Ferment 1'!Q23","v":""},{"$f":"'Ferment 1'!R23","v":13.433333333333334},{"$f":"'Ferment 1'!S23","v":13.433333333333334},{"$f":"'Ferment 1'!T23","v":0},null,{"$f":"A4","v":0},{"$f":"'Ferment 2'!L23","v":13.433333333333334},{"$f":"'Ferment 2'!P23","v":""},{"$f":"'Ferment 2'!Q23","v":""},{"$f":"'Ferment 2'!R23","v":13.433333333333334},{"$f":"'Ferment 2'!S23","v":13.433333333333334},{"$f":"'Ferment 2'!T23","v":0},null,{"$f":"I4","v":0},{"$f":"'Ferment 3'!L23","v":13.433333333333334},{"$f":"'Ferment 3'!P23","v":""},{"$f":"'Ferment 3'!Q23","v":""},{"$f":"'Ferment 3'!R23","v":13.433333333333334},{"$f":"'Ferment 3'!S23","v":13.433333333333334},{"$f":"'Ferment 3'!T23","v":0}]
[{"$f":"'Ferment 1'!B24","v":0.5},{"$f":"'Ferment 1'!L24","v":13.298193610192639},{"$f":"'Ferment 1'!P24","v":""},{"$f":"'Ferment 1'!Q24","v":""},{"$f":"'Ferment 1'!R24","v":13.298193610192639},{"$f":"'Ferment 1'!S24","v":13.298193610192639},{"$f":"'Ferment 1'!T24","v":0.5},null,0.5,{"$f":"'Ferment 2'!L24","v":13.327123531242739},{"$f":"'Ferment 2'!P24","v":""},{"$f":"'Ferment 2'!Q24","v":""},{"$f":"'Ferment 2'!R24","v":13.327123531242739},{"$f":"'Ferment 2'!S24","v":13.327123531242739},{"$f":"'Ferment 2'!T24","v":0.5},null,0.5,{"$f":"'Ferment 3'!L24","v":13.364048550989382},{"$f":"'Ferment 3'!P24","v":""},{"$f":"'Ferment 3'!Q24","v":""},{"$f":"'Ferment 3'!R24","v":13.364048550989382},{"$f":"'Ferment 3'!S24","v":13.364048550989382},{"$f":"'Ferment 3'!T24","v":0.5}]
[{"$f":"'Ferment 1'!B25","v":1},{"$f":"'Ferment 1'!L25","v":13.185050832489479},{"$f":"'Ferment 1'!P25","v":""},{"$f":"'Ferment 1'!Q25","v":""},{"$f":"'Ferment 1'!R25","v":13.185050832489479},{"$f":"'Ferment 1'!S25","v":13.185050832489479},{"$f":"'Ferment 1'!T25","v":1},null,1,{"$f":"'Ferment 2'!L25","v":13.232080660195098},{"$f":"'Ferment 2'!P25","v":""},{"$f":"'Ferment 2'!Q25","v":""},{"$f":"'Ferment 2'!R25","v":13.232080660195098},{"$f":"'Ferment 2'!S25","v":13.232080660195098},{"$f":"'Ferment 2'!T25","v":1},null,1,{"$f":"'Ferment 3'!L25","v":13.29700082867541},{"$f":"'Ferment 3'!P25","v":""},{"$f":"'Ferment 3'!Q25","v":""},{"$f":"'Ferment 3'!R25","v":13.29700082867541},{"$f":"'Ferment 3'!S25","v":13.29700082867541},{"$f":"'Ferment 3'!T25","v":1}]
[{"$f":"'Ferment 1'!B26","v":1.5},{"$f":"'Ferment 1'!L26","v":12.974576768958864},{"$f":"'Ferment 1'!P26","v":""},{"$f":"'Ferment 1'!Q26","v":""},{"$f":"'Ferment 1'!R26","v":12.974576768958864},{"$f":"'Ferment 1'!S26","v":12.974576768958864},{"$f":"'Ferment 1'!T26","v":1.5},null,1.5,{"$f":"'Ferment 2'!L26","v":13.043561349045957},{"$f":"'Ferment 2'!P26","v":""},{"$f":"'Ferment 2'!Q26","v":""},{"$f":"'Ferment 2'!R26","v":13.043561349045957},{"$f":"'Ferment 2'!S26","v":13.043561349045957},{"$f":"'Ferment 2'!T26","v":1.5},null,1.5,{"$f":"'Ferment 3'!L26","v":13.153221459856409},{"$f":"'Ferment 3'!P26","v":""},{"$f":"'Ferment 3'!Q26","v":""},{"$f":"'Ferment 3'!R26","v":13.153221459856409},{"$f":"'Ferment 3'!S26","v":13.153221459856409},{"$f":"'Ferment 3'!T26","v":1.5}]
[{"$f":"'Ferment 1'!B27","v":2},{"$f":"'Ferment 1'!L27","v":12.504474599525475},{"$f":"'Ferment 1'!P27","v":""},{"$f":"'Ferment 1'!Q27","v":""},{"$f":"'Ferment 1'!R27","v":12.504474599525475},{"$f":"'Ferment 1'!S27","v":12.504474599525475},{"$f":"'Ferment 1'!T27","v":2},null,2,{"$f":"'Ferment 2'!L27","v":12.568355723513225},{"$f":"'Ferment 2'!P27","v":""},{"$f":"'Ferment 2'!Q27","v":""},{"$f":"'Ferment 2'!R27","v":12.568355723513225},{"$f":"'Ferment 2'!S27","v":12.568355723513225},{"$f":"'Ferment 2'!T27","v":2},null,2,{"$f":"'Ferment 3'!L27","v":12.729715707453449},{"$f":"'Ferment 3'!P27","v":""},{"$f":"'Ferment 3'!Q27","v":""},{"$f":"'Ferment 3'!R27","v":12.729715707453449},{"$f":"'Ferment 3'!S27","v":12.729715707453449},{"$f":"'Ferment 3'!T27","v":2}]
[{"$f":"'Ferment 1'!B28","v":2.5},{"$f":"'Ferment 1'!L28","v":11.778901817160452},{"$f":"'Ferment 1'!P28","v":""},{"$f":"'Ferment 1'!Q28","v":""},{"$f":"'Ferment 1'!R28","v":11.778901817160452},{"$f":"'Ferment 1'!S28","v":11.778901817160452},{"$f":"'Ferment 1'!T28","v":2.5},null,2.5,{"$f":"'Ferment 2'!L28","v":11.671833240355793},{"$f":"'Ferment 2'!P28","v":""},{"$f":"'Ferment 2'!Q28","v":""},{"$f":"'Ferment 2'!R28","v":11.671833240355793},{"$f":"'Ferment 2'!S28","v":11.671833240355793},{"$f":"'Ferment 2'!T28","v":2.5},null,2.5,{"$f":"'Ferment 3'!L28","v":11.705205889679593},{"$f":"'Ferment 3'!P28","v":""},{"$f":"'Ferment 3'!Q28","v":""},{"$f":"'Ferment 3'!R28","v":11.705205889679593},{"$f":"'Ferment 3'!S28","v":11.705205889679593},{"$f":"'Ferment 3'!T28","v":2.5}]
[{"$f":"'Ferment 1'!B29","v":3},{"$f":"'Ferment 1'!L29","v":11.155687812168408},{"$f":"'Ferment 1'!P29","v":""},{"$f":"'Ferment 1'!Q29","v":""},{"$f":"'Ferment 1'!R29","v":11.155687812168408},{"$f":"'Ferment 1'!S29","v":11.155687812168408},{"$f":"'Ferment 1'!T29","v":3},null,3,{"$f":"'Ferment 2'!L29","v":10.818722646814622},{"$f":"'Ferment 2'!P29","v":""},{"$f":"'Ferment 2'!Q29","v":""},{"$f":"'Ferment 2'!R29","v":10.818722646814622},{"$f":"'Ferment 2'!S29","v":10.818722646814622},{"$f":"'Ferment 2'!T29","v":3},null,3,{"$f":"'Ferment 3'!L29","v":10.609700090081379},{"$f":"'Ferment 3'!P29","v":""},{"$f":"'Ferment 3'!Q29","v":""},{"$f":"'Ferment 3'!R29","v":10.609700090081379},{"$f":"'Ferment 3'!S29","v":10.609700090081379},{"$f":"'Ferment 3'!T29","v":3}]
[{"$f":"'Ferment 1'!B30","v":3.5},{"$f":"'Ferment 1'!L30","v":10.535805087917943},{"$f":"'Ferment 1'!P30","v":10.299397855529914},{"$f":"'Ferment 1'!Q30","v":10.772212320305972},{"$f":"'Ferment 1'!R30","v":10.299397855529914},{"$f":"'Ferment 1'!S30","v":10.772212320305972},{"$f":"'Ferment 1'!T30","v":""},null,3.5,{"$f":"'Ferment 2'!L30","v":9.9653244975928956},{"$f":"'Ferment 2'!P30","v":""},{"$f":"'Ferment 2'!Q30","v":""},{"$f":"'Ferment 2'!R30","v":9.9653244975928956},{"$f":"'Ferment 2'!S30","v":9.9653244975928956},{"$f":"'Ferment 2'!T30","v":3.5},null,3.5,{"$f":"'Ferment 3'!L30","v":9.5139053358628818},{"$f":"'Ferment 3'!P30","v":""},{"$f":"'Ferment 3'!Q30","v":""},{"$f":"'Ferment 3'!R30","v":9.5139053358628818},{"$f":"'Ferment 3'!S30","v":9.5139053358628818},{"$f":"'Ferment 3'!T30","v":3.5}]
[{"$f":"'Ferment 1'!B31","v":4},{"$f":"'Ferment 1'!L31","v":9.9281072861657336},{"$f":"'Ferment 1'!P31","v":9.6704884772903466},{"$f":"'Ferment 1'!Q31","v":10.185726095041121},{"$f":"'Ferment 1'!R31","v":9.6704884772903466},{"$f":"'Ferment 1'!S31","v":10.185726095041121},{"$f":"'Ferment 1'!T31","v":""},null,4,{"$f":"'Ferment 2'!L31","v":8.0748503552858537},{"$f":"'Ferment 2'!P31","v":""},{"$f":"'Ferment 2'!Q31","v":""},{"$f":"'Ferment 2'!R31","v":8.0748503552858537},{"$f":"'Ferment 2'!S31","v":8.0748503552858537},{"$f":"'Ferment 2'!T31","v":4},null,4,{"$f":"'Ferment 3'!L31","v":8.2954837374386603},{"$f":"'Ferment 3'!P31","v":""},{"$f":"'Ferment 3'!Q31","v":""},{"$f":"'Ferment 3'!R31","v":8.2954837374386603},{"$f":"'Ferment 3'!S31","v":8.2954837374386603},{"$f":"'Ferment 3'!T31","v":4}]
[{"$f":"'Ferment 1'!B32","v":4.5},{"$f":"'Ferment 1'!L32","v":9.3350924704833336},{"$f":"'Ferment 1'!P32","v":9.0537115821351666},{"$f":"'Ferment 1'!Q32","v":9.6164733588315006},{"$f":"'Ferment 1'!R32","v":9.0537115821351666},{"$f":"'Ferment 1'!S32","v":9.6164733588315006},{"$f":"'Ferment 1'!T32","v":""},null,4.5,{"$f":"'Ferment 2'!L32","v":6.2758973663873734},{"$f":"'Ferment 2'!P32","v":""},{"$f":"'Ferment 2'!Q32","v":""},{"$f":"'Ferment 2'!R32","v":6.2758973663873734},{"$f":"'Ferment 2'!S32","v":6.2758973663873734},{"$f":"'Ferment 2'!T32","v":4.5},null,4.5,{"$f":"'Ferment 3'!L32","v":6.8040815076057255},{"$f":"'Ferment 3'!P32","v":""},{"$f":"'Ferment 3'!Q32","v":""},{"$f":"'Ferment 3'!R32","v":6.8040815076057255},{"$f":"'Ferment 3'!S32","v":6.8040815076057255},{"$f":"'Ferment 3'!T32","v":4.5}]
[{"$f":"'Ferment 1'!B33","v":5},{"$f":"'Ferment 1'!L33","v":8.757412024697679},{"$f":"'Ferment 1'!P33","v":8.4503100213680735},{"$f":"'Ferment 1'!Q33","v":9.0645140280272845},{"$f":"'Ferment 1'!R33","v":8.4503100213680735},{"$f":"'Ferment 1'!S33","v":9.0645140280272845},{"$f":"'Ferment 1'!T33","v":""},null,5,{"$f":"'Ferment 2'!L33","v":4.783781826722624},{"$f":"'Ferment 2'!P33","v":""},{"$f":"'Ferment 2'!Q33","v":""},{"$f":"'Ferment 2'!R33","v":4.783781826722624},{"$f":"'Ferment 2'!S33","v":4.783781826722624},{"$f":"'Ferment 2'!T33","v":5},null,5,{"$f":"'Ferment 3'!L33","v":5.2254936000149126},{"$f":"'Ferment 3'!P33","v":""},{"$f":"'Ferment 3'!Q33","v":""},{"$f":"'Ferment 3'!R33","v":5.2254936000149126},{"$f":"'Ferment 3'!S33","v":5.2254936000149126},{"$f":"'Ferment 3'!T33","v":5}]
[{"$f":"'Ferment 1'!B34","v":5.5},{"$f":"'Ferment 1'!L34","v":8.1956463469897542},{"$f":"'Ferment 1'!P34","v":7.8613160327035168},{"$f":"'Ferment 1'!Q34","v":8.5299766612759917},{"$f":"'Ferment 1'!R34","v":7.8613160327035168},{"$f":"'Ferment 1'!S34","v":8.5299766612759917},{"$f":"'Ferment 1'!T34","v":""},null,5.5,{"$f":"'Ferment 2'!L34","v":3.5318915903990087},{"$f":"'Ferment 2'!P34","v":""},{"$f":"'Ferment 2'!Q34","v":""},{"$f":"'Ferment 2'!R34","v":3.5318915903990087},{"$f":"'Ferment 2'!S34","v":3.5318915903990087},{"$f":"'Ferment 2'!T34","v":5.5},null,5.5,{"$f":"'Ferment 3'!L34","v":3.6935272711363569},{"$f":"'Ferment 3'!P34","v":""},{"$f":"'Ferment 3'!Q34","v":""},{"$f":"'Ferment 3'!R34","v":3.6935272711363569},{"$f":"'Ferment 3'!S34","v":3.6935272711363569},{"$f":"'Ferment 3'!T34","v":5.5}]
[{"$f":"'Ferment 1'!B35","v":6},{"$f":"'Ferment 1'!L35","v":7.6503458935640092},{"$f":"'Ferment 1'!P35","v":7.2876193296999396},{"$f":"'Ferment 1'!Q35","v":8.0130724574280787},{"$f":"'Ferment 1'!R35","v":7.2876193296999396},{"$f":"'Ferment 1'!S35","v":8.0130724574280787},{"$f":"'Ferment 1'!T35","v":""},null,6,{"$f":"'Ferment 2'!L35","v":2.4800251329470742},{"$f":"'Ferment 2'!P35","v":""},{"$f":"'Ferment 2'!Q35","v":""},{"$f":"'Ferment 2'!R35","v":2.4800251329470742},{"$f":"'Ferment 2'!S35","v":2.4800251329470742},{"$f":"'Ferment 2'!T35","v":6},null,6,{"$f":"'Ferment 3'!L35","v":2.3722951918158905},{"$f":"'Ferment 3'!P35","v":""},{"$f":"'Ferment 3'!Q35","v":""},{"$f":"'Ferment 3'!R35","v":2.3722951918158905},{"$f":"'Ferment 3'!S35","v":2.3722951918158905},{"$f":"'Ferment 3'!T35","v":6}]
[{"$f":"'Ferment 1'!B36","v":6.5},{"$f":"'Ferment 1'!L36","v":7.1220275243971116},{"$f":"'Ferment 1'!P36","v":6.7299904806183894},{"$f":"'Ferment 1'!Q36","v":7.5140645681758338},{"$f":"'Ferment 1'!R36","v":6.7299904806183894},{"$f":"'Ferment 1'!S36","v":7.5140645681758338},{"$f":"'Ferment 1'!T36","v":""},null,6.5,{"$f":"'Ferment 2'!L36","v":1.6068775296435964},{"$f":"'Ferment 2'!P36","v":1.483173438360782},{"$f":"'Ferment 2'!Q36","v":1.7305816209264109},{"$f":"'Ferment 2'!R36","v":1.483173438360782},{"$f":"'Ferment 2'!S36","v":1.7305816209264109},{"$f":"'Ferment 2'!T36","v":""},null,6.5,{"$f":"'Ferment 3'!L36","v":1.3434970727984805},{"$f":"'Ferment 3'!P36","v":1.1222053858198866},{"$f":"'Ferment 3'!Q36","v":1.5647887597770744},{"$f":"'Ferment 3'!R36","v":1.1222053858198866},{"$f":"'Ferment 3'!S36","v":1.5647887597770744},{"$f":"'Ferment 3'!T36","v":""}]
[{"$f":"'Ferment 1'!B37","v":7},{"$f":"'Ferment 1'!L37","v":6.6111693099112951},{"$f":"'Ferment 1'!P37","v":6.1890979773890455},{"$f":"'Ferment 1'!Q37","v":7.0332406424335447},{"$f":"'Ferment 1'!R37","v":6.1890979773890455},{"$f":"'Ferment 1'!S37","v":7.0332406424335447},{"$f":"'Ferment 1'!T37","v":""},null,7,{"$f":"'Ferment 2'!L37","v":0.89969088133391928},{"$f":"'Ferment 2'!P37","v":0.7722561830182435},{"$f":"'Ferment 2'!Q37","v":1.0271255796495951},{"$f":"'Ferment 2'!R37","v":0.7722561830182435},{"$f":"'Ferment 2'!S37","v":1.0271255796495951},{"$f":"'Ferment 2'!T37","v":""},null,7,{"$f":"'Ferment 3'!L37","v":0.59936655736051658},{"$f":"'Ferment 3'!P37","v":0.37140126472187451},{"$f":"'Ferment 3'!Q37","v":0.82733184999915865},{"$f":"'Ferment 3'!R37","v":0.37140126472187451},{"$f":"'Ferment 3'!S37","v":0.82733184999915865},{"$f":"'Ferment 3'!T37","v":""}]
[{"$f":"'Ferment 1'!B38","v":7.5},{"$f":"'Ferment 1'!L38","v":6.1182049382156221},{"$f":"'Ferment 1'!P38","v":5.6655195526997213},{"$f":"'Ferment 1'!Q38","v":6.5708903237315228},{"$f":"'Ferment 1'!R38","v":5.6655195526997213},{"$f":"'Ferment 1'!S38","v":6.5708903237315228},{"$f":"'Ferment 1'!T38","v":""},null,7.5,{"$f":"'Ferment 2'!L38","v":0.34571479803706562},{"$f":"'Ferment 2'!P38","v":0.21417992628258456},{"$f":"'Ferment 2'!Q38","v":0.4772496697915467},{"$f":"'Ferment 2'!R38","v":0.21417992628258456},{"$f":"'Ferment 2'!S38","v":0.4772496697915467},{"$f":"'Ferment 2'!T38","v":""},null,7.5,{"$f":"'Ferment 3'!L38","v":8.1458784051197511E-2},{"$f":"'Ferment 3'!P38","v":-0.153841223937349},{"$f":"'Ferment 3'!Q38","v":0.31675879203974405},{"$f":"'Ferment 3'!R38","v":-0.153841223937349},{"$f":"'Ferment 3'!S38","v":0.31675879203974405},{"$f":"'Ferment 3'!T38","v":""}]
[{"$f":"'Ferment 1'!B39","v":8},{"$f":"'Ferment 1'!L39","v":5.6435178255837766},{"$f":"'Ferment 1'!P39","v":5.1597486768542664},{"$f":"'Ferment 1'!Q39","v":6.1272869743132867},{"$f":"'Ferment 1'!R39","v":5.1597486768542664},{"$f":"'Ferment 1'!S39","v":6.1272869743132867},{"$f":"'Ferment 1'!T39","v":""},null,8,{"$f":"'Ferment 2'!L39","v":-7.3055501164473763E-2},{"$f":"'Ferment 2'!P39","v":-0.20902668435447291},{"$f":"'Ferment 2'!Q39","v":6.2915682025525388E-2},{"$f":"'Ferment 2'!R39","v":-0.20902668435447291},{"$f":"'Ferment 2'!S39","v":6.2915682025525388E-2},{"$f":"'Ferment 2'!T39","v":""},null,8,{"$f":"'Ferment 3'!L39","v":-0.27314489012476506},{"$f":"'Ferment 3'!P39","v":-0.51638092376410283},{"$f":"'Ferment 3'!Q39","v":-2.9908856485427349E-2},{"$f":"'Ferment 3'!R39","v":-0.51638092376410283},{"$f":"'Ferment 3'!S39","v":-2.9908856485427349E-2},{"$f":"'Ferment 3'!T39","v":""}]
[{"$f":"'Ferment 1'!B40","v":8.5},{"$f":"'Ferment 1'!L40","v":5.1874350421123969},{"$f":"'Ferment 1'!P40","v":4.672197424361622},{"$f":"'Ferment 1'!Q40","v":5.7026726598631718},{"$f":"'Ferment 1'!R40","v":4.672197424361622},{"$f":"'Ferment 1'!S40","v":5.7026726598631718},{"$f":"'Ferment 1'!T40","v":""},null,8.5,{"$f":"'Ferment 2'!L40","v":-0.38027865728275506},{"$f":"'Ferment 2'!P40","v":-0.52099050058909835},{"$f":"'Ferment 2'!Q40","v":-0.2395668139764118},{"$f":"'Ferment 2'!R40","v":-0.52099050058909835},{"$f":"'Ferment 2'!S40","v":-0.2395668139764118},{"$f":"'Ferment 2'!T40","v":""},null,8.5,{"$f":"'Ferment 3'!L40","v":-0.51669049110388843},{"$f":"'Ferment 3'!P40","v":-0.76840699344607222},{"$f":"'Ferment 3'!Q40","v":-0.26497398876170464},{"$f":"'Ferment 3'!R40","v":-0.76840699344607222},{"$f":"'Ferment 3'!S40","v":-0.26497398876170464},{"$f":"'Ferment 3'!T40","v":""}]
[{"$f":"'Ferment 1'!B41","v":9},{"$f":"'Ferment 1'!L41","v":4.750221203641261},{"$f":"'Ferment 1'!P41","v":4.2031967995158723},{"$f":"'Ferment 1'!Q41","v":5.2972456077666497},{"$f":"'Ferment 1'!R41","v":4.2031967995158723},{"$f":"'Ferment 1'!S41","v":5.2972456077666497},{"$f":"'Ferment 1'!T41","v":""},null,9,{"$f":"'Ferment 2'!L41","v":-0.60158178030418541},{"$f":"'Ferment 2'!P41","v":-0.74730893306992618},{"$f":"'Ferment 2'!Q41","v":-0.45585462753844463},{"$f":"'Ferment 2'!R41","v":-0.74730893306992618},{"$f":"'Ferment 2'!S41","v":-0.45585462753844463},{"$f":"'Ferment 2'!T41","v":""},null,9,{"$f":"'Ferment 3'!L41","v":-0.68674142001053351},{"$f":"'Ferment 3'!P41","v":-0.94742970557735151},{"$f":"'Ferment 3'!Q41","v":-0.42605313444371551},{"$f":"'Ferment 3'!R41","v":-0.94742970557735151},{"$f":"'Ferment 3'!S41","v":-0.42605313444371551},{"$f":"'Ferment 3'!T41","v":""}]
[{"$f":"'Ferment 1'!B42","v":9.5},{"$f":"'Ferment 1'!L42","v":4.3320725217397333},{"$f":"'Ferment 1'!P42","v":3.7529954308854996},{"$f":"'Ferment 1'!Q42","v":4.9111496125939675},{"$f":"'Ferment 1'!R42","v":3.7529954308854996},{"$f":"'Ferment 1'!S42","v":4.9111496125939675},{"$f":"'Ferment 1'!T42","v":""},null,9.5,{"$f":"'Ferment 2'!L42","v":-0.76022306975467002},{"$f":"'Ferment 2'!P42","v":-0.91121281535916543},{"$f":"'Ferment 2'!Q42","v":-0.60923332415017462},{"$f":"'Ferment 2'!R42","v":-0.91121281535916543},{"$f":"'Ferment 2'!S42","v":-0.60923332415017462},{"$f":"'Ferment 2'!T42","v":""},null,9.5,{"$f":"'Ferment 3'!L42","v":-0.80827345511813065},{"$f":"'Ferment 3'!P42","v":-1.078375884025665},{"$f":"'Ferment 3'!Q42","v":-0.5381710262105962},{"$f":"'Ferment 3'!R42","v":-1.078375884025665},{"$f":"'Ferment 3'!S42","v":-0.5381710262105962},{"$f":"'Ferment 3'!T42","v":""}]
[{"$f":"'Ferment 1'!B43","v":10},{"$f":"'Ferment 1'!L43","v":3.9331112416674059},{"$f":"'Ferment 1'!P43","v":3.3217573849887287},{"$f":"'Ferment 1'!Q43","v":4.544465098346083},{"$f":"'Ferment 1'!R43","v":3.3217573849887287},{"$f":"'Ferment 1'!S43","v":4.544465098346083},{"$f":"'Ferment 1'!T43","v":""},null,10,{"$f":"'Ferment 2'!L43","v":-0.87469076007339153},{"$f":"'Ferment 2'!P43","v":-1.0311654338074212},{"$f":"'Ferment 2'!Q43","v":-0.71821608633936196},{"$f":"'Ferment 2'!R43","v":-1.0311654338074212},{"$f":"'Ferment 2'!S43","v":-0.71821608633936196},{"$f":"'Ferment 2'!T43","v":""},null,10,{"$f":"'Ferment 3'!L43","v":-0.89735899131215446},{"$f":"'Ferment 3'!P43","v":-1.1772732945575071},{"$f":"'Ferment 3'!Q43","v":-0.61744468806680186},{"$f":"'Ferment 3'!R43","v":-1.1772732945575071},{"$f":"'Ferment 3'!S43","v":-0.61744468806680186},{"$f":"'Ferment 3'!T43","v":""}]
[{"$f":"'Ferment 1'!B44","v":10.5},{"$f":"'Ferment 1'!L44","v":3.5533807292014408},{"$f":"'Ferment 1'!P44","v":2.9095597280840448},{"$f":"'Ferment 1'!Q44","v":4.1972017303188371},{"$f":"'Ferment 1'!R44","v":2.9095597280840448},{"$f":"'Ferment 1'!S44","v":4.1972017303188371},{"$f":"'Ferment 1'!T44","v":""},null,10.5,{"$f":"'Ferment 2'!L44","v":-0.95845776419356443},{"$f":"'Ferment 2'!P44","v":-1.1206171419075648},{"$f":"'Ferment 2'!Q44","v":-0.79629838647956419},{"$f":"'Ferment 2'!R44","v":-1.1206171419075648},{"$f":"'Ferment 2'!S44","v":-0.79629838647956419},{"$f":"'Ferment 2'!T44","v":""},null,10.5,{"$f":"'Ferment 3'!L44","v":-0.96429491379356647},{"$f":"'Ferment 3'!P44","v":-1.2543784662582165},{"$f":"'Ferment 3'!Q44","v":-0.67421136132891657},{"$f":"'Ferment 3'!R44","v":-1.2543784662582165},{"$f":"'Ferment 3'!S44","v":-0.67421136132891657},{"$f":"'Ferment 3'!T44","v":""}]
[{"$f":"'Ferment 1'!B45","v":11},{"$f":"'Ferment 1'!L45","v":3.192841486007914},{"$f":"'Ferment 1'!P45","v":2.5163903736842346},{"$f":"'Ferment 1'!Q45","v":3.8692925983315933},{"$f":"'Ferment 1'!R45","v":2.5163903736842346},{"$f":"'Ferment 1'!S45","v":3.8692925983315933},{"$f":"'Ferment 1'!T45","v":""},null,11,{"$f":"'Ferment 2'!L45","v":-1.0208730111326472},{"$f":"'Ferment 2'!P45","v":-1.1888965929864235},{"$f":"'Ferment 2'!Q45","v":-0.85284942927887086},{"$f":"'Ferment 2'!R45","v":-1.1888965929864235},{"$f":"'Ferment 2'!S45","v":-0.85284942927887086},{"$f":"'Ferment 2'!T45","v":""},null,11,{"$f":"'Ferment 3'!L45","v":-1.015751966304151},{"$f":"'Ferment 3'!P45","v":-1.3163258721065176},{"$f":"'Ferment 3'!Q45","v":-0.71517806050178423},{"$f":"'Ferment 3'!R45","v":-1.3163258721065176},{"$f":"'Ferment 3'!S45","v":-0.71517806050178423},{"$f":"'Ferment 3'!T45","v":""}]
[{"$f":"'Ferment 1'!B46","v":11.5},{"$f":"'Ferment 1'!L46","v":2.8513683747220835},{"$f":"'Ferment 1'!P46","v":2.1421466775579994},{"$f":"'Ferment 1'!Q46","v":3.5605900718861676},{"$f":"'Ferment 1'!R46","v":2.1421466775579994},{"$f":"'Ferment 1'!S46","v":3.5605900718861676},{"$f":"'Ferment 1'!T46","v":""},null,11.5,{"$f":"'Ferment 2'!L46","v":-1.0682864935582959},{"$f":"'Ferment 2'!P46","v":-1.2423356370647021},{"$f":"'Ferment 2'!Q46","v":-0.89423735005188953},{"$f":"'Ferment 2'!R46","v":-1.2423356370647021},{"$f":"'Ferment 2'!S46","v":-0.89423735005188953},{"$f":"'Ferment 2'!T46","v":""},null,11.5,{"$f":"'Ferment 3'!L46","v":-1.0561336193839375},{"$f":"'Ferment 3'!P46","v":-1.367486527637044},{"$f":"'Ferment 3'!Q46","v":-0.74478071113083089},{"$f":"'Ferment 3'!R46","v":-1.367486527637044},{"$f":"'Ferment 3'!S46","v":-0.74478071113083089},{"$f":"'Ferment 3'!T46","v":""}]
[{"$f":"'Ferment 1'!B47","v":12},{"$f":"'Ferment 1'!L47","v":2.5287493147854514},{"$f":"'Ferment 1'!P47","v":1.7866351681928343},{"$f":"'Ferment 1'!Q47","v":3.2708634613780685},{"$f":"'Ferment 1'!R47","v":1.7866351681928343},{"$f":"'Ferment 1'!S47","v":3.2708634613780685},{"$f":"'Ferment 1'!T47","v":""},null,12,{"$f":"'Ferment 2'!L47","v":-1.1049966812544776},{"$f":"'Ferment 2'!P47","v":-1.2852165599294301},{"$f":"'Ferment 2'!Q47","v":-0.9247768025795251},{"$f":"'Ferment 2'!R47","v":-1.2852165599294301},{"$f":"'Ferment 2'!S47","v":-0.9247768025795251},{"$f":"'Ferment 2'!T47","v":""},null,12,{"$f":"'Ferment 3'!L47","v":-1.0884107068296589},{"$f":"'Ferment 3'!P47","v":-1.4108023154295779},{"$f":"'Ferment 3'!Q47","v":-0.7660190982297399},{"$f":"'Ferment 3'!R47","v":-1.4108023154295779},{"$f":"'Ferment 3'!S47","v":-0.7660190982297399},{"$f":"'Ferment 3'!T47","v":""}]
[{"$f":"'Ferment 1'!B48","v":12.5},{"$f":"'Ferment 1'!L48","v":2.2246856657802447},{"$f":"'Ferment 1'!P48","v":1.4495727192378092},{"$f":"'Ferment 1'!Q48","v":2.9997986123226803},{"$f":"'Ferment 1'!R48","v":1.4495727192378092},{"$f":"'Ferment 1'!S48","v":2.9997986123226803},{"$f":"'Ferment 1'!T48","v":""},null,12.5,{"$f":"'Ferment 2'!L48","v":-1.1339347880800217},{"$f":"'Ferment 2'!P48","v":-1.3204561675566802},{"$f":"'Ferment 2'!Q48","v":-0.94741340860336321},{"$f":"'Ferment 2'!R48","v":-1.3204561675566802},{"$f":"'Ferment 2'!S48","v":-0.94741340860336321},{"$f":"'Ferment 2'!T48","v":""},null,12.5,{"$f":"'Ferment 3'!L48","v":-1.1146327733488046},{"$f":"'Ferment 3'!P48","v":-1.4482970062285336},{"$f":"'Ferment 3'!Q48","v":-0.7809685404690756},{"$f":"'Ferment 3'!R48","v":-1.4482970062285336},{"$f":"'Ferment 3'!S48","v":-0.7809685404690756},{"$f":"'Ferment 3'!T48","v":""}]
[{"$f":"'Ferment 1'!B49","v":13},{"$f":"'Ferment 1'!L49","v":1.9387944465258922},{"$f":"'Ferment 1'!P49","v":1.1305893761986092},{"$f":"'Ferment 1'!Q49","v":2.7469995168531751},{"$f":"'Ferment 1'!R49","v":1.1305893761986092},{"$f":"'Ferment 1'!S49","v":2.7469995168531751},{"$f":"'Ferment 1'!T49","v":""},null,13,{"$f":"'Ferment 2'!L49","v":-1.1571262185705007},{"$f":"'Ferment 2'!P49","v":-1.3500670523825704},{"$f":"'Ferment 2'!Q49","v":-0.96418538475843096},{"$f":"'Ferment 2'!R49","v":-1.3500670523825704},{"$f":"'Ferment 2'!S49","v":-0.96418538475843096},{"$f":"'Ferment 2'!T49","v":""},null,13,{"$f":"'Ferment 3'!L49","v":-1.1362446658161416},{"$f":"'Ferment 3'!P49","v":-1.481392527609303},{"$f":"'Ferment 3'!Q49","v":-0.79109680402298022},{"$f":"'Ferment 3'!R49","v":-1.481392527609303},{"$f":"'Ferment 3'!S49","v":-0.79109680402298022},{"$f":"'Ferment 3'!T49","v":""}]
[{"$f":"'Ferment 1'!B50","v":13.5},{"$f":"'Ferment 1'!L50","v":1.6706124487990006},{"$f":"'Ferment 1'!P50","v":0.82923294228129163},{"$f":"'Ferment 1'!Q50","v":2.5119919553167094},{"$f":"'Ferment 1'!R50","v":0.82923294228129163},{"$f":"'Ferment 1'!S50","v":2.5119919553167094},{"$f":"'Ferment 1'!T50","v":""},null,13.5,{"$f":"'Ferment 2'!L50","v":-1.1759930261437694},{"$f":"'Ferment 2'!P50","v":-1.3754598798319897},{"$f":"'Ferment 2'!Q50","v":-0.97652617245554918},{"$f":"'Ferment 2'!R50","v":-1.3754598798319897},{"$f":"'Ferment 2'!S50","v":-0.97652617245554918},{"$f":"'Ferment 2'!T50","v":""},null,13.5,{"$f":"'Ferment 3'!L50","v":-1.1542858525348625},{"$f":"'Ferment 3'!P50","v":-1.5111079761303077},{"$f":"'Ferment 3'!Q50","v":-0.7974637289394173},{"$f":"'Ferment 3'!R50","v":-1.5111079761303077},{"$f":"'Ferment 3'!S50","v":-0.7974637289394173},{"$f":"'Ferment 3'!T50","v":""}]
[{"$f":"'Ferment 1'!B51","v":14},{"$f":"'Ferment 1'!L51","v":1.4196022007872129},{"$f":"'Ferment 1'!P51","v":0.5449753119063242},{"$f":"'Ferment 1'!Q51","v":2.2942290896681015},{"$f":"'Ferment 1'!R51","v":0.5449753119063242},{"$f":"'Ferment 1'!S51","v":2.2942290896681015},{"$f":"'Ferment 1'!T51","v":""},null,14,{"$f":"'Ferment 2'!L51","v":-1.1915507143666322},{"$f":"'Ferment 2'!P51","v":-1.3976400302139587},{"$f":"'Ferment 2'!Q51","v":-0.9854613985193057},{"$f":"'Ferment 2'!R51","v":-1.3976400302139587},{"$f":"'Ferment 2'!S51","v":-0.9854613985193057},{"$f":"'Ferment 2'!T51","v":""},null,14,{"$f":"'Ferment 3'!L51","v":-1.1695183638311299},{"$f":"'Ferment 3'!P51","v":-1.5381872728315142},{"$f":"'Ferment 3'!Q51","v":-0.80084945483074566},{"$f":"'Ferment 3'!R51","v":-1.5381872728315142},{"$f":"'Ferment 3'!S51","v":-0.80084945483074566},{"$f":"'Ferment 3'!T51","v":""}]
[{"$f":"'Ferment 1'!B52","v":14.5},{"$f":"'Ferment 1'!L52","v":1.1851596266777609},{"$f":"'Ferment 1'!P52","v":0.2772204227664169},{"$f":"'Ferment 1'!Q52","v":2.093098830589105},{"$f":"'Ferment 1'!R52","v":0.2772204227664169},{"$f":"'Ferment 1'!S52","v":2.093098830589105},{"$f":"'Ferment 1'!T52","v":""},null,14.5,{"$f":"'Ferment 2'!L52","v":-1.2045368194822612},{"$f":"'Ferment 2'!P52","v":-1.4173360359059133},{"$f":"'Ferment 2'!Q52","v":-0.99173760305860903},{"$f":"'Ferment 2'!R52","v":-1.4173360359059133},{"$f":"'Ferment 2'!S52","v":-0.99173760305860903},{"$f":"'Ferment 2'!T52","v":""},null,14.5,{"$f":"'Ferment 3'!L52","v":-1.1825105807680618},{"$f":"'Ferment 3'!P52","v":-1.5631826919470959},{"$f":"'Ferment 3'!Q52","v":-0.80183846958902782},{"$f":"'Ferment 3'!R52","v":-1.5631826919470959},{"$f":"'Ferment 3'!S52","v":-0.80183846958902782},{"$f":"'Ferment 3'!T52","v":""}]
[{"$f":"'Ferment 1'!B53","v":15},{"$f":"'Ferment 1'!L53","v":0.9666231461380721},{"$f":"'Ferment 1'!P53","v":2.531358827461816E-2},{"$f":"'Ferment 1'!Q53","v":1.9079327040015261},{"$f":"'Ferment 1'!R53","v":2.531358827461816E-2},{"$f":"'Ferment 1'!S53","v":1.9079327040015261},{"$f":"'Ferment 1'!T53","v":""},null,15,{"$f":"'Ferment 2'!L53","v":-1.2154957895251268},{"$f":"'Ferment 2'!P53","v":-1.4350843296008367},{"$f":"'Ferment 2'!Q53","v":-0.99590724944941689},{"$f":"'Ferment 2'!R53","v":-1.4350843296008367},{"$f":"'Ferment 2'!S53","v":-0.99590724944941689},{"$f":"'Ferment 2'!T53","v":""},null,15,{"$f":"'Ferment 3'!L53","v":-1.1936932047181712},{"$f":"'Ferment 3'!P53","v":-1.5865105963711765},{"$f":"'Ferment 3'!Q53","v":-0.80087581306516586},{"$f":"'Ferment 3'!R53","v":-1.5865105963711765},{"$f":"'Ferment 3'!S53","v":-0.80183846958902782},{"$f":"'Ferment 3'!T53","v":""}]
[{"$f":"'Ferment 1'!B54","v":15.5},{"$f":"'Ferment 1'!L54","v":0.76328387187868163},{"$f":"'Ferment 1'!P54","v":-0.2114481179170985},{"$f":"'Ferment 1'!Q54","v":1.7380158616744619},{"$f":"'Ferment 1'!R54","v":-0.2114481179170985},{"$f":"'Ferment 1'!S54","v":1.7380158616744619},{"$f":"'Ferment 1'!T54","v":""},null,15.5,{"$f":"'Ferment 2'!L54","v":-1.2248357718389036},{"$f":"'Ferment 2'!P54","v":-1.4512859150771074},{"$f":"'Ferment 2'!Q54","v":-0.99838562860069968},{"$f":"'Ferment 2'!R54","v":-1.4512859150771074},{"$f":"'Ferment 2'!S54","v":-0.99838562860069968},{"$f":"'Ferment 2'!T54","v":""},null,15.5,{"$f":"'Ferment 3'!L54","v":-1.2033973601364467},{"$f":"'Ferment 3'!P54","v":-1.6084893315827307},{"$f":"'Ferment 3'!Q54","v":-0.79830538869016265},{"$f":"'Ferment 3'!R54","v":-1.6084893315827307},{"$f":"'Ferment 3'!S54","v":-0.80183846958902782},{"$f":"'Ferment 3'!T54","v":""}]
[{"$f":"'Ferment 1'!B55","v":16},{"$f":"'Ferment 1'!L55","v":0.57439650420236954},{"$f":"'Ferment 1'!P55","v":-0.43380481627762979},{"$f":"'Ferment 1'!Q55","v":1.5825978246823689},{"$f":"'Ferment 1'!R55","v":-0.43380481627762979},{"$f":"'Ferment 1'!S55","v":1.5825978246823689},{"$f":"'Ferment 1'!T55","v":""},null,16,{"$f":"'Ferment 2'!L55","v":-1.2328671745857962},{"$f":"'Ferment 2'!P55","v":-1.4662448252522311},{"$f":"'Ferment 2'!Q55","v":-0.99948952391936141},{"$f":"'Ferment 2'!R55","v":-1.4662448252522311},{"$f":"'Ferment 2'!S55","v":-0.99948952391936141},{"$f":"'Ferment 2'!T55","v":""},null,16,{"$f":"'Ferment 3'!L55","v":-1.2118810031382439},{"$f":"'Ferment 3'!P55","v":-1.6293654491539034},{"$f":"'Ferment 3'!Q55","v":-0.7943965571225845},{"$f":"'Ferment 3'!R55","v":-1.6293654491539034},{"$f":"'Ferment 3'!S55","v":-0.80183846958902782},{"$f":"'Ferment 3'!T55","v":""}]
[{"$f":"'Ferment 1'!B56","v":16.5},{"$f":"'Ferment 1'!L56","v":0.39919049430747272},{"$f":"'Ferment 1'!P56","v":-0.64252253517051727},{"$f":"'Ferment 1'!Q56","v":1.4409035237854626},{"$f":"'Ferment 1'!R56","v":-0.64252253517051727},{"$f":"'Ferment 1'!S56","v":1.4409035237854626},{"$f":"'Ferment 1'!T56","v":""},null,16.5,{"$f":"'Ferment 2'!L56","v":-1.2398292546923984},{"$f":"'Ferment 2'!P56","v":-1.480194618891415},{"$f":"'Ferment 2'!Q56","v":-0.99946389049338169},{"$f":"'Ferment 2'!R56","v":-1.480194618891415},{"$f":"'Ferment 2'!S56","v":-0.99948952391936141},{"$f":"'Ferment 2'!T56","v":""},null,16.5,{"$f":"'Ferment 3'!L56","v":-1.2193475349073681},{"$f":"'Ferment 3'!P56","v":-1.6493321569456052},{"$f":"'Ferment 3'!Q56","v":-0.78936291286913107},{"$f":"'Ferment 3'!R56","v":-1.6493321569456052},{"$f":"'Ferment 3'!S56","v":-0.80183846958902782},{"$f":"'Ferment 3'!T56","v":""}]
[{"$f":"'Ferment 1'!B57","v":17},{"$f":"'Ferment 1'!L57","v":0.2368810547545738},{"$f":"'Ferment 1'!P57","v":-0.83838209974809608},{"$f":"'Ferment 1'!Q57","v":1.3121442092572437},{"$f":"'Ferment 1'!R57","v":-0.83838209974809608},{"$f":"'Ferment 1'!S57","v":1.3121442092572437},{"$f":"'Ferment 1'!T57","v":""},null,17,{"$f":"'Ferment 2'!L57","v":-1.2459087291183182},{"$f":"'Ferment 2'!P57","v":-1.4933169116839469},{"$f":"'Ferment 2'!Q57","v":-0.99850054655268938},{"$f":"'Ferment 2'!R57","v":-1.4933169116839469},{"$f":"'Ferment 2'!S57","v":-0.99948952391936141},{"$f":"'Ferment 2'!T57","v":""},null,17,{"$f":"'Ferment 3'!L57","v":-1.2259591279136792},{"$f":"'Ferment 3'!P57","v":-1.6685425018708671},{"$f":"'Ferment 3'!Q57","v":-0.78337575395649139},{"$f":"'Ferment 3'!R57","v":-1.6685425018708671},{"$f":"'Ferment 3'!S57","v":-0.80183846958902782},{"$f":"'Ferment 3'!T57","v":""}]
[{"$f":"'Ferment 1'!B58","v":17.5},{"$f":"'Ferment 1'!L58","v":8.6679633222122188E-2},{"$f":"'Ferment 1'!P58","v":-1.0221685753069245},{"$f":"'Ferment 1'!Q58","v":1.195527841751169},{"$f":"'Ferment 1'!R58","v":-1.0221685753069245},{"$f":"'Ferment 1'!S58","v":1.195527841751169},{"$f":"'Ferment 1'!T58","v":""},null,17.5,{"$f":"'Ferment 2'!L58","v":-1.2512529944750366},{"$f":"'Ferment 2'!P58","v":-1.5057545255358322},{"$f":"'Ferment 2'!Q58","v":-0.99675146341424092},{"$f":"'Ferment 2'!R58","v":-1.5057545255358322},{"$f":"'Ferment 2'!S58","v":-0.99948952391936141},{"$f":"'Ferment 2'!T58","v":""},null,17.5,{"$f":"'Ferment 3'!L58","v":-1.2318464067719437},{"$f":"'Ferment 3'!P58","v":-1.6871189249485725},{"$f":"'Ferment 3'!Q58","v":-0.77657388859531484},{"$f":"'Ferment 3'!R58","v":-1.6871189249485725},{"$f":"'Ferment 3'!S58","v":-0.80183846958902782},{"$f":"'Ferment 3'!T58","v":""}]
[{"$f":"'Ferment 1'!B59","v":18},{"$f":"'Ferment 1'!L59","v":-5.2196471844163275E-2},{"$f":"'Ferment 1'!P59","v":-1.1946615829811926},{"$f":"'Ferment 1'!Q59","v":1.0902686392928662},{"$f":"'Ferment 1'!R59","v":-1.1946615829811926},{"$f":"'Ferment 1'!S59","v":1.0902686392928662},{"$f":"'Ferment 1'!T59","v":""},null,18,{"$f":"'Ferment 2'!L59","v":-1.2559796490993689},{"$f":"'Ferment 2'!P59","v":-1.5176209490543087},{"$f":"'Ferment 2'!Q59","v":-0.99433834914442909},{"$f":"'Ferment 2'!R59","v":-1.5176209490543087},{"$f":"'Ferment 2'!S59","v":-0.99948952391936141},{"$f":"'Ferment 2'!T59","v":""},null,18,{"$f":"'Ferment 3'!L59","v":-1.2371155767787057},{"$f":"'Ferment 3'!P59","v":-1.7051602796651375},{"$f":"'Ferment 3'!Q59","v":-0.76907087389227369},{"$f":"'Ferment 3'!R59","v":-1.7051602796651375},{"$f":"'Ferment 3'!S59","v":-0.80183846958902782},{"$f":"'Ferment 3'!T59","v":""}]
[{"$f":"'Ferment 1'!B60","v":18.5},{"$f":"'Ferment 1'!L60","v":-0.18051559645868737},{"$f":"'Ferment 1'!P60","v":-1.3566267277948532},{"$f":"'Ferment 1'!Q60","v":0.99559553487747854},{"$f":"'Ferment 1'!R60","v":-1.3566267277948532},{"$f":"'Ferment 1'!S60","v":0.99559553487747854},{"$f":"'Ferment 1'!T60","v":""},null,18.5,{"$f":"'Ferment 2'!L60","v":-1.2601834432612344},{"$f":"'Ferment 2'!P60","v":-1.5290072338562866},{"$f":"'Ferment 2'!Q60","v":-0.99135965266618231},{"$f":"'Ferment 2'!R60","v":-1.5290072338562866},{"$f":"'Ferment 2'!S60","v":-0.99948952391936141},{"$f":"'Ferment 2'!T60","v":""},null,18.5,{"$f":"'Ferment 3'!L60","v":-1.241853739503594},{"$f":"'Ferment 3'!P60","v":-1.7227470511464225},{"$f":"'Ferment 3'!Q60","v":-0.76096042786076556},{"$f":"'Ferment 3'!R60","v":-1.7227470511464225},{"$f":"'Ferment 3'!S60","v":-0.80183846958902782},{"$f":"'Ferment 3'!T60","v":""}]
[{"$f":"'Ferment 1'!B61","v":19},{"$f":"'Ferment 1'!L61","v":-0.29902445457388432},{"$f":"'Ferment 1'!P61","v":-1.5088082942826775},{"$f":"'Ferment 1'!Q61","v":0.91075938513490895},{"$f":"'Ferment 1'!R61","v":-1.5088082942826775},{"$f":"'Ferment 1'!S61","v":0.91075938513490895},{"$f":"'Ferment 1'!T61","v":""},null,19,{"$f":"'Ferment 2'!L61","v":-1.2639414159507627},{"$f":"'Ferment 2'!P61","v":-1.5399870841935994},{"$f":"'Ferment 2'!Q61","v":-0.98789574770792599},{"$f":"'Ferment 2'!R61","v":-1.5399870841935994},{"$f":"'Ferment 2'!S61","v":-0.99948952391936141},{"$f":"'Ferment 2'!T61","v":""},null,19,{"$f":"'Ferment 3'!L61","v":-1.24613290316457},{"$f":"'Ferment 3'!P61","v":-1.7399452821661128},{"$f":"'Ferment 3'!Q61","v":-0.75232052416302719},{"$f":"'Ferment 3'!R61","v":-1.7399452821661128},{"$f":"'Ferment 3'!S61","v":-0.80183846958902782},{"$f":"'Ferment 3'!T61","v":""}]
[{"$f":"'Ferment 1'!B62","v":19.5},{"$f":"'Ferment 1'!L62","v":-0.4084422136992471},{"$f":"'Ferment 1'!P62","v":-1.6519232818577014},{"$f":"'Ferment 1'!Q62","v":0.83503885445920711},{"$f":"'Ferment 1'!R62","v":-1.6519232818577014},{"$f":"'Ferment 1'!S62","v":0.83503885445920711},{"$f":"'Ferment 1'!T62","v":""},null,19.5,{"$f":"'Ferment 2'!L62","v":-1.267316736286574},{"$f":"'Ferment 2'!P62","v":-1.5506206570842505},{"$f":"'Ferment 2'!Q62","v":-0.98401281548889774},{"$f":"'Ferment 2'!R62","v":-1.5506206570842505},{"$f":"'Ferment 2'!S62","v":-0.99948952391936141},{"$f":"'Ferment 2'!T62","v":""},null,19.5,{"$f":"'Ferment 3'!L62","v":-1.2500130414189283},{"$f":"'Ferment 3'!P62","v":-1.7568095580970906},{"$f":"'Ferment 3'!Q62","v":-0.74321652474076605},{"$f":"'Ferment 3'!R62","v":-1.7568095580970906},{"$f":"'Ferment 3'!S62","v":-0.80183846958902782},{"$f":"'Ferment 3'!T62","v":""}]
[{"$f":"'Ferment 1'!B63","v":20},{"$f":"'Ferment 1'!L63","v":-0.50945590191351597},{"$f":"'Ferment 1'!P63","v":-1.7866567778123121},{"$f":"'Ferment 1'!Q63","v":0.7677449739852803},{"$f":"'Ferment 1'!R63","v":-1.7866567778123121},{"$f":"'Ferment 1'!S63","v":0.7677449739852803},{"$f":"'Ferment 1'!T63","v":""},null,20,{"$f":"'Ferment 2'!L63","v":-1.2703616080987352},{"$f":"'Ferment 2'!P63","v":-1.5609574307476473},{"$f":"'Ferment 2'!Q63","v":-0.97976578544982318},{"$f":"'Ferment 2'!R63","v":-1.5609574307476473},{"$f":"'Ferment 2'!S63","v":-0.99948952391936141},{"$f":"'Ferment 2'!T63","v":""},null,20,{"$f":"'Ferment 3'!L63","v":-1.2535444501747934},{"$f":"'Ferment 3'!P63","v":-1.7733852990590195},{"$f":"'Ferment 3'!Q63","v":-0.73370360129056733},{"$f":"'Ferment 3'!R63","v":-1.7733852990590195},{"$f":"'Ferment 3'!S63","v":-0.80183846958902782},{"$f":"'Ferment 3'!T63","v":""}]
[{"$f":"'Ferment 1'!B64","v":20.5},{"$f":"'Ferment 1'!L64","v":-0.60271708433806059},{"$f":"'Ferment 1'!P64","v":-1.9136586049273809},{"$f":"'Ferment 1'!Q64","v":0.70822443625125964},{"$f":"'Ferment 1'!R64","v":-1.9136586049273809},{"$f":"'Ferment 1'!S64","v":0.70822443625125964},{"$f":"'Ferment 1'!T64","v":""},null,20.5,{"$f":"'Ferment 2'!L64","v":-1.2731194890280939},{"$f":"'Ferment 2'!P64","v":-1.571038392021207},{"$f":"'Ferment 2'!Q64","v":-0.97520058603498083},{"$f":"'Ferment 2'!R64","v":-1.571038392021207},{"$f":"'Ferment 2'!S64","v":-0.99948952391936141},{"$f":"'Ferment 2'!T64","v":""},null,20.5,{"$f":"'Ferment 3'!L64","v":-1.2567695808197281},{"$f":"'Ferment 3'!P64","v":-1.7897105364703756},{"$f":"'Ferment 3'!Q64","v":-0.72382862516908053},{"$f":"'Ferment 3'!R64","v":-1.7897105364703756},{"$f":"'Ferment 3'!S64","v":-0.80183846958902782},{"$f":"'Ferment 3'!T64","v":""}]
[{"$f":"'Ferment 1'!B65","v":21},{"$f":"'Ferment 1'!L65","v":-0.68883970162571018},{"$f":"'Ferment 1'!P65","v":-2.033541135362452},{"$f":"'Ferment 1'!Q65","v":0.6558617321110316},{"$f":"'Ferment 1'!R65","v":-2.033541135362452},{"$f":"'Ferment 1'!S65","v":0.6558617321110316},{"$f":"'Ferment 1'!T65","v":""},null,21,{"$f":"'Ferment 2'!L65","v":-1.2756268024818036},{"$f":"'Ferment 2'!P65","v":-1.5808977205172461},{"$f":"'Ferment 2'!Q65","v":-0.97035588444636112},{"$f":"'Ferment 2'!R65","v":-1.5808977205172461},{"$f":"'Ferment 2'!S65","v":-0.99948952391936141},{"$f":"'Ferment 2'!T65","v":""},null,21,{"$f":"'Ferment 3'!L65","v":-1.2597244788765536},{"$f":"'Ferment 3'!P65","v":-1.8058173019758659},{"$f":"'Ferment 3'!Q65","v":-0.7136316557772413},{"$f":"'Ferment 3'!R65","v":-1.8058173019758659},{"$f":"'Ferment 3'!S65","v":-0.80183846958902782},{"$f":"'Ferment 3'!T65","v":""}]
[{"$f":"'Ferment 1'!B66","v":21.5},{"$f":"'Ferment 1'!L66","v":-0.76839893330254838},{"$f":"'Ferment 1'!P66","v":-2.1468781329506541},{"$f":"'Ferment 1'!Q66","v":0.61008026634555745},{"$f":"'Ferment 1'!R66","v":-2.1468781329506541},{"$f":"'Ferment 1'!S66","v":0.61008026634555745},{"$f":"'Ferment 1'!T66","v":""},null,21.5,{"$f":"'Ferment 2'!L66","v":-1.2779142704567534},{"$f":"'Ferment 2'!P66","v":-1.5905640970259425},{"$f":"'Ferment 2'!Q66","v":-0.96526444388756449},{"$f":"'Ferment 2'!R66","v":-1.5905640970259425},{"$f":"'Ferment 2'!S66","v":-0.99948952391936141},{"$f":"'Ferment 2'!T66","v":""},null,21.5,{"$f":"'Ferment 3'!L66","v":-1.2624399224180169},{"$f":"'Ferment 3'!P66","v":-1.8217327221758244},{"$f":"'Ferment 3'!Q66","v":-0.70314712266020951},{"$f":"'Ferment 3'!R66","v":-1.8217327221758244},{"$f":"'Ferment 3'!S66","v":-0.80183846958902782},{"$f":"'Ferment 3'!T66","v":""}]
[{"$f":"'Ferment 1'!B67","v":22},{"$f":"'Ferment 1'!L67","v":-0.84193093344628644},{"$f":"'Ferment 1'!P67","v":-2.2542044708006967},{"$f":"'Ferment 1'!Q67","v":0.57034260390812375},{"$f":"'Ferment 1'!R67","v":-2.2542044708006967},{"$f":"'Ferment 1'!S67","v":0.57034260390812375},{"$f":"'Ferment 1'!T67","v":""},null,22,{"$f":"'Ferment 2'!L67","v":-1.2800079601306831},{"$f":"'Ferment 2'!P67","v":-1.6000617286247378},{"$f":"'Ferment 2'!Q67","v":-0.95995419163662832},{"$f":"'Ferment 2'!R67","v":-1.6000617286247378},{"$f":"'Ferment 2'!S67","v":-0.99948952391936141},{"$f":"'Ferment 2'!T67","v":""},null,22,{"$f":"'Ferment 3'!L67","v":-1.2649423299353897},{"$f":"'Ferment 3'!P67","v":-1.837479888066623},{"$f":"'Ferment 3'!Q67","v":-0.69240477180415638},{"$f":"'Ferment 3'!R67","v":-1.837479888066623},{"$f":"'Ferment 3'!S67","v":-0.80183846958902782},{"$f":"'Ferment 3'!T67","v":""}]
[{"$f":"'Ferment 1'!B68","v":22.5},{"$f":"'Ferment 1'!L68","v":-0.90993328279370955},{"$f":"'Ferment 1'!P68","v":-2.3560165678229015},{"$f":"'Ferment 1'!Q68","v":0.53615000223548248},{"$f":"'Ferment 1'!R68","v":-2.3560165678229015},{"$f":"'Ferment 1'!S68","v":0.53615000223548248},{"$f":"'Ferment 1'!T68","v":""},null,22.5,{"$f":"'Ferment 2'!L68","v":-1.281930112344343},{"$f":"'Ferment 2'!P68","v":-1.6094111582366331},{"$f":"'Ferment 2'!Q68","v":-0.95444906645205285},{"$f":"'Ferment 2'!R68","v":-1.6094111582366331},{"$f":"'Ferment 2'!S68","v":-0.99948952391936141},{"$f":"'Ferment 2'!T68","v":""},null,22.5,{"$f":"'Ferment 3'!L68","v":-1.2672544896598639},{"$f":"'Ferment 3'!P68","v":-1.8530785505095548},{"$f":"'Ferment 3'!Q68","v":-0.68143042881017279},{"$f":"'Ferment 3'!R68","v":-1.8530785505095548},{"$f":"'Ferment 3'!S68","v":-0.80183846958902782},{"$f":"'Ferment 3'!T68","v":""}]
[{"$f":"'Ferment 1'!B69","v":23},{"$f":"'Ferment 1'!L69","v":-0.97286600712188642},{"$f":"'Ferment 1'!P69","v":-2.4527733936330574},{"$f":"'Ferment 1'!Q69","v":0.50704137938928429},{"$f":"'Ferment 1'!R69","v":-2.4527733936330574},{"$f":"'Ferment 1'!S69","v":0.50704137938928429},{"$f":"'Ferment 1'!T69","v":""},null,23,{"$f":"'Ferment 2'!L69","v":-1.2836998024241422},{"$f":"'Ferment 2'!P69","v":-1.6186299087569864},{"$f":"'Ferment 2'!Q69","v":-0.94876969609129791},{"$f":"'Ferment 2'!R69","v":-1.6186299087569864},{"$f":"'Ferment 2'!S69","v":-0.99948952391936141},{"$f":"'Ferment 2'!T69","v":""},null,23,{"$f":"'Ferment 3'!L69","v":-1.2693961494917347},{"$f":"'Ferment 3'!P69","v":-1.8685456802931601},{"$f":"'Ferment 3'!Q69","v":-0.67024661869030921},{"$f":"'Ferment 3'!R69","v":-1.8685456802931601},{"$f":"'Ferment 3'!S69","v":-0.80183846958902782},{"$f":"'Ferment 3'!T69","v":""}]
[{"$f":"'Ferment 1'!B70","v":23.5},{"$f":"'Ferment 1'!L70","v":-1.0311530238327788},{"$f":"'Ferment 1'!P70","v":-2.5448979034409813},{"$f":"'Ferment 1'!Q70","v":0.48259185577542363},{"$f":"'Ferment 1'!R70","v":-2.5448979034409813},{"$f":"'Ferment 1'!S70","v":0.48259185577542363},{"$f":"'Ferment 1'!T70","v":""},null,23.5,{"$f":"'Ferment 2'!L70","v":-1.2853334710564712},{"$f":"'Ferment 2'!P70","v":-1.6277329991745932},{"$f":"'Ferment 2'!Q70","v":-0.9429339429383492},{"$f":"'Ferment 2'!R70","v":-1.6277329991745932},{"$f":"'Ferment 2'!S70","v":-0.99948952391936141},{"$f":"'Ferment 2'!T70","v":""},null,23.5,{"$f":"'Ferment 3'!L70","v":-1.2713844972783752},{"$f":"'Ferment 3'!P70","v":-1.8838959220194269},{"$f":"'Ferment 3'!Q70","v":-0.65887307253732363},{"$f":"'Ferment 3'!R70","v":-1.8838959220194269},{"$f":"'Ferment 3'!S70","v":-0.80183846958902782},{"$f":"'Ferment 3'!T70","v":""}]
[{"$f":"'Ferment 1'!B71","v":24},{"$f":"'Ferment 1'!L71","v":-1.0851838945740304},{"$f":"'Ferment 1'!P71","v":-2.6327787804889469},{"$f":"'Ferment 1'!Q71","v":0.46241099134088604},{"$f":"'Ferment 1'!R71","v":-2.6327787804889469},{"$f":"'Ferment 1'!S71","v":0.46241099134088604},{"$f":"'Ferment 1'!T71","v":""},null,24,{"$f":"'Ferment 2'!L71","v":-1.2868453536533124},{"$f":"'Ferment 2'!P71","v":-1.6367333608797034},{"$f":"'Ferment 2'!Q71","v":-0.93695734642692141},{"$f":"'Ferment 2'!R71","v":-1.6367333608797034},{"$f":"'Ferment 2'!S71","v":-0.99948952391936141},{"$f":"'Ferment 2'!T71","v":""},null,24,{"$f":"'Ferment 3'!L71","v":-1.2732345542176107},{"$f":"'Ferment 3'!P71","v":-1.8991419641487091},{"$f":"'Ferment 3'!Q71","v":-0.64732714428651239},{"$f":"'Ferment 3'!R71","v":-1.8991419641487091},{"$f":"'Ferment 3'!S71","v":-0.80183846958902782},{"$f":"'Ferment 3'!T71","v":""}]
[{"$f":"'Ferment 1'!B72","v":24.5},{"$f":"'Ferment 1'!L72","v":-1.1353157793859163},{"$f":"'Ferment 1'!P72","v":-2.7167723813071256},{"$f":"'Ferment 1'!Q72","v":0.44614082253529297},{"$f":"'Ferment 1'!R72","v":-2.7167723813071256},{"$f":"'Ferment 1'!S72","v":0.44614082253529297},{"$f":"'Ferment 1'!T72","v":""},null,24.5,{"$f":"'Ferment 2'!L72","v":-1.2882478298371483},{"$f":"'Ferment 2'!P72","v":-1.6456421755732795},{"$f":"'Ferment 2'!Q72","v":-0.93085348410101687},{"$f":"'Ferment 2'!R72","v":-1.6456421755732795},{"$f":"'Ferment 2'!S72","v":-0.99948952391936141},{"$f":"'Ferment 2'!T72","v":""},null,24.5,{"$f":"'Ferment 3'!L72","v":-1.274959498965458},{"$f":"'Ferment 3'!P72","v":-1.9142948424000266},{"$f":"'Ferment 3'!Q72","v":-0.63562415553088947},{"$f":"'Ferment 3'!R72","v":-1.9142948424000266},{"$f":"'Ferment 3'!S72","v":-0.80183846958902782},{"$f":"'Ferment 3'!T72","v":""}]
[{"$f":"'Ferment 1'!B73","v":25},{"$f":"'Ferment 1'!L73","v":-1.1818755057109032},{"$f":"'Ferment 1'!P73","v":-2.7972047969362483},{"$f":"'Ferment 1'!Q73","v":0.43345378551444225},{"$f":"'Ferment 1'!R73","v":-2.7972047969362483},{"$f":"'Ferment 1'!S73","v":0.43345378551444225},{"$f":"'Ferment 1'!T73","v":""},null,25,{"$f":"'Ferment 2'!L73","v":-1.2895517096242217},{"$f":"'Ferment 2'!P73","v":-1.6544691511715117},{"$f":"'Ferment 2'!Q73","v":-0.92463426807693172},{"$f":"'Ferment 2'!R73","v":-1.6544691511715117},{"$f":"'Ferment 2'!S73","v":-0.99948952391936141},{"$f":"'Ferment 2'!T73","v":""},null,25,{"$f":"'Ferment 3'!L73","v":-1.2765709361156989},{"$f":"'Ferment 3'!P73","v":-1.9293641898432004},{"$f":"'Ferment 3'!Q73","v":-0.62377768238819764},{"$f":"'Ferment 3'!R73","v":-1.9293641898432004},{"$f":"'Ferment 3'!S73","v":-0.80183846958902782},{"$f":"'Ferment 3'!T73","v":""}]
[{"$f":"'Ferment 1'!B74","v":25.5},{"$f":"'Ferment 1'!L74","v":-1.2251616825485994},{"$f":"'Ferment 1'!P74","v":-2.8743739602439842},{"$f":"'Ferment 1'!Q74","v":0.42405059514678567},{"$f":"'Ferment 1'!R74","v":-2.8743739602439842},{"$f":"'Ferment 1'!S74","v":0.42405059514678567},{"$f":"'Ferment 1'!T74","v":""},null,25.5,{"$f":"'Ferment 2'!L74","v":-1.2907664691110705},{"$f":"'Ferment 2'!P74","v":-1.6632227483501811},{"$f":"'Ferment 2'!Q74","v":-0.91831018987195989},{"$f":"'Ferment 2'!R74","v":-1.6632227483501811},{"$f":"'Ferment 2'!S74","v":-0.99948952391936141},{"$f":"'Ferment 2'!T74","v":""},null,25.5,{"$f":"'Ferment 3'!L74","v":-1.2780791197518446},{"$f":"'Ferment 3'!P74","v":-1.9443584440965798},{"$f":"'Ferment 3'!Q74","v":-0.61179979540710938},{"$f":"'Ferment 3'!R74","v":-1.9443584440965798},{"$f":"'Ferment 3'!S74","v":-0.80183846958902782},{"$f":"'Ferment 3'!T74","v":""}]
[{"$f":"'Ferment 1'!B75","v":26},{"$f":"'Ferment 1'!L75","v":-1.2654468054051295},{"$f":"'Ferment 1'!P75","v":-2.9485517448524732},{"$f":"'Ferment 1'!Q75","v":0.41765813404221386},{"$f":"'Ferment 1'!R75","v":-2.9485517448524732},{"$f":"'Ferment 1'!S75","v":0.41765813404221386},{"$f":"'Ferment 1'!T75","v":""},null,26,{"$f":"'Ferment 2'!L75","v":-1.2919004456253287},{"$f":"'Ferment 2'!P75","v":-1.6719103675508291},{"$f":"'Ferment 2'!Q75","v":-0.91189052369982826},{"$f":"'Ferment 2'!R75","v":-1.6719103675508291},{"$f":"'Ferment 2'!S75","v":-0.99948952391936141},{"$f":"'Ferment 2'!T75","v":""},null,26,{"$f":"'Ferment 3'!L75","v":-1.279493140504707},{"$f":"'Ferment 3'!P75","v":-1.9592850198148488},{"$f":"'Ferment 3'!Q75","v":-0.59970126119456513},{"$f":"'Ferment 3'!R75","v":-1.9592850198148488},{"$f":"'Ferment 3'!S75","v":-0.80183846958902782},{"$f":"'Ferment 3'!T75","v":""}]
[{"$f":"'Ferment 1'!B76","v":26.5},{"$f":"'Ferment 1'!L76","v":-1.3029793111180936},{"$f":"'Ferment 1'!P76","v":-3.019986014646975},{"$f":"'Ferment 1'!Q76","v":0.41402739241078779},{"$f":"'Ferment 1'!R76","v":-3},{"$f":"'Ferment 1'!S76","v":0.41402739241078779},{"$f":"'Ferment 1'!T76","v":""},null,26.5,{"$f":"'Ferment 2'!L76","v":-1.2929610001423657},{"$f":"'Ferment 2'!P76","v":-1.6805385041295908},{"$f":"'Ferment 2'!Q76","v":-0.90538349615514058},{"$f":"'Ferment 2'!R76","v":-1.6805385041295908},{"$f":"'Ferment 2'!S76","v":-0.99948952391936141},{"$f":"'Ferment 2'!T76","v":""},null,26.5,{"$f":"'Ferment 3'!L76","v":-1.2808210828037032},{"$f":"'Ferment 3'!P76","v":-1.9741504529391034},{"$f":"'Ferment 3'!Q76","v":-0.58749171266830302},{"$f":"'Ferment 3'!R76","v":-1.9741504529391034},{"$f":"'Ferment 3'!S76","v":-0.80183846958902782},{"$f":"'Ferment 3'!T76","v":""}]
[{"$f":"'Ferment 1'!B77","v":27},{"$f":"'Ferment 1'!L77","v":-1.3379855530231759},{"$f":"'Ferment 1'!P77","v":-3.08890259423741},{"$f":"'Ferment 1'!Q77","v":0.41293148819105818},{"$f":"'Ferment 1'!R77","v":-3},{"$f":"'Ferment 1'!S77","v":0.41293148819105818},{"$f":"'Ferment 1'!T77","v":""},null,27,{"$f":"'Ferment 2'!L77","v":-1.2939546531176982},{"$f":"'Ferment 2'!P77","v":-1.6891128776937157},{"$f":"'Ferment 2'!Q77","v":-0.89879642854168085},{"$f":"'Ferment 2'!R77","v":-1.6891128776937157},{"$f":"'Ferment 2'!S77","v":-0.99948952391936141},{"$f":"'Ferment 2'!T77","v":""},null,27,{"$f":"'Ferment 3'!L77","v":-1.2820701576577698},{"$f":"'Ferment 3'!P77","v":-1.9889605218573998},{"$f":"'Ferment 3'!Q77","v":-0.57517979345813974},{"$f":"'Ferment 3'!R77","v":-1.9889605218573998},{"$f":"'Ferment 3'!S77","v":-0.80183846958902782},{"$f":"'Ferment 3'!T77","v":""}]
[{"$f":"'Ferment 1'!B78","v":27.5},{"$f":"'Ferment 1'!L78","v":-1.3706716763185758},{"$f":"'Ferment 1'!P78","v":-3.1555071401487647},{"$f":"'Ferment 1'!Q78","v":0.41416378751161309},{"$f":"'Ferment 1'!R78","v":-3},{"$f":"'Ferment 1'!S78","v":0.41293148819105818},{"$f":"'Ferment 1'!T78","v":""},null,27.5,{"$f":"'Ferment 2'!L78","v":-1.2948871986130777},{"$f":"'Ferment 2'!P78","v":-1.6976385404123731},{"$f":"'Ferment 2'!Q78","v":-0.89213585681378227},{"$f":"'Ferment 2'!R78","v":-1.6976385404123731},{"$f":"'Ferment 2'!S78","v":-0.99948952391936141},{"$f":"'Ferment 2'!T78","v":""},null,27.5,{"$f":"'Ferment 3'!L78","v":-1.2832468152471559},{"$f":"'Ferment 3'!P78","v":-2.0037203495937126},{"$f":"'Ferment 3'!Q78","v":-0.56277328090059908},{"$f":"'Ferment 3'!R78","v":-2.0037203495937126},{"$f":"'Ferment 3'!S78","v":-0.80183846958902782},{"$f":"'Ferment 3'!T78","v":""}]
[{"$f":"'Ferment 1'!B79","v":28},{"$f":"'Ferment 1'!L79","v":-1.4012253810340567},{"$f":"'Ferment 1'!P79","v":-3.219986900078724},{"$f":"'Ferment 1'!Q79","v":0.41753613801061062},{"$f":"'Ferment 1'!R79","v":-3},{"$f":"'Ferment 1'!S79","v":0.41293148819105818},{"$f":"'Ferment 1'!T79","v":""},null,28,{"$f":"'Ferment 2'!L79","v":-1.2957638006079792},{"$f":"'Ferment 2'!P79","v":-1.7061199681139101},{"$f":"'Ferment 2'!Q79","v":-0.88540763310204829},{"$f":"'Ferment 2'!R79","v":-1.7061199681139101},{"$f":"'Ferment 2'!S79","v":-0.99948952391936141},{"$f":"'Ferment 2'!T79","v":""},null,28,{"$f":"'Ferment 3'!L79","v":-1.2843568407798289},{"$f":"'Ferment 3'!P79","v":-2.0184344903367073},{"$f":"'Ferment 3'!Q79","v":-0.55027919122295055},{"$f":"'Ferment 3'!R79","v":-2.0184344903367073},{"$f":"'Ferment 3'!S79","v":-0.80183846958902782},{"$f":"'Ferment 3'!T79","v":""}]
[{"$f":"'Ferment 1'!B80","v":28.5},{"$f":"'Ferment 1'!L80","v":-1.4298175659335104},{"$f":"'Ferment 1'!P80","v":-3.2825123534928724},{"$f":"'Ferment 1'!Q80","v":0.42287722162585162},{"$f":"'Ferment 1'!R80","v":-3},{"$f":"'Ferment 1'!S80","v":0.41293148819105818},{"$f":"'Ferment 1'!T80","v":""},null,28.5,{"$f":"'Ferment 2'!L80","v":-1.2965890746188342},{"$f":"'Ferment 2'!P80","v":-1.7145611372224709},{"$f":"'Ferment 2'!Q80","v":-0.87861701201519737},{"$f":"'Ferment 2'!R80","v":-1.7145611372224709},{"$f":"'Ferment 2'!S80","v":-0.99948952391936141},{"$f":"'Ferment 2'!T80","v":""},null,28.5,{"$f":"'Ferment 3'!L80","v":-1.2854054364130492},{"$f":"'Ferment 3'!P80","v":-2.0331070029846874},{"$f":"'Ferment 3'!Q80","v":-0.53770386984141094},{"$f":"'Ferment 3'!R80","v":-2.0331070029846874},{"$f":"'Ferment 3'!S80","v":-0.80183846958902782},{"$f":"'Ferment 3'!T80","v":""}]
[{"$f":"'Ferment 1'!B81","v":29},{"$f":"'Ferment 1'!L81","v":-1.4566038512055757},{"$f":"'Ferment 1'!P81","v":-3.343238731361728},{"$f":"'Ferment 1'!Q81","v":0.43003102895057643},{"$f":"'Ferment 1'!R81","v":-3},{"$f":"'Ferment 1'!S81","v":0.41293148819105818},{"$f":"'Ferment 1'!T81","v":""},null,29,{"$f":"'Ferment 2'!L81","v":-1.2973671571444696},{"$f":"'Ferment 2'!P81","v":-1.722965589991774},{"$f":"'Ferment 2'!Q81","v":-0.87176872429716523},{"$f":"'Ferment 2'!R81","v":-1.722965589991774},{"$f":"'Ferment 2'!S81","v":-0.99948952391936141},{"$f":"'Ferment 2'!T81","v":""},null,29,{"$f":"'Ferment 3'!L81","v":-1.2863972915222401},{"$f":"'Ferment 3'!P81","v":-2.0477415138803083},{"$f":"'Ferment 3'!Q81","v":-0.52505306916417216},{"$f":"'Ferment 3'!R81","v":-2.0477415138803083},{"$f":"'Ferment 3'!S81","v":-0.80183846958902782},{"$f":"'Ferment 3'!T81","v":""}]
[{"$f":"'Ferment 1'!B82","v":29.5},{"$f":"'Ferment 1'!L82","v":-1.4817259811565056},{"$f":"'Ferment 1'!P82","v":-3.4023074162105438},{"$f":"'Ferment 1'!Q82","v":0.43885545389753289},{"$f":"'Ferment 1'!R82","v":-3},{"$f":"'Ferment 1'!S82","v":0.41293148819105818},{"$f":"'Ferment 1'!T82","v":""},null,29.5,{"$f":"'Ferment 2'!L82","v":-1.2981017649795157},{"$f":"'Ferment 2'!P82","v":-1.731336490024709},{"$f":"'Ferment 2'!Q82","v":-0.86486703993432223},{"$f":"'Ferment 2'!R82","v":-1.731336490024709},{"$f":"'Ferment 2'!S82","v":-0.99948952391936141},{"$f":"'Ferment 2'!T82","v":""},null,29.5,{"$f":"'Ferment 3'!L82","v":-1.2873366431855879},{"$f":"'Ferment 3'!P82","v":-2.0623412705085089},{"$f":"'Ferment 3'!Q82","v":-0.51233201586266719},{"$f":"'Ferment 3'!R82","v":-2.0623412705085089},{"$f":"'Ferment 3'!S82","v":-0.80183846958902782},{"$f":"'Ferment 3'!T82","v":""}]
[{"$f":"'Ferment 1'!B83","v":30},{"$f":"'Ferment 1'!L83","v":-1.5053131105278483},{"$f":"'Ferment 1'!P83","v":-3.4598472260671151},{"$f":"'Ferment 1'!Q83","v":0.44922100501141848},{"$f":"'Ferment 1'!R83","v":-3},{"$f":"'Ferment 1'!S83","v":0.41293148819105818},{"$f":"'Ferment 1'!T83","v":""},null,30,{"$f":"'Ferment 2'!L83","v":-1.2987962460591498},{"$f":"'Ferment 2'!P83","v":-1.7396766696955903},{"$f":"'Ferment 2'!Q83","v":-0.85791582242270914},{"$f":"'Ferment 2'!R83","v":-1.7396766696955903},{"$f":"'Ferment 2'!S83","v":-0.99948952391936141},{"$f":"'Ferment 2'!T83","v":""},null,30,{"$f":"'Ferment 3'!L83","v":-1.2882273284210024},{"$f":"'Ferment 3'!P83","v":-2.0769091876110473},{"$f":"'Ferment 3'!Q83","v":-0.49954546923095733},{"$f":"'Ferment 3'!R83","v":-2.0769091876110473},{"$f":"'Ferment 3'!S83","v":-0.80183846958902782},{"$f":"'Ferment 3'!T83","v":""}]

{"sheet":"Refrigeration & Weather","index":4,"n_rows":37,"n_cols":4,"rows_kept":37,"cut":false,"hidden":false,"merged":[]}
[]
[]
[]
[]
[]
[null,"Weather forecast"]
[null,"Day ","Low","High"]
[null,0,16,28]
[null,1,18,32]
[null,2,17,31]
[null,3,22,30]
[null,4,20,26]
[null,5,16,27]
[null,6,24,35]
[null,7,18,38]
[null,8,17,39]
[null,9,18,31]
[null,10,22,32]
[]
[null,"Refrigeration Plant Specs"]
[null,"Brine Temperature",-5]
[null,"COP",{"$f":"C36*C21+C37","v":2.2249999999999996}]
[null,"$/kWh",0.25]
[]
[]
[]
[]
[]
[]
[]
[null,"Refrigeration COP Calculation "]
[null,"Temp","COP"]
[null,-8,2.0499999999999998]
[null,4,2.75]
[]
[null,"slope",{"$f":"SLOPE(C33:C34,B33:B34)","v":5.8333333333333348E-2}]
[null,"intercept",{"$f":"INTERCEPT(C33:C34,B33:B34)","v":2.5166666666666666}]

{"sheet":"What-if Analysis","index":5,"n_rows":76,"n_cols":28,"rows_kept":76,"cut":false,"hidden":false,"merged":[[8,7,8,9],[9,7,9,9],[11,77,11,79],[29,22,29,23],[30,22,30,23],[31,22,31,23],[32,22,32,23],[40,21,40,23],[41,21,41,23],[11,1,11,5],[11,12,11,19],[27,22,27,23],[28,22,28,23],[35,21,35,23],[36,22,36,23],[37,22,37,23],[38,22,38,23]]}
[]
[null,null,null,null," = user adjustable field",null,null,null,null,null,null,null,null,null,null,null,null,null,null,null,null,null,null,null,null,"Weather forecast"]
[null,null,null,null,null,null,null,null,null,null,null,null,null,"Cool Climate",1,"(1=Yes, 0=No)",null,null,null,null,null,null,null,null,null,"Day "]
[null,"Ferment start time",null,"12:00:00",null,null,null,null,null,null,null,null,null,"Warm Climate",0,"(1=Yes, 0=No)",null,null,null,null,null,null,null,null,null,0,16,28]
[null,"Volume",null,40,"kL",null,null,null,null,null,null,null,null,"Wild Ferment",0,"(1=Yes, 0=No)",null,null,null,null,null,null,null,null,null,1,18,32]
[null,"Initial Cell mass",null,null,"g/L",null,null,null,null,null,null,null,null,null,null,null,null,null,null,null,null,null,null,null,null,2,17,31]
[null,"Initial N",null,0.25,"g/L",null,null,null,null,null,null,null,null,null,null,null,null,null,null,null,null,null,null,null,null,3,22,30]
[null,"Desired ferment time",null,9,"days",null,null,null,null,null,null,null,null,"Refrigeration COP",null,null,2.2249999999999996,null,null,null,null,null,null,null,null,4,20,26]
[null,"Prediction score",null,10.536951298705462,null,null,null,"Fermenter Status",null,null,null,null,null,"Electricity Cost ($/kWe)",null,null,0.25,null,null,null,null,null,null,null,null,5,16,27]
[null,"Refrigeration cost",null,289.01918092204272,null,null,null,{"$f":"V42","v":"Good"},null,null,null,null,null,"Overall Tank U value (W/m2/C)",null,null,3,null,null,null,null,null,null,null,null,6,24,35]
[null,null,null,null,null,null,null,null,null,null,null,null,null,null,null,null,null,null,null,null,null,null,null,null,null,7,18,38]
[null,"Commercial Ferment",null,null,null,null,null,null,null,null,null,null,"Simulation model",null,null,null,null,null,null,null,null,null,null,null,null,8,17,39]
[null,"Day","Baume – actual","Temp C","DAP addition","Mixing (0 to 3) ","Nutrient Addition","Pump over","Aeration","Yeast Innoc.",null,"dBe/dt","Baume – Model","Required Refrigeration (kWr)","Active Cell Mass","Ethanol","Nitrogen","Corrected Temperature","Low range","High range",null,null,null,null,null,9,18,31]
[null,0,13.6,15,null,null,null,null,null,null,null,7.1965535797117068,13.433333333333334,1.3052224034122419,0.1802671049059906,0,0.25,15,13.433333333333334,13.433333333333334,null,null,null,null,null,10,22,32]
[null,0.5,13.5,15,null,null,null,null,null,null,null,4.5970672126131031,13.364048550989382,1.6052928016786383,0.4620829392630687,0.59895540118488377,0.23033193962325657,15,13.364048550989382,13.364048550989382,null,null,null,null,null,11,15,30]
[null,1,13.2,16,null,null,null,null,null,null,null,5.8842985287755205,13.29700082867541,2.2595006915438285,0.69060447625943855,1.1785558488619774,0.21151498025728696,15.2,13.29700082867541,13.29700082867541,null,null,null,null,null,12,15,30]
[null,1.5,12.9,17,null,null,null,null,null,null,null,3.7938747280019811,13.153221459856409,2.9342801120788429,1.1595929307838593,2.4216578399449378,0.1720352614655157,16.2,13.153221459856409,13.153221459856409,null,null,null,null,null,13,15,30]
[null,2,12.2,13,null,null,null,null,null,null,null,6.2570936833127861,12.729715707453449,7.571025618462242,2.3358972618790625,6.0854358582577834,6.7936969031459529E-2,16.2,12.729715707453449,12.729715707453449,null,null,null,null,null,14,15,30]
[null,2.5,11.5,13.5,null,null,null,null,null,null,null,4.9581676547674904,11.705205889679593,13.230868702561995,3.2340092863786412,14.959511607568601,2.2082489287062589E-3,13.1,11.705205889679593,11.705205889679593,null,null,null,null,null,15,15,30]
[null,3,10.9,13.5,null,null,null,null,null,null,null,6.8331864336961914,10.609700090081379,11.766912825324685,3.281333561939705,24.452765928664334,1.6701990621346041E-4,13.5,10.609700090081379,10.609700090081379,null,null,null,null,null,16,15,30]
[null,3.5,10.3,16,0.1,null,null,1,null,null,null,8.253082762349127,9.5139053358628818,12.040614517283553,3.2802185292774331,33.952762755244521,1.6746884495685399E-5,14,9.5139053358628818,9.5139053358628818,null,null,null,null,null,17,15,30]
[null,4,8.4,16,null,null,null,null,null,null,null,15.533090497056895,8.2954837374386603,13.428460666821509,3.416658060830978,44.527015244776045,2.144943668705419E-2,16,8.2954837374386603,8.2954837374386603,null,null,null,null,null,18,15,30]
[null,4.5,6.4,16,null,null,null,null,null,null,null,23.356449922234649,6.8040815076057255,15.446372635933294,3.7123644223414933,57.499283841486168,1.6605088150287128,16,6.8040815076057255,6.8040815076057255,null,null,null,null,null,19,15,30]
[null,5,4.5999999999999996,16,null,null,null,null,null,null,null,33.223178388652393,5.2254936000149126,16.461419450511102,4.0287474694635312,71.269189992686009,1.0470405766536681,16,5.2254936000149126,5.2254936000149126,null,null,null,null,null,20,15,30]
[null,5.5,3.3,16,null,null,null,null,null,null,null,40.90139776213185,3.6935272711363569,15.772496347403957,4.1833283963727066,84.684825304948234,0.4139148229539068,16,3.6935272711363569,3.6935272711363569,null,null,null,null,null,21,15,30]
[null,6,2.5,16,null,null,null,null,1,null,null,38.735807336032472,2.3722951918158905,12.844578051725458,4.2339924008234284,96.307210426750984,0,16,2.3722951918158905,2.3722951918158905,null,null,null,null,null,22,15,30]
[null,6.5,null,null,null,null,null,null,null,null,null,43.153989670112317,1.3434970727984805,10.299285119107525,4.2108720459409996,105.39647992022081,0,16,1.1222053858198866,1.5647887597770744,null,"Model Parameters",null,null,null,23,15,30]
[null,7,null,null,null,null,null,null,null,null,null,39.458181925793369,0.59936655736051658,8.3015682191192539,4.1860141147232302,111.99241520775948,0,16,0.37140126472187457,0.82733184999915865,null,"fPos(1)",84.99045449746184,null,"mumaxcor",24,15,30]
[null,7.5,null,null,null,null,null,null,null,null,null,41.124767292747293,8.1458784051197511E-2,5.8671611333987457,4.1599797656765416,116.59150164843204,0,16,-0.153841223937349,0.316758792039744,null,"fPos(2)",79.894986880842353,null,"betamaxcorr",25,15,30]
[null,8,null,null,null,null,null,null,null,null,null,42.953467597094992,-0.27314489012476506,5.1924464886759321,4.1331978735551997,119.74124691036026,0,16,-0.51638092376410272,-2.9908856485427356E-2,null,"fPos(3)",0.25172221550719293,null,"mixingcoeff",26,15,30]
[null,8.5,null,null,null,null,null,null,null,null,null,42.882676778819565,-0.51669049110388843,3.7418869925161329,4.1059700641470744,121.90252046861464,0,16,-0.76840699344607222,-2.9908856485427356E-2,null,"fPos(4)",70.893147958236383,null,"Ks",27,15,30]
[null,9,null,null,null,null,null,null,null,null,null,42.749364139348479,-0.68674142001053351,2.6912673044843713,4.0784981940344194,123.40918300465238,0,16,-0.94742970557735151,-2.9908856485427356E-2,null,"fPos(5)",0.1802671049059906,null,"initialcellcount",28,15,30]
[null,9.5,null,null,null,null,null,null,null,null,null,43.702937975696784,-0.80827345511813065,2.606131063734586,4.0509146929947457,124.48397540199274,0,16,-1.0783758840256652,-2.9908856485427356E-2,null,"fPos(6)",2.8226892869968312,null,"kdcorr",29,15,30]
[null,10,null,null,null,null,null,null,null,null,null,47.090510764514704,-0.89735899131215446,1.6944892217078893,4.0233065769530869,125.27035888675607,0,16,-1.1772732945575071,-2.9908856485427356E-2,null,null,null,null,null,30,15,30]
[null,10.5,null,null,null,null,null,null,null,null,null,36.544443337693366,-0.96429491379356647,1.5302759453308181,3.9957318153871988,125.86019167301318,0,16,-1.2543784662582165,-2.9908856485427356E-2]
[null,11,null,null,null,null,null,null,null,null,null,31.441909591324038,-1.015751966304151,1.9211529320937277,3.9682297727908113,126.31290821208096,0,16,-1.3163258721065176,-2.9908856485427356E-2,null,"Estimated Ferment Completion"]
[null,11.5,null,null,null,null,null,null,null,null,null,28.88828314559218,-1.0561336193839375,1.1737870450513712,3.9408277250146009,126.66768100184967,0,16,-1.367486527637044,-2.9908856485427356E-2,null,"Model",8]
[null,12,null,null,null,null,null,null,null,null,null,26.830264287722983,-1.0884107068296589,1.7564639402145821,3.9135449324657601,126.95089474001185,0,16,-1.4108023154295779,-2.9908856485427356E-2,null,"Low range",7.5]
[null,12.5,null,null,null,null,null,null,null,null,null,27.889427010685854,-1.1146327733488046,1.0511945398359983,3.8863952208820929,127.1807226826032,0,16,-1.4482970062285336,-2.9908856485427356E-2,null,"High range",8]
[null,13,null,null,null,null,null,null,null,null,null,25.289694433484115,-1.1362446658161416,1.6634291033788884,3.8593886480100648,127.36995675007367,0,16,-1.481392527609303,-2.9908856485427356E-2]
[null,13.5,null,null,null,null,null,null,null,null,null,27.814981233804506,-1.1542858525348625,0.97934594580562895,3.8325326029547906,127.52778682780055,0,16,-1.5111079761303077,-2.9908856485427356E-2,null,"Fermenter Status"]
[null,14,null,null,null,null,null,null,null,null,null,29.640503449071318,-1.1695183638311299,1.6070598949911759,3.8058325469801031,127.66094120370349,0,16,-1.5381872728315142,-2.9908856485427356E-2,null,{"$f":"IF(ABS(W37-D8)<2.1,\"Good\",IF(ABS(W38-D8)<2.1,\"Low range on spec\",IF(ABS(W39-D8)<2.1,\"High range on spec\",IF(D8<W38,\"Warning -  Sluggish Ferment\",\"Warning - Rapid ferment\"))))","v":"Good"}]
[null,14.5,null,null,null,null,null,null,null,null,null,24.49765955506291,-1.1825105807680618,0.9344873945631027,3.7792925231217596,127.77443235679364,0,16,-1.5631826919470959,-2.9908856485427356E-2]
[null,15,null,null,null,null,null,null,null,null,null,22.752706398544891,-1.1936932047181712,1.5708998712298337,3.7529155136731922,127.87205443298973,0,16,-1.5865105963711765,-2.9908856485427356E-2]
[null,15.5,null,null,null,null,null,null,null,null,null,16.657882718750955,-1.2033973601364467,0.90499831127355779,3.726703695564229,127.95672146422831,0,16,-1.6084893315827307,-2.9908856485427356E-2]
[null,16,null,null,null,null,null,null,null,null,null,15.366947402539596,-1.2118810031382439,1.5465960723984704,3.7006586259002687,128.03070149113245,0,16,-1.6293654491539031,-2.9908856485427356E-2]
[null,16.5,null,null,null,null,null,null,null,null,null,10.122412535940272,-1.2193475349073681,0.88477492266070046,3.6747813788762125,128.09578138574403,0,16,-1.6493321569456052,-2.9908856485427356E-2]
[null,17,null,null,null,null,null,null,null,null,null,10.410233143060458,-1.2259591279136792,1.5296200619306886,3.649072648268775,128.15338472760322,0,16,-1.6685425018708671,-2.9908856485427356E-2]
[null,17.5,null,null,null,null,null,null,null,null,null,6.9560524906888102,-1.2318464067719437,0.8704102213976278,3.6235328251823691,128.20465734846437,0,16,-1.6871189249485725,-2.9908856485427356E-2]
[null,18,null,null,null,null,null,null,null,null,null,8.1636188503464115,-1.2371155767787057,1.5173752867381529,3.59816205774692,128.2505302642102,0,16,-1.7051602796651377,-2.9908856485427356E-2]
[null,18.5,null,null,null,null,null,null,null,null,null,5.1275945646052454,-1.241853739503594,0.85990163977321299,3.5729602974760897,128.29176656069725,0,16,-1.7227470511464225,-2.9908856485427356E-2]
[null,19,null,null,null,null,null,null,null,null,null,6.6712000412364638,-1.24613290316457,1.5083002186853121,3.5479273356430627,128.32899673817985,0,16,-1.7399452821661128,-2.9908856485427356E-2]
[null,19.5,null,null,null,null,null,null,null,null,null,3.908418246678937,-1.2500130414189283,0.85201910984008511,3.5230628320995714,128.36274564868992,0,16,-1.7568095580970906,-2.9908856485427356E-2]
[null,20,null,null,null,null,null,null,null,null,null,5.6728227638944313,-1.2535444501747934,1.5014167128428411,3.4983663383127079,128.3934532366662,0,16,-1.7733852990590195,-2.9908856485427356E-2]
[null,20.5,null,null,null,null,null,null,null,null,null,3.0878586735762643,-1.2567695808197281,0.84597797255137297,3.4738373159328977,128.42149066118955,0,16,-1.7897105364703758,-2.9908856485427356E-2]
[null,21,null,null,null,null,null,null,null,null,null,4.9953606397604027,-1.2597244788765536,1.4960901710078283,3.4494751518756903,128.44717294030133,0,16,-1.8058173019758659,-2.9908856485427356E-2]
[null,21.5,null,null,null,null,null,null,null,null,null,2.525696100715761,-1.2624399224180169,0.84126107642131731,3.4252791706601169,128.47076895067252,0,16,-1.8217327221758244,-2.9908856485427356E-2]
[null,22,null,null,null,null,null,null,null,null,null,4.5263486350994198,-1.2649423299353897,1.4918961488119593,3.4012486445703898,128.4925093978209,0,16,-1.837479888066623,-2.9908856485427356E-2]
[null,22.5,null,null,null,null,null,null,null,null,null,2.1322185486313474,-1.2672544896598639,0.83751774194200934,3.377382802077356,128.512593215555,0,16,-1.8530785505095548,-2.9908856485427356E-2]
[null,23,null,null,null,null,null,null,null,null,null,4.194389528942394,-1.2693961494917347,1.4885431005568728,3.3536808348585581,128.53119273980485,0,16,-1.8685456802931604,-2.9908856485427356E-2]
[null,23.5,null,null,null,null,null,null,null,null,null,1.850604786750198,-1.2713844972783752,0.83450416268901739,3.3301419036821152,128.54845791885398,0,16,-1.8838959220194267,-2.9908856485427356E-2]
[null,24,null,null,null,null,null,null,null,null,null,3.9541872620558922,-1.2732345542176107,1.4858260160378418,3.3067651433635463,128.56451976051491,0,16,-1.8991419641487088,-2.9908856485427356E-2]
[null,24.5,null,null,null,null,null,null,null,null,null,1.6446434686377489,-1.274959498965458,0.83204705416940239,3.2835496669616067,128.57949317094267,0,16,-1.9142948424000266,-2.9908856485427356E-2]
[null,25,null,null,null,null,null,null,null,null,null,3.7766867458576185,-1.2765709361156989,1.4835977077058957,3.2604945693459042,128.59347930529694,0,16,-1.9293641898432004,-2.9908856485427356E-2]
[null,25.5,null,null,null,null,null,null,null,null,null,1.4909227194981565,-1.2780791197518446,0.83002081542896367,3.2375989302430939,128.606567524322,0,16,-1.9443584440965798,-2.9908856485427356E-2]
[null,26,null,null,null,null,null,null,null,null,null,3.6429364677126008,-1.279493140504707,1.481750524650719,3.2148618168480962,128.61883703094728,0,16,-1.9592850198148488,-2.9908856485427356E-2]
[null,26.5,null,null,null,null,null,null,null,null,null,1.3740277061343402,-1.2808210828037032,0.82833279635060519,3.1922822860706912,128.63035824565046,0,16,-1.9741504529391034,-2.9908856485427356E-2]
[null,27,null,null,null,null,null,null,null,null,null,3.5403365116739676,-1.2820701576577698,1.4802044123754183,3.1698593864750646,128.64119396742836,0,16,-1.9889605218573998,-2.9908856485427356E-2]
[null,27.5,null,null,null,null,null,null,null,null,null,1.2836083768627795,-1.2832468152471559,0.82691356621151613,3.1475921599596588,128.65140035794806,0,16,-2,-2.9908856485427356E-2]
[null,28,null,null,null,null,null,null,null,null,null,3.4603430866683844,-1.2843568407798289,1.4788989392067773,3.1254796432164715,128.6610277791747,0,16,-2,-2.9908856485427356E-2]
[null,28.5,null,null,null,null,null,null,null,null,null,1.2125777519127541,-1.2854054364130492,0.82571034726460724,3.1035208690023097,128.67012150903562,0,16,-2,-2.9908856485427356E-2]
[null,29,null,null,null,null,null,null,null,null,null,3.3970496840089348,-1.2863972915222401,1.4777878625994931,3.0817148672491044,128.67872235512593,0,16,-2,-2.9908856485427356E-2]
[null,29.5,null,null,null,null,null,null,null,null,null,1.1559903617050715,-1.2873366431855879,0.82468249768246793,3.0600606660359944,128.68686718282871,0,16,-2,-2.9908856485427356E-2]
[null,30,null,null,null,null,null,null,null,null,null,3.3462968764541037,-1.2882273284210024,1.4768353576109985,3.0385572924422859,128.69458937131188,0,16,-2,-2.9908856485427356E-2]
[]
[null,null,null,null,null,null,null,null,null,null,null,{"$f":"MIN(L14:L74)","v":1.1559903617050715},null,{"$f":"MAX(N14:N74)","v":16.461419450511102},{"$f":"MAX(O14:O74)","v":4.2339924008234284}]

{"sheet":"What-if model data","index":7,"n_rows":63,"n_cols":10,"rows_kept":63,"cut":false,"hidden":true,"merged":[]}
[]
[{"$f":"'What-if Analysis'!B13","v":"Day"},{"$f":"'What-if Analysis'!L13","v":"dBe/dt"},{"$f":"'What-if Analysis'!M13","v":"Baume – Model"},{"$f":"'What-if Analysis'!N13","v":"Required Refrigeration (kWr)"},{"$f":"'What-if Analysis'!O13","v":"Active Cell Mass"},{"$f":"'What-if Analysis'!P13","v":"Ethanol"},{"$f":"'What-if Analysis'!Q13","v":"Nitrogen"},{"$f":"'What-if Analysis'!R13","v":"Corrected Temperature"},{"$f":"'What-if Analysis'!S13","v":"Low range"},{"$f":"'What-if Analysis'!T13","v":"High range"}]
[{"$f":"'What-if Analysis'!B14","v":0},{"$f":"'What-if Analysis'!L14","v":7.1965535797117068},{"$f":"'What-if Analysis'!M14","v":13.433333333333334},{"$f":"'What-if Analysis'!N14","v":1.3052224034122419},{"$f":"'What-if Analysis'!O14","v":0.1802671049059906},{"$f":"'What-if Analysis'!P14","v":0},{"$f":"'What-if Analysis'!Q14","v":0.25},{"$f":"'What-if Analysis'!R14","v":15},{"$f":"'What-if Analysis'!S14","v":13.433333333333334},{"$f":"'What-if Analysis'!T14","v":13.433333333333334}]
[{"$f":"'What-if Analysis'!B15","v":0.5},{"$f":"'What-if Analysis'!L15","v":4.5970672126131031},{"$f":"'What-if Analysis'!M15","v":13.364048550989382},{"$f":"'What-if Analysis'!N15","v":1.6052928016786383},{"$f":"'What-if Analysis'!O15","v":0.4620829392630687},{"$f":"'What-if Analysis'!P15","v":0.59895540118488377},{"$f":"'What-if Analysis'!Q15","v":0.23033193962325657},{"$f":"'What-if Analysis'!R15","v":15},{"$f":"'What-if Analysis'!S15","v":13.364048550989382},{"$f":"'What-if Analysis'!T15","v":13.364048550989382}]
[{"$f":"'What-if Analysis'!B16","v":1},{"$f":"'What-if Analysis'!L16","v":5.8842985287755205},{"$f":"'What-if Analysis'!M16","v":13.29700082867541},{"$f":"'What-if Analysis'!N16","v":2.2595006915438285},{"$f":"'What-if Analysis'!O16","v":0.69060447625943855},{"$f":"'What-if Analysis'!P16","v":1.1785558488619774},{"$f":"'What-if Analysis'!Q16","v":0.21151498025728696},{"$f":"'What-if Analysis'!R16","v":15.2},{"$f":"'What-if Analysis'!S16","v":13.29700082867541},{"$f":"'What-if Analysis'!T16","v":13.29700082867541}]
[{"$f":"'What-if Analysis'!B17","v":1.5},{"$f":"'What-if Analysis'!L17","v":3.7938747280019811},{"$f":"'What-if Analysis'!M17","v":13.153221459856409},{"$f":"'What-if Analysis'!N17","v":2.9342801120788429},{"$f":"'What-if Analysis'!O17","v":1.1595929307838593},{"$f":"'What-if Analysis'!P17","v":2.4216578399449378},{"$f":"'What-if Analysis'!Q17","v":0.1720352614655157},{"$f":"'What-if Analysis'!R17","v":16.2},{"$f":"'What-if Analysis'!S17","v":13.153221459856409},{"$f":"'What-if Analysis'!T17","v":13.153221459856409}]
[{"$f":"'What-if Analysis'!B18","v":2},{"$f":"'What-if Analysis'!L18","v":6.2570936833127861},{"$f":"'What-if Analysis'!M18","v":12.729715707453449},{"$f":"'What-if Analysis'!N18","v":7.571025618462242},{"$f":"'What-if Analysis'!O18","v":2.3358972618790625},{"$f":"'What-if Analysis'!P18","v":6.0854358582577834},{"$f":"'What-if Analysis'!Q18","v":6.7936969031459529E-2},{"$f":"'What-if Analysis'!R18","v":16.2},{"$f":"'What-if Analysis'!S18","v":12.729715707453449},{"$f":"'What-if Analysis'!T18","v":12.729715707453449}]
[{"$f":"'What-if Analysis'!B19","v":2.5},{"$f":"'What-if Analysis'!L19","v":4.9581676547674904},{"$f":"'What-if Analysis'!M19","v":11.705205889679593},{"$f":"'What-if Analysis'!N19","v":13.230868702561995},{"$f":"'What-if Analysis'!O19","v":3.2340092863786412},{"$f":"'What-if Analysis'!P19","v":14.959511607568601},{"$f":"'What-if Analysis'!Q19","v":2.2082489287062589E-3},{"$f":"'What-if Analysis'!R19","v":13.1},{"$f":"'What-if Analysis'!S19","v":11.705205889679593},{"$f":"'What-if Analysis'!T19","v":11.705205889679593}]
[{"$f":"'What-if Analysis'!B20","v":3},{"$f":"'What-if Analysis'!L20","v":6.8331864336961914},{"$f":"'What-if Analysis'!M20","v":10.609700090081379},{"$f":"'What-if Analysis'!N20","v":11.766912825324685},{"$f":"'What-if Analysis'!O20","v":3.281333561939705},{"$f":"'What-if Analysis'!P20","v":24.452765928664334},{"$f":"'What-if Analysis'!Q20","v":1.6701990621346041E-4},{"$f":"'What-if Analysis'!R20","v":13.5},{"$f":"'What-if Analysis'!S20","v":10.609700090081379},{"$f":"'What-if Analysis'!T20","v":10.609700090081379}]
[{"$f":"'What-if Analysis'!B21","v":3.5},{"$f":"'What-if Analysis'!L21","v":8.253082762349127},{"$f":"'What-if Analysis'!M21","v":9.5139053358628818},{"$f":"'What-if Analysis'!N21","v":12.040614517283553},{"$f":"'What-if Analysis'!O21","v":3.2802185292774331},{"$f":"'What-if Analysis'!P21","v":33.952762755244521},{"$f":"'What-if Analysis'!Q21","v":1.6746884495685399E-5},{"$f":"'What-if Analysis'!R21","v":14},{"$f":"'What-if Analysis'!S21","v":9.5139053358628818},{"$f":"'What-if Analysis'!T21","v":9.5139053358628818}]
[{"$f":"'What-if Analysis'!B22","v":4},{"$f":"'What-if Analysis'!L22","v":15.533090497056895},{"$f":"'What-if Analysis'!M22","v":8.2954837374386603},{"$f":"'What-if Analysis'!N22","v":13.428460666821509},{"$f":"'What-if Analysis'!O22","v":3.416658060830978},{"$f":"'What-if Analysis'!P22","v":44.527015244776045},{"$f":"'What-if Analysis'!Q22","v":2.144943668705419E-2},{"$f":"'What-if Analysis'!R22","v":16},{"$f":"'What-if Analysis'!S22","v":8.2954837374386603},{"$f":"'What-if Analysis'!T22","v":8.2954837374386603}]
[{"$f":"'What-if Analysis'!B23","v":4.5},{"$f":"'What-if Analysis'!L23","v":23.356449922234649},{"$f":"'What-if Analysis'!M23","v":6.8040815076057255},{"$f":"'What-if Analysis'!N23","v":15.446372635933294},{"$f":"'What-if Analysis'!O23","v":3.7123644223414933},{"$f":"'What-if Analysis'!P23","v":57.499283841486168},{"$f":"'What-if Analysis'!Q23","v":1.6605088150287128},{"$f":"'What-if Analysis'!R23","v":16},{"$f":"'What-if Analysis'!S23","v":6.8040815076057255},{"$f":"'What-if Analysis'!T23","v":6.8040815076057255}]
[{"$f":"'What-if Analysis'!B24","v":5},{"$f":"'What-if Analysis'!L24","v":33.223178388652393},{"$f":"'What-if Analysis'!M24","v":5.2254936000149126},{"$f":"'What-if Analysis'!N24","v":16.461419450511102},{"$f":"'What-if Analysis'!O24","v":4.0287474694635312},{"$f":"'What-if Analysis'!P24","v":71.269189992686009},{"$f":"'What-if Analysis'!Q24","v":1.0470405766536681},{"$f":"'What-if Analysis'!R24","v":16},{"$f":"'What-if Analysis'!S24","v":5.2254936000149126},{"$f":"'What-if Analysis'!T24","v":5.2254936000149126}]
[{"$f":"'What-if Analysis'!B25","v":5.5},{"$f":"'What-if Analysis'!L25","v":40.90139776213185},{"$f":"'What-if Analysis'!M25","v":3.6935272711363569},{"$f":"'What-if Analysis'!N25","v":15.772496347403957},{"$f":"'What-if Analysis'!O25","v":4.1833283963727066},{"$f":"'What-if Analysis'!P25","v":84.684825304948234},{"$f":"'What-if Analysis'!Q25","v":0.4139148229539068},{"$f":"'What-if Analysis'!R25","v":16},{"$f":"'What-if Analysis'!S25","v":3.6935272711363569},{"$f":"'What-if Analysis'!T25","v":3.6935272711363569}]
[{"$f":"'What-if Analysis'!B26","v":6},{"$f":"'What-if Analysis'!L26","v":38.735807336032472},{"$f":"'What-if Analysis'!M26","v":2.3722951918158905},{"$f":"'What-if Analysis'!N26","v":12.844578051725458},{"$f":"'What-if Analysis'!O26","v":4.2339924008234284},{"$f":"'What-if Analysis'!P26","v":96.307210426750984},{"$f":"'What-if Analysis'!Q26","v":0},{"$f":"'What-if Analysis'!R26","v":16},{"$f":"'What-if Analysis'!S26","v":2.3722951918158905},{"$f":"'What-if Analysis'!T26","v":2.3722951918158905}]
[{"$f":"'What-if Analysis'!B27","v":6.5},{"$f":"'What-if Analysis'!L27","v":43.153989670112317},{"$f":"'What-if Analysis'!M27","v":1.3434970727984805},{"$f":"'What-if Analysis'!N27","v":10.299285119107525},{"$f":"'What-if Analysis'!O27","v":4.2108720459409996},{"$f":"'What-if Analysis'!P27","v":105.39647992022081},{"$f":"'What-if Analysis'!Q27","v":0},{"$f":"'What-if Analysis'!R27","v":16},{"$f":"'What-if Analysis'!S27","v":1.1222053858198866},{"$f":"'What-if Analysis'!T27","v":1.5647887597770744}]
[{"$f":"'What-if Analysis'!B28","v":7},{"$f":"'What-if Analysis'!L28","v":39.458181925793369},{"$f":"'What-if Analysis'!M28","v":0.59936655736051658},{"$f":"'What-if Analysis'!N28","v":8.3015682191192539},{"$f":"'What-if Analysis'!O28","v":4.1860141147232302},{"$f":"'What-if Analysis'!P28","v":111.99241520775948},{"$f":"'What-if Analysis'!Q28","v":0},{"$f":"'What-if Analysis'!R28","v":16},{"$f":"'What-if Analysis'!S28","v":0.37140126472187457},{"$f":"'What-if Analysis'!T28","v":0.82733184999915865}]
[{"$f":"'What-if Analysis'!B29","v":7.5},{"$f":"'What-if Analysis'!L29","v":41.124767292747293},{"$f":"'What-if Analysis'!M29","v":8.1458784051197511E-2},{"$f":"'What-if Analysis'!N29","v":5.8671611333987457},{"$f":"'What-if Analysis'!O29","v":4.1599797656765416},{"$f":"'What-if Analysis'!P29","v":116.59150164843204},{"$f":"'What-if Analysis'!Q29","v":0},{"$f":"'What-if Analysis'!R29","v":16},{"$f":"'What-if Analysis'!S29","v":-0.153841223937349},{"$f":"'What-if Analysis'!T29","v":0.316758792039744}]
[{"$f":"'What-if Analysis'!B30","v":8},{"$f":"'What-if Analysis'!L30","v":42.953467597094992},{"$f":"'What-if Analysis'!M30","v":-0.27314489012476506},{"$f":"'What-if Analysis'!N30","v":5.1924464886759321},{"$f":"'What-if Analysis'!O30","v":4.1331978735551997},{"$f":"'What-if Analysis'!P30","v":119.74124691036026},{"$f":"'What-if Analysis'!Q30","v":0},{"$f":"'What-if Analysis'!R30","v":16},{"$f":"'What-if Analysis'!S30","v":-0.51638092376410272},{"$f":"'What-if Analysis'!T30","v":-2.9908856485427356E-2}]
[{"$f":"'What-if Analysis'!B31","v":8.5},{"$f":"'What-if Analysis'!L31","v":42.882676778819565},{"$f":"'What-if Analysis'!M31","v":-0.51669049110388843},{"$f":"'What-if Analysis'!N31","v":3.7418869925161329},{"$f":"'What-if Analysis'!O31","v":4.1059700641470744},{"$f":"'What-if Analysis'!P31","v":121.90252046861464},{"$f":"'What-if Analysis'!Q31","v":0},{"$f":"'What-if Analysis'!R31","v":16},{"$f":"'What-if Analysis'!S31","v":-0.76840699344607222},{"$f":"'What-if Analysis'!T31","v":-2.9908856485427356E-2}]
[{"$f":"'What-if Analysis'!B32","v":9},{"$f":"'What-if Analysis'!L32","v":42.749364139348479},{"$f":"'What-if Analysis'!M32","v":-0.68674142001053351},{"$f":"'What-if Analysis'!N32","v":2.6912673044843713},{"$f":"'What-if Analysis'!O32","v":4.0784981940344194},{"$f":"'What-if Analysis'!P32","v":123.40918300465238},{"$f":"'What-if Analysis'!Q32","v":0},{"$f":"'What-if Analysis'!R32","v":16},{"$f":"'What-if Analysis'!S32","v":-0.94742970557735151},{"$f":"'What-if Analysis'!T32","v":-2.9908856485427356E-2}]
[{"$f":"'What-if Analysis'!B33","v":9.5},{"$f":"'What-if Analysis'!L33","v":43.702937975696784},{"$f":"'What-if Analysis'!M33","v":-0.80827345511813065},{"$f":"'What-if Analysis'!N33","v":2.606131063734586},{"$f":"'What-if Analysis'!O33","v":4.0509146929947457},{"$f":"'What-if Analysis'!P33","v":124.48397540199274},{"$f":"'What-if Analysis'!Q33","v":0},{"$f":"'What-if Analysis'!R33","v":16},{"$f":"'What-if Analysis'!S33","v":-1.0783758840256652},{"$f":"'What-if Analysis'!T33","v":-2.9908856485427356E-2}]
[{"$f":"'What-if Analysis'!B34","v":10},{"$f":"'What-if Analysis'!L34","v":47.090510764514704},{"$f":"'What-if Analysis'!M34","v":-0.89735899131215446},{"$f":"'What-if Analysis'!N34","v":1.6944892217078893},{"$f":"'What-if Analysis'!O34","v":4.0233065769530869},{"$f":"'What-if Analysis'!P34","v":125.27035888675607},{"$f":"'What-if Analysis'!Q34","v":0},{"$f":"'What-if Analysis'!R34","v":16},{"$f":"'What-if Analysis'!S34","v":-1.1772732945575071},{"$f":"'What-if Analysis'!T34","v":-2.9908856485427356E-2}]
[{"$f":"'What-if Analysis'!B35","v":10.5},{"$f":"'What-if Analysis'!L35","v":36.544443337693366},{"$f":"'What-if Analysis'!M35","v":-0.96429491379356647},{"$f":"'What-if Analysis'!N35","v":1.5302759453308181},{"$f":"'What-if Analysis'!O35","v":3.9957318153871988},{"$f":"'What-if Analysis'!P35","v":125.86019167301318},{"$f":"'What-if Analysis'!Q35","v":0},{"$f":"'What-if Analysis'!R35","v":16},{"$f":"'What-if Analysis'!S35","v":-1.2543784662582165},{"$f":"'What-if Analysis'!T35","v":-2.9908856485427356E-2}]
[{"$f":"'What-if Analysis'!B36","v":11},{"$f":"'What-if Analysis'!L36","v":31.441909591324038},{"$f":"'What-if Analysis'!M36","v":-1.015751966304151},{"$f":"'What-if Analysis'!N36","v":1.9211529320937277},{"$f":"'What-if Analysis'!O36","v":3.9682297727908113},{"$f":"'What-if Analysis'!P36","v":126.31290821208096},{"$f":"'What-if Analysis'!Q36","v":0},{"$f":"'What-if Analysis'!R36","v":16},{"$f":"'What-if Analysis'!S36","v":-1.3163258721065176},{"$f":"'What-if Analysis'!T36","v":-2.9908856485427356E-2}]
[{"$f":"'What-if Analysis'!B37","v":11.5},{"$f":"'What-if Analysis'!L37","v":28.88828314559218},{"$f":"'What-if Analysis'!M37","v":-1.0561336193839375},{"$f":"'What-if Analysis'!N37","v":1.1737870450513712},{"$f":"'What-if Analysis'!O37","v":3.9408277250146009},{"$f":"'What-if Analysis'!P37","v":126.66768100184967},{"$f":"'What-if Analysis'!Q37","v":0},{"$f":"'What-if Analysis'!R37","v":16},{"$f":"'What-if Analysis'!S37","v":-1.367486527637044},{"$f":"'What-if Analysis'!T37","v":-2.9908856485427356E-2}]
[{"$f":"'What-if Analysis'!B38","v":12},{"$f":"'What-if Analysis'!L38","v":26.830264287722983},{"$f":"'What-if Analysis'!M38","v":-1.0884107068296589},{"$f":"'What-if Analysis'!N38","v":1.7564639402145821},{"$f":"'What-if Analysis'!O38","v":3.9135449324657601},{"$f":"'What-if Analysis'!P38","v":126.95089474001185},{"$f":"'What-if Analysis'!Q38","v":0},{"$f":"'What-if Analysis'!R38","v":16},{"$f":"'What-if Analysis'!S38","v":-1.4108023154295779},{"$f":"'What-if Analysis'!T38","v":-2.9908856485427356E-2}]
[{"$f":"'What-if Analysis'!B39","v":12.5},{"$f":"'What-if Analysis'!L39","v":27.889427010685854},{"$f":"'What-if Analysis'!M39","v":-1.1146327733488046},{"$f":"'What-if Analysis'!N39","v":1.0511945398359983},{"$f":"'What-if Analysis'!O39","v":3.8863952208820929},{"$f":"'What-if Analysis'!P39","v":127.1807226826032},{"$f":"'What-if Analysis'!Q39","v":0},{"$f":"'What-if Analysis'!R39","v":16},{"$f":"'What-if Analysis'!S39","v":-1.4482970062285336},{"$f":"'What-if Analysis'!T39","v":-2.9908856485427356E-2}]
[{"$f":"'What-if Analysis'!B40","v":13},{"$f":"'What-if Analysis'!L40","v":25.289694433484115},{"$f":"'What-if Analysis'!M40","v":-1.1362446658161416},{"$f":"'What-if Analysis'!N40","v":1.6634291033788884},{"$f":"'What-if Analysis'!O40","v":3.8593886480100648},{"$f":"'What-if Analysis'!P40","v":127.36995675007367},{"$f":"'What-if Analysis'!Q40","v":0},{"$f":"'What-if Analysis'!R40","v":16},{"$f":"'What-if Analysis'!S40","v":-1.481392527609303},{"$f":"'What-if Analysis'!T40","v":-2.9908856485427356E-2}]
[{"$f":"'What-if Analysis'!B41","v":13.5},{"$f":"'What-if Analysis'!L41","v":27.814981233804506},{"$f":"'What-if Analysis'!M41","v":-1.1542858525348625},{"$f":"'What-if Analysis'!N41","v":0.97934594580562895},{"$f":"'What-if Analysis'!O41","v":3.8325326029547906},{"$f":"'What-if Analysis'!P41","v":127.52778682780055},{"$f":"'What-if Analysis'!Q41","v":0},{"$f":"'What-if Analysis'!R41","v":16},{"$f":"'What-if Analysis'!S41","v":-1.5111079761303077},{"$f":"'What-if Analysis'!T41","v":-2.9908856485427356E-2}]
[{"$f":"'What-if Analysis'!B42","v":14},{"$f":"'What-if Analysis'!L42","v":29.640503449071318},{"$f":"'What-if Analysis'!M42","v":-1.1695183638311299},{"$f":"'What-if Analysis'!N42","v":1.6070598949911759},{"$f":"'What-if Analysis'!O42","v":3.8058325469801031},{"$f":"'What-if Analysis'!P42","v":127.66094120370349},{"$f":"'What-if Analysis'!Q42","v":0},{"$f":"'What-if Analysis'!R42","v":16},{"$f":"'What-if Analysis'!S42","v":-1.5381872728315142},{"$f":"'What-if Analysis'!T42","v":-2.9908856485427356E-2}]
[{"$f":"'What-if Analysis'!B43","v":14.5},{"$f":"'What-if Analysis'!L43","v":24.49765955506291},{"$f":"'What-if Analysis'!M43","v":-1.1825105807680618},{"$f":"'What-if Analysis'!N43","v":0.9344873945631027},{"$f":"'What-if Analysis'!O43","v":3.7792925231217596},{"$f":"'What-if Analysis'!P43","v":127.77443235679364},{"$f":"'What-if Analysis'!Q43","v":0},{"$f":"'What-if Analysis'!R43","v":16},{"$f":"'What-if Analysis'!S43","v":-1.5631826919470959},{"$f":"'What-if Analysis'!T43","v":-2.9908856485427356E-2}]
[{"$f":"'What-if Analysis'!B44","v":15},{"$f":"'What-if Analysis'!L44","v":22.752706398544891},{"$f":"'What-if Analysis'!M44","v":-1.1936932047181712},{"$f":"'What-if Analysis'!N44","v":1.5708998712298337},{"$f":"'What-if Analysis'!O44","v":3.7529155136731922},{"$f":"'What-if Analysis'!P44","v":127.87205443298973},{"$f":"'What-if Analysis'!Q44","v":0},{"$f":"'What-if Analysis'!R44","v":16},{"$f":"'What-if Analysis'!S44","v":-1.5865105963711765},{"$f":"'What-if Analysis'!T44","v":-2.9908856485427356E-2}]
[{"$f":"'What-if Analysis'!B45","v":15.5},{"$f":"'What-if Analysis'!L45","v":16.657882718750955},{"$f":"'What-if Analysis'!M45","v":-1.2033973601364467},{"$f":"'What-if Analysis'!N45","v":0.90499831127355779},{"$f":"'What-if Analysis'!O45","v":3.726703695564229},{"$f":"'What-if Analysis'!P45","v":127.95672146422831},{"$f":"'What-if Analysis'!Q45","v":0},{"$f":"'What-if Analysis'!R45","v":16},{"$f":"'What-if Analysis'!S45","v":-1.6084893315827307},{"$f":"'What-if Analysis'!T45","v":-2.9908856485427356E-2}]
[{"$f":"'What-if Analysis'!B46","v":16},{"$f":"'What-if Analysis'!L46","v":15.366947402539596},{"$f":"'What-if Analysis'!M46","v":-1.2118810031382439},{"$f":"'What-if Analysis'!N46","v":1.5465960723984704},{"$f":"'What-if Analysis'!O46","v":3.7006586259002687},{"$f":"'What-if Analysis'!P46","v":128.03070149113245},{"$f":"'What-if Analysis'!Q46","v":0},{"$f":"'What-if Analysis'!R46","v":16},{"$f":"'What-if Analysis'!S46","v":-1.6293654491539031},{"$f":"'What-if Analysis'!T46","v":-2.9908856485427356E-2}]
[{"$f":"'What-if Analysis'!B47","v":16.5},{"$f":"'What-if Analysis'!L47","v":10.122412535940272},{"$f":"'What-if Analysis'!M47","v":-1.2193475349073681},{"$f":"'What-if Analysis'!N47","v":0.88477492266070046},{"$f":"'What-if Analysis'!O47","v":3.6747813788762125},{"$f":"'What-if Analysis'!P47","v":128.09578138574403},{"$f":"'What-if Analysis'!Q47","v":0},{"$f":"'What-if Analysis'!R47","v":16},{"$f":"'What-if Analysis'!S47","v":-1.6493321569456052},{"$f":"'What-if Analysis'!T47","v":-2.9908856485427356E-2}]
[{"$f":"'What-if Analysis'!B48","v":17},{"$f":"'What-if Analysis'!L48","v":10.410233143060458},{"$f":"'What-if Analysis'!M48","v":-1.2259591279136792},{"$f":"'What-if Analysis'!N48","v":1.5296200619306886},{"$f":"'What-if Analysis'!O48","v":3.649072648268775},{"$f":"'What-if Analysis'!P48","v":128.15338472760322},{"$f":"'What-if Analysis'!Q48","v":0},{"$f":"'What-if Analysis'!R48","v":16},{"$f":"'What-if Analysis'!S48","v":-1.6685425018708671},{"$f":"'What-if Analysis'!T48","v":-2.9908856485427356E-2}]
[{"$f":"'What-if Analysis'!B49","v":17.5},{"$f":"'What-if Analysis'!L49","v":6.9560524906888102},{"$f":"'What-if Analysis'!M49","v":-1.2318464067719437},{"$f":"'What-if Analysis'!N49","v":0.8704102213976278},{"$f":"'What-if Analysis'!O49","v":3.6235328251823691},{"$f":"'What-if Analysis'!P49","v":128.20465734846437},{"$f":"'What-if Analysis'!Q49","v":0},{"$f":"'What-if Analysis'!R49","v":16},{"$f":"'What-if Analysis'!S49","v":-1.6871189249485725},{"$f":"'What-if Analysis'!T49","v":-2.9908856485427356E-2}]
[{"$f":"'What-if Analysis'!B50","v":18},{"$f":"'What-if Analysis'!L50","v":8.1636188503464115},{"$f":"'What-if Analysis'!M50","v":-1.2371155767787057},{"$f":"'What-if Analysis'!N50","v":1.5173752867381529},{"$f":"'What-if Analysis'!O50","v":3.59816205774692},{"$f":"'What-if Analysis'!P50","v":128.2505302642102},{"$f":"'What-if Analysis'!Q50","v":0},{"$f":"'What-if Analysis'!R50","v":16},{"$f":"'What-if Analysis'!S50","v":-1.7051602796651377},{"$f":"'What-if Analysis'!T50","v":-2.9908856485427356E-2}]
[{"$f":"'What-if Analysis'!B51","v":18.5},{"$f":"'What-if Analysis'!L51","v":5.1275945646052454},{"$f":"'What-if Analysis'!M51","v":-1.241853739503594},{"$f":"'What-if Analysis'!N51","v":0.85990163977321299},{"$f":"'What-if Analysis'!O51","v":3.5729602974760897},{"$f":"'What-if Analysis'!P51","v":128.29176656069725},{"$f":"'What-if Analysis'!Q51","v":0},{"$f":"'What-if Analysis'!R51","v":16},{"$f":"'What-if Analysis'!S51","v":-1.7227470511464225},{"$f":"'What-if Analysis'!T51","v":-2.9908856485427356E-2}]
[{"$f":"'What-if Analysis'!B52","v":19},{"$f":"'What-if Analysis'!L52","v":6.6712000412364638},{"$f":"'What-if Analysis'!M52","v":-1.24613290316457},{"$f":"'What-if Analysis'!N52","v":1.5083002186853121},{"$f":"'What-if Analysis'!O52","v":3.5479273356430627},{"$f":"'What-if Analysis'!P52","v":128.32899673817985},{"$f":"'What-if Analysis'!Q52","v":0},{"$f":"'What-if Analysis'!R52","v":16},{"$f":"'What-if Analysis'!S52","v":-1.7399452821661128},{"$f":"'What-if Analysis'!T52","v":-2.9908856485427356E-2}]
[{"$f":"'What-if Analysis'!B53","v":19.5},{"$f":"'What-if Analysis'!L53","v":3.908418246678937},{"$f":"'What-if Analysis'!M53","v":-1.2500130414189283},{"$f":"'What-if Analysis'!N53","v":0.85201910984008511},{"$f":"'What-if Analysis'!O53","v":3.5230628320995714},{"$f":"'What-if Analysis'!P53","v":128.36274564868992},{"$f":"'What-if Analysis'!Q53","v":0},{"$f":"'What-if Analysis'!R53","v":16},{"$f":"'What-if Analysis'!S53","v":-1.7568095580970906},{"$f":"'What-if Analysis'!T53","v":-2.9908856485427356E-2}]
[{"$f":"'What-if Analysis'!B54","v":20},{"$f":"'What-if Analysis'!L54","v":5.6728227638944313},{"$f":"'What-if Analysis'!M54","v":-1.2535444501747934},{"$f":"'What-if Analysis'!N54","v":1.5014167128428411},{"$f":"'What-if Analysis'!O54","v":3.4983663383127079},{"$f":"'What-if Analysis'!P54","v":128.3934532366662},{"$f":"'What-if Analysis'!Q54","v":0},{"$f":"'What-if Analysis'!R54","v":16},{"$f":"'What-if Analysis'!S54","v":-1.7733852990590195},{"$f":"'What-if Analysis'!T54","v":-2.9908856485427356E-2}]
[{"$f":"'What-if Analysis'!B55","v":20.5},{"$f":"'What-if Analysis'!L55","v":3.0878586735762643},{"$f":"'What-if Analysis'!M55","v":-1.2567695808197281},{"$f":"'What-if Analysis'!N55","v":0.84597797255137297},{"$f":"'What-if Analysis'!O55","v":3.4738373159328977},{"$f":"'What-if Analysis'!P55","v":128.42149066118955},{"$f":"'What-if Analysis'!Q55","v":0},{"$f":"'What-if Analysis'!R55","v":16},{"$f":"'What-if Analysis'!S55","v":-1.7897105364703758},{"$f":"'What-if Analysis'!T55","v":-2.9908856485427356E-2}]
[{"$f":"'What-if Analysis'!B56","v":21},{"$f":"'What-if Analysis'!L56","v":4.9953606397604027},{"$f":"'What-if Analysis'!M56","v":-1.2597244788765536},{"$f":"'What-if Analysis'!N56","v":1.4960901710078283},{"$f":"'What-if Analysis'!O56","v":3.4494751518756903},{"$f":"'What-if Analysis'!P56","v":128.44717294030133},{"$f":"'What-if Analysis'!Q56","v":0},{"$f":"'What-if Analysis'!R56","v":16},{"$f":"'What-if Analysis'!S56","v":-1.8058173019758659},{"$f":"'What-if Analysis'!T56","v":-2.9908856485427356E-2}]
[{"$f":"'What-if Analysis'!B57","v":21.5},{"$f":"'What-if Analysis'!L57","v":2.525696100715761},{"$f":"'What-if Analysis'!M57","v":-1.2624399224180169},{"$f":"'What-if Analysis'!N57","v":0.84126107642131731},{"$f":"'What-if Analysis'!O57","v":3.4252791706601169},{"$f":"'What-if Analysis'!P57","v":128.47076895067252},{"$f":"'What-if Analysis'!Q57","v":0},{"$f":"'What-if Analysis'!R57","v":16},{"$f":"'What-if Analysis'!S57","v":-1.8217327221758244},{"$f":"'What-if Analysis'!T57","v":-2.9908856485427356E-2}]
[{"$f":"'What-if Analysis'!B58","v":22},{"$f":"'What-if Analysis'!L58","v":4.5263486350994198},{"$f":"'What-if Analysis'!M58","v":-1.2649423299353897},{"$f":"'What-if Analysis'!N58","v":1.4918961488119593},{"$f":"'What-if Analysis'!O58","v":3.4012486445703898},{"$f":"'What-if Analysis'!P58","v":128.4925093978209},{"$f":"'What-if Analysis'!Q58","v":0},{"$f":"'What-if Analysis'!R58","v":16},{"$f":"'What-if Analysis'!S58","v":-1.837479888066623},{"$f":"'What-if Analysis'!T58","v":-2.9908856485427356E-2}]
[{"$f":"'What-if Analysis'!B59","v":22.5},{"$f":"'What-if Analysis'!L59","v":2.1322185486313474},{"$f":"'What-if Analysis'!M59","v":-1.2672544896598639},{"$f":"'What-if Analysis'!N59","v":0.83751774194200934},{"$f":"'What-if Analysis'!O59","v":3.377382802077356},{"$f":"'What-if Analysis'!P59","v":128.512593215555},{"$f":"'What-if Analysis'!Q59","v":0},{"$f":"'What-if Analysis'!R59","v":16},{"$f":"'What-if Analysis'!S59","v":-1.8530785505095548},{"$f":"'What-if Analysis'!T59","v":-2.9908856485427356E-2}]
[{"$f":"'What-if Analysis'!B60","v":23},{"$f":"'What-if Analysis'!L60","v":4.194389528942394},{"$f":"'What-if Analysis'!M60","v":-1.2693961494917347},{"$f":"'What-if Analysis'!N60","v":1.4885431005568728},{"$f":"'What-if Analysis'!O60","v":3.3536808348585581},{"$f":"'What-if Analysis'!P60","v":128.53119273980485},{"$f":"'What-if Analysis'!Q60","v":0},{"$f":"'What-if Analysis'!R60","v":16},{"$f":"'What-if Analysis'!S60","v":-1.8685456802931604},{"$f":"'What-if Analysis'!T60","v":-2.9908856485427356E-2}]
[{"$f":"'What-if Analysis'!B61","v":23.5},{"$f":"'What-if Analysis'!L61","v":1.850604786750198},{"$f":"'What-if Analysis'!M61","v":-1.2713844972783752},{"$f":"'What-if Analysis'!N61","v":0.83450416268901739},{"$f":"'What-if Analysis'!O61","v":3.3301419036821152},{"$f":"'What-if Analysis'!P61","v":128.54845791885398},{"$f":"'What-if Analysis'!Q61","v":0},{"$f":"'What-if Analysis'!R61","v":16},{"$f":"'What-if Analysis'!S61","v":-1.8838959220194267},{"$f":"'What-if Analysis'!T61","v":-2.9908856485427356E-2}]
[{"$f":"'What-if Analysis'!B62","v":24},{"$f":"'What-if Analysis'!L62","v":3.9541872620558922},{"$f":"'What-if Analysis'!M62","v":-1.2732345542176107},{"$f":"'What-if Analysis'!N62","v":1.4858260160378418},{"$f":"'What-if Analysis'!O62","v":3.3067651433635463},{"$f":"'What-if Analysis'!P62","v":128.56451976051491},{"$f":"'What-if Analysis'!Q62","v":0},{"$f":"'What-if Analysis'!R62","v":16},{"$f":"'What-if Analysis'!S62","v":-1.8991419641487088},{"$f":"'What-if Analysis'!T62","v":-2.9908856485427356E-2}]
[{"$f":"'What-if Analysis'!B63","v":24.5},{"$f":"'What-if Analysis'!L63","v":1.6446434686377489},{"$f":"'What-if Analysis'!M63","v":-1.274959498965458},{"$f":"'What-if Analysis'!N63","v":0.83204705416940239},{"$f":"'What-if Analysis'!O63","v":3.2835496669616067},{"$f":"'What-if Analysis'!P63","v":128.57949317094267},{"$f":"'What-if Analysis'!Q63","v":0},{"$f":"'What-if Analysis'!R63","v":16},{"$f":"'What-if Analysis'!S63","v":-1.9142948424000266},{"$f":"'What-if Analysis'!T63","v":-2.9908856485427356E-2}]
[{"$f":"'What-if Analysis'!B64","v":25},{"$f":"'What-if Analysis'!L64","v":3.7766867458576185},{"$f":"'What-if Analysis'!M64","v":-1.2765709361156989},{"$f":"'What-if Analysis'!N64","v":1.4835977077058957},{"$f":"'What-if Analysis'!O64","v":3.2604945693459042},{"$f":"'What-if Analysis'!P64","v":128.59347930529694},{"$f":"'What-if Analysis'!Q64","v":0},{"$f":"'What-if Analysis'!R64","v":16},{"$f":"'What-if Analysis'!S64","v":-1.9293641898432004},{"$f":"'What-if Analysis'!T64","v":-2.9908856485427356E-2}]
[{"$f":"'What-if Analysis'!B65","v":25.5},{"$f":"'What-if Analysis'!L65","v":1.4909227194981565},{"$f":"'What-if Analysis'!M65","v":-1.2780791197518446},{"$f":"'What-if Analysis'!N65","v":0.83002081542896367},{"$f":"'What-if Analysis'!O65","v":3.2375989302430939},{"$f":"'What-if Analysis'!P65","v":128.606567524322},{"$f":"'What-if Analysis'!Q65","v":0},{"$f":"'What-if Analysis'!R65","v":16},{"$f":"'What-if Analysis'!S65","v":-1.9443584440965798},{"$f":"'What-if Analysis'!T65","v":-2.9908856485427356E-2}]
[{"$f":"'What-if Analysis'!B66","v":26},{"$f":"'What-if Analysis'!L66","v":3.6429364677126008},{"$f":"'What-if Analysis'!M66","v":-1.279493140504707},{"$f":"'What-if Analysis'!N66","v":1.481750524650719},{"$f":"'What-if Analysis'!O66","v":3.2148618168480962},{"$f":"'What-if Analysis'!P66","v":128.61883703094728},{"$f":"'What-if Analysis'!Q66","v":0},{"$f":"'What-if Analysis'!R66","v":16},{"$f":"'What-if Analysis'!S66","v":-1.9592850198148488},{"$f":"'What-if Analysis'!T66","v":-2.9908856485427356E-2}]
[{"$f":"'What-if Analysis'!B67","v":26.5},{"$f":"'What-if Analysis'!L67","v":1.3740277061343402},{"$f":"'What-if Analysis'!M67","v":-1.2808210828037032},{"$f":"'What-if Analysis'!N67","v":0.82833279635060519},{"$f":"'What-if Analysis'!O67","v":3.1922822860706912},{"$f":"'What-if Analysis'!P67","v":128.63035824565046},{"$f":"'What-if Analysis'!Q67","v":0},{"$f":"'What-if Analysis'!R67","v":16},{"$f":"'What-if Analysis'!S67","v":-1.9741504529391034},{"$f":"'What-if Analysis'!T67","v":-2.9908856485427356E-2}]
[{"$f":"'What-if Analysis'!B68","v":27},{"$f":"'What-if Analysis'!L68","v":3.5403365116739676},{"$f":"'What-if Analysis'!M68","v":-1.2820701576577698},{"$f":"'What-if Analysis'!N68","v":1.4802044123754183},{"$f":"'What-if Analysis'!O68","v":3.1698593864750646},{"$f":"'What-if Analysis'!P68","v":128.64119396742836},{"$f":"'What-if Analysis'!Q68","v":0},{"$f":"'What-if Analysis'!R68","v":16},{"$f":"'What-if Analysis'!S68","v":-1.9889605218573998},{"$f":"'What-if Analysis'!T68","v":-2.9908856485427356E-2}]
[{"$f":"'What-if Analysis'!B69","v":27.5},{"$f":"'What-if Analysis'!L69","v":1.2836083768627795},{"$f":"'What-if Analysis'!M69","v":-1.2832468152471559},{"$f":"'What-if Analysis'!N69","v":0.82691356621151613},{"$f":"'What-if Analysis'!O69","v":3.1475921599596588},{"$f":"'What-if Analysis'!P69","v":128.65140035794806},{"$f":"'What-if Analysis'!Q69","v":0},{"$f":"'What-if Analysis'!R69","v":16},{"$f":"'What-if Analysis'!S69","v":-2},{"$f":"'What-if Analysis'!T69","v":-2.9908856485427356E-2}]
[{"$f":"'What-if Analysis'!B70","v":28},{"$f":"'What-if Analysis'!L70","v":3.4603430866683844},{"$f":"'What-if Analysis'!M70","v":-1.2843568407798289},{"$f":"'What-if Analysis'!N70","v":1.4788989392067773},{"$f":"'What-if Analysis'!O70","v":3.1254796432164715},{"$f":"'What-if Analysis'!P70","v":128.6610277791747},{"$f":"'What-if Analysis'!Q70","v":0},{"$f":"'What-if Analysis'!R70","v":16},{"$f":"'What-if Analysis'!S70","v":-2},{"$f":"'What-if Analysis'!T70","v":-2.9908856485427356E-2}]
[{"$f":"'What-if Analysis'!B71","v":28.5},{"$f":"'What-if Analysis'!L71","v":1.2125777519127541},{"$f":"'What-if Analysis'!M71","v":-1.2854054364130492},{"$f":"'What-if Analysis'!N71","v":0.82571034726460724},{"$f":"'What-if Analysis'!O71","v":3.1035208690023097},{"$f":"'What-if Analysis'!P71","v":128.67012150903562},{"$f":"'What-if Analysis'!Q71","v":0},{"$f":"'What-if Analysis'!R71","v":16},{"$f":"'What-if Analysis'!S71","v":-2},{"$f":"'What-if Analysis'!T71","v":-2.9908856485427356E-2}]
[{"$f":"'What-if Analysis'!B72","v":29},{"$f":"'What-if Analysis'!L72","v":3.3970496840089348},{"$f":"'What-if Analysis'!M72","v":-1.2863972915222401},{"$f":"'What-if Analysis'!N72","v":1.4777878625994931},{"$f":"'What-if Analysis'!O72","v":3.0817148672491044},{"$f":"'What-if Analysis'!P72","v":128.67872235512593},{"$f":"'What-if Analysis'!Q72","v":0},{"$f":"'What-if Analysis'!R72","v":16},{"$f":"'What-if Analysis'!S72","v":-2},{"$f":"'What-if Analysis'!T72","v":-2.9908856485427356E-2}]
[{"$f":"'What-if Analysis'!B73","v":29.5},{"$f":"'What-if Analysis'!L73","v":1.1559903617050715},{"$f":"'What-if Analysis'!M73","v":-1.2873366431855879},{"$f":"'What-if Analysis'!N73","v":0.82468249768246793},{"$f":"'What-if Analysis'!O73","v":3.0600606660359944},{"$f":"'What-if Analysis'!P73","v":128.68686718282871},{"$f":"'What-if Analysis'!Q73","v":0},{"$f":"'What-if Analysis'!R73","v":16},{"$f":"'What-if Analysis'!S73","v":-2},{"$f":"'What-if Analysis'!T73","v":-2.9908856485427356E-2}]
[{"$f":"'What-if Analysis'!B74","v":30},{"$f":"'What-if Analysis'!L74","v":3.3462968764541037},{"$f":"'What-if Analysis'!M74","v":-1.2882273284210024},{"$f":"'What-if Analysis'!N74","v":1.4768353576109985},{"$f":"'What-if Analysis'!O74","v":3.0385572924422859},{"$f":"'What-if Analysis'!P74","v":128.69458937131188},{"$f":"'What-if Analysis'!Q74","v":0},{"$f":"'What-if Analysis'!R74","v":16},{"$f":"'What-if Analysis'!S74","v":-2},{"$f":"'What-if Analysis'!T74","v":-2.9908856485427356E-2}]