{"text_format":"1","workbook":"xlsx","n_sheets":8,"sheets":["Home","Basic Ferment Entry","Full Ferment Logs","Full Vintage Planner","Refrigeration & Weather","What-if Analysis","What-if Chart","Ferment Archive"],"not_rendered":{"charts":4,"images":3,"macros":1,"external_links":0,"defined_names":17,"comments":0,"pivot_tables":0},"unopened":[{"sheet":"What-if Chart","index":6,"reason":"not_a_worksheet"}],"bounds":{"document_bytes":16777216,"sheet_cells":100000,"rows_first":2000,"rows_last":500,"rows_between":2000,"halvings":0,"cell_chars":16384,"cell_head_chars":4096},"cells_cut":0,"cells_raw":0,"read":"whole","date_system":"1900"}

{"sheet":"Home","index":0,"n_rows":120,"n_cols":11,"rows_kept":120,"cut":false,"hidden":false,"merged":[]}
[]
[null,null,"Fermenter 1",null,"Fermenter 2",null,"Fermenter 3",null,"Fermenter 4",null,"Fermenter 5"]
[null,null,{"$f":"'Full Ferment Logs'!C4","v":"Example 1"},null,{"$f":"'Full Ferment Logs'!Y4","v":"Example 2"},null,{"$f":"'Full Ferment Logs'!AU4","v":"Example 3"},null,{"$f":"'Full Ferment Logs'!BQ4","v":"Example 4"},null,{"$f":"'Full Ferment Logs'!CM4","v":"Enter Tank Name"}]
[null,null,{"$f":"'Full Ferment Logs'!C19","v":"Warning -  Sluggish Ferment"},null,{"$f":"'Full Ferment Logs'!Y19","v":"Low range on spec"},null,{"$f":"'Full Ferment Logs'!AU19","v":"Good"},null,{"$f":"'Full Ferment Logs'!BQ19","v":"Insufficient data for prediction"},null,{"$f":"'Full Ferment Logs'!CM19","v":"Inactive Ferment"}]
[null,null,{"$f":"MIN('Full Ferment Logs'!C23:C83) & \"  Be\"","v":"8.5  Be"},null,{"$f":"MIN('Full Ferment Logs'!Y23:Y83) & \"  Be\"","v":"7.5  Be"},null,{"$f":"MIN('Full Ferment Logs'!AU23:AU83) & \"  Be\"","v":"8.7  Be"},null,{"$f":"MIN('Full Ferment Logs'!BQ23:BQ83) & \"  Be\"","v":"10.3  Be"},null,{"$f":"MIN('Full Ferment Logs'!CM23:CM83) & \"  Be\"","v":"0  Be"}]
[null,null,{"$f":"'Full Ferment Logs'!C16& \"  days\"","v":"18  days"},null,{"$f":"'Full Ferment Logs'!Y16& \"  days\"","v":"18  days"},null,{"$f":"'Full Ferment Logs'!AU16& \"  days\"","v":"9.5  days"},null,null,null,{"$f":"'Full Ferment Logs'!CM16& \"  days\"","v":"  days"}]
[]
[null,null,"Fermenter 6",null,"Fermenter 7",null,"Fermenter 8",null,"Fermenter 9",null,"Fermenter 10"]
[null,null,{"$f":"'Full Ferment Logs'!DI4","v":"Enter Tank Name"},null,{"$f":"'Full Ferment Logs'!EE4","v":"Enter Tank Name"},null,{"$f":"'Full Ferment Logs'!FA4","v":"Enter Tank Name"},null,{"$f":"'Full Ferment Logs'!FW4","v":"Enter Tank Name"},null,{"$f":"'Full Ferment Logs'!GS4","v":"Enter Tank Name"}]
[null,null,{"$f":"'Full Ferment Logs'!DI19","v":"Inactive Ferment"},null,{"$f":"'Full Ferment Logs'!EE19","v":"Inactive Ferment"},null,{"$f":"'Full Ferment Logs'!FA19","v":"Inactive Ferment"},null,{"$f":"'Full Ferment Logs'!FW19","v":"Inactive Ferment"},null,{"$f":"'Full Ferment Logs'!GS19","v":"Inactive Ferment"}]
[null,null,{"$f":"MIN('Full Ferment Logs'!DI23:DI83) & \"  Be\"","v":"0  Be"},null,{"$f":"MIN('Full Ferment Logs'!EE23:EE83) & \"  Be\"","v":"0  Be"},null,{"$f":"MIN('Full Ferment Logs'!FA23:FA83) & \"  Be\"","v":"0  Be"},null,{"$f":"MIN('Full Ferment Logs'!FW23:FW83) & \"  Be\"","v":"0  Be"},null,{"$f":"MIN('Full Ferment Logs'!GS23:GS83) & \"  Be\"","v":"0  Be"}]
[null,null,{"$f":"'Full Ferment Logs'!DI16& \"  days\"","v":"  days"},null,{"$f":"'Full Ferment Logs'!EE16& \"  days\"","v":"  days"},null,{"$f":"'Full Ferment Logs'!FA16& \"  days\"","v":"  days"},null,{"$f":"'Full Ferment Logs'!FW16& \"  days\"","v":"  days"},null,{"$f":"'Full Ferment Logs'!GS16& \"  days\"","v":"  days"}]
[]
[null,null,"Fermenter 11",null,"Fermenter 12",null,"Fermenter 13",null,"Fermenter 14",null,"Fermenter 15"]
[null,null,{"$f":"'Full Ferment Logs'!HO4","v":"Enter Tank Name"},null,{"$f":"'Full Ferment Logs'!IK4","v":"Enter Tank Name"},null,{"$f":"'Full Ferment Logs'!JG4","v":"Enter Tank Name"},null,{"$f":"'Full Ferment Logs'!KC4","v":"Enter Tank Name"},null,{"$f":"'Full Ferment Logs'!KY4","v":"Enter Tank Name"}]
[null,null,{"$f":"'Full Ferment Logs'!HO19","v":"Inactive Ferment"},null,{"$f":"'Full Ferment Logs'!IK19","v":"Inactive Ferment"},null,{"$f":"'Full Ferment Logs'!JG19","v":"Inactive Ferment"},null,{"$f":"'Full Ferment Logs'!KC19","v":"Inactive Ferment"},null,{"$f":"'Full Ferment Logs'!KY19","v":"Inactive Ferment"}]
[null,null,{"$f":"MIN('Full Ferment Logs'!HO23:HO83) & \"  Be\"","v":"0  Be"},null,{"$f":"MIN('Full Ferment Logs'!IK23:IK83) & \"  Be\"","v":"0  Be"},null,{"$f":"MIN('Full Ferment Logs'!JG23:JG83) & \"  Be\"","v":"0  Be"},null,{"$f":"MIN('Full Ferment Logs'!KC23:KC83) & \"  Be\"","v":"0  Be"},null,{"$f":"MIN('Full Ferment Logs'!KY23:KY83) & \"  Be\"","v":"0  Be"}]
[null,null,{"$f":"'Full Ferment Logs'!HO16& \"  days\"","v":"  days"},null,{"$f":"'Full Ferment Logs'!IK16& \"  days\"","v":"  days"},null,{"$f":"'Full Ferment Logs'!JG16& \"  days\"","v":"  days"},null,{"$f":"'Full Ferment Logs'!KC16& \"  days\"","v":"  days"},null,{"$f":"'Full Ferment Logs'!KY16& \"  days\"","v":"  days"}]
[]
[null,null,"Fermenter 16",null,"Fermenter 17",null,"Fermenter 18",null,"Fermenter 19",null,"Fermenter 20"]
[null,null,{"$f":"'Full Ferment Logs'!LU4","v":"Enter Tank Name"},null,{"$f":"'Full Ferment Logs'!MQ4","v":"Enter Tank Name"},null,{"$f":"'Full Ferment Logs'!NM4","v":"Enter Tank Name"},null,{"$f":"'Full Ferment Logs'!OI4","v":"Enter Tank Name"},null,{"$f":"'Full Ferment Logs'!PE4","v":"Enter Tank Name"}]
[null,null,{"$f":"'Full Ferment Logs'!LU19","v":"Inactive Ferment"},null,{"$f":"'Full Ferment Logs'!MQ19","v":"Inactive Ferment"},null,{"$f":"'Full Ferment Logs'!NM19","v":"Inactive Ferment"},null,{"$f":"'Full Ferment Logs'!OI19","v":"Inactive Ferment"},null,{"$f":"'Full Ferment Logs'!PE19","v":"Inactive Ferment"}]
[null,null,{"$f":"MIN('Full Ferment Logs'!LU23:LU83) & \"  Be\"","v":"0  Be"},null,{"$f":"MIN('Full Ferment Logs'!MQ23:MQ83) & \"  Be\"","v":"0  Be"},null,{"$f":"MIN('Full Ferment Logs'!NM23:NM83) & \"  Be\"","v":"0  Be"},null,{"$f":"MIN('Full Ferment Logs'!OI23:OI83) & \"  Be\"","v":"0  Be"},null,{"$f":"MIN('Full Ferment Logs'!PE23:PE83) & \"  Be\"","v":"0  Be"}]
[null,null,{"$f":"'Full Ferment Logs'!LU16& \"  days\"","v":"  days"},null,{"$f":"'Full Ferment Logs'!MQ16& \"  days\"","v":"  days"},null,{"$f":"'Full Ferment Logs'!NM16& \"  days\"","v":"  days"},null,{"$f":"'Full Ferment Logs'!OI16& \"  days\"","v":"  days"},null,{"$f":"'Full Ferment Logs'!PE16& \"  days\"","v":"  days"}]
[]
[null,null,"Fermenter 21",null,"Fermenter 22",null,"Fermenter 23",null,"Fermenter 24",null,"Fermenter 25"]
[null,null,{"$f":"'Full Ferment Logs'!QA4","v":"Enter Tank Name"},null,{"$f":"'Full Ferment Logs'!QW4","v":"Enter Tank Name"},null,{"$f":"'Full Ferment Logs'!RS4","v":"Enter Tank Name"},null,{"$f":"'Full Ferment Logs'!SO4","v":"Enter Tank Name"},null,{"$f":"'Full Ferment Logs'!TK4","v":"Enter Tank Name"}]
[null,null,{"$f":"'Full Ferment Logs'!QA19","v":"Inactive Ferment"},null,{"$f":"'Full Ferment Logs'!QW19","v":"Inactive Ferment"},null,{"$f":"'Full Ferment Logs'!RS19","v":"Inactive Ferment"},null,{"$f":"'Full Ferment Logs'!SO19","v":"Inactive Ferment"},null,{"$f":"'Full Ferment Logs'!TK19","v":"Inactive Ferment"}]
[null,null,{"$f":"MIN('Full Ferment Logs'!QA23:QA83) & \"  Be\"","v":"0  Be"},null,{"$f":"MIN('Full Ferment Logs'!QW23:QW83) & \"  Be\"","v":"0  Be"},null,{"$f":"MIN('Full Ferment Logs'!RS23:RS83) & \"  Be\"","v":"0  Be"},null,{"$f":"MIN('Full Ferment Logs'!SO23:SO83) & \"  Be\"","v":"0  Be"},null,{"$f":"MIN('Full Ferment Logs'!TK23:TK83) & \"  Be\"","v":"0  Be"}]
[null,null,{"$f":"'Full Ferment Logs'!QA16& \"  days\"","v":"  days"},null,{"$f":"'Full Ferment Logs'!QW16& \"  days\"","v":"  days"},null,{"$f":"'Full Ferment Logs'!RS16& \"  days\"","v":"  days"},null,{"$f":"'Full Ferment Logs'!SO16& \"  days\"","v":"  days"},null,{"$f":"'Full Ferment Logs'!TK16& \"  days\"","v":"  days"}]
[]
[null,null,"Fermenter 26",null,"Fermenter 27",null,"Fermenter 28",null,"Fermenter 29",null,"Fermenter 30"]
[null,null,{"$f":"'Full Ferment Logs'!UG4","v":"Enter Tank Name"},null,{"$f":"'Full Ferment Logs'!VC4","v":"Enter Tank Name"},null,{"$f":"'Full Ferment Logs'!VY4","v":"Enter Tank Name"},null,{"$f":"'Full Ferment Logs'!WU4","v":"Enter Tank Name"},null,{"$f":"'Full Ferment Logs'!XQ4","v":"Enter Tank Name"}]
[null,null,{"$f":"'Full Ferment Logs'!UG19","v":"Inactive Ferment"},null,{"$f":"'Full Ferment Logs'!VC19","v":"Inactive Ferment"},null,{"$f":"'Full Ferment Logs'!VY19","v":"Inactive Ferment"},null,{"$f":"'Full Ferment Logs'!WU19","v":"Inactive Ferment"},null,{"$f":"'Full Ferment Logs'!XQ19","v":"Inactive Ferment"}]
[null,null,{"$f":"MIN('Full Ferment Logs'!UG23:UG83) & \"  Be\"","v":"0  Be"},null,{"$f":"MIN('Full Ferment Logs'!VC23:VC83) & \"  Be\"","v":"0  Be"},null,{"$f":"MIN('Full Ferment Logs'!VY23:VY83) & \"  Be\"","v":"0  Be"},null,{"$f":"MIN('Full Ferment Logs'!WU23:WU83) & \"  Be\"","v":"0  Be"},null,{"$f":"MIN('Full Ferment Logs'!XQ23:XQ83) & \"  Be\"","v":"0  Be"}]
[null,null,{"$f":"'Full Ferment Logs'!UG16& \"  days\"","v":"  days"},null,{"$f":"'Full Ferment Logs'!VC16& \"  days\"","v":"  days"},null,{"$f":"'Full Ferment Logs'!VY16& \"  days\"","v":"  days"},null,{"$f":"'Full Ferment Logs'!WU16& \"  days\"","v":"  days"},null,{"$f":"'Full Ferment Logs'!XQ16& \"  days\"","v":"  days"}]
[]
[null,null,"Fermenter 31",null,"Fermenter 32",null,"Fermenter 33",null,"Fermenter 34",null,"Fermenter 35"]
[null,null,{"$f":"'Full Ferment Logs'!YM4","v":"Enter Tank Name"},null,{"$f":"'Full Ferment Logs'!ZI4","v":"Enter Tank Name"},null,{"$f":"'Full Ferment Logs'!AAE4","v":"Enter Tank Name"},null,{"$f":"'Full Ferment Logs'!ABA4","v":"Enter Tank Name"},null,{"$f":"'Full Ferment Logs'!ABW4","v":"Enter Tank Name"}]
[null,null,{"$f":"'Full Ferment Logs'!YM19","v":"Inactive Ferment"},null,{"$f":"'Full Ferment Logs'!ZI19","v":"Inactive Ferment"},null,{"$f":"'Full Ferment Logs'!AAE19","v":"Inactive Ferment"},null,{"$f":"'Full Ferment Logs'!ABA19","v":"Inactive Ferment"},null,{"$f":"'Full Ferment Logs'!ABW19","v":"Inactive Ferment"}]
[null,null,{"$f":"MIN('Full Ferment Logs'!YM23:YM83) & \"  Be\"","v":"0  Be"},null,{"$f":"MIN('Full Ferment Logs'!ZI23:ZI83) & \"  Be\"","v":"0  Be"},null,{"$f":"MIN('Full Ferment Logs'!AAE23:AAE83) & \"  Be\"","v":"0  Be"},null,{"$f":"MIN('Full Ferment Logs'!ABA23:ABA83) & \"  Be\"","v":"0  Be"},null,{"$f":"MIN('Full Ferment Logs'!ABW23:ABW83) & \"  Be\"","v":"0  Be"}]
[null,null,{"$f":"'Full Ferment Logs'!YM16& \"  days\"","v":"  days"},null,{"$f":"'Full Ferment Logs'!ZI16& \"  days\"","v":"  days"},null,{"$f":"'Full Ferment Logs'!AAE16& \"  days\"","v":"  days"},null,{"$f":"'Full Ferment Logs'!ABA16& \"  days\"","v":"  days"},null,{"$f":"'Full Ferment Logs'!YU16& \"  days\"","v":"  days"}]
[]
[null,null,"Fermenter 36",null,"Fermenter 37",null,"Fermenter 38",null,"Fermenter 39",null,"Fermenter 40"]
[null,null,{"$f":"'Full Ferment Logs'!ACS4","v":"Enter Tank Name"},null,{"$f":"'Full Ferment Logs'!ADO4","v":"Enter Tank Name"},null,{"$f":"'Full Ferment Logs'!AEK4","v":"Enter Tank Name"},null,{"$f":"'Full Ferment Logs'!AFG4","v":"Enter Tank Name"},null,{"$f":"'Full Ferment Logs'!AGC4","v":"Enter Tank Name"}]
[null,null,{"$f":"'Full Ferment Logs'!ACS19","v":"Inactive Ferment"},null,{"$f":"'Full Ferment Logs'!ADO19","v":"Inactive Ferment"},null,{"$f":"'Full Ferment Logs'!AEK19","v":"Inactive Ferment"},null,{"$f":"'Full Ferment Logs'!AFG19","v":"Inactive Ferment"},null,{"$f":"'Full Ferment Logs'!AGC19","v":"Inactive Ferment"}]
[null,null,{"$f":"MIN('Full Ferment Logs'!ACS23:ACS83) & \"  Be\"","v":"0  Be"},null,{"$f":"MIN('Full Ferment Logs'!ADO23:ADO83) & \"  Be\"","v":"0  Be"},null,{"$f":"MIN('Full Ferment Logs'!AEK23:AEK83) & \"  Be\"","v":"0  Be"},null,{"$f":"MIN('Full Ferment Logs'!AFG23:AFG83) & \"  Be\"","v":"0  Be"},null,{"$f":"MIN('Full Ferment Logs'!AGC23:AGC83) & \"  Be\"","v":"0  Be"}]
[null,null,{"$f":"'Full Ferment Logs'!ACS16& \"  days\"","v":"  days"},null,{"$f":"'Full Ferment Logs'!ADO16& \"  days\"","v":"  days"},null,{"$f":"'Full Ferment Logs'!AEK16& \"  days\"","v":"  days"},null,{"$f":"'Full Ferment Logs'!AFG16& \"  days\"","v":"  days"},null,{"$f":"'Full Ferment Logs'!AGC16& \"  days\"","v":"  days"}]
[]
[null,null,"Fermenter 41",null,"Fermenter 42",null,"Fermenter 43",null,"Fermenter 44",null,"Fermenter 45"]
[null,null,{"$f":"'Full Ferment Logs'!AGY4","v":"Enter Tank Name"},null,{"$f":"'Full Ferment Logs'!AHU4","v":"Enter Tank Name"},null,{"$f":"'Full Ferment Logs'!AIQ4","v":"Enter Tank Name"},null,{"$f":"'Full Ferment Logs'!AJM4","v":"Enter Tank Name"},null,{"$f":"'Full Ferment Logs'!AKI4","v":"Enter Tank Name"}]
[null,null,{"$f":"'Full Ferment Logs'!AGY19","v":"Inactive Ferment"},null,{"$f":"'Full Ferment Logs'!AHU19","v":"Inactive Ferment"},null,{"$f":"'Full Ferment Logs'!AIQ19","v":"Inactive Ferment"},null,{"$f":"'Full Ferment Logs'!AJM19","v":"Inactive Ferment"},null,{"$f":"'Full Ferment Logs'!AKI19","v":"Inactive Ferment"}]
[null,null,{"$f":"MIN('Full Ferment Logs'!AGY23:AGY83) & \"  Be\"","v":"0  Be"},null,{"$f":"MIN('Full Ferment Logs'!AHU23:AHU83) & \"  Be\"","v":"0  Be"},null,{"$f":"MIN('Full Ferment Logs'!AIQ23:AIQ83) & \"  Be\"","v":"0  Be"},null,{"$f":"MIN('Full Ferment Logs'!AJM23:AJM83) & \"  Be\"","v":"0  Be"},null,{"$f":"MIN('Full Ferment Logs'!AKI23:AKI83) & \"  Be\"","v":"0  Be"}]
[null,null,{"$f":"'Full Ferment Logs'!AGY16& \"  days\"","v":"  days"},null,{"$f":"'Full Ferment Logs'!AHU16& \"  days\"","v":"  days"},null,{"$f":"'Full Ferment Logs'!AIQ16& \"  days\"","v":"  days"},null,{"$f":"'Full Ferment Logs'!AJM16& \"  days\"","v":"  days"},null,{"$f":"'Full Ferment Logs'!AKI16& \"  days\"","v":"  days"}]
[]
[null,null,"Fermenter 46",null,"Fermenter 47",null,"Fermenter 48",null,"Fermenter 49",null,"Fermenter 50"]
[null,null,{"$f":"'Full Ferment Logs'!ALE4","v":"Enter Tank Name"},null,{"$f":"'Full Ferment Logs'!AMA4","v":"Enter Tank Name"},null,{"$f":"'Full Ferment Logs'!AMW4","v":"Enter Tank Name"},null,{"$f":"'Full Ferment Logs'!ANS4","v":"Enter Tank Name"},null,{"$f":"'Full Ferment Logs'!AOO4","v":"Enter Tank Name"}]
[null,null,{"$f":"'Full Ferment Logs'!ALE19","v":"Inactive Ferment"},null,{"$f":"'Full Ferment Logs'!AMA19","v":"Inactive Ferment"},null,{"$f":"'Full Ferment Logs'!AMW19","v":"Inactive Ferment"},null,{"$f":"'Full Ferment Logs'!ANS19","v":"Inactive Ferment"},null,{"$f":"'Full Ferment Logs'!AOO19","v":"Inactive Ferment"}]
[null,null,{"$f":"MIN('Full Ferment Logs'!ALE23:ALE83) & \"  Be\"","v":"0  Be"},null,{"$f":"MIN('Full Ferment Logs'!AMA23:AMA83) & \"  Be\"","v":"0  Be"},null,{"$f":"MIN('Full Ferment Logs'!AMW23:AMW83) & \"  Be\"","v":"0  Be"},null,{"$f":"MIN('Full Ferment Logs'!ANS23:ANS83) & \"  Be\"","v":"0  Be"},null,{"$f":"MIN('Full Ferment Logs'!AOO23:AOO83) & \"  Be\"","v":"0  Be"}]
[null,null,{"$f":"'Full Ferment Logs'!ALE16& \"  days\"","v":"  days"},null,{"$f":"'Full Ferment Logs'!AMA16& \"  days\"","v":"  days"},null,{"$f":"'Full Ferment Logs'!AMW16& \"  days\"","v":"  days"},null,{"$f":"'Full Ferment Logs'!ANS16& \"  days\"","v":"  days"},null,{"$f":"'Full Ferment Logs'!AOO16& \"  days\"","v":"  days"}]
[]
[null,null,"Fermenter 51",null,"Fermenter 52",null,"Fermenter 53",null,"Fermenter 54",null,"Fermenter 55"]
[null,null,{"$f":"'Full Ferment Logs'!APK4","v":"Enter Tank Name"},null,{"$f":"'Full Ferment Logs'!AQG4","v":"Enter Tank Name"},null,{"$f":"'Full Ferment Logs'!ARC4","v":"Enter Tank Name"},null,{"$f":"'Full Ferment Logs'!ARY4","v":"Enter Tank Name"},null,{"$f":"'Full Ferment Logs'!ASU4","v":"Enter Tank Name"}]
[null,null,{"$f":"'Full Ferment Logs'!APK19","v":"Inactive Ferment"},null,{"$f":"'Full Ferment Logs'!AQG19","v":"Inactive Ferment"},null,{"$f":"'Full Ferment Logs'!ARC19","v":"Inactive Ferment"},null,{"$f":"'Full Ferment Logs'!ARY19","v":"Inactive Ferment"},null,{"$f":"'Full Ferment Logs'!ASU19","v":"Inactive Ferment"}]
[null,null,{"$f":"MIN('Full Ferment Logs'!APK23:APK83) & \"  Be\"","v":"0  Be"},null,{"$f":"MIN('Full Ferment Logs'!AQG23:AQG83) & \"  Be\"","v":"0  Be"},null,{"$f":"MIN('Full Ferment Logs'!ARC23:ARC83) & \"  Be\"","v":"0  Be"},null,{"$f":"MIN('Full Ferment Logs'!ARY23:ARY83) & \"  Be\"","v":"0  Be"},null,{"$f":"MIN('Full Ferment Logs'!ASU23:ASU83) & \"  Be\"","v":"0  Be"}]
[null,null,{"$f":"'Full Ferment Logs'!APK16& \"  days\"","v":"  days"},null,{"$f":"'Full Ferment Logs'!AQG16& \"  days\"","v":"  days"},null,{"$f":"'Full Ferment Logs'!ARC16& \"  days\"","v":"  days"},null,{"$f":"'Full Ferment Logs'!ARY16& \"  days\"","v":"  days"},null,{"$f":"'Full Ferment Logs'!ASU16& \"  days\"","v":"  days"}]
[]
[null,null,"Fermenter 56",null,"Fermenter 57",null,"Fermenter 58",null,"Fermenter 59",null,"Fermenter 60"]
[null,null,{"$f":"'Full Ferment Logs'!ATQ4","v":"Enter Tank Name"},null,{"$f":"'Full Ferment Logs'!AUM4","v":"Enter Tank Name"},null,{"$f":"'Full Ferment Logs'!AVI4","v":"Enter Tank Name"},null,{"$f":"'Full Ferment Logs'!AWE4","v":"Enter Tank Name"},null,{"$f":"'Full Ferment Logs'!AXA4","v":"Enter Tank Name"}]
[null,null,{"$f":"'Full Ferment Logs'!ATQ19","v":"Inactive Ferment"},null,{"$f":"'Full Ferment Logs'!AUM19","v":"Inactive Ferment"},null,{"$f":"'Full Ferment Logs'!AVI19","v":"Inactive Ferment"},null,{"$f":"'Full Ferment Logs'!AWE19","v":"Inactive Ferment"},null,{"$f":"'Full Ferment Logs'!AXA19","v":"Inactive Ferment"}]
[null,null,{"$f":"MIN('Full Ferment Logs'!ATQ23:ATQ83) & \"  Be\"","v":"0  Be"},null,{"$f":"MIN('Full Ferment Logs'!AUM23:AUM83) & \"  Be\"","v":"0  Be"},null,{"$f":"MIN('Full Ferment Logs'!AVI23:AVI83) & \"  Be\"","v":"0  Be"},null,{"$f":"MIN('Full Ferment Logs'!AWE23:AWE83) & \"  Be\"","v":"0  Be"},null,{"$f":"MIN('Full Ferment Logs'!AXA23:AXA83) & \"  Be\"","v":"0  Be"}]
[null,null,{"$f":"'Full Ferment Logs'!ATQ16& \"  days\"","v":"  days"},null,{"$f":"'Full Ferment Logs'!AUM16& \"  days\"","v":"  days"},null,{"$f":"'Full Ferment Logs'!AVI16& \"  days\"","v":"  days"},null,{"$f":"'Full Ferment Logs'!AWE16& \"  days\"","v":"  days"},null,{"$f":"'Full Ferment Logs'!AXA16& \"  days\"","v":"  days"}]
[]
[null,null,"Fermenter 61",null,"Fermenter 62",null,"Fermenter 63",null,"Fermenter 64",null,"Fermenter 65"]
[null,null,{"$f":"'Full Ferment Logs'!AXW4","v":"Enter Tank Name"},null,{"$f":"'Full Ferment Logs'!AYS4","v":"Enter Tank Name"},null,{"$f":"'Full Ferment Logs'!AZO4","v":"Enter Tank Name"},null,{"$f":"'Full Ferment Logs'!BAK4","v":"Enter Tank Name"},null,{"$f":"'Full Ferment Logs'!BBG4","v":"Enter Tank Name"}]
[null,null,{"$f":"'Full Ferment Logs'!AXW19","v":"Inactive Ferment"},null,{"$f":"'Full Ferment Logs'!AYS19","v":"Inactive Ferment"},null,{"$f":"'Full Ferment Logs'!AZO19","v":"Inactive Ferment"},null,{"$f":"'Full Ferment Logs'!BAK19","v":"Inactive Ferment"},null,{"$f":"'Full Ferment Logs'!BBG19","v":"Inactive Ferment"}]
[null,null,{"$f":"MIN('Full Ferment Logs'!AXW23:AXW83) & \"  Be\"","v":"0  Be"},null,{"$f":"MIN('Full Ferment Logs'!AYS23:AYS83) & \"  Be\"","v":"0  Be"},null,{"$f":"MIN('Full Ferment Logs'!AZO23:AZO83) & \"  Be\"","v":"0  Be"},null,{"$f":"MIN('Full Ferment Logs'!BAK23:BAK83) & \"  Be\"","v":"0  Be"},null,{"$f":"MIN('Full Ferment Logs'!BBG23:BBG83) & \"  Be\"","v":"0  Be"}]
[null,null,{"$f":"'Full Ferment Logs'!AXW16& \"  days\"","v":"  days"},null,{"$f":"'Full Ferment Logs'!AYS16& \"  days\"","v":"  days"},null,{"$f":"'Full Ferment Logs'!AZO16& \"  days\"","v":"  days"},null,{"$f":"'Full Ferment Logs'!BAK16& \"  days\"","v":"  days"},null,{"$f":"'Full Ferment Logs'!BBG16& \"  days\"","v":"  days"}]
[]
[null,null,"Fermenter 66",null,"Fermenter 67",null,"Fermenter 68",null,"Fermenter 69",null,"Fermenter 70"]
[null,null,{"$f":"'Full Ferment Logs'!BCC4","v":"Enter Tank Name"},null,{"$f":"'Full Ferment Logs'!BCY4","v":"Enter Tank Name"},null,{"$f":"'Full Ferment Logs'!BDU4","v":"Enter Tank Name"},null,{"$f":"'Full Ferment Logs'!BEQ4","v":"Enter Tank Name"},null,{"$f":"'Full Ferment Logs'!BFM4","v":"Enter Tank Name"}]
[null,null,{"$f":"'Full Ferment Logs'!BCC19","v":"Inactive Ferment"},null,{"$f":"'Full Ferment Logs'!BCY19","v":"Inactive Ferment"},null,{"$f":"'Full Ferment Logs'!BDU19","v":"Inactive Ferment"},null,{"$f":"'Full Ferment Logs'!BEQ19","v":"Inactive Ferment"},null,{"$f":"'Full Ferment Logs'!BFM19","v":"Inactive Ferment"}]
[null,null,{"$f":"MIN('Full Ferment Logs'!BCC23:BCC83) & \"  Be\"","v":"0  Be"},null,{"$f":"MIN('Full Ferment Logs'!BCY23:BCY83) & \"  Be\"","v":"0  Be"},null,{"$f":"MIN('Full Ferment Logs'!BDU23:BDU83) & \"  Be\"","v":"0  Be"},null,{"$f":"MIN('Full Ferment Logs'!BEQ23:BEQ83) & \"  Be\"","v":"0  Be"},null,{"$f":"MIN('Full Ferment Logs'!BFM23:BFM83) & \"  Be\"","v":"0  Be"}]
[null,null,{"$f":"'Full Ferment Logs'!BCC16& \"  days\"","v":"  days"},null,{"$f":"'Full Ferment Logs'!BCY16& \"  days\"","v":"  days"},null,{"$f":"'Full Ferment Logs'!BDU16& \"  days\"","v":"  days"},null,{"$f":"'Full Ferment Logs'!BEQ16& \"  days\"","v":"  days"},null,{"$f":"'Full Ferment Logs'!BFM16& \"  days\"","v":"  days"}]
[]
[null,null,"Fermenter 71",null,"Fermenter 72",null,"Fermenter 73",null,"Fermenter 74",null,"Fermenter 75"]
[null,null,{"$f":"'Full Ferment Logs'!BGI4","v":"Enter Tank Name"},null,{"$f":"'Full Ferment Logs'!BHE4","v":"Enter Tank Name"},null,{"$f":"'Full Ferment Logs'!BIA4","v":"Enter Tank Name"},null,{"$f":"'Full Ferment Logs'!BIW4","v":"Enter Tank Name"},null,{"$f":"'Full Ferment Logs'!BJS4","v":"Enter Tank Name"}]
[null,null,{"$f":"'Full Ferment Logs'!BGI19","v":"Inactive Ferment"},null,{"$f":"'Full Ferment Logs'!BHE19","v":"Inactive Ferment"},null,{"$f":"'Full Ferment Logs'!BIA19","v":"Inactive Ferment"},null,{"$f":"'Full Ferment Logs'!BIW19","v":"Inactive Ferment"},null,{"$f":"'Full Ferment Logs'!BJS19","v":"Inactive Ferment"}]
[null,null,{"$f":"MIN('Full Ferment Logs'!BGI23:BGI83) & \"  Be\"","v":"0  Be"},null,{"$f":"MIN('Full Ferment Logs'!BHE23:BHE83) & \"  Be\"","v":"0  Be"},null,{"$f":"MIN('Full Ferment Logs'!BIA23:BIA83) & \"  Be\"","v":"0  Be"},null,{"$f":"MIN('Full Ferment Logs'!BIW23:BIW83) & \"  Be\"","v":"0  Be"},null,{"$f":"MIN('Full Ferment Logs'!BJS23:BJS83) & \"  Be\"","v":"0  Be"}]
[null,null,{"$f":"'Full Ferment Logs'!BGI16& \"  days\"","v":"  days"},null,{"$f":"'Full Ferment Logs'!BHE16& \"  days\"","v":"  days"},null,{"$f":"'Full Ferment Logs'!BIA16& \"  days\"","v":"  days"},null,{"$f":"'Full Ferment Logs'!BIW16& \"  days\"","v":"  days"},null,{"$f":"'Full Ferment Logs'!BJS16& \"  days\"","v":"  days"}]
[]
[null,null,"Fermenter 76",null,"Fermenter 77",null,"Fermenter 78",null,"Fermenter 79",null,"Fermenter 80"]
[null,null,{"$f":"'Full Ferment Logs'!BKO4","v":"Enter Tank Name"},null,{"$f":"'Full Ferment Logs'!BLK4","v":"Enter Tank Name"},null,{"$f":"'Full Ferment Logs'!BMG4","v":"Enter Tank Name"},null,{"$f":"'Full Ferment Logs'!BNC4","v":"Enter Tank Name"},null,{"$f":"'Full Ferment Logs'!BNY4","v":"Enter Tank Name"}]
[null,null,{"$f":"'Full Ferment Logs'!BKO19","v":"Inactive Ferment"},null,{"$f":"'Full Ferment Logs'!BLK19","v":"Inactive Ferment"},null,{"$f":"'Full Ferment Logs'!BMG19","v":"Inactive Ferment"},null,{"$f":"'Full Ferment Logs'!BNC19","v":"Inactive Ferment"},null,{"$f":"'Full Ferment Logs'!BNY19","v":"Inactive Ferment"}]
[null,null,{"$f":"MIN('Full Ferment Logs'!BKO23:BKO83) & \"  Be\"","v":"0  Be"},null,{"$f":"MIN('Full Ferment Logs'!BLK23:BLK83) & \"  Be\"","v":"0  Be"},null,{"$f":"MIN('Full Ferment Logs'!BMG23:BMG83) & \"  Be\"","v":"0  Be"},null,{"$f":"MIN('Full Ferment Logs'!BNC23:BNC83) & \"  Be\"","v":"0  Be"},null,{"$f":"MIN('Full Ferment Logs'!BNY23:BNY83) & \"  Be\"","v":"0  Be"}]
[null,null,{"$f":"'Full Ferment Logs'!BKO16& \"  days\"","v":"  days"},null,{"$f":"'Full Ferment Logs'!BLK16& \"  days\"","v":"  days"},null,{"$f":"'Full Ferment Logs'!BMG16& \"  days\"","v":"  days"},null,{"$f":"'Full Ferment Logs'!BNC16& \"  days\"","v":"  days"},null,{"$f":"'Full Ferment Logs'!BNY16& \"  days\"","v":"  days"}]
[]
[null,null,"Fermenter 81",null,"Fermenter 82",null,"Fermenter 83",null,"Fermenter 84",null,"Fermenter 85"]
[null,null,{"$f":"'Full Ferment Logs'!BOU4","v":"Enter Tank Name"},null,{"$f":"'Full Ferment Logs'!BPQ4","v":"Enter Tank Name"},null,{"$f":"'Full Ferment Logs'!BQM4","v":"Enter Tank Name"},null,{"$f":"'Full Ferment Logs'!BRI4","v":"Enter Tank Name"},null,{"$f":"'Full Ferment Logs'!BSE4","v":"Enter Tank Name"}]
[null,null,{"$f":"'Full Ferment Logs'!BOU19","v":"Inactive Ferment"},null,{"$f":"'Full Ferment Logs'!BPQ19","v":"Inactive Ferment"},null,{"$f":"'Full Ferment Logs'!BQM19","v":"Inactive Ferment"},null,{"$f":"'Full Ferment Logs'!BRI19","v":"Inactive Ferment"},null,{"$f":"'Full Ferment Logs'!BSE19","v":"Inactive Ferment"}]
[null,null,{"$f":"MIN('Full Ferment Logs'!BOU23:BOU83) & \"  Be\"","v":"0  Be"},null,{"$f":"MIN('Full Ferment Logs'!BPQ23:BPQ83) & \"  Be\"","v":"0  Be"},null,{"$f":"MIN('Full Ferment Logs'!BQM23:BQM83) & \"  Be\"","v":"0  Be"},null,{"$f":"MIN('Full Ferment Logs'!BRI23:BRI83) & \"  Be\"","v":"0  Be"},null,{"$f":"MIN('Full Ferment Logs'!BSE23:BSE83) & \"  Be\"","v":"0  Be"}]
[null,null,{"$f":"'Full Ferment Logs'!BOU16& \"  days\"","v":"  days"},null,{"$f":"'Full Ferment Logs'!BPQ16& \"  days\"","v":"  days"},null,{"$f":"'Full Ferment Logs'!BQM16& \"  days\"","v":"  days"},null,{"$f":"'Full Ferment Logs'!BRI16& \"  days\"","v":"  days"},null,{"$f":"'Full Ferment Logs'!BSE16& \"  days\"","v":"  days"}]
[]
[null,null,"Fermenter 86",null,"Fermenter 87",null,"Fermenter 88",null,"Fermenter 89",null,"Fermenter 90"]
[null,null,{"$f":"'Full Ferment Logs'!BTA4","v":"Enter Tank Name"},null,{"$f":"'Full Ferment Logs'!BTW4","v":"Enter Tank Name"},null,{"$f":"'Full Ferment Logs'!BUS4","v":"Enter Tank Name"},null,{"$f":"'Full Ferment Logs'!BVO4","v":"Enter Tank Name"},null,{"$f":"'Full Ferment Logs'!BWK4","v":"Enter Tank Name"}]
[null,null,{"$f":"'Full Ferment Logs'!BTA19","v":"Inactive Ferment"},null,{"$f":"'Full Ferment Logs'!BTW19","v":"Inactive Ferment"},null,{"$f":"'Full Ferment Logs'!BUS19","v":"Inactive Ferment"},null,{"$f":"'Full Ferment Logs'!BVO19","v":"Inactive Ferment"},null,{"$f":"'Full Ferment Logs'!BWK19","v":"Inactive Ferment"}]
[null,null,{"$f":"MIN('Full Ferment Logs'!BTA23:BTA83) & \"  Be\"","v":"0  Be"},null,{"$f":"MIN('Full Ferment Logs'!BTW23:BTW83) & \"  Be\"","v":"0  Be"},null,{"$f":"MIN('Full Ferment Logs'!BUS23:BUS83) & \"  Be\"","v":"0  Be"},null,{"$f":"MIN('Full Ferment Logs'!BVO23:BVO83) & \"  Be\"","v":"0  Be"},null,{"$f":"MIN('Full Ferment Logs'!BWK23:BWK83) & \"  Be\"","v":"0  Be"}]
[null,null,{"$f":"'Full Ferment Logs'!BTA16& \"  days\"","v":"  days"},null,{"$f":"'Full Ferment Logs'!BTW16& \"  days\"","v":"  days"},null,{"$f":"'Full Ferment Logs'!BTE16& \"  days\"","v":"  days"},null,{"$f":"'Full Ferment Logs'!BVO16& \"  days\"","v":"  days"},null,{"$f":"'Full Ferment Logs'!BWK16& \"  days\"","v":"  days"}]
[]
[null,null,"Fermenter 91",null,"Fermenter 92",null,"Fermenter 93",null,"Fermenter 94",null,"Fermenter 95"]
[null,null,{"$f":"'Full Ferment Logs'!BXG4","v":"Enter Tank Name"},null,{"$f":"'Full Ferment Logs'!BYC4","v":"Enter Tank Name"},null,{"$f":"'Full Ferment Logs'!BYY4","v":"Enter Tank Name"},null,{"$f":"'Full Ferment Logs'!BZU4","v":"Enter Tank Name"},null,{"$f":"'Full Ferment Logs'!BZU4","v":"Enter Tank Name"}]
[null,null,{"$f":"'Full Ferment Logs'!BXG19","v":"Inactive Ferment"},null,{"$f":"'Full Ferment Logs'!BYC19","v":"Inactive Ferment"},null,{"$f":"'Full Ferment Logs'!BYY19","v":"Inactive Ferment"},null,{"$f":"'Full Ferment Logs'!BZU19","v":"Inactive Ferment"},null,{"$f":"'Full Ferment Logs'!BZU19","v":"Inactive Ferment"}]
[null,null,{"$f":"MIN('Full Ferment Logs'!BXG23:BXG83) & \"  Be\"","v":"0  Be"},null,{"$f":"MIN('Full Ferment Logs'!BYC23:BYC83) & \"  Be\"","v":"0  Be"},null,{"$f":"MIN('Full Ferment Logs'!BYY23:BYY83) & \"  Be\"","v":"0  Be"},null,{"$f":"MIN('Full Ferment Logs'!BZU23:BZU83) & \"  Be\"","v":"0  Be"},null,{"$f":"MIN('Full Ferment Logs'!BZU23:BZU83) & \"  Be\"","v":"0  Be"}]
[null,null,{"$f":"'Full Ferment Logs'!BXG16& \"  days\"","v":"  days"},null,{"$f":"'Full Ferment Logs'!BYC16& \"  days\"","v":"  days"},null,{"$f":"'Full Ferment Logs'!BYY16& \"  days\"","v":"  days"},null,{"$f":"'Full Ferment Logs'!BZU16& \"  days\"","v":"  days"},null,{"$f":"'Full Ferment Logs'!BZU16& \"  days\"","v":"  days"}]
[]
[null,null,"Fermenter 96",null,"Fermenter 97",null,"Fermenter 98",null,"Fermenter 99",null,"Fermenter 100"]
[null,null,{"$f":"'Full Ferment Logs'!CBM4","v":"Enter Tank Name"},null,{"$f":"'Full Ferment Logs'!CCI4","v":"Enter Tank Name"},null,{"$f":"'Full Ferment Logs'!CDE4","v":"Enter Tank Name"},null,{"$f":"'Full Ferment Logs'!CEA4","v":"Enter Tank Name"},null,{"$f":"'Full Ferment Logs'!CEW4","v":"Enter Tank Name"}]
[null,null,{"$f":"'Full Ferment Logs'!CBM19","v":"Inactive Ferment"},null,{"$f":"'Full Ferment Logs'!CCI19","v":"Inactive Ferment"},null,{"$f":"'Full Ferment Logs'!CDE19","v":"Inactive Ferment"},null,{"$f":"'Full Ferment Logs'!CEA19","v":"Inactive Ferment"},null,{"$f":"'Full Ferment Logs'!CEW19","v":"Inactive Ferment"}]
[null,null,{"$f":"MIN('Full Ferment Logs'!CBM23:CBM83) & \"  Be\"","v":"0  Be"},null,{"$f":"MIN('Full Ferment Logs'!CCI23:CCI83) & \"  Be\"","v":"0  Be"},null,{"$f":"MIN('Full Ferment Logs'!CDE23:CDE83) & \"  Be\"","v":"0  Be"},null,{"$f":"MIN('Full Ferment Logs'!CEA23:CEA83) & \"  Be\"","v":"0  Be"},null,{"$f":"MIN('Full Ferment Logs'!CEW23:CEW83) & \"  Be\"","v":"0  Be"}]
[null,null,{"$f":"'Full Ferment Logs'!CBM16& \"  days\"","v":"  days"},null,{"$f":"'Full Ferment Logs'!CCI16& \"  days\"","v":"  days"},null,{"$f":"'Full Ferment Logs'!CDE16& \"  days\"","v":"  days"},null,{"$f":"'Full Ferment Logs'!CEA16& \"  days\"","v":"  days"},null,{"$f":"'Full Ferment Logs'!CEW16& \"  days\"","v":"  days"}]

{"sheet":"Basic Ferment Entry","index":1,"n_rows":69,"n_cols":41,"rows_kept":69,"cut":false,"hidden":false,"merged":[]}
[]
[null,null,null,null,null,null,null,"Display ferment # :",null,null,null,"Tank Name",null,"Example 1",null,null,null,null,null,null,null,null,null,null,null,null,null,null,null,null,"Display ferment Calculations",null,null,null,3.3867848583278524]
[null,null,null,null,null,null,null,"Ferment:",null,1,null,"Start Date",null,"2013-01-04",null,null,null,null,null,null,null,null,null,null,null,null,null,null,null,null,"Day","Baume – actual","Temp C","Baume - Model",null,"Low range","High range","Adjusted Low range","Adjusted high range","Range parameters"]
[null,null,null,null,null,null,null,"Prediction score",null,3.3867848583278524,null,"Start Time",null,"12:00:00",null,null,null,null,null,null,null,null,null,null,null,null,null,null,null,null,0,10.3,15,10.200000000000001,1.6315280042653024,{"$f":"IF(AF4=\"\",IF(AE4<$AN$66,AH4-TINV($AN$68,$AN$67-2)*(0.0536816635160681*$AI$2+0.0181)*SQRT(1+1/$AN$67),AH4-TINV($AN$68,$AN$67-2)*(0.0536816635160681*$AI$2+0.0181)*SQRT(1+1/$AN$67+(AE4-$AN$66)^2/$AO$66)),\"\")","v":""},{"$f":"IF(AF4=\"\",IF(AE4<$AN$66,AH4+TINV($AN$68,$AN$67-2)*(0.0536816635160681*$AI$2+0.0181)*SQRT(1+1/$AN$67),AH4+TINV($AN$68,$AN$67-2)*(0.0536816635160681*$AI$2+0.0181)*SQRT(1+1/$AN$67+(AE4-$AN$66)^2/$AO$66)),\"\")","v":""},{"$f":"IF(AJ4=\"\",AH4,IF(AJ4<-3,-3,AJ4))","v":10.200000000000001},{"$f":"IF(AK4=\"\",AH4,AK4)","v":10.200000000000001},{"$f":"IF(AF4=\"\",\"\",AE4)","v":0},{"$f":"IF(AN4=\"\",\"\",(AN4-$AN$66)^2)","v":1.7777777777777777}]
[null,null,null,null,null,null,null,null,null,null,null,"Volume",null,40,"kL",null,null,null,null,null,null,null,null,null,null,null,null,null,null,null,0.5,10.199999999999999,15,10.08605722677674,1.6115149219376446,{"$f":"IF(AF5=\"\",IF(AE5<$AN$66,AH5-TINV($AN$68,$AN$67-2)*(0.0536816635160681*$AI$2+0.0181)*SQRT(1+1/$AN$67),AH5-TINV($AN$68,$AN$67-2)*(0.0536816635160681*$AI$2+0.0181)*SQRT(1+1/$AN$67+(AE5-$AN$66)^2/$AO$66)),\"\")","v":""},"",{"$f":"IF(AJ5=\"\",AH5,IF(AJ5<-3,-3,AJ5))","v":10.08605722677674},{"$f":"IF(AK5=\"\",AH5,IF(AK5>AM4,AM4,AK5))","v":10.08605722677674},{"$f":"IF(AF5=\"\",\"\",AE5)","v":0.5},0.69444444444444431]
[null,null,null,null,null,null,null,null,null,null,null,"Initial N",null,0.25,"g/L",null,null,null,null,null,null,null,null,null,null,null,null,null,null,null,1,10.1,16,10.005422321600561,2.4790867083073542,"","",10.005422321600561,{"$f":"IF(AK6=\"\",AH6,IF(AK6>AM5,AM5,AK6))","v":10.005422321600561},1,0.11111111111111106]
[null,null,null,null,null,null,null,null,null,null,null,null,null,null,null,null,null,null,null,null,null,null,null,null,null,null,null,null,null,null,1.5,9.8000000000000007,17,9.8688580165734727,2.3740907418072834,"","",9.8688580165734727,9.8688580165734727,1.5,2.7777777777777804E-2]
[null,null,null,null,null,null,null,null,null,null,null,"Date","Day","Baume","Temp C",null,null,null,null,null,null,null,null,null,null,null,null,null,null,null,2,9.6999999999999993,13,9.5899694247045524,5.0519749218911425,"","",9.5899694247045524,9.5899694247045524,2,0.44444444444444453]
[null,null,null,null,null,null,null,null,null,null,null,{"$f":"IF(N$4<0.5,N$3+M9,N$3+M9+0.5)","v":"2013-01-04T12:00:00"},0,10.3,15,null,null,null,null,null,null,null,null,null,null,null,null,null,null,null,2.5,null,13.5,9.1184164545616273,6.3584267954955669,9.0376693075579642,9.1991636015652904,9.0376693075579642,9.1991636015652904,"",""]
[null,null,null,null,null,null,null,null,null,null,null,"2013-01-05",0.5,10.199999999999999,15,null,null,null,null,null,null,null,null,null,null,null,null,null,null,null,3,8.5,13.5,8.5283779887947251,8.2196443203916871,"","",8.5283779887947251,8.5283779887947251,3,2.7777777777777781]
[null,null,null,null,null,null,null,null,null,null,null,"2013-01-05T12:00:00",1,10.1,16,null,null,null,null,null,null,null,null,null,null,null,null,null,null,null,3.5,null,null,7.8132961660067686,8.2705799583712434,7.7174767119834566,7.9091156200300805,7.7174767119834566,7.9091156200300805,"",""]
[null,null,null,null,null,null,null,null,null,null,null,"2013-01-06",1.5,9.8000000000000007,17,null,null,null,null,null,null,null,null,null,null,null,null,null,null,null,4,null,null,7.0964611048244155,8.7308472768080243,6.9910533933707741,7.2018688162780569,6.9910533933707741,7.2018688162780569,"",""]
[null,null,null,null,null,null,null,null,null,null,null,"2013-01-06T12:00:00",2,9.6999999999999993,13,null,null,null,null,null,null,null,null,null,null,null,null,null,null,null,4.5,null,null,6.4074758592270964,7.7877036914473017,6.2915474614917848,6.523404256962408,6.2915474614917848,6.523404256962408,"",""]
[null,null,null,null,null,null,null,null,null,null,null,"2013-01-07",2.5,null,13.5,null,null,null,null,null,null,null,null,null,null,null,null,null,null,null,5,null,null,5.7499034825333331,8.1290920499702821,5.6227532128833104,5.8770537521833557,5.6227532128833104,5.8770537521833557,"",""]
[null,null,null,null,null,null,null,null,null,null,null,"2013-01-07T12:00:00",3,8.5,13.5,null,null,null,null,null,null,null,null,null,null,null,null,null,null,null,5.5,null,null,5.1255017036480117,7.1492234598714886,4.9865982168462608,5.2644051904497626,4.9865982168462608,5.2644051904497626,"",""]
[null,null,null,null,null,null,null,null,null,null,null,"2013-01-08",3.5,null,null,null,null,null,null,null,null,null,null,null,null,null,null,null,null,null,6,null,null,4.5358208342231476,7.4601885850442624,4.3847567546995583,4.686884913746737,4.3847567546995583,4.686884913746737,"",""]
[null,null,null,null,null,null,null,null,null,null,null,"2013-01-08T12:00:00",4,null,null,null,null,null,null,null,null,null,null,null,null,null,null,null,null,null,6.5,null,null,3.9822137509983757,6.4536736389206011,3.8186725528189918,4.1457549491777597,3.8186725528189918,4.1457549491777597,"",""]
[null,null,null,null,null,null,null,null,null,null,null,"2013-01-09",4.5,null,null,null,null,null,null,null,null,null,null,null,null,null,null,null,null,null,7,null,null,3.4657699099748074,6.7429355325603852,{"$f":"IF(AF18=\"\",IF(AE18<$AN$66,AH18-TINV($AN$68,$AN$67-2)*(0.0536816635160681*$AI$2+0.0181)*SQRT(1+1/$AN$67),AH18-TINV($AN$68,$AN$67-2)*(0.0536816635160681*$AI$2+0.0181)*SQRT(1+1/$AN$67+(AE18-$AN$66)^2/$AO$66)),\"\")","v":3.2895022703338288},3.642037549615786,3.2895022703338288,3.642037549615786,"",""]
[null,null,null,null,null,null,null,null,null,null,null,"2013-01-09T12:00:00",5,null,null,null,null,null,null,null,null,null,null,null,null,null,null,null,null,null,7.5,null,null,2.987243107458823,5.721043602839476,2.7980500104117336,3.1764362045059125,2.7980500104117336,3.1764362045059125,"",""]
[null,null,null,null,null,null,null,null,null,null,null,"2013-01-10",5.5,null,null,null,null,null,null,null,null,null,null,null,null,null,null,null,null,null,8,null,null,2.5469818670759086,6.0026044865702035,2.3447024438540911,2.749261290297726,2.3447024438540911,2.749261290297726,"",""]
[null,null,null,null,null,null,null,null,null,null,null,"2013-01-10T12:00:00",6,null,null,null,null,null,null,null,null,null,null,null,null,null,null,null,null,null,8.5,null,null,2.1448710306761449,4.9818403896498697,1.929373717350324,2.3603683440019658,1.929373717350324,2.3603683440019658,"",""]
[null,null,null,null,null,null,null,null,null,null,null,"2013-01-11",6.5,null,null,null,null,null,null,null,null,null,null,null,null,null,null,null,null,null,9,null,null,1.780294016925388,5.2741341317002224,1.5514700475835443,2.0091179862672317,1.5514700475835443,2.0091179862672317,"",""]
[null,null,null,null,null,null,null,null,null,null,null,"2013-01-11T12:00:00",7,null,null,null,null,null,null,null,null,null,null,null,null,null,null,null,null,null,9.5,null,null,1.452124315367832,4.2739407466211867,1.2098828743568417,1.6943657563788224,1.2098828743568417,1.6943657563788224,"",""]
[null,null,null,null,null,null,null,null,null,null,null,"2013-01-12",7.5,null,null,null,null,null,null,null,null,null,null,null,null,null,null,null,null,null,10,null,null,1.1587516180847521,4.596221363830777,0.90301618361424429,1.41448705255526,0.90301618361424429,1.41448705255526,"",""]
[null,null,null,null,null,null,null,null,null,null,null,"2013-01-12T12:00:00",8,null,null,null,null,null,null,null,null,null,null,null,null,null,null,null,null,null,10.5,null,null,0.89814287981745611,3.6343370693628962,0.62884843307268579,1.1674373265622264,0.62884843307268579,1.1674373265622264,"",""]
[null,null,null,null,null,null,null,null,null,null,null,"2013-01-13",8.5,null,null,null,null,null,null,null,null,null,null,null,null,null,null,null,null,null,11,null,null,0.66793271075926042,4.0015760654398358,0.38502358125945346,0.95084184025906737,0.38502358125945346,0.95084184025906737,"",""]
[null,null,null,null,null,null,null,null,null,null,null,"2013-01-13T12:00:00",9,null,null,null,null,null,null,null,null,null,null,null,null,null,null,null,null,null,11.5,null,null,0.46553251860023903,3.089238719209801,0.16896070273750513,0.76210433446297299,0.16896070273750513,0.76210433446297299,"",""]
[null,null,null,null,null,null,null,null,null,null,null,"2013-01-14",9.5,null,null,null,null,null,null,null,null,null,null,null,null,null,null,null,null,null,12,null,null,0.28824521460581998,3.5084118769292978,-2.2030949926543475E-2,0.59852137913818337,-2.2030949926543475E-2,0.59852137913818337,"",""]
[null,null,null,null,null,null,null,null,null,null,null,"2013-01-14T12:00:00",10,null,null,null,null,null,null,null,null,null,null,null,null,null,null,null,null,null,12.5,null,null,0.13337271604184112,2.6483008083369759,-0.1906441731672299,0.4573896052509121,-0.1906441731672299,0.4573896052509121,"",""]
[null,null,null,null,null,null,null,null,null,null,null,"2013-01-15",10.5,null,null,null,null,null,null,null,null,null,null,null,null,null,null,null,null,null,13,null,null,-1.6935377434739024E-3,3.1181997321579407,-0.33948308851665376,0.33609601302970593,-0.33948308851665376,0.33609601302970593,"",""]
[null,null,null,null,null,null,null,null,null,null,null,"2013-01-15T12:00:00",11,null,null,null,null,null,null,null,null,null,null,null,null,null,null,null,null,null,13.5,null,null,-0.11940450529492765,2.305940168854641,-0.47099490140008876,0.2321858908102335,-0.47099490140008876,0.2321858908102335,"",""]
[null,null,null,null,null,null,null,null,null,null,null,"2013-01-16",11.5,null,null,null,null,null,null,null,null,null,null,null,null,null,null,null,null,null,14,null,null,-0.22200903648071627,2.8198947934759926,-0.58742526841114884,0.14340719544971628,-0.58742526841114884,0.14340719544971628,"",""]
[null,null,null,null,null,null,null,null,null,null,null,"2013-01-16T12:00:00",12,null,null,null,null,null,null,null,null,null,null,null,null,null,null,null,null,null,14.5,null,null,-0.31153077020713638,2.047392715829834,-0.69079509542913953,6.7733555014866775E-2,-0.69079509542913953,6.7733555014866775E-2,"",""]
[null,null,null,null,null,null,null,null,null,null,null,"2013-01-17",12.5,null,null,null,null,null,null,null,null,null,null,null,null,null,null,null,null,null,15,null,null,-0.38976235639626644,2.5966496708402329,-0.78289468032420451,3.3699675316716804E-3,-0.78289468032420451,3.3699675316716804E-3,"",""]
[null,null,null,null,null,null,null,null,null,null,null,"2013-01-17T12:00:00",13,null,null,null,null,null,null,null,null,null,null,null,null,null,null,null,null,null,15.5,null,null,-0.45827229588203555,1.8550940964131557,-0.86529048927254637,-5.1254102491524678E-2,-0.86529048927254637,-5.1254102491524678E-2,"",""]
[null,null,null,null,null,null,null,null,null,null,null,"2013-01-18",13.5,null,null,null,null,null,null,null,null,null,null,null,null,null,null,null,null,null,16,null,null,-0.51841997405047691,2.4312111197467265,{"$f":"IF(AF36=\"\",IF(AE36<$AN$66,AH36-TINV($AN$68,$AN$67-2)*(0.0536816635160681*$AI$2+0.0181)*SQRT(1+1/$AN$67),AH36-TINV($AN$68,$AN$67-2)*(0.0536816635160681*$AI$2+0.0181)*SQRT(1+1/$AN$67+(AE36-$AN$66)^2/$AO$66)),\"\")","v":-0.93934013903165658},{"$f":"IF(AF36=\"\",IF(AE36<$AN$66,AH36+TINV($AN$68,$AN$67-2)*(0.0536816635160681*$AI$2+0.0181)*SQRT(1+1/$AN$67),AH36+TINV($AN$68,$AN$67-2)*(0.0536816635160681*$AI$2+0.0181)*SQRT(1+1/$AN$67+(AE36-$AN$66)^2/$AO$66)),\"\")","v":-9.7499809069297227E-2},-0.93934013903165658,-9.7499809069297227E-2,"",{"$f":"IF(AN36=\"\",\"\",(AN36-$AN$66)^2)","v":""}]
[null,null,null,null,null,null,null,null,null,null,null,"2013-01-18T12:00:00",14,null,null,null,null,null,null,null,null,null,null,null,null,null,null,null,null,null,16.5,null,null,-0.57137523434672699,1.8106876685271838,-1.0062119286673719,-0.13653854002608218,-1.0062119286673719,-0.13653854002608218,"",""]
[null,null,null,null,null,null,null,null,null,null,null,"2013-01-19",14.5,null,null,null,null,null,null,null,null,null,null,null,null,null,null,null,null,null,17,null,null,-0.61813976122975112,1.9824372304348119,-1.0669061883058442,-0.16937333415365796,-1.0669061883058442,-0.16937333415365796,"",""]
[null,null,null,null,null,null,null,null,null,null,null,"2013-01-19T12:00:00",15,null,null,null,null,null,null,null,null,null,null,null,null,null,null,null,null,null,17.5,null,null,-0.65956840909509706,1.7704125657249021,-1.122276579885924,-0.19686023830427007,-1.122276579885924,-0.19686023830427007,"",""]
[null,null,null,null,null,null,null,null,null,null,null,"2013-01-20",15.5,null,null,null,null,null,null,null,null,null,null,null,null,null,null,null,null,null,18,null,null,-0.69638932457891278,2.1088649507870447,-1.1730501961276041,-0.21972845303022154,-1.1730501961276041,-0.21972845303022154,"",""]
[null,null,null,null,null,null,null,null,null,null,null,{"$f":"IF(N$4<0.5,N$3+M41,N$3+M41+0.5)","v":"2013-01-20T12:00:00"},16,null,null,null,null,null,null,null,null,null,null,null,null,null,null,null,null,null,18.5,null,null,-0.72922223987109813,1.8547365257305981,-1.21984583440925,-0.23859864533294617,-1.21984583440925,-0.23859864533294617,"",""]
[null,null,null,null,null,null,null,null,null,null,null,"2013-01-21",16.5,null,null,null,null,null,null,null,null,null,null,null,null,null,null,null,null,null,19,null,null,-0.75859468045984002,2.0404893909781783,-1.2631901882406069,-0.25399917267907302,-1.2631901882406069,-0.25399917267907302,"",""]
[null,null,null,null,null,null,null,null,null,null,null,"2013-01-21T12:00:00",17,null,null,null,null,null,null,null,null,null,null,null,null,null,null,null,null,null,19.5,null,null,-0.78495606482943336,2.219462715485172,-1.3035319332715904,-0.26638019638727628,-1.3035319332715904,-0.26638019638727628,"",""]
[null,null,null,null,null,null,null,null,null,null,null,"2013-01-22",17.5,null,null,null,null,null,null,null,null,null,null,null,null,null,null,null,null,null,20,null,null,-0.80868981091692915,1.336002295828139,-1.3412538221790111,-0.27612579965484729,-1.3412538221790111,-0.27612579965484729,"",""]
[null,null,null,null,null,null,null,null,null,null,null,"2013-01-22T12:00:00",18,null,null,null,null,null,null,null,null,null,null,null,null,null,null,null,null,null,20.5,null,null,-0.83012363486782315,1.913032340943182,-1.3766829736002197,-0.28356429613542666,-1.3766829736002197,-0.28356429613542666,"",""]
[null,null,null,null,null,null,null,null,null,null,null,"2013-01-23",18.5,null,null,null,null,null,null,null,null,null,null,null,null,null,null,null,null,null,21,null,null,-0.84953825531968619,1.078636791197225,-1.4100995680434991,-0.28897694259587337,-1.4100995680434991,-0.28897694259587337,"",""]
[null,null,null,null,null,null,null,null,null,null,null,"2013-01-23T12:00:00",19,null,null,null,null,null,null,null,null,null,null,null,null,null,null,null,null,null,21.5,null,null,-0.86717471803090262,1.2253630056259548,-1.4417441653501177,-0.29260527071168752,-1.4417441653501177,-0.29260527071168752,"",""]
[null,null,null,null,null,null,null,null,null,null,null,"2013-01-24",19.5,null,null,null,null,null,null,null,null,null,null,null,null,null,null,null,null,null,22,null,null,-0.88324054269920471,1.5915265422853888,-1.471823845355495,-0.29465724004291438,-1.471823845355495,-0.29465724004291438,"",""]
[null,null,null,null,null,null,null,null,null,null,null,"2013-01-24T12:00:00",20,null,null,null,null,null,null,null,null,null,null,null,null,null,null,null,null,null,22.5,null,null,-0.89791487375625734,2.0463470913627342,-1.5005173533743541,-0.29531239413816068,-1.5005173533743541,-0.29531239413816068,"",""]
[null,null,null,null,null,null,null,null,null,null,null,"2013-01-25",20.5,null,null,null,null,null,null,null,null,null,null,null,null,null,null,null,null,null,23,null,null,-0.91135279438284755,1.5671814278374676,-1.5279794096217496,-0.29472617914394539,-1.5279794096217496,-0.29531239413816068,"",""]
[null,null,null,null,null,null,null,null,null,null,null,"2013-01-25T12:00:00",21,null,null,null,null,null,null,null,null,null,null,null,null,null,null,null,null,null,23.5,null,null,-0.92368894063255902,1.9594009323145742,-1.5543443193483086,-0.2930335619168094,-1.5543443193483086,-0.29531239413816068,"",""]
[null,null,null,null,null,null,null,null,null,null,null,"2013-01-26",21.5,null,null,null,null,null,null,null,null,null,null,null,null,null,null,null,null,null,24,null,null,-0.93504053179832525,2.5267281691637584,-1.5797289997332189,-0.2903520638634316,-1.5797289997332189,-0.29531239413816068,"",""]
[null,null,null,null,null,null,null,null,null,null,null,"2013-01-26T12:00:00",22,null,null,null,null,null,null,null,null,null,null,null,null,null,null,null,null,null,24.5,null,null,-0.94550991464859924,2.0399429541576621,-1.6042355210860513,-0.28678430821114709,-1.6042355210860513,-0.29531239413816068,"",""]
[null,null,null,null,null,null,null,null,null,null,null,"2013-01-27",22.5,null,null,null,null,null,null,null,null,null,null,null,null,null,null,null,null,null,25,null,null,-0.95518670308125464,2.7286838841603926,-1.6279532438422768,-0.28242016232023237,-1.6279532438422768,-0.29531239413816068,"",""]
[null,null,null,null,null,null,null,null,null,null,null,"2013-01-27T12:00:00",23,null,null,null,null,null,null,null,null,null,null,null,null,null,null,null,null,null,25.5,null,null,-0.96414958102114012,2.1890663938917809,-1.6509606191253114,-0.2773385429169688,-1.6509606191253114,-0.29531239413816068,"",""]
[null,null,null,null,null,null,null,null,null,null,null,"2013-01-28",23.5,null,null,null,null,null,null,null,null,null,null,null,null,null,null,null,null,null,26,null,null,-0.97246782481978922,1.7371036029209028,-1.6733267090888844,-0.27160894055069418,-1.6733267090888844,-0.29531239413816068,"",""]
[null,null,null,null,null,null,null,null,null,null,null,"2013-01-28T12:00:00",24,null,null,null,null,null,null,null,null,null,null,null,null,null,null,null,null,null,26.5,null,null,-0.98020259174850433,2.0470860026657185,-1.6951124735931506,-0.265292709903858,-1.6951124735931506,-0.29531239413816068,"",""]
[null,null,null,null,null,null,null,null,null,null,null,"2013-01-29",24.5,null,null,null,null,null,null,null,null,null,null,null,null,null,null,null,null,null,27,null,null,-0.98740801314491566,1.400406297721736,-1.7163718617425989,-0.2584441645472324,-1.7163718617425989,-0.29531239413816068,"",""]
[null,null,null,null,null,null,null,null,null,null,null,"2013-01-29T12:00:00",25,null,null,null,null,null,null,null,null,null,null,null,null,null,null,null,null,null,27.5,null,null,-0.99413212412813134,1.4176596477529093,-1.7371527401735947,-0.25111150808266802,-1.7371527401735947,-0.29531239413816068,"",""]
[null,null,null,null,null,null,null,null,null,null,null,"2013-01-30",25.5,null,null,null,null,null,null,null,null,null,null,null,null,null,null,null,null,null,28,null,null,-1.0004176563136966,1.9356444926554954,-1.7574976844995072,-0.24333762812788595,-1.7574976844995072,-0.29531239413816068,"",""]
[null,null,null,null,null,null,null,null,null,null,null,"2013-01-30T12:00:00",26,null,null,null,null,null,null,null,null,null,null,null,null,null,null,null,null,null,28.5,null,null,-1.0063027154406117,1.2792828428278509,-1.7774446558057366,-0.23516077507548672,-1.7774446558057366,-0.29531239413816068,"",""]
[null,null,null,null,null,null,null,null,null,null,null,"2013-01-31",26.5,null,null,null,null,null,null,null,null,null,null,null,null,null,null,null,null,null,29,null,null,-1.0118213621011667,1.9284600010730284,-1.7970275803682956,-0.2266151438340378,-1.7970275803682956,-0.29531239413816068,"",""]
[null,null,null,null,null,null,null,null,null,null,null,"2013-01-31T12:00:00",27,null,null,null,null,null,null,null,null,null,null,null,null,null,null,null,null,null,29.5,null,null,-1.0170041106995205,1.2726984621414084,-1.8162768477071431,-0.21773137369189777,-1.8162768477071431,-0.29531239413816068,"",""]
[null,null,null,null,null,null,null,null,null,null,null,"2013-02-01",27.5,null,null,null,null,null,null,null,null,null,null,null,null,null,null,null,null,null,30,null,null,-1.0218783592395382,1.922414270632997,-1.8352197395620697,-0.20853697891700651,-1.8352197395620697,-0.29531239413816068,"",""]
[null,null,null,null,null,null,null,null,null,null,null,"2013-02-01T12:00:00",28]
[null,null,null,null,null,null,null,null,null,null,null,"2013-02-02",28.5,null,null,null,null,null,null,null,null,null,null,null,null,null,null,null,null,null,null,null,null,null,null,null,null,null,"Range totals",{"$f":"AVERAGE(AN4:AN64)","v":1.3333333333333333},{"$f":"SUM(AO4:AO64)","v":5.8333333333333339}]
[null,null,null,null,null,null,null,null,null,null,null,"2013-02-02T12:00:00",29,null,null,null,null,null,null,null,null,null,null,null,null,null,null,null,null,null,null,null,null,null,null,null,null,null,null,{"$f":"COUNT(AN4:AN64)","v":6}]
[null,null,null,null,null,null,null,null,null,null,null,"2013-02-03",29.5,null,null,null,null,null,null,null,null,null,null,null,null,null,null,null,null,null,null,null,null,null,null,null,null,null,"alpha",0.75]
[null,null,null,null,null,null,null,null,null,null,null,"2013-02-03T12:00:00",30]

{"sheet":"Full Ferment Logs","index":2,"n_rows":83,"n_cols":2199,"rows_kept":33,"cut":true,"hidden":false,"merged":[[14,253,15,255],[14,275,15,277],[14,297,15,299],[14,319,15,321],[14,231,15,233],[0,0,0,3],[14,495,15,497],[14,517,15,519],[14,539,15,541],[14,407,15,409],[14,429,15,431],[14,451,15,453],[14,473,15,475],[14,341,15,343],[14,363,15,365],[14,385,15,387],[14,165,15,167],[17,231,18,233],[17,253,18,255],[17,1133,18,1135],[17,429,18,431],[17,275,18,277],[14,1199,15,1201],[14,1221,15,1223],[14,1243,15,1245],[14,1111,15,1113],[14,1133,15,1135],[14,1155,15,1157],[14,1177,15,1179],[14,1089,15,1091],[14,957,15,959],[14,979,15,981],[14,1001,15,1003],[14,935,15,937],[14,803,15,805],[14,825,15,827],[14,847,15,849],[14,781,15,783],[14,649,15,651],[14,671,15,673],[14,693,15,695],[17,451,18,453],[17,473,18,475],[17,495,18,497],[17,363,18,365],[17,385,18,387],[17,407,18,409],[17,297,18,299],[17,319,18,321],[17,341,18,343],[17,825,18,827],[17,847,18,849],[17,781,18,783],[17,803,18,805],[17,671,18,673],[17,693,18,695],[17,627,18,629],[17,649,18,651],[17,517,18,519],[17,539,18,541],[17,1221,18,1223],[17,1243,18,1245],[17,1155,18,1157],[17,1177,18,1179],[17,1199,18,1201],[17,1089,18,1091],[17,1111,18,1113],[17,979,18,981],[17,1001,18,1003],[20,165,20,171],[20,187,20,193],[20,209,20,215],[20,231,20,237],[20,253,20,259],[20,275,20,281],[20,11,20,17],[20,33,20,39],[20,55,20,61],[20,77,20,83],[20,99,20,105],[20,121,20,127],[20,143,20,149],[20,429,20,435],[20,451,20,457],[20,473,20,479],[20,495,20,501],[20,517,20,523],[20,539,20,545],[20,297,20,303],[20,319,20,325],[20,341,20,347],[20,363,20,369],[20,385,20,391],[20,407,20,413],[20,693,20,699],[20,715,20,721],[20,737,20,743],[20,759,20,765],[20,781,20,787],[20,803,20,809],[20,561,20,567],[20,583,20,589],[20,605,20,611],[20,627,20,633],[20,649,20,655],[20,671,20,677],[20,957,20,963],[20,979,20,985],[20,1001,20,1007],[20,1023,20,1029],[20,1045,20,1051],[20,1067,20,1073],[20,825,20,831],[20,847,20,853],[20,869,20,875],[20,891,20,897],[20,913,20,919],[20,935,20,941],[20,1221,20,1227],[20,1243,20,1249],[20,1265,20,1271],[20,1287,20,1293],[20,1309,20,1315],[20,1331,20,1337],[20,1089,20,1095],[20,1111,20,1117],[20,1133,20,1139],[20,1155,20,1161],[20,1177,20,1183],[20,1199,20,1205],[20,1485,20,1491],[20,1507,20,1513],[20,1529,20,1535],[20,1551,20,1557],[20,1573,20,1579],[20,1595,20,1601],[20,1353,20,1359],[20,1375,20,1381],[20,1397,20,1403],[20,1419,20,1425],[20,1441,20,1447],[20,1463,20,1469],[20,1793,20,1799],[20,1815,20,1821],[20,1837,20,1843],[20,1859,20,1865],[20,1617,20,1623],[20,1639,20,1645],[20,1661,20,1667],[20,1683,20,1689],[20,1705,20,1711],[20,1727,20,1733],[20,2145,20,2151],[20,2167,20,2173],[20,2189,20,2195],[14,11,15,13],[17,11,18,13],[14,33,15,35],[17,33,18,35],[14,55,15,57],[17,55,18,57],[14,77,15,79],[20,2013,20,2019],[20,2035,20,2041],[20,2057,20,2063],[20,2079,20,2085],[20,2101,20,2107],[20,2123,20,2129],[20,1881,20,1887],[20,1903,20,1909],[20,1925,20,1931],[20,1947,20,1953],[20,1969,20,1975],[20,1991,20,1997],[20,1749,20,1755],[20,1771,20,1777],[17,165,18,167],[14,187,15,189],[17,187,18,189],[14,209,15,211],[17,209,18,211],[17,77,18,79],[14,99,15,101],[17,99,18,101],[14,121,15,123],[17,121,18,123],[14,143,15,145],[17,143,18,145],[14,715,15,717],[17,715,18,717],[14,737,15,739],[17,737,18,739],[14,759,15,761],[17,759,18,761],[14,561,15,563],[17,561,18,563],[14,583,15,585],[17,583,18,585],[14,605,15,607],[17,605,18,607],[14,627,15,629],[14,1023,15,1025],[17,1023,18,1025],[14,1045,15,1047],[17,1045,18,1047],[14,1067,15,1069],[17,1067,18,1069],[14,869,15,871],[17,869,18,871],[14,891,15,893],[17,891,18,893],[14,913,15,915],[17,913,18,915],[17,935,18,937],[17,957,18,959],[14,1331,15,1333],[17,1331,18,1333],[14,1353,15,1355],[17,1353,18,1355],[14,1375,15,1377],[17,1375,18,1377],[14,1265,15,1267],[17,1265,18,1267],[14,1287,15,1289],[17,1287,18,1289],[14,1309,15,1311],[17,1309,18,1311],[14,1463,15,1465],[17,1463,18,1465],[14,1485,15,1487],[17,1485,18,1487],[14,1507,15,1509],[17,1507,18,1509],[14,1397,15,1399],[17,1397,18,1399],[14,1419,15,1421],[17,1419,18,1421],[14,1441,15,1443],[17,1441,18,1443],[14,1595,15,1597],[17,1595,18,1597],[14,1617,15,1619],[17,1617,18,1619],[14,1639,15,1641],[17,1639,18,1641],[14,1529,15,1531],[17,1529,18,1531],[14,1551,15,1553],[17,1551,18,1553],[14,1573,15,1575],[17,1573,18,1575],[14,1727,15,1729],[17,1727,18,1729],[14,1749,15,1751],[17,1749,18,1751],[14,1771,15,1773],[17,1771,18,1773],[14,1661,15,1663],[17,1661,18,1663],[14,1683,15,1685],[17,1683,18,1685],[14,1705,15,1707],[17,1705,18,1707],[14,1859,15,1861],[17,1859,18,1861],[14,1881,15,1883],[17,1881,18,1883],[14,1903,15,1905],[17,1903,18,1905],[14,1793,15,1795],[17,1793,18,1795],[14,1815,15,1817],[17,1815,18,1817],[14,1837,15,1839],[17,1837,18,1839],[14,1991,15,1993],[17,1991,18,1993],[14,2013,15,2015],[17,2013,18,2015],[14,2035,15,2037],[17,2035,18,2037],[14,1925,15,1927],[17,1925,18,1927],[14,1947,15,1949],[17,1947,18,1949],[14,1969,15,1971],[17,1969,18,1971],[14,2189,15,2191],[17,2189,18,2191],[14,2123,15,2125],[17,2123,18,2125],[14,2145,15,2147],[17,2145,18,2147],[14,2167,15,2169],[17,2167,18,2169],[14,2057,15,2059],[17,2057,18,2059],[14,2079,15,2081],[17,2079,18,2081],[14,2101,15,2103],[17,2101,18,2103]],"bounds":{"rows_first":15,"rows_last":3,"rows_between":15,"halvings":7}}
["Fermenter Logs"]
["Active",null,1,null,null,null,null,null,null,null,null,null,null,null,null,null,null,null,null,null,null,null,"Active",null,1,null,null,null,null,null,null,null,null,null,null,null,null,null,null,null,null,null,null,null,"Active",null,1,null,null,null,null,null,null,null,null,null,null,null,null,null,null,null,null,null,null,null,"Active",null,1,null,null,null,null,null,null,null,null,null,null,null,null,null,null,null,null,null,null,null,"Active",null,0,null,null,null,null,null,null,null,null,null,null,null,null,null,null,null,null,null,null,null,"Active",null,0,null,null,null,null,null,null,null,null,null,null,null,null,null,null,null,null,null,null,null,"Active",null,0,null,null,null,null,null,null,null,null,null,null,null,null,null,null,null,null,null,null,null,"Active",null,0,null,null,null,null,null,null,null,null,null,null,null,null,null,null,null,null,null,null,null,"Active",null,0,null,null,null,null,null,null,null,null,null,null,null,null,null,null,null,null,null,null,null,"Active",null,0,null,null,null,null,null,null,null,null,null,null,null,null,null,null,null,null,null,null,null,"Active",null,0,null,null,null,null,null,null,null,null,null,null,null,null,null,null,null,null,null,null,null,"Active",null,0,null,null,null,null,null,null,null,null,null,null,null,null,null,null,null,null,null,null,null,"Active",null,0,null,null,null,null,null,null,null,null,null,null,null,null,null,null,null,null,null,null,null,"Active",null,0,null,null,null,null,null,null,null,null,null,null,null,null,null,null,null,null,null,null,null,"Active",null,0,null,null,null,null,null,null,null,null,null,null,null,null,null,null,null,null,null,null,null,"Active",null,0,null,null,null,null,null,null,null,null,null,null,null,null,null,null,null,null,null,null,null,"Active",null,0,null,null,null,null,null,null,null,null,null,null,null,null,null,null,null,null,null,null,null,"Active",null,0,null,null,null,null,null,null,null,null,null,null,null,null,null,null,null,null,null,null,null,"Active",null,0,null,null,null,null,null,null,null,null,null,null,null,null,null,null,null,null,null,null,null,"Active",null,0,null,null,null,null,null,null,null,null,null,null,null,null,null,null,null,null,null,null,null,"Active",null,0,null,null,null,null,null,null,null,null,null,null,null,null,null,null,null,null,null,null,null,"Active",null,0,null,null,null,null,null,null,null,null,null,null,null,null,null,null,null,null,null,null,null,"Active",null,0,null,null,null,null,null,null,null,null,null,null,null,null,null,null,null,null,null,null,null,"Active",null,0,null,null,null,null,null,null,null,null,null,null,null,null,null,null,null,null,null,null,null,"Active",null,0,null,null,null,null,null,null,null,null,null,null,null,null,null,null,null,null,null,null,null,"Active",null,0,null,null,null,null,null,null,null,null,null,null,null,null,null,null,null,null,null,null,null,"Active",null,0,null,null,null,null,null,null,null,null,null,null,null,null,null,null,null,null,null,null,null,"Active",null,0,null,null,null,null,null,null,null,null,null,null,null,null,null,null,null,null,null,null,null,"Active",null,0,null,null,null,null,null,null,null,null,null,null,null,null,null,null,null,null,null,null,null,"Active",null,0,null,null,null,null,null,null,null,null,null,null,null,null,null,null,null,null,null,null,null,"Active",null,0,null,null,null,null,null,null,null,null,null,null,null,null,null,null,null,null,null,null,null,"Active",null,0,null,null,null,null,null,null,null,null,null,null,null,null,null,null,null,null,null,null,null,"Active",null,0,null,null,null,null,null,null,null,null,null,null,null,null,null,null,null,null,null,null,null,"Active",null,0,null,null,null,null,null,null,null,null,null,null,null,null,null,null,null,null,null,null,null,"Active",null,0,null,null,null,null,null,null,null,null,null,null,null,null,null,null,null,null,null,null,null,"Active",null,0,null,null,null,null,null,null,null,null,null,null,null,null,null,null,null,null,null,null,null,"Active",null,0,null,null,null,null,null,null,null,null,null,null,null,null,null,null,null,null,null,null,null,"Active",null,0,null,null,null,null,null,null,null,null,null,null,null,null,null,null,null,null,null,null,null,"Active",null,0,null,null,null,null,null,null,null,null,null,null,null,null,null,null,null,null,null,null,null,"Active",null,0,null,null,null,null,null,null,null,null,null,null,null,null,null,null,null,null,null,null,null,"Active",null,0,null,null,null,null,null,null,null,null,null,null,null,null,null,null,null,null,null,null,null,"Active",null,0,null,null,null,null,null,null,null,null,null,null,null,null,null,null,null,null,null,null,null,"Active",null,0,null,null,null,null,null,null,null,null,null,null,null,null,null,null,null,null,null,null,null,"Active",null,0,null,null,null,null,null,null,null,null,null,null,null,null,null,null,null,null,null,null,null,"Active",null,0,null,null,null,null,null,null,null,null,null,null,null,null,null,null,null,null,null,null,null,"Active",null,0,null,null,null,null,null,null,null,null,null,null,null,null,null,null,null,null,null,null,null,"Active",null,0,null,null,null,null,null,null,null,null,null,null,null,null,null,null,null,null,null,null,null,"Active",null,0,null,null,null,null,null,null,null,null,null,null,null,null,null,null,null,null,null,null,null,"Active",null,0,null,null,null,null,null,null,null,null,null,null,null,null,null,null,null,null,null,null,null,"Active",null,0,null,null,null,null,null,null,null,null,null,null,null,null,null,null,null,null,null,null,null,"Active",null,0,null,null,null,null,null,null,null,null,null,null,null,null,null,null,null,null,null,null,null,"Active",null,0,null,null,null,null,null,null,null,null,null,null,null,null,null,null,null,null,null,null,null,"Active",null,0,null,null,null,null,null,null,null,null,null,null,null,null,null,null,null,null,null,null,null,"Active",null,0,null,null,null,null,null,null,null,null,null,null,null,null,null,null,null,null,null,null,null,"Active",null,0,null,null,null,null,null,null,null,null,null,null,null,null,null,null,null,null,null,null,null,"Active",null,0,null,null,null,null,null,null,null,null,null,null,null,null,null,null,null,null,null,null,null,"Active",null,0,null,null,null,null,null,null,null,null,null,null,null,null,null,null,null,null,null,null,null,"Active",null,0,null,null,null,null,null,null,null,null,null,null,null,null,null,null,null,null,null,null,null,"Active",null,0,null,null,null,null,null,null,null,null,null,null,null,null,null,null,null,null,null,null,null,"Active",null,0,null,null,null,null,null,null,null,null,null,null,null,null,null,null,null,null,null,null,null,"Active",null,0,null,null,null,null,null,null,null,null,null,null,null,null,null,null,null,null,null,null,null,"Active",null,0,null,null,null,null,null,null,null,null,null,null,null,null,null,null,null,null,null,null,null,"Active",null,0,null,null,null,null,null,null,null,null,null,null,null,null,null,null,null,null,null,null,null,"Active",null,0,null,null,null,null,null,null,null,null,null,null,null,null,null,null,null,null,null,null,null,"Active",null,0,null,null,null,null,null,null,null,null,null,null,null,null,null,null,null,null,null,null,null,"Active",null,0,null,null,null,null,null,null,null,null,null,null,null,null,null,null,null,null,null,null,null,"Active",null,0,null,null,null,null,null,null,null,null,null,null,null,null,null,null,null,null,null,null,null,"Active",null,0,null,null,null,null,null,null,null,null,null,null,null,null,null,null,null,null,null,null,null,"Active",null,0,null,null,null,null,null,null,null,null,null,null,null,null,null,null,null,null,null,null,null,"Active",null,0,null,null,null,null,null,null,null,null,null,null,null,null,null,null,null,null,null,null,null,"Active",null,0,null,null,null,null,null,null,null,null,null,null,null,null,null,null,null,null,null,null,null,"Active",null,0,null,null,null,null,null,null,null,null,null,null,null,null,null,null,null,null,null,null,null,"Active",null,0,null,null,null,null,null,null,null,null,null,null,null,null,null,null,null,null,null,null,null,"Active",null,0,null,null,null,null,null,null,null,null,null,null,null,null,null,null,null,null,null,null,null,"Active",null,0,null,null,null,null,null,null,null,null,null,null,null,null,null,null,null,null,null,null,null,"Active",null,0,null,null,null,null,null,null,null,null,null,null,null,null,null,null,null,null,null,null,null,"Active",null,0,null,null,null,null,null,null,null,null,null,null,null,null,null,null,null,null,null,null,null,"Active",null,0,null,null,null,null,null,null,null,null,null,null,null,null,null,null,null,null,null,null,null,"Active",null,0,null,null,null,null,null,null,null,null,null,null,null,null,null,null,null,null,null,null,null,"Active",null,0,null,null,null,null,null,null,null,null,null,null,null,null,null,null,null,null,null,null,null,"Active",null,0,null,null,null,null,null,null,null,null,null,null,null,null,null,null,null,null,null,null,null,"Active",null,0,null,null,null,null,null,null,null,null,null,null,null,null,null,null,null,null,null,null,null,"Active",null,0,null,null,null,null,null,null,null,null,null,null,null,null,null,null,null,null,null,null,null,"Active",null,0,null,null,null,null,null,null,null,null,null,null,null,null,null,null,null,null,null,null,null,"Active",null,0,null,null,null,null,null,null,null,null,null,null,null,null,null,null,null,null,null,null,null,"Active",null,0,null,null,null,null,null,null,null,null,null,null,null,null,null,null,null,null,null,null,null,"Active",null,0,null,null,null,null,null,null,null,null,null,null,null,null,null,null,null,null,null,null,null,"Active",null,0,null,null,null,null,null,null,null,null,null,null,null,null,null,null,null,null,null,null,null,"Active",null,0,null,null,null,null,null,null,null,null,null,null,null,null,null,null,null,null,null,null,null,"Active",null,0,null,null,null,null,null,null,null,null,null,null,null,null,null,null,null,null,null,null,null,"Active",null,0,null,null,null,null,null,null,null,null,null,null,null,null,null,null,null,null,null,null,null,"Active",null,0,null,null,null,null,null,null,null,null,null,null,null,null,null,null,null,null,null,null,null,"Active",null,0,null,null,null,null,null,null,null,null,null,null,null,null,null,null,null,null,null,null,null,"Active",null,0,null,null,null,null,null,null,null,null,null,null,null,null,null,null,null,null,null,null,null,"Active",null,0,null,null,null,null,null,null,null,null,null,null,null,null,null,null,null,null,null,null,null,"Active",null,0,null,null,null,null,null,null,null,null,null,null,null,null,null,null,null,null,null,null,null,"Active",null,0,null,null,null,null,null,null,null,null,null,null,null,null,null,null,null,null,null,null,null,"Active",null,0,null,null,null,null,null,null,null,null,null,null,null,null,null,null,null,null,null,null,null,"Active",null,0,null,null,null,null,null,null,null,null,null,null,null,null,null,null,null,null,null,null,null,"Active",null,0]
["Fermenter",null,1,null,null,"Must Chill On (1) / Off (0)",null,1,null,null,"Cold Settling On (1) / Off (0)",null,1,null,null,"Cool Climate",0,"(1=Yes, 0=No)",null,null,null,null,"Fermenter",null,2,null,null,"Must Chill On (1) / Off (0)",null,1,null,null,"Cold Settling On (1) / Off (0)",null,1,null,null,"Cool Climate",1,"(1=Yes, 0=No)",null,null,null,null,"Fermenter",null,3,null,null,"Must Chill On (1) / Off (0)",null,1,null,null,"Cold Settling On (1) / Off (0)",null,1,null,null,"Cool Climate",1,"(1=Yes, 0=No)",null,null,null,null,"Fermenter",null,4,null,null,"Must Chill On (1) / Off (0)",null,0,null,null,"Cold Settling On (1) / Off (0)",null,0,null,null,"Cool Climate",1,"(1=Yes, 0=No)",null,null,null,null,"Fermenter",null,5,null,null,"Must Chill On (1) / Off (0)",null,0,null,null,"Cold Settling On (1) / Off (0)",null,0,null,null,"Cool Climate",1,"(1=Yes, 0=No)",null,null,null,null,"Fermenter",null,6,null,null,"Must Chill On (1) / Off (0)",null,0,null,null,"Cold Settling On (1) / Off (0)",null,0,null,null,"Cool Climate",1,"(1=Yes, 0=No)",null,null,null,null,"Fermenter",null,7,null,null,"Must Chill On (1) / Off (0)",null,0,null,null,"Cold Settling On (1) / Off (0)",null,0,null,null,"Cool Climate",1,"(1=Yes, 0=No)",null,null,null,null,"Fermenter",null,8,null,null,"Must Chill On (1) / Off (0)",null,0,null,null,"Cold Settling On (1) / Off (0)",null,0,null,null,"Cool Climate",1,"(1=Yes, 0=No)",null,null,null,null,"Fermenter",null,9,null,null,"Must Chill On (1) / Off (0)",null,0,null,null,"Cold Settling On (1) / Off (0)",null,0,null,null,"Cool Climate",1,"(1=Yes, 0=No)",null,null,null,null,"Fermenter",null,10,null,null,"Must Chill On (1) / Off (0)",null,0,null,null,"Cold Settling On (1) / Off (0)",null,0,null,null,"Cool Climate",1,"(1=Yes, 0=No)",null,null,null,null,"Fermenter",null,11,null,null,"Must Chill On (1) / Off (0)",null,0,null,null,"Cold Settling On (1) / Off (0)",null,0,null,null,"Cool Climate",1,"(1=Yes, 0=No)",null,null,null,null,"Fermenter",null,12,null,null,"Must Chill On (1) / Off (0)",null,0,null,null,"Cold Settling On (1) / Off (0)",null,0,null,null,"Cool Climate",1,"(1=Yes, 0=No)",null,null,null,null,"Fermenter",null,13,null,null,"Must Chill On (1) / Off (0)",null,0,null,null,"Cold Settling On (1) / Off (0)",null,0,null,null,"Cool Climate",1,"(1=Yes, 0=No)",null,null,null,null,"Fermenter",null,14,null,null,"Must Chill On (1) / Off (0)",null,0,null,null,"Cold Settling On (1) / Off (0)",null,0,null,null,"Cool Climate",1,"(1=Yes, 0=No)",null,null,null,null,"Fermenter",null,15,null,null,"Must Chill On (1) / Off (0)",null,0,null,null,"Cold Settling On (1) / Off (0)",null,0,null,null,"Cool Climate",1,"(1=Yes, 0=No)",null,null,null,null,"Fermenter",null,16,null,null,"Must Chill On (1) / Off (0)",null,0,null,null,"Cold Settling On (1) / Off (0)",null,0,null,null,"Cool Climate",1,"(1=Yes, 0=No)",null,null,null,null,"Fermenter",null,17,null,null,"Must Chill On (1) / Off (0)",null,0,null,null,"Cold Settling On (1) / Off (0)",null,0,null,null,"Cool Climate",1,"(1=Yes, 0=No)",null,null,null,null,"Fermenter",null,18,null,null,"Must Chill On (1) / Off (0)",null,0,null,null,"Cold Settling On (1) / Off (0)",null,0,null,null,"Cool Climate",1,"(1=Yes, 0=No)",null,null,null,null,"Fermenter",null,19,null,null,"Must Chill On (1) / Off (0)",null,0,null,null,"Cold Settling On (1) / Off (0)",null,0,null,null,"Cool Climate",1,"(1=Yes, 0=No)",null,null,null,null,"Fermenter",null,20,null,null,"Must Chill On (1) / Off (0)",null,0,null,null,"Cold Settling On (1) / Off (0)",null,0,null,null,"Cool Climate",1,"(1=Yes, 0=No)",null,null,null,null,"Fermenter",null,21,null,null,"Must Chill On (1) / Off (0)",null,0,null,null,"Cold Settling On (1) / Off (0)",null,0,null,null,"Cool Climate",1,"(1=Yes, 0=No)",null,null,null,null,"Fermenter",null,22,null,null,"Must Chill On (1) / Off (0)",null,0,null,null,"Cold Settling On (1) / Off (0)",null,0,null,null,"Cool Climate",1,"(1=Yes, 0=No)",null,null,null,null,"Fermenter",null,23,null,null,"Must Chill On (1) / Off (0)",null,0,null,null,"Cold Settling On (1) / Off (0)",null,0,null,null,"Cool Climate",1,"(1=Yes, 0=No)",null,null,null,null,"Fermenter",null,24,null,null,"Must Chill On (1) / Off (0)",null,0,null,null,"Cold Settling On (1) / Off (0)",null,0,null,null,"Cool Climate",1,"(1=Yes, 0=No)",null,null,null,null,"Fermenter",null,25,null,null,"Must Chill On (1) / Off (0)",null,0,null,null,"Cold Settling On (1) / Off (0)",null,0,null,null,"Cool Climate",1,"(1=Yes, 0=No)",null,null,null,null,"Fermenter",null,26,null,null,"Must Chill On (1) / Off (0)",null,0,null,null,"Cold Settling On (1) / Off (0)",null,0,null,null,"Cool Climate",1,"(1=Yes, 0=No)",null,null,null,null,"Fermenter",null,27,null,null,"Must Chill On (1) / Off (0)",null,0,null,null,"Cold Settling On (1) / Off (0)",null,0,null,null,"Cool Climate",1,"(1=Yes, 0=No)",null,null,null,null,"Fermenter",null,28,null,null,"Must Chill On (1) / Off (0)",null,0,null,null,"Cold Settling On (1) / Off (0)",null,0,null,null,"Cool Climate",1,"(1=Yes, 0=No)",null,null,null,null,"Fermenter",null,29,null,null,"Must Chill On (1) / Off (0)",null,0,null,null,"Cold Settling On (1) / Off (0)",null,0,null,null,"Cool Climate",1,"(1=Yes, 0=No)",null,null,null,null,"Fermenter",null,30,null,null,"Must Chill On (1) / Off (0)",null,0,null,null,"Cold Settling On (1) / Off (0)",null,0,null,null,"Cool Climate",1,"(1=Yes, 0=No)",null,null,null,null,"Fermenter",null,31,null,null,"Must Chill On (1) / Off (0)",null,0,null,null,"Cold Settling On (1) / Off (0)",null,0,null,null,"Cool Climate",1,"(1=Yes, 0=No)",null,null,null,null,"Fermenter",null,32,null,null,"Must Chill On (1) / Off (0)",null,0,null,null,"Cold Settling On (1) / Off (0)",null,0,null,null,"Cool Climate",1,"(1=Yes, 0=No)",null,null,null,null,"Fermenter",null,33,null,null,"Must Chill On (1) / Off (0)",null,0,null,null,"Cold Settling On (1) / Off (0)",null,0,null,null,"Cool Climate",1,"(1=Yes, 0=No)",null,null,null,null,"Fermenter",null,34,null,null,"Must Chill On (1) / Off (0)",null,0,null,null,"Cold Settling On (1) / Off (0)",null,0,null,null,"Cool Climate",1,"(1=Yes, 0=No)",null,null,null,null,"Fermenter",null,35,null,null,"Must Chill On (1) / Off (0)",null,0,null,null,"Cold Settling On (1) / Off (0)",null,0,null,null,"Cool Climate",1,"(1=Yes, 0=No)",null,null,null,null,"Fermenter",null,36,null,null,"Must Chill On (1) / Off (0)",null,0,null,null,"Cold Settling On (1) / Off (0)",null,0,null,null,"Cool Climate",1,"(1=Yes, 0=No)",null,null,null,null,"Fermenter",null,37,null,null,"Must Chill On (1) / Off (0)",null,0,null,null,"Cold Settling On (1) / Off (0)",null,0,null,null,"Cool Climate",1,"(1=Yes, 0=No)",null,null,null,null,"Fermenter",null,38,null,null,"Must Chill On (1) / Off (0)",null,0,null,null,"Cold Settling On (1) / Off (0)",null,0,null,null,"Cool Climate",1,"(1=Yes, 0=No)",null,null,null,null,"Fermenter",null,39,null,null,"Must Chill On (1) / Off (0)",null,0,null,null,"Cold Settling On (1) / Off (0)",null,0,null,null,"Cool Climate",1,"(1=Yes, 0=No)",null,null,null,null,"Fermenter",null,40,null,null,"Must Chill On (1) / Off (0)",null,0,null,null,"Cold Settling On (1) / Off (0)",null,0,null,null,"Cool Climate",1,"(1=Yes, 0=No)",null,null,null,null,"Fermenter",null,41,null,null,"Must Chill On (1) / Off (0)",null,0,null,null,"Cold Settling On (1) / Off (0)",null,0,null,null,"Cool Climate",1,"(1=Yes, 0=No)",null,null,null,null,"Fermenter",null,42,null,null,"Must Chill On (1) / Off (0)",null,0,null,null,"Cold Settling On (1) / Off (0)",null,0,null,null,"Cool Climate",1,"(1=Yes, 0=No)",null,null,null,null,"Fermenter",null,43,null,null,"Must Chill On (1) / Off (0)",null,0,null,null,"Cold Settling On (1) / Off (0)",null,0,null,null,"Cool Climate",1,"(1=Yes, 0=No)",null,null,null,null,"Fermenter",null,44,null,null,"Must Chill On (1) / Off (0)",null,0,null,null,"Cold Settling On (1) / Off (0)",null,0,null,null,"Cool Climate",1,"(1=Yes, 0=No)",null,null,null,null,"Fermenter",null,45,null,null,"Must Chill On (1) / Off (0)",null,0,null,null,"Cold Settling On (1) / Off (0)",null,0,null,null,"Cool Climate",1,"(1=Yes, 0=No)",null,null,null,null,"Fermenter",null,46,null,null,"Must Chill On (1) / Off (0)",null,0,null,null,"Cold Settling On (1) / Off (0)",null,0,null,null,"Cool Climate",1,"(1=Yes, 0=No)",null,null,null,null,"Fermenter",null,47,null,null,"Must Chill On (1) / Off (0)",null,0,null,null,"Cold Settling On (1) / Off (0)",null,0,null,null,"Cool Climate",1,"(1=Yes, 0=No)",null,null,null,null,"Fermenter",null,48,null,null,"Must Chill On (1) / Off (0)",null,0,null,null,"Cold Settling On (1) / Off (0)",null,0,null,null,"Cool Climate",1,"(1=Yes, 0=No)",null,null,null,null,"Fermenter",null,49,null,null,"Must Chill On (1) / Off (0)",null,0,null,null,"Cold Settling On (1) / Off (0)",null,0,null,null,"Cool Climate",1,"(1=Yes, 0=No)",null,null,null,null,"Fermenter",null,50,null,null,"Must Chill On (1) / Off (0)",null,0,null,null,"Cold Settling On (1) / Off (0)",null,0,null,null,"Cool Climate",1,"(1=Yes, 0=No)",null,null,null,null,"Fermenter",null,51,null,null,"Must Chill On (1) / Off (0)",null,0,null,null,"Cold Settling On (1) / Off (0)",null,0,null,null,"Cool Climate",1,"(1=Yes, 0=No)",null,null,null,null,"Fermenter",null,52,null,null,"Must Chill On (1) / Off (0)",null,0,null,null,"Cold Settling On (1) / Off (0)",null,0,null,null,"Cool Climate",1,"(1=Yes, 0=No)",null,null,null,null,"Fermenter",null,53,null,null,"Must Chill On (1) / Off (0)",null,0,null,null,"Cold Settling On (1) / Off (0)",null,0,null,null,"Cool Climate",1,"(1=Yes, 0=No)",null,null,null,null,"Fermenter",null,54,null,null,"Must Chill On (1) / Off (0)",null,0,null,null,"Cold Settling On (1) / Off (0)",null,0,null,null,"Cool Climate",1,"(1=Yes, 0=No)",null,null,null,null,"Fermenter",null,55,null,null,"Must Chill On (1) / Off (0)",null,0,null,null,"Cold Settling On (1) / Off (0)",null,0,null,null,"Cool Climate",1,"(1=Yes, 0=No)",null,null,null,null,"Fermenter",null,56,null,null,"Must Chill On (1) / Off (0)",null,0,null,null,"Cold Settling On (1) / Off (0)",null,0,null,null,"Cool Climate",1,"(1=Yes, 0=No)",null,null,null,null,"Fermenter",null,57,null,null,"Must Chill On (1) / Off (0)",null,0,null,null,"Cold Settling On (1) / Off (0)",null,0,null,null,"Cool Climate",1,"(1=Yes, 0=No)",null,null,null,null,"Fermenter",null,58,null,null,"Must Chill On (1) / Off (0)",null,0,null,null,"Cold Settling On (1) / Off (0)",null,0,null,null,"Cool Climate",1,"(1=Yes, 0=No)",null,null,null,null,"Fermenter",null,59,null,null,"Must Chill On (1) / Off (0)",null,0,null,null,"Cold Settling On (1) / Off (0)",null,0,null,null,"Cool Climate",1,"(1=Yes, 0=No)",null,null,null,null,"Fermenter",null,60,null,null,"Must Chill On (1) / Off (0)",null,0,null,null,"Cold Settling On (1) / Off (0)",null,0,null,null,"Cool Climate",1,"(1=Yes, 0=No)",null,null,null,null,"Fermenter",null,61,null,null,"Must Chill On (1) / Off (0)",null,0,null,null,"Cold Settling On (1) / Off (0)",null,0,null,null,"Cool Climate",1,"(1=Yes, 0=No)",null,null,null,null,"Fermenter",null,62,null,null,"Must Chill On (1) / Off (0)",null,0,null,null,"Cold Settling On (1) / Off (0)",null,0,null,null,"Cool Climate",1,"(1=Yes, 0=No)",null,null,null,null,"Fermenter",null,63,null,null,"Must Chill On (1) / Off (0)",null,0,null,null,"Cold Settling On (1) / Off (0)",null,0,null,null,"Cool Climate",1,"(1=Yes, 0=No)",null,null,null,null,"Fermenter",null,64,null,null,"Must Chill On (1) / Off (0)",null,0,null,null,"Cold Settling On (1) / Off (0)",null,0,null,null,"Cool Climate",1,"(1=Yes, 0=No)",null,null,null,null,"Fermenter",null,65,null,null,"Must Chill On (1) / Off (0)",null,0,null,null,"Cold Settling On (1) / Off (0)",null,0,null,null,"Cool Climate",1,"(1=Yes, 0=No)",null,null,null,null,"Fermenter",null,66,null,null,"Must Chill On (1) / Off (0)",null,0,null,null,"Cold Settling On (1) / Off (0)",null,0,null,null,"Cool Climate",1,"(1=Yes, 0=No)",null,null,null,null,"Fermenter",null,67,null,null,"Must Chill On (1) / Off (0)",null,0,null,null,"Cold Settling On (1) / Off (0)",null,0,null,null,"Cool Climate",1,"(1=Yes, 0=No)",null,null,null,null,"Fermenter",null,68,null,null,"Must Chill On (1) / Off (0)",null,0,null,null,"Cold Settling On (1) / Off (0)",null,0,null,null,"Cool Climate",1,"(1=Yes, 0=No)",null,null,null,null,"Fermenter",null,69,null,null,"Must Chill On (1) / Off (0)",null,0,null,null,"Cold Settling On (1) / Off (0)",null,0,null,null,"Cool Climate",1,"(1=Yes, 0=No)",null,null,null,null,"Fermenter",null,70,null,null,"Must Chill On (1) / Off (0)",null,0,null,null,"Cold Settling On (1) / Off (0)",null,0,null,null,"Cool Climate",1,"(1=Yes, 0=No)",null,null,null,null,"Fermenter",null,71,null,null,"Must Chill On (1) / Off (0)",null,0,null,null,"Cold Settling On (1) / Off (0)",null,0,null,null,"Cool Climate",1,"(1=Yes, 0=No)",null,null,null,null,"Fermenter",null,72,null,null,"Must Chill On (1) / Off (0)",null,0,null,null,"Cold Settling On (1) / Off (0)",null,0,null,null,"Cool Climate",1,"(1=Yes, 0=No)",null,null,null,null,"Fermenter",null,73,null,null,"Must Chill On (1) / Off (0)",null,0,null,null,"Cold Settling On (1) / Off (0)",null,0,null,null,"Cool Climate",1,"(1=Yes, 0=No)",null,null,null,null,"Fermenter",null,74,null,null,"Must Chill On (1) / Off (0)",null,0,null,null,"Cold Settling On (1) / Off (0)",null,0,null,null,"Cool Climate",1,"(1=Yes, 0=No)",null,null,null,null,"Fermenter",null,75,null,null,"Must Chill On (1) / Off (0)",null,0,null,null,"Cold Settling On (1) / Off (0)",null,0,null,null,"Cool Climate",1,"(1=Yes, 0=No)",null,null,null,null,"Fermenter",null,76,null,null,"Must Chill On (1) / Off (0)",null,0,null,null,"Cold Settling On (1) / Off (0)",null,0,null,null,"Cool Climate",1,"(1=Yes, 0=No)",null,null,null,null,"Fermenter",null,77,null,null,"Must Chill On (1) / Off (0)",null,0,null,null,"Cold Settling On (1) / Off (0)",null,0,null,null,"Cool Climate",1,"(1=Yes, 0=No)",null,null,null,null,"Fermenter",null,78,null,null,"Must Chill On (1) / Off (0)",null,0,null,null,"Cold Settling On (1) / Off (0)",null,0,null,null,"Cool Climate",1,"(1=Yes, 0=No)",null,null,null,null,"Fermenter",null,79,null,null,"Must Chill On (1) / Off (0)",null,0,null,null,"Cold Settling On (1) / Off (0)",null,0,null,null,"Cool Climate",1,"(1=Yes, 0=No)",null,null,null,null,"Fermenter",null,80,null,null,"Must Chill On (1) / Off (0)",null,0,null,null,"Cold Settling On (1) / Off (0)",null,0,null,null,"Cool Climate",1,"(1=Yes, 0=No)",null,null,null,null,"Fermenter",null,81,null,null,"Must Chill On (1) / Off (0)",null,0,null,null,"Cold Settling On (1) / Off (0)",null,0,null,null,"Cool Climate",1,"(1=Yes, 0=No)",null,null,null,null,"Fermenter",null,82,null,null,"Must Chill On (1) / Off (0)",null,0,null,null,"Cold Settling On (1) / Off (0)",null,0,null,null,"Cool Climate",1,"(1=Yes, 0=No)",null,null,null,null,"Fermenter",null,83,null,null,"Must Chill On (1) / Off (0)",null,0,null,null,"Cold Settling On (1) / Off (0)",null,0,null,null,"Cool Climate",1,"(1=Yes, 0=No)",null,null,null,null,"Fermenter",null,84,null,null,"Must Chill On (1) / Off (0)",null,0,null,null,"Cold Settling On (1) / Off (0)",null,0,null,null,"Cool Climate",1,"(1=Yes, 0=No)",null,null,null,null,"Fermenter",null,85,null,null,"Must Chill On (1) / Off (0)",null,0,null,null,"Cold Settling On (1) / Off (0)",null,0,null,null,"Cool Climate",1,"(1=Yes, 0=No)",null,null,null,null,"Fermenter",null,86,null,null,"Must Chill On (1) / Off (0)",null,0,null,null,"Cold Settling On (1) / Off (0)",null,0,null,null,"Cool Climate",1,"(1=Yes, 0=No)",null,null,null,null,"Fermenter",null,87,null,null,"Must Chill On (1) / Off (0)",null,0,null,null,"Cold Settling On (1) / Off (0)",null,0,null,null,"Cool Climate",1,"(1=Yes, 0=No)",null,null,null,null,"Fermenter",null,88,null,null,"Must Chill On (1) / Off (0)",null,0,null,null,"Cold Settling On (1) / Off (0)",null,0,null,null,"Cool Climate",1,"(1=Yes, 0=No)",null,null,null,null,"Fermenter",null,89,null,null,"Must Chill On (1) / Off (0)",null,0,null,null,"Cold Settling On (1) / Off (0)",null,0,null,null,"Cool Climate",1,"(1=Yes, 0=No)",null,null,null,null,"Fermenter",null,90,null,null,"Must Chill On (1) / Off (0)",null,0,null,null,"Cold Settling On (1) / Off (0)",null,0,null,null,"Cool Climate",1,"(1=Yes, 0=No)",null,null,null,null,"Fermenter",null,91,null,null,"Must Chill On (1) / Off (0)",null,0,null,null,"Cold Settling On (1) / Off (0)",null,0,null,null,"Cool Climate",1,"(1=Yes, 0=No)",null,null,null,null,"Fermenter",null,92,null,null,"Must Chill On (1) / Off (0)",null,0,null,null,"Cold Settling On (1) / Off (0)",null,0,null,null,"Cool Climate",1,"(1=Yes, 0=No)",null,null,null,null,"Fermenter",null,93,null,null,"Must Chill On (1) / Off (0)",null,0,null,null,"Cold Settling On (1) / Off (0)",null,0,null,null,"Cool Climate",1,"(1=Yes, 0=No)",null,null,null,null,"Fermenter",null,94,null,null,"Must Chill On (1) / Off (0)",null,0,null,null,"Cold Settling On (1) / Off (0)",null,0,null,null,"Cool Climate",1,"(1=Yes, 0=No)",null,null,null,null,"Fermenter",null,95,null,null,"Must Chill On (1) / Off (0)",null,0,null,null,"Cold Settling On (1) / Off (0)",null,0,null,null,"Cool Climate",1,"(1=Yes, 0=No)",null,null,null,null,"Fermenter",null,96,null,null,"Must Chill On (1) / Off (0)",null,0,null,null,"Cold Settling On (1) / Off (0)",null,0,null,null,"Cool Climate",1,"(1=Yes, 0=No)",null,null,null,null,"Fermenter",null,97,null,null,"Must Chill On (1) / Off (0)",null,0,null,null,"Cold Settling On (1) / Off (0)",null,0,null,null,"Cool Climate",1,"(1=Yes, 0=No)",null,null,null,null,"Fermenter",null,98,null,null,"Must Chill On (1) / Off (0)",null,0,null,null,"Cold Settling On (1) / Off (0)",null,0,null,null,"Cool Climate",1,"(1=Yes, 0=No)",null,null,null,null,"Fermenter",null,99,null,null,"Must Chill On (1) / Off (0)",null,0,null,null,"Cold Settling On (1) / Off (0)",null,0,null,null,"Cool Climate",1,"(1=Yes, 0=No)",null,null,null,null,"Fermenter",null,100,null,null,"Must Chill On (1) / Off (0)",null,0,null,null,"Cold Settling On (1) / Off (0)",null,0,null,null,"Cool Climate",1,"(1=Yes, 0=No)"]
["Tank Name",null,"Example 1",null,null,"Must Chill Start Date",null,"2013-01-01",null,null,"Cold Settling/Soak Start Date",null,"2013-01-02",null,null,"Warm Climate",1,"(1=Yes, 0=No)",null,null,null,null,"Tank Name",null,"Example 2",null,null,"Must Chill Start Date",null,"2013-01-01",null,null,"Cold Settling/Soak Start Date",null,"2013-01-02",null,null,"Warm Climate",0,"(1=Yes, 0=No)",null,null,null,null,"Tank Name",null,"Example 3",null,null,"Must Chill Start Date",null,"2013-01-01",null,null,"Cold Settling/Soak Start Date",null,"2013-01-02",null,null,"Warm Climate",0,"(1=Yes, 0=No)",null,null,null,null,"Tank Name",null,"Example 4",null,null,"Must Chill Start Date",null,null,null,null,"Cold Settling/Soak Start Date",null,null,null,null,"Warm Climate",0,"(1=Yes, 0=No)",null,null,null,null,"Tank Name",null,"Enter Tank Name",null,null,"Must Chill Start Date",null,null,null,null,"Cold Settling/Soak Start Date",null,null,null,null,"Warm Climate",0,"(1=Yes, 0=No)",null,null,null,null,"Tank Name",null,"Enter Tank Name",null,null,"Must Chill Start Date",null,null,null,null,"Cold Settling/Soak Start Date",null,null,null,null,"Warm Climate",0,"(1=Yes, 0=No)",null,null,null,null,"Tank Name",null,"Enter Tank Name",null,null,"Must Chill Start Date",null,null,null,null,"Cold Settling/Soak Start Date",null,null,null,null,"Warm Climate",0,"(1=Yes, 0=No)",null,null,null,null,"Tank Name",null,"Enter Tank Name",null,null,"Must Chill Start Date",null,null,null,null,"Cold Settling/Soak Start Date",null,null,null,null,"Warm Climate",0,"(1=Yes, 0=No)",null,null,null,null,"Tank Name",null,"Enter Tank Name",null,null,"Must Chill Start Date",null,null,null,null,"Cold Settling/Soak Start Date",null,null,null,null,"Warm Climate",0,"(1=Yes, 0=No)",null,null,null,null,"Tank Name",null,"Enter Tank Name",null,null,"Must Chill Start Date",null,null,null,null,"Cold Settling/Soak Start Date",null,null,null,null,"Warm Climate",0,"(1=Yes, 0=No)",null,null,null,null,"Tank Name",null,"Enter Tank Name",null,null,"Must Chill Start Date",null,null,null,null,"Cold Settling/Soak Start Date",null,null,null,null,"Warm Climate",0,"(1=Yes, 0=No)",null,null,null,null,"Tank Name",null,"Enter Tank Name",null,null,"Must Chill Start Date",null,null,null,null,"Cold Settling/Soak Start Date",null,null,null,null,"Warm Climate",0,"(1=Yes, 0=No)",null,null,null,null,"Tank Name",null,"Enter Tank Name",null,null,"Must Chill Start Date",null,null,null,null,"Cold Settling/Soak Start Date",null,null,null,null,"Warm Climate",0,"(1=Yes, 0=No)",null,null,null,null,"Tank Name",null,"Enter Tank Name",null,null,"Must Chill Start Date",null,null,null,null,"Cold Settling/Soak Start Date",null,null,null,null,"Warm Climate",0,"(1=Yes, 0=No)",null,null,null,null,"Tank Name",null,"Enter Tank Name",null,null,"Must Chill Start Date",null,null,null,null,"Cold Settling/Soak Start Date",null,null,null,null,"Warm Climate",0,"(1=Yes, 0=No)",null,null,null,null,"Tank Name",null,"Enter Tank Name",null,null,"Must Chill Start Date",null,null,null,null,"Cold Settling/Soak Start Date",null,null,null,null,"Warm Climate",0,"(1=Yes, 0=No)",null,null,null,null,"Tank Name",null,"Enter Tank Name",null,null,"Must Chill Start Date",null,null,null,null,"Cold Settling/Soak Start Date",null,null,null,null,"Warm Climate",0,"(1=Yes, 0=No)",null,null,null,null,"Tank Name",null,"Enter Tank Name",null,null,"Must Chill Start Date",null,null,null,null,"Cold Settling/Soak Start Date",null,null,null,null,"Warm Climate",0,"(1=Yes, 0=No)",null,null,null,null,"Tank Name",null,"Enter Tank Name",null,null,"Must Chill Start Date",null,null,null,null,"Cold Settling/Soak Start Date",null,null,null,null,"Warm Climate",0,"(1=Yes, 0=No)",null,null,null,null,"Tank Name",null,"Enter Tank Name",null,null,"Must Chill Start Date",null,null,null,null,"Cold Settling/Soak Start Date",null,null,null,null,"Warm Climate",0,"(1=Yes, 0=No)",null,null,null,null,"Tank Name",null,"Enter Tank Name",null,null,"Must Chill Start Date",null,null,null,null,"Cold Settling/Soak Start Date",null,null,null,null,"Warm Climate",0,"(1=Yes, 0=No)",null,null,null,null,"Tank Name",null,"Enter Tank Name",null,null,"Must Chill Start Date",null,null,null,null,"Cold Settling/Soak Start Date",null,null,null,null,"Warm Climate",0,"(1=Yes, 0=No)",null,null,null,null,"Tank Name",null,"Enter Tank Name",null,null,"Must Chill Start Date",null,null,null,null,"Cold Settling/Soak Start Date",null,null,null,null,"Warm Climate",0,"(1=Yes, 0=No)",null,null,null,null,"Tank Name",null,"Enter Tank Name",null,null,"Must Chill Start Date",null,null,null,null,"Cold Settling/Soak Start Date",null,null,null,null,"Warm Climate",0,"(1=Yes, 0=No)",null,null,null,null,"Tank Name",null,"Enter Tank Name",null,null,"Must Chill Start Date",null,null,null,null,"Cold Settling/Soak Start Date",null,null,null,null,"Warm Climate",0,"(1=Yes, 0=No)",null,null,null,null,"Tank Name",null,"Enter Tank Name",null,null,"Must Chill Start Date",null,null,null,null,"Cold Settling/Soak Start Date",null,null,null,null,"Warm Climate",0,"(1=Yes, 0=No)",null,null,null,null,"Tank Name",null,"Enter Tank Name",null,null,"Must Chill Start Date",null,null,null,null,"Cold Settling/Soak Start Date",null,null,null,null,"Warm Climate",0,"(1=Yes, 0=No)",null,null,null,null,"Tank Name",null,"Enter Tank Name",null,null,"Must Chill Start Date",null,null,null,null,"Cold Settling/Soak Start Date",null,null,null,null,"Warm Climate",0,"(1=Yes, 0=No)",null,null,null,null,"Tank Name",null,"Enter Tank Name",null,null,"Must Chill Start Date",null,null,null,null,"Cold Settling/Soak Start Date",null,null,null,null,"Warm Climate",0,"(1=Yes, 0=No)",null,null,null,null,"Tank Name",null,"Enter Tank Name",null,null,"Must Chill Start Date",null,null,null,null,"Cold Settling/Soak Start Date",null,null,null,null,"Warm Climate",0,"(1=Yes, 0=No)",null,null,null,null,"Tank Name",null,"Enter Tank Name",null,null,"Must Chill Start Date",null,null,null,null,"Cold Settling/Soak Start Date",null,null,null,null,"Warm Climate",0,"(1=Yes, 0=No)",null,null,null,null,"Tank Name",null,"Enter Tank Name",null,null,"Must Chill Start Date",null,null,null,null,"Cold Settling/Soak Start Date",null,null,null,null,"Warm Climate",0,"(1=Yes, 0=No)",null,null,null,null,"Tank Name",null,"Enter Tank Name",null,null,"Must Chill Start Date",null,null,null,null,"Cold Settling/Soak Start Date",null,null,null,null,"Warm Climate",0,"(1=Yes, 0=No)",null,null,null,null,"Tank Name",null,"Enter Tank Name",null,null,"Must Chill Start Date",null,null,null,null,"Cold Settling/Soak Start Date",null,null,null,null,"Warm Climate",0,"(1=Yes, 0=No)",null,null,null,null,"Tank Name",null,"Enter Tank Name",null,null,"Must Chill Start Date",null,null,null,null,"Cold Settling/Soak Start Date",null,null,null,null,"Warm Climate",0,"(1=Yes, 0=No)",null,null,null,null,"Tank Name",null,"Enter Tank Name",null,null,"Must Chill Start Date",null,null,null,null,"Cold Settling/Soak Start Date",null,null,null,null,"Warm Climate",0,"(1=Yes, 0=No)",null,null,null,null,"Tank Name",null,"Enter Tank Name",null,null,"Must Chill Start Date",null,null,null,null,"Cold Settling/Soak Start Date",null,null,null,null,"Warm Climate",0,"(1=Yes, 0=No)",null,null,null,null,"Tank Name",null,"Enter Tank Name",null,null,"Must Chill Start Date",null,null,null,null,"Cold Settling/Soak Start Date",null,null,null,null,"Warm Climate",0,"(1=Yes, 0=No)",null,null,null,null,"Tank Name",null,"Enter Tank Name",null,null,"Must Chill Start Date",null,null,null,null,"Cold Settling/Soak Start Date",null,null,null,null,"Warm Climate",0,"(1=Yes, 0=No)",null,null,null,null,"Tank Name",null,"Enter Tank Name",null,null,"Must Chill Start Date",null,null,null,null,"Cold Settling/Soak Start Date",null,null,null,null,"Warm Climate",0,"(1=Yes, 0=No)",null,null,null,null,"Tank Name",null,"Enter Tank Name",null,null,"Must Chill Start Date",null,null,null,null,"Cold Settling/Soak Start Date",null,null,null,null,"Warm Climate",0,"(1=Yes, 0=No)",null,null,null,null,"Tank Name",null,"Enter Tank Name",null,null,"Must Chill Start Date",null,null,null,null,"Cold Settling/Soak Start Date",null,null,null,null,"Warm Climate",0,"(1=Yes, 0=No)",null,null,null,null,"Tank Name",null,"Enter Tank Name",null,null,"Must Chill Start Date",null,null,null,null,"Cold Settling/Soak Start Date",null,null,null,null,"Warm Climate",0,"(1=Yes, 0=No)",null,null,null,null,"Tank Name",null,"Enter Tank Name",null,null,"Must Chill Start Date",null,null,null,null,"Cold Settling/Soak Start Date",null,null,null,null,"Warm Climate",0,"(1=Yes, 0=No)",null,null,null,null,"Tank Name",null,"Enter Tank Name",null,null,"Must Chill Start Date",null,null,null,null,"Cold Settling/Soak Start Date",null,null,null,null,"Warm Climate",0,"(1=Yes, 0=No)",null,null,null,null,"Tank Name",null,"Enter Tank Name",null,null,"Must Chill Start Date",null,null,null,null,"Cold Settling/Soak Start Date",null,null,null,null,"Warm Climate",0,"(1=Yes, 0=No)",null,null,null,null,"Tank Name",null,"Enter Tank Name",null,null,"Must Chill Start Date",null,null,null,null,"Cold Settling/Soak Start Date",null,null,null,null,"Warm Climate",0,"(1=Yes, 0=No)",null,null,null,null,"Tank Name",null,"Enter Tank Name",null,null,"Must Chill Start Date",null,null,null,null,"Cold Settling/Soak Start Date",null,null,null,null,"Warm Climate",0,"(1=Yes, 0=No)",null,null,null,null,"Tank Name",null,"Enter Tank Name",null,null,"Must Chill Start Date",null,null,null,null,"Cold Settling/Soak Start Date",null,null,null,null,"Warm Climate",0,"(1=Yes, 0=No)",null,null,null,null,"Tank Name",null,"Enter Tank Name",null,null,"Must Chill Start Date",null,null,null,null,"Cold Settling/Soak Start Date",null,null,null,null,"Warm Climate",0,"(1=Yes, 0=No)",null,null,null,null,"Tank Name",null,"Enter Tank Name",null,null,"Must Chill Start Date",null,null,null,null,"Cold Settling/Soak Start Date",null,null,null,null,"Warm Climate",0,"(1=Yes, 0=No)",null,null,null,null,"Tank Name",null,"Enter Tank Name",null,null,"Must Chill Start Date",null,null,null,null,"Cold Settling/Soak Start Date",null,null,null,null,"Warm Climate",0,"(1=Yes, 0=No)",null,null,null,null,"Tank Name",null,"Enter Tank Name",null,null,"Must Chill Start Date",null,null,null,null,"Cold Settling/Soak Start Date",null,null,null,null,"Warm Climate",0,"(1=Yes, 0=No)",null,null,null,null,"Tank Name",null,"Enter Tank Name",null,null,"Must Chill Start Date",null,null,null,null,"Cold Settling/Soak Start Date",null,null,null,null,"Warm Climate",0,"(1=Yes, 0=No)",null,null,null,null,"Tank Name",null,"Enter Tank Name",null,null,"Must Chill Start Date",null,null,null,null,"Cold Settling/Soak Start Date",null,null,null,null,"Warm Climate",0,"(1=Yes, 0=No)",null,null,null,null,"Tank Name",null,"Enter Tank Name",null,null,"Must Chill Start Date",null,null,null,null,"Cold Settling/Soak Start Date",null,null,null,null,"Warm Climate",0,"(1=Yes, 0=No)",null,null,null,null,"Tank Name",null,"Enter Tank Name",null,null,"Must Chill Start Date",null,null,null,null,"Cold Settling/Soak Start Date",null,null,null,null,"Warm Climate",0,"(1=Yes, 0=No)",null,null,null,null,"Tank Name",null,"Enter Tank Name",null,null,"Must Chill Start Date",null,null,null,null,"Cold Settling/Soak Start Date",null,null,null,null,"Warm Climate",0,"(1=Yes, 0=No)",null,null,null,null,"Tank Name",null,"Enter Tank Name",null,null,"Must Chill Start Date",null,null,null,null,"Cold Settling/Soak Start Date",null,null,null,null,"Warm Climate",0,"(1=Yes, 0=No)",null,null,null,null,"Tank Name",null,"Enter Tank Name",null,null,"Must Chill Start Date",null,null,null,null,"Cold Settling/Soak Start Date",null,null,null,null,"Warm Climate",0,"(1=Yes, 0=No)",null,null,null,null,"Tank Name",null,"Enter Tank Name",null,null,"Must Chill Start Date",null,null,null,null,"Cold Settling/Soak Start Date",null,null,null,null,"Warm Climate",0,"(1=Yes, 0=No)",null,null,null,null,"Tank Name",null,"Enter Tank Name",null,null,"Must Chill Start Date",null,null,null,null,"Cold Settling/Soak Start Date",null,null,null,null,"Warm Climate",0,"(1=Yes, 0=No)",null,null,null,null,"Tank Name",null,"Enter Tank Name",null,null,"Must Chill Start Date",null,null,null,null,"Cold Settling/Soak Start Date",null,null,null,null,"Warm Climate",0,"(1=Yes, 0=No)",null,null,null,null,"Tank Name",null,"Enter Tank Name",null,null,"Must Chill Start Date",null,null,null,null,"Cold Settling/Soak Start Date",null,null,null,null,"Warm Climate",0,"(1=Yes, 0=No)",null,null,null,null,"Tank Name",null,"Enter Tank Name",null,null,"Must Chill Start Date",null,null,null,null,"Cold Settling/Soak Start Date",null,null,null,null,"Warm Climate",0,"(1=Yes, 0=No)",null,null,null,null,"Tank Name",null,"Enter Tank Name",null,null,"Must Chill Start Date",null,null,null,null,"Cold Settling/Soak Start Date",null,null,null,null,"Warm Climate",0,"(1=Yes, 0=No)",null,null,null,null,"Tank Name",null,"Enter Tank Name",null,null,"Must Chill Start Date",null,null,null,null,"Cold Settling/Soak Start Date",null,null,null,null,"Warm Climate",0,"(1=Yes, 0=No)",null,null,null,null,"Tank Name",null,"Enter Tank Name",null,null,"Must Chill Start Date",null,null,null,null,"Cold Settling/Soak Start Date",null,null,null,null,"Warm Climate",0,"(1=Yes, 0=No)",null,null,null,null,"Tank Name",null,"Enter Tank Name",null,null,"Must Chill Start Date",null,null,null,null,"Cold Settling/Soak Start Date",null,null,null,null,"Warm Climate",0,"(1=Yes, 0=No)",null,null,null,null,"Tank Name",null,"Enter Tank Name",null,null,"Must Chill Start Date",null,null,null,null,"Cold Settling/Soak Start Date",null,null,null,null,"Warm Climate",0,"(1=Yes, 0=No)",null,null,null,null,"Tank Name",null,"Enter Tank Name",null,null,"Must Chill Start Date",null,null,null,null,"Cold Settling/Soak Start Date",null,null,null,null,"Warm Climate",0,"(1=Yes, 0=No)",null,null,null,null,"Tank Name",null,"Enter Tank Name",null,null,"Must Chill Start Date",null,null,null,null,"Cold Settling/Soak Start Date",null,null,null,null,"Warm Climate",0,"(1=Yes, 0=No)",null,null,null,null,"Tank Name",null,"Enter Tank Name",null,null,"Must Chill Start Date",null,null,null,null,"Cold Settling/Soak Start Date",null,null,null,null,"Warm Climate",0,"(1=Yes, 0=No)",null,null,null,null,"Tank Name",null,"Enter Tank Name",null,null,"Must Chill Start Date",null,null,null,null,"Cold Settling/Soak Start Date",null,null,null,null,"Warm Climate",0,"(1=Yes, 0=No)",null,null,null,null,"Tank Name",null,"Enter Tank Name",null,null,"Must Chill Start Date",null,null,null,null,"Cold Settling/Soak Start Date",null,null,null,null,"Warm Climate",0,"(1=Yes, 0=No)",null,null,null,null,"Tank Name",null,"Enter Tank Name",null,null,"Must Chill Start Date",null,null,null,null,"Cold Settling/Soak Start Date",null,null,null,null,"Warm Climate",0,"(1=Yes, 0=No)",null,null,null,null,"Tank Name",null,"Enter Tank Name",null,null,"Must Chill Start Date",null,null,null,null,"Cold Settling/Soak Start Date",null,null,null,null,"Warm Climate",0,"(1=Yes, 0=No)",null,null,null,null,"Tank Name",null,"Enter Tank Name",null,null,"Must Chill Start Date",null,null,null,null,"Cold Settling/Soak Start Date",null,null,null,null,"Warm Climate",0,"(1=Yes, 0=No)",null,null,null,null,"Tank Name",null,"Enter Tank Name",null,null,"Must Chill Start Date",null,null,null,null,"Cold Settling/Soak Start Date",null,null,null,null,"Warm Climate",0,"(1=Yes, 0=No)",null,null,null,null,"Tank Name",null,"Enter Tank Name",null,null,"Must Chill Start Date",null,null,null,null,"Cold Settling/Soak Start Date",null,null,null,null,"Warm Climate",0,"(1=Yes, 0=No)",null,null,null,null,"Tank Name",null,"Enter Tank Name",null,null,"Must Chill Start Date",null,null,null,null,"Cold Settling/Soak Start Date",null,null,null,null,"Warm Climate",0,"(1=Yes, 0=No)",null,null,null,null,"Tank Name",null,"Enter Tank Name",null,null,"Must Chill Start Date",null,null,null,null,"Cold Settling/Soak Start Date",null,null,null,null,"Warm Climate",0,"(1=Yes, 0=No)",null,null,null,null,"Tank Name",null,"Enter Tank Name",null,null,"Must Chill Start Date",null,null,null,null,"Cold Settling/Soak Start Date",null,null,null,null,"Warm Climate",0,"(1=Yes, 0=No)",null,null,null,null,"Tank Name",null,"Enter Tank Name",null,null,"Must Chill Start Date",null,null,null,null,"Cold Settling/Soak Start Date",null,null,null,null,"Warm Climate",0,"(1=Yes, 0=No)",null,null,null,null,"Tank Name",null,"Enter Tank Name",null,null,"Must Chill Start Date",null,null,null,null,"Cold Settling/Soak Start Date",null,null,null,null,"Warm Climate",0,"(1=Yes, 0=No)",null,null,null,null,"Tank Name",null,"Enter Tank Name",null,null,"Must Chill Start Date",null,null,null,null,"Cold Settling/Soak Start Date",null,null,null,null,"Warm Climate",0,"(1=Yes, 0=No)",null,null,null,null,"Tank Name",null,"Enter Tank Name",null,null,"Must Chill Start Date",null,null,null,null,"Cold Settling/Soak Start Date",null,null,null,null,"Warm Climate",0,"(1=Yes, 0=No)",null,null,null,null,"Tank Name",null,"Enter Tank Name",null,null,"Must Chill Start Date",null,null,null,null,"Cold Settling/Soak Start Date",null,null,null,null,"Warm Climate",0,"(1=Yes, 0=No)",null,null,null,null,"Tank Name",null,"Enter Tank Name",null,null,"Must Chill Start Date",null,null,null,null,"Cold Settling/Soak Start Date",null,null,null,null,"Warm Climate",0,"(1=Yes, 0=No)",null,null,null,null,"Tank Name",null,"Enter Tank Name",null,null,"Must Chill Start Date",null,null,null,null,"Cold Settling/Soak Start Date",null,null,null,null,"Warm Climate",0,"(1=Yes, 0=No)",null,null,null,null,"Tank Name",null,"Enter Tank Name",null,null,"Must Chill Start Date",null,null,null,null,"Cold Settling/Soak Start Date",null,null,null,null,"Warm Climate",0,"(1=Yes, 0=No)",null,null,null,null,"Tank Name",null,"Enter Tank Name",null,null,"Must Chill Start Date",null,null,null,null,"Cold Settling/Soak Start Date",null,null,null,null,"Warm Climate",0,"(1=Yes, 0=No)",null,null,null,null,"Tank Name",null,"Enter Tank Name",null,null,"Must Chill Start Date",null,null,null,null,"Cold Settling/Soak Start Date",null,null,null,null,"Warm Climate",0,"(1=Yes, 0=No)",null,null,null,null,"Tank Name",null,"Enter Tank Name",null,null,"Must Chill Start Date",null,null,null,null,"Cold Settling/Soak Start Date",null,null,null,null,"Warm Climate",0,"(1=Yes, 0=No)",null,null,null,null,"Tank Name",null,"Enter Tank Name",null,null,"Must Chill Start Date",null,null,null,null,"Cold Settling/Soak Start Date",null,null,null,null,"Warm Climate",0,"(1=Yes, 0=No)",null,null,null,null,"Tank Name",null,"Enter Tank Name",null,null,"Must Chill Start Date",null,null,null,null,"Cold Settling/Soak Start Date",null,null,null,null,"Warm Climate",0,"(1=Yes, 0=No)",null,null,null,null,"Tank Name",null,"Enter Tank Name",null,null,"Must Chill Start Date",null,null,null,null,"Cold Settling/Soak Start Date",null,null,null,null,"Warm Climate",0,"(1=Yes, 0=No)",null,null,null,null,"Tank Name",null,"Enter Tank Name",null,null,"Must Chill Start Date",null,null,null,null,"Cold Settling/Soak Start Date",null,null,null,null,"Warm Climate",0,"(1=Yes, 0=No)",null,null,null,null,"Tank Name",null,"Enter Tank Name",null,null,"Must Chill Start Date",null,null,null,null,"Cold Settling/Soak Start Date",null,null,null,null,"Warm Climate",0,"(1=Yes, 0=No)",null,null,null,null,"Tank Name",null,"Enter Tank Name",null,null,"Must Chill Start Date",null,null,null,null,"Cold Settling/Soak Start Date",null,null,null,null,"Warm Climate",0,"(1=Yes, 0=No)"]
["Start Date",null,"2013-01-04",null,null,"Must Chill Start Time",null,"10:00:00",null,null,"Cold Settling/Soak Start Time",null,"10:00:00",null,null,"Wild Ferment",0,"(1=Yes, 0=No)",null,null,null,null,"Start Date",null,"2013-01-04",null,null,"Must Chill Start Time",null,"10:00:00",null,null,"Cold Settling/Soak Start Time",null,"10:00:00",null,null,"Wild Ferment",0,"(1=Yes, 0=No)",null,null,null,null,"Start Date",null,"2013-01-04",null,null,"Must Chill Start Time",null,"10:00:00",null,null,"Cold Settling/Soak Start Time",null,"10:00:00",null,null,"Wild Ferment",0,"(1=Yes, 0=No)",null,null,null,null,"Start Date",null,"2013-01-04",null,null,"Must Chill Start Time",null,null,null,null,"Cold Settling/Soak Start Time",null,null,null,null,"Wild Ferment",0,"(1=Yes, 0=No)",null,null,null,null,"Start Date",null,null,null,null,"Must Chill Start Time",null,null,null,null,"Cold Settling/Soak Start Time",null,null,null,null,"Wild Ferment",0,"(1=Yes, 0=No)",null,null,null,null,"Start Date",null,null,null,null,"Must Chill Start Time",null,null,null,null,"Cold Settling/Soak Start Time",null,null,null,null,"Wild Ferment",0,"(1=Yes, 0=No)",null,null,null,null,"Start Date",null,null,null,null,"Must Chill Start Time",null,null,null,null,"Cold Settling/Soak Start Time",null,null,null,null,"Wild Ferment",0,"(1=Yes, 0=No)",null,null,null,null,"Start Date",null,null,null,null,"Must Chill Start Time",null,null,null,null,"Cold Settling/Soak Start Time",null,null,null,null,"Wild Ferment",0,"(1=Yes, 0=No)",null,null,null,null,"Start Date",null,null,null,null,"Must Chill Start Time",null,null,null,null,"Cold Settling/Soak Start Time",null,null,null,null,"Wild Ferment",0,"(1=Yes, 0=No)",null,null,null,null,"Start Date",null,null,null,null,"Must Chill Start Time",null,null,null,null,"Cold Settling/Soak Start Time",null,null,null,null,"Wild Ferment",0,"(1=Yes, 0=No)",null,null,null,null,"Start Date",null,null,null,null,"Must Chill Start Time",null,null,null,null,"Cold Settling/Soak Start Time",null,null,null,null,"Wild Ferment",0,"(1=Yes, 0=No)",null,null,null,null,"Start Date",null,null,null,null,"Must Chill Start Time",null,null,null,null,"Cold Settling/Soak Start Time",null,null,null,null,"Wild Ferment",0,"(1=Yes, 0=No)",null,null,null,null,"Start Date",null,null,null,null,"Must Chill Start Time",null,null,null,null,"Cold Settling/Soak Start Time",null,null,null,null,"Wild Ferment",0,"(1=Yes, 0=No)",null,null,null,null,"Start Date",null,null,null,null,"Must Chill Start Time",null,null,null,null,"Cold Settling/Soak Start Time",null,null,null,null,"Wild Ferment",0,"(1=Yes, 0=No)",null,null,null,null,"Start Date",null,null,null,null,"Must Chill Start Time",null,null,null,null,"Cold Settling/Soak Start Time",null,null,null,null,"Wild Ferment",0,"(1=Yes, 0=No)",null,null,null,null,"Start Date",null,null,null,null,"Must Chill Start Time",null,null,null,null,"Cold Settling/Soak Start Time",null,null,null,null,"Wild Ferment",0,"(1=Yes, 0=No)",null,null,null,null,"Start Date",null,null,null,null,"Must Chill Start Time",null,null,null,null,"Cold Settling/Soak Start Time",null,null,null,null,"Wild Ferment",0,"(1=Yes, 0=No)",null,null,null,null,"Start Date",null,null,null,null,"Must Chill Start Time",null,null,null,null,"Cold Settling/Soak Start Time",null,null,null,null,"Wild Ferment",0,"(1=Yes, 0=No)",null,null,null,null,"Start Date",null,null,null,null,"Must Chill Start Time",null,null,null,null,"Cold Settling/Soak Start Time",null,null,null,null,"Wild Ferment",0,"(1=Yes, 0=No)",null,null,null,null,"Start Date",null,null,null,null,"Must Chill Start Time",null,null,null,null,"Cold Settling/Soak Start Time",null,null,null,null,"Wild Ferment",0,"(1=Yes, 0=No)",null,null,null,null,"Start Date",null,null,null,null,"Must Chill Start Time",null,null,null,null,"Cold Settling/Soak Start Time",null,null,null,null,"Wild Ferment",0,"(1=Yes, 0=No)",null,null,null,null,"Start Date",null,null,null,null,"Must Chill Start Time",null,null,null,null,"Cold Settling/Soak Start Time",null,null,null,null,"Wild Ferment",0,"(1=Yes, 0=No)",null,null,null,null,"Start Date",null,null,null,null,"Must Chill Start Time",null,null,null,null,"Cold Settling/Soak Start Time",null,null,null,null,"Wild Ferment",0,"(1=Yes, 0=No)",null,null,null,null,"Start Date",null,null,null,null,"Must Chill Start Time",null,null,null,null,"Cold Settling/Soak Start Time",null,null,null,null,"Wild Ferment",0,"(1=Yes, 0=No)",null,null,null,null,"Start Date",null,null,null,null,"Must Chill Start Time",null,null,null,null,"Cold Settling/Soak Start Time",null,null,null,null,"Wild Ferment",0,"(1=Yes, 0=No)",null,null,null,null,"Start Date",null,null,null,null,"Must Chill Start Time",null,null,null,null,"Cold Settling/Soak Start Time",null,null,null,null,"Wild Ferment",0,"(1=Yes, 0=No)",null,null,null,null,"Start Date",null,null,null,null,"Must Chill Start Time",null,null,null,null,"Cold Settling/Soak Start Time",null,null,null,null,"Wild Ferment",0,"(1=Yes, 0=No)",null,null,null,null,"Start Date",null,null,null,null,"Must Chill Start Time",null,null,null,null,"Cold Settling/Soak Start Time",null,null,null,null,"Wild Ferment",0,"(1=Yes, 0=No)",null,null,null,null,"Start Date",null,null,null,null,"Must Chill Start Time",null,null,null,null,"Cold Settling/Soak Start Time",null,null,null,null,"Wild Ferment",0,"(1=Yes, 0=No)",null,null,null,null,"Start Date",null,null,null,null,"Must Chill Start Time",null,null,null,null,"Cold Settling/Soak Start Time",null,null,null,null,"Wild Ferment",0,"(1=Yes, 0=No)",null,null,null,null,"Start Date",null,null,null,null,"Must Chill Start Time",null,null,null,null,"Cold Settling/Soak Start Time",null,null,null,null,"Wild Ferment",0,"(1=Yes, 0=No)",null,null,null,null,"Start Date",null,null,null,null,"Must Chill Start Time",null,null,null,null,"Cold Settling/Soak Start Time",null,null,null,null,"Wild Ferment",0,"(1=Yes, 0=No)",null,null,null,null,"Start Date",null,null,null,null,"Must Chill Start Time",null,null,null,null,"Cold Settling/Soak Start Time",null,null,null,null,"Wild Ferment",0,"(1=Yes, 0=No)",null,null,null,null,"Start Date",null,null,null,null,"Must Chill Start Time",null,null,null,null,"Cold Settling/Soak Start Time",null,null,null,null,"Wild Ferment",0,"(1=Yes, 0=No)",null,null,null,null,"Start Date",null,null,null,null,"Must Chill Start Time",null,null,null,null,"Cold Settling/Soak Start Time",null,null,null,null,"Wild Ferment",0,"(1=Yes, 0=No)",null,null,null,null,"Start Date",null,null,null,null,"Must Chill Start Time",null,null,null,null,"Cold Settling/Soak Start Time",null,null,null,null,"Wild Ferment",0,"(1=Yes, 0=No)",null,null,null,null,"Start Date",null,null,null,null,"Must Chill Start Time",null,null,null,null,"Cold Settling/Soak Start Time",null,null,null,null,"Wild Ferment",0,"(1=Yes, 0=No)",null,null,null,null,"Start Date",null,null,null,null,"Must Chill Start Time",null,null,null,null,"Cold Settling/Soak Start Time",null,null,null,null,"Wild Ferment",0,"(1=Yes, 0=No)",null,null,null,null,"Start Date",null,null,null,null,"Must Chill Start Time",null,null,null,null,"Cold Settling/Soak Start Time",null,null,null,null,"Wild Ferment",0,"(1=Yes, 0=No)",null,null,null,null,"Start Date",null,null,null,null,"Must Chill Start Time",null,null,null,null,"Cold Settling/Soak Start Time",null,null,null,null,"Wild Ferment",0,"(1=Yes, 0=No)",null,null,null,null,"Start Date",null,null,null,null,"Must Chill Start Time",null,null,null,null,"Cold Settling/Soak Start Time",null,null,null,null,"Wild Ferment",0,"(1=Yes, 0=No)",null,null,null,null,"Start Date",null,null,null,null,"Must Chill Start Time",null,null,null,null,"Cold Settling/Soak Start Time",null,null,null,null,"Wild Ferment",0,"(1=Yes, 0=No)",null,null,null,null,"Start Date",null,null,null,null,"Must Chill Start Time",null,null,null,null,"Cold Settling/Soak Start Time",null,null,null,null,"Wild Ferment",0,"(1=Yes, 0=No)",null,null,null,null,"Start Date",null,null,null,null,"Must Chill Start Time",null,null,null,null,"Cold Settling/Soak Start Time",null,null,null,null,"Wild Ferment",0,"(1=Yes, 0=No)",null,null,null,null,"Start Date",null,null,null,null,"Must Chill Start Time",null,null,null,null,"Cold Settling/Soak Start Time",null,null,null,null,"Wild Ferment",0,"(1=Yes, 0=No)",null,null,null,null,"Start Date",null,null,null,null,"Must Chill Start Time",null,null,null,null,"Cold Settling/Soak Start Time",null,null,null,null,"Wild Ferment",0,"(1=Yes, 0=No)",null,null,null,null,"Start Date",null,null,null,null,"Must Chill Start Time",null,null,null,null,"Cold Settling/Soak Start Time",null,null,null,null,"Wild Ferment",0,"(1=Yes, 0=No)",null,null,null,null,"Start Date",null,null,null,null,"Must Chill Start Time",null,null,null,null,"Cold Settling/Soak Start Time",null,null,null,null,"Wild Ferment",0,"(1=Yes, 0=No)",null,null,null,null,"Start Date",null,null,null,null,"Must Chill Start Time",null,null,null,null,"Cold Settling/Soak Start Time",null,null,null,null,"Wild Ferment",0,"(1=Yes, 0=No)",null,null,null,null,"Start Date",null,null,null,null,"Must Chill Start Time",null,null,null,null,"Cold Settling/Soak Start Time",null,null,null,null,"Wild Ferment",0,"(1=Yes, 0=No)",null,null,null,null,"Start Date",null,null,null,null,"Must Chill Start Time",null,null,null,null,"Cold Settling/Soak Start Time",null,null,null,null,"Wild Ferment",0,"(1=Yes, 0=No)",null,null,null,null,"Start Date",null,null,null,null,"Must Chill Start Time",null,null,null,null,"Cold Settling/Soak Start Time",null,null,null,null,"Wild Ferment",0,"(1=Yes, 0=No)",null,null,null,null,"Start Date",null,null,null,null,"Must Chill Start Time",null,null,null,null,"Cold Settling/Soak Start Time",null,null,null,null,"Wild Ferment",0,"(1=Yes, 0=No)",null,null,null,null,"Start Date",null,null,null,null,"Must Chill Start Time",null,null,null,null,"Cold Settling/Soak Start Time",null,null,null,null,"Wild Ferment",0,"(1=Yes, 0=No)",null,null,null,null,"Start Date",null,null,null,null,"Must Chill Start Time",null,null,null,null,"Cold Settling/Soak Start Time",null,null,null,null,"Wild Ferment",0,"(1=Yes, 0=No)",null,null,null,null,"Start Date",null,null,null,null,"Must Chill Start Time",null,null,null,null,"Cold Settling/Soak Start Time",null,null,null,null,"Wild Ferment",0,"(1=Yes, 0=No)",null,null,null,null,"Start Date",null,null,null,null,"Must Chill Start Time",null,null,null,null,"Cold Settling/Soak Start Time",null,null,null,null,"Wild Ferment",0,"(1=Yes, 0=No)",null,null,null,null,"Start Date",null,null,null,null,"Must Chill Start Time",null,null,null,null,"Cold Settling/Soak Start Time",null,null,null,null,"Wild Ferment",0,"(1=Yes, 0=No)",null,null,null,null,"Start Date",null,null,null,null,"Must Chill Start Time",null,null,null,null,"Cold Settling/Soak Start Time",null,null,null,null,"Wild Ferment",0,"(1=Yes, 0=No)",null,null,null,null,"Start Date",null,null,null,null,"Must Chill Start Time",null,null,null,null,"Cold Settling/Soak Start Time",null,null,null,null,"Wild Ferment",0,"(1=Yes, 0=No)",null,null,null,null,"Start Date",null,null,null,null,"Must Chill Start Time",null,null,null,null,"Cold Settling/Soak Start Time",null,null,null,null,"Wild Ferment",0,"(1=Yes, 0=No)",null,null,null,null,"Start Date",null,null,null,null,"Must Chill Start Time",null,null,null,null,"Cold Settling/Soak Start Time",null,null,null,null,"Wild Ferment",0,"(1=Yes, 0=No)",null,null,null,null,"Start Date",null,null,null,null,"Must Chill Start Time",null,null,null,null,"Cold Settling/Soak Start Time",null,null,null,null,"Wild Ferment",0,"(1=Yes, 0=No)",null,null,null,null,"Start Date",null,null,null,null,"Must Chill Start Time",null,null,null,null,"Cold Settling/Soak Start Time",null,null,null,null,"Wild Ferment",0,"(1=Yes, 0=No)",null,null,null,null,"Start Date",null,null,null,null,"Must Chill Start Time",null,null,null,null,"Cold Settling/Soak Start Time",null,null,null,null,"Wild Ferment",0,"(1=Yes, 0=No)",null,null,null,null,"Start Date",null,null,null,null,"Must Chill Start Time",null,null,null,null,"Cold Settling/Soak Start Time",null,null,null,null,"Wild Ferment",0,"(1=Yes, 0=No)",null,null,null,null,"Start Date",null,null,null,null,"Must Chill Start Time",null,null,null,null,"Cold Settling/Soak Start Time",null,null,null,null,"Wild Ferment",0,"(1=Yes, 0=No)",null,null,null,null,"Start Date",null,null,null,null,"Must Chill Start Time",null,null,null,null,"Cold Settling/Soak Start Time",null,null,null,null,"Wild Ferment",0,"(1=Yes, 0=No)",null,null,null,null,"Start Date",null,null,null,null,"Must Chill Start Time",null,null,null,null,"Cold Settling/Soak Start Time",null,null,null,null,"Wild Ferment",0,"(1=Yes, 0=No)",null,null,null,null,"Start Date",null,null,null,null,"Must Chill Start Time",null,null,null,null,"Cold Settling/Soak Start Time",null,null,null,null,"Wild Ferment",0,"(1=Yes, 0=No)",null,null,null,null,"Start Date",null,null,null,null,"Must Chill Start Time",null,null,null,null,"Cold Settling/Soak Start Time",null,null,null,null,"Wild Ferment",0,"(1=Yes, 0=No)",null,null,null,null,"Start Date",null,null,null,null,"Must Chill Start Time",null,null,null,null,"Cold Settling/Soak Start Time",null,null,null,null,"Wild Ferment",0,"(1=Yes, 0=No)",null,null,null,null,"Start Date",null,null,null,null,"Must Chill Start Time",null,null,null,null,"Cold Settling/Soak Start Time",null,null,null,null,"Wild Ferment",0,"(1=Yes, 0=No)",null,null,null,null,"Start Date",null,null,null,null,"Must Chill Start Time",null,null,null,null,"Cold Settling/Soak Start Time",null,null,null,null,"Wild Ferment",0,"(1=Yes, 0=No)",null,null,null,null,"Start Date",null,null,null,null,"Must Chill Start Time",null,null,null,null,"Cold Settling/Soak Start Time",null,null,null,null,"Wild Ferment",0,"(1=Yes, 0=No)",null,null,null,null,"Start Date",null,null,null,null,"Must Chill Start Time",null,null,null,null,"Cold Settling/Soak Start Time",null,null,null,null,"Wild Ferment",0,"(1=Yes, 0=No)",null,null,null,null,"Start Date",null,null,null,null,"Must Chill Start Time",null,null,null,null,"Cold Settling/Soak Start Time",null,null,null,null,"Wild Ferment",0,"(1=Yes, 0=No)",null,null,null,null,"Start Date",null,null,null,null,"Must Chill Start Time",null,null,null,null,"Cold Settling/Soak Start Time",null,null,null,null,"Wild Ferment",0,"(1=Yes, 0=No)",null,null,null,null,"Start Date",null,null,null,null,"Must Chill Start Time",null,null,null,null,"Cold Settling/Soak Start Time",null,null,null,null,"Wild Ferment",0,"(1=Yes, 0=No)",null,null,null,null,"Start Date",null,null,null,null,"Must Chill Start Time",null,null,null,null,"Cold Settling/Soak Start Time",null,null,null,null,"Wild Ferment",0,"(1=Yes, 0=No)",null,null,null,null,"Start Date",null,null,null,null,"Must Chill Start Time",null,null,null,null,"Cold Settling/Soak Start Time",null,null,null,null,"Wild Ferment",0,"(1=Yes, 0=No)",null,null,null,null,"Start Date",null,null,null,null,"Must Chill Start Time",null,null,null,null,"Cold Settling/Soak Start Time",null,null,null,null,"Wild Ferment",0,"(1=Yes, 0=No)",null,null,null,null,"Start Date",null,null,null,null,"Must Chill Start Time",null,null,null,null,"Cold Settling/Soak Start Time",null,null,null,null,"Wild Ferment",0,"(1=Yes, 0=No)",null,null,null,null,"Start Date",null,null,null,null,"Must Chill Start Time",null,null,null,null,"Cold Settling/Soak Start Time",null,null,null,null,"Wild Ferment",0,"(1=Yes, 0=No)",null,null,null,null,"Start Date",null,null,null,null,"Must Chill Start Time",null,null,null,null,"Cold Settling/Soak Start Time",null,null,null,null,"Wild Ferment",0,"(1=Yes, 0=No)",null,null,null,null,"Start Date",null,null,null,null,"Must Chill Start Time",null,null,null,null,"Cold Settling/Soak Start Time",null,null,null,null,"Wild Ferment",0,"(1=Yes, 0=No)",null,null,null,null,"Start Date",null,null,null,null,"Must Chill Start Time",null,null,null,null,"Cold Settling/Soak Start Time",null,null,null,null,"Wild Ferment",0,"(1=Yes, 0=No)",null,null,null,null,"Start Date",null,null,null,null,"Must Chill Start Time",null,null,null,null,"Cold Settling/Soak Start Time",null,null,null,null,"Wild Ferment",0,"(1=Yes, 0=No)",null,null,null,null,"Start Date",null,null,null,null,"Must Chill Start Time",null,null,null,null,"Cold Settling/Soak Start Time",null,null,null,null,"Wild Ferment",0,"(1=Yes, 0=No)",null,null,null,null,"Start Date",null,null,null,null,"Must Chill Start Time",null,null,null,null,"Cold Settling/Soak Start Time",null,null,null,null,"Wild Ferment",0,"(1=Yes, 0=No)",null,null,null,null,"Start Date",null,null,null,null,"Must Chill Start Time",null,null,null,null,"Cold Settling/Soak Start Time",null,null,null,null,"Wild Ferment",0,"(1=Yes, 0=No)",null,null,null,null,"Start Date",null,null,null,null,"Must Chill Start Time",null,null,null,null,"Cold Settling/Soak Start Time",null,null,null,null,"Wild Ferment",0,"(1=Yes, 0=No)",null,null,null,null,"Start Date",null,null,null,null,"Must Chill Start Time",null,null,null,null,"Cold Settling/Soak Start Time",null,null,null,null,"Wild Ferment",0,"(1=Yes, 0=No)",null,null,null,null,"Start Date",null,null,null,null,"Must Chill Start Time",null,null,null,null,"Cold Settling/Soak Start Time",null,null,null,null,"Wild Ferment",0,"(1=Yes, 0=No)",null,null,null,null,"Start Date",null,null,null,null,"Must Chill Start Time",null,null,null,null,"Cold Settling/Soak Start Time",null,null,null,null,"Wild Ferment",0,"(1=Yes, 0=No)",null,null,null,null,"Start Date",null,null,null,null,"Must Chill Start Time",null,null,null,null,"Cold Settling/Soak Start Time",null,null,null,null,"Wild Ferment",0,"(1=Yes, 0=No)",null,null,null,null,"Start Date",null,null,null,null,"Must Chill Start Time",null,null,null,null,"Cold Settling/Soak Start Time",null,null,null,null,"Wild Ferment",0,"(1=Yes, 0=No)",null,null,null,null,"Start Date",null,null,null,null,"Must Chill Start Time",null,null,null,null,"Cold Settling/Soak Start Time",null,null,null,null,"Wild Ferment",0,"(1=Yes, 0=No)",null,null,null,null,"Start Date",null,null,null,null,"Must Chill Start Time",null,null,null,null,"Cold Settling/Soak Start Time",null,null,null,null,"Wild Ferment",0,"(1=Yes, 0=No)",null,null,null,null,"Start Date",null,null,null,null,"Must Chill Start Time",null,null,null,null,"Cold Settling/Soak Start Time",null,null,null,null,"Wild Ferment",0,"(1=Yes, 0=No)"]
["Start Time",null,"12:00:00",null,null,"Time Step",null,3,null,null,"Time Step",null,11,null,null,null,null,null,null,null,null,null,"Start Time",null,"12:00:00",null,null,"Time Step",null,3,null,null,"Time Step",null,11,null,null,null,null,null,null,null,null,null,"Start Time",null,"12:00:00",null,null,"Time Step",null,3,null,null,"Time Step",null,11,null,null,null,null,null,null,null,null,null,"Start Time",null,"12:00:00",null,null,"Time Step",null,{"$f":"(BV4-'Full Vintage Planner'!$C$8)*8+INT(BV5*8)","v":-330200},null,null,"Time Step",null,{"$f":"(CA4-'Full Vintage Planner'!$C$8)*8+INT(CA5*8)","v":-330200},null,null,null,null,null,null,null,null,null,"Start Time",null,null,null,null,"Time Step",null,{"$f":"(CR4-'Full Vintage Planner'!$C$8)*8+INT(CR5*8)","v":-330200},null,null,"Time Step",null,{"$f":"(CW4-'Full Vintage Planner'!$C$8)*8+INT(CW5*8)","v":-330200},null,null,null,null,null,null,null,null,null,"Start Time",null,null,null,null,"Time Step",null,{"$f":"(DN4-'Full Vintage Planner'!$C$8)*8+INT(DN5*8)","v":-330200},null,null,"Time Step",null,{"$f":"(DS4-'Full Vintage Planner'!$C$8)*8+INT(DS5*8)","v":-330200},null,null,null,null,null,null,null,null,null,"Start Time",null,null,null,null,"Time Step",null,{"$f":"(EJ4-'Full Vintage Planner'!$C$8)*8+INT(EJ5*8)","v":-330200},null,null,"Time Step",null,{"$f":"(EO4-'Full Vintage Planner'!$C$8)*8+INT(EO5*8)","v":-330200},null,null,null,null,null,null,null,null,null,"Start Time",null,null,null,null,"Time Step",null,{"$f":"(FF4-'Full Vintage Planner'!$C$8)*8+INT(FF5*8)","v":-330200},null,null,"Time Step",null,{"$f":"(FK4-'Full Vintage Planner'!$C$8)*8+INT(FK5*8)","v":-330200},null,null,null,null,null,null,null,null,null,"Start Time",null,null,null,null,"Time Step",null,{"$f":"(GB4-'Full Vintage Planner'!$C$8)*8+INT(GB5*8)","v":-330200},null,null,"Time Step",null,{"$f":"(GG4-'Full Vintage Planner'!$C$8)*8+INT(GG5*8)","v":-330200},null,null,null,null,null,null,null,null,null,"Start Time",null,null,null,null,"Time Step",null,{"$f":"(GX4-'Full Vintage Planner'!$C$8)*8+INT(GX5*8)","v":-330200},null,null,"Time Step",null,{"$f":"(HC4-'Full Vintage Planner'!$C$8)*8+INT(HC5*8)","v":-330200},null,null,null,null,null,null,null,null,null,"Start Time",null,null,null,null,"Time Step",null,{"$f":"(HT4-'Full Vintage Planner'!$C$8)*8+INT(HT5*8)","v":-330200},null,null,"Time Step",null,{"$f":"(HY4-'Full Vintage Planner'!$C$8)*8+INT(HY5*8)","v":-330200},null,null,null,null,null,null,null,null,null,"Start Time",null,null,null,null,"Time Step",null,{"$f":"(IP4-'Full Vintage Planner'!$C$8)*8+INT(IP5*8)","v":-330200},null,null,"Time Step",null,{"$f":"(IU4-'Full Vintage Planner'!$C$8)*8+INT(IU5*8)","v":-330200},null,null,null,null,null,null,null,null,null,"Start Time",null,null,null,null,"Time Step",null,{"$f":"(JL4-'Full Vintage Planner'!$C$8)*8+INT(JL5*8)","v":-330200},null,null,"Time Step",null,{"$f":"(JQ4-'Full Vintage Planner'!$C$8)*8+INT(JQ5*8)","v":-330200},null,null,null,null,null,null,null,null,null,"Start Time",null,null,null,null,"Time Step",null,{"$f":"(KH4-'Full Vintage Planner'!$C$8)*8+INT(KH5*8)","v":-330200},null,null,"Time Step",null,{"$f":"(KM4-'Full Vintage Planner'!$C$8)*8+INT(KM5*8)","v":-330200},null,null,null,null,null,null,null,null,null,"Start Time",null,null,null,null,"Time Step",null,{"$f":"(LD4-'Full Vintage Planner'!$C$8)*8+INT(LD5*8)","v":-330200},null,null,"Time Step",null,{"$f":"(LI4-'Full Vintage Planner'!$C$8)*8+INT(LI5*8)","v":-330200},null,null,null,null,null,null,null,null,null,"Start Time",null,null,null,null,"Time Step",null,{"$f":"(LZ4-'Full Vintage Planner'!$C$8)*8+INT(LZ5*8)","v":-330200},null,null,"Time Step",null,{"$f":"(ME4-'Full Vintage Planner'!$C$8)*8+INT(ME5*8)","v":-330200},null,null,null,null,null,null,null,null,null,"Start Time",null,null,null,null,"Time Step",null,{"$f":"(MV4-'Full Vintage Planner'!$C$8)*8+INT(MV5*8)","v":-330200},null,null,"Time Step",null,{"$f":"(NA4-'Full Vintage Planner'!$C$8)*8+INT(NA5*8)","v":-330200},null,null,null,null,null,null,null,null,null,"Start Time",null,null,null,null,"Time Step",null,{"$f":"(NR4-'Full Vintage Planner'!$C$8)*8+INT(NR5*8)","v":-330200},null,null,"Time Step",null,{"$f":"(NW4-'Full Vintage Planner'!$C$8)*8+INT(NW5*8)","v":-330200},null,null,null,null,null,null,null,null,null,"Start Time",null,null,null,null,"Time Step",null,{"$f":"(ON4-'Full Vintage Planner'!$C$8)*8+INT(ON5*8)","v":-330200},null,null,"Time Step",null,{"$f":"(OS4-'Full Vintage Planner'!$C$8)*8+INT(OS5*8)","v":-330200},null,null,null,null,null,null,null,null,null,"Start Time",null,null,null,null,"Time Step",null,{"$f":"(PJ4-'Full Vintage Planner'!$C$8)*8+INT(PJ5*8)","v":-330200},null,null,"Time Step",null,{"$f":"(PO4-'Full Vintage Planner'!$C$8)*8+INT(PO5*8)","v":-330200},null,null,null,null,null,null,null,null,null,"Start Time",null,null,null,null,"Time Step",null,{"$f":"(QF4-'Full Vintage Planner'!$C$8)*8+INT(QF5*8)","v":-330200},null,null,"Time Step",null,{"$f":"(QK4-'Full Vintage Planner'!$C$8)*8+INT(QK5*8)","v":-330200},null,null,null,null,null,null,null,null,null,"Start Time",null,null,null,null,"Time Step",null,{"$f":"(RB4-'Full Vintage Planner'!$C$8)*8+INT(RB5*8)","v":-330200},null,null,"Time Step",null,{"$f":"(RG4-'Full Vintage Planner'!$C$8)*8+INT(RG5*8)","v":-330200},null,null,null,null,null,null,null,null,null,"Start Time",null,null,null,null,"Time Step",null,{"$f":"(RX4-'Full Vintage Planner'!$C$8)*8+INT(RX5*8)","v":-330200},null,null,"Time Step",null,{"$f":"(SC4-'Full Vintage Planner'!$C$8)*8+INT(SC5*8)","v":-330200},null,null,null,null,null,null,null,null,null,"Start Time",null,null,null,null,"Time Step",null,{"$f":"(ST4-'Full Vintage Planner'!$C$8)*8+INT(ST5*8)","v":-330200},null,null,"Time Step",null,{"$f":"(SY4-'Full Vintage Planner'!$C$8)*8+INT(SY5*8)","v":-330200},null,null,null,null,null,null,null,null,null,"Start Time",null,null,null,null,"Time Step",null,{"$f":"(TP4-'Full Vintage Planner'!$C$8)*8+INT(TP5*8)","v":-330200},null,null,"Time Step",null,{"$f":"(TU4-'Full Vintage Planner'!$C$8)*8+INT(TU5*8)","v":-330200},null,null,null,null,null,null,null,null,null,"Start Time",null,null,null,null,"Time Step",null,{"$f":"(UL4-'Full Vintage Planner'!$C$8)*8+INT(UL5*8)","v":-330200},null,null,"Time Step",null,{"$f":"(UQ4-'Full Vintage Planner'!$C$8)*8+INT(UQ5*8)","v":-330200},null,null,null,null,null,null,null,null,null,"Start Time",null,null,null,null,"Time Step",null,{"$f":"(VH4-'Full Vintage Planner'!$C$8)*8+INT(VH5*8)","v":-330200},null,null,"Time Step",null,{"$f":"(VM4-'Full Vintage Planner'!$C$8)*8+INT(VM5*8)","v":-330200},null,null,null,null,null,null,null,null,null,"Start Time",null,null,null,null,"Time Step",null,{"$f":"(WD4-'Full Vintage Planner'!$C$8)*8+INT(WD5*8)","v":-330200},null,null,"Time Step",null,{"$f":"(WI4-'Full Vintage Planner'!$C$8)*8+INT(WI5*8)","v":-330200},null,null,null,null,null,null,null,null,null,"Start Time",null,null,null,null,"Time Step",null,{"$f":"(WZ4-'Full Vintage Planner'!$C$8)*8+INT(WZ5*8)","v":-330200},null,null,"Time Step",null,{"$f":"(XE4-'Full Vintage Planner'!$C$8)*8+INT(XE5*8)","v":-330200},null,null,null,null,null,null,null,null,null,"Start Time",null,null,null,null,"Time Step",null,{"$f":"(XV4-'Full Vintage Planner'!$C$8)*8+INT(XV5*8)","v":-330200},null,null,"Time Step",null,{"$f":"(YA4-'Full Vintage Planner'!$C$8)*8+INT(YA5*8)","v":-330200},null,null,null,null,null,null,null,null,null,"Start Time",null,null,null,null,"Time Step",null,{"$f":"(YR4-'Full Vintage Planner'!$C$8)*8+INT(YR5*8)","v":-330200},null,null,"Time Step",null,{"$f":"(YW4-'Full Vintage Planner'!$C$8)*8+INT(YW5*8)","v":-330200},null,null,null,null,null,null,null,null,null,"Start Time",null,null,null,null,"Time Step",null,{"$f":"(ZN4-'Full Vintage Planner'!$C$8)*8+INT(ZN5*8)","v":-330200},null,null,"Time Step",null,{"$f":"(ZS4-'Full Vintage Planner'!$C$8)*8+INT(ZS5*8)","v":-330200},null,null,null,null,null,null,null,null,null,"Start Time",null,null,null,null,"Time Step",null,{"$f":"(AAJ4-'Full Vintage Planner'!$C$8)*8+INT(AAJ5*8)","v":-330200},null,null,"Time Step",null,{"$f":"(AAO4-'Full Vintage Planner'!$C$8)*8+INT(AAO5*8)","v":-330200},null,null,null,null,null,null,null,null,null,"Start Time",null,null,null,null,"Time Step",null,{"$f":"(ABF4-'Full Vintage Planner'!$C$8)*8+INT(ABF5*8)","v":-330200},null,null,"Time Step",null,{"$f":"(ABK4-'Full Vintage Planner'!$C$8)*8+INT(ABK5*8)","v":-330200},null,null,null,null,null,null,null,null,null,"Start Time",null,null,null,null,"Time Step",null,{"$f":"(ACB4-'Full Vintage Planner'!$C$8)*8+INT(ACB5*8)","v":-330200},null,null,"Time Step",null,{"$f":"(ACG4-'Full Vintage Planner'!$C$8)*8+INT(ACG5*8)","v":-330200},null,null,null,null,null,null,null,null,null,"Start Time",null,null,null,null,"Time Step",null,{"$f":"(ACX4-'Full Vintage Planner'!$C$8)*8+INT(ACX5*8)","v":-330200},null,null,"Time Step",null,{"$f":"(ADC4-'Full Vintage Planner'!$C$8)*8+INT(ADC5*8)","v":-330200},null,null,null,null,null,null,null,null,null,"Start Time",null,null,null,null,"Time Step",null,{"$f":"(ADT4-'Full Vintage Planner'!$C$8)*8+INT(ADT5*8)","v":-330200},null,null,"Time Step",null,{"$f":"(ADY4-'Full Vintage Planner'!$C$8)*8+INT(ADY5*8)","v":-330200},null,null,null,null,null,null,null,null,null,"Start Time",null,null,null,null,"Time Step",null,{"$f":"(AEP4-'Full Vintage Planner'!$C$8)*8+INT(AEP5*8)","v":-330200},null,null,"Time Step",null,{"$f":"(AEU4-'Full Vintage Planner'!$C$8)*8+INT(AEU5*8)","v":-330200},null,null,null,null,null,null,null,null,null,"Start Time",null,null,null,null,"Time Step",null,{"$f":"(AFL4-'Full Vintage Planner'!$C$8)*8+INT(AFL5*8)","v":-330200},null,null,"Time Step",null,{"$f":"(AFQ4-'Full Vintage Planner'!$C$8)*8+INT(AFQ5*8)","v":-330200},null,null,null,null,null,null,null,null,null,"Start Time",null,null,null,null,"Time Step",null,{"$f":"(AGH4-'Full Vintage Planner'!$C$8)*8+INT(AGH5*8)","v":-330200},null,null,"Time Step",null,{"$f":"(AGM4-'Full Vintage Planner'!$C$8)*8+INT(AGM5*8)","v":-330200},null,null,null,null,null,null,null,null,null,"Start Time",null,null,null,null,"Time Step",null,{"$f":"(AHD4-'Full Vintage Planner'!$C$8)*8+INT(AHD5*8)","v":-330200},null,null,"Time Step",null,{"$f":"(AHI4-'Full Vintage Planner'!$C$8)*8+INT(AHI5*8)","v":-330200},null,null,null,null,null,null,null,null,null,"Start Time",null,null,null,null,"Time Step",null,{"$f":"(AHZ4-'Full Vintage Planner'!$C$8)*8+INT(AHZ5*8)","v":-330200},null,null,"Time Step",null,{"$f":"(AIE4-'Full Vintage Planner'!$C$8)*8+INT(AIE5*8)","v":-330200},null,null,null,null,null,null,null,null,null,"Start Time",null,null,null,null,"Time Step",null,{"$f":"(AIV4-'Full Vintage Planner'!$C$8)*8+INT(AIV5*8)","v":-330200},null,null,"Time Step",null,{"$f":"(AJA4-'Full Vintage Planner'!$C$8)*8+INT(AJA5*8)","v":-330200},null,null,null,null,null,null,null,null,null,"Start Time",null,null,null,null,"Time Step",null,{"$f":"(AJR4-'Full Vintage Planner'!$C$8)*8+INT(AJR5*8)","v":-330200},null,null,"Time Step",null,{"$f":"(AJW4-'Full Vintage Planner'!$C$8)*8+INT(AJW5*8)","v":-330200},null,null,null,null,null,null,null,null,null,"Start Time",null,null,null,null,"Time Step",null,{"$f":"(AKN4-'Full Vintage Planner'!$C$8)*8+INT(AKN5*8)","v":-330200},null,null,"Time Step",null,{"$f":"(AKS4-'Full Vintage Planner'!$C$8)*8+INT(AKS5*8)","v":-330200},null,null,null,null,null,null,null,null,null,"Start Time",null,null,null,null,"Time Step",null,{"$f":"(ALJ4-'Full Vintage Planner'!$C$8)*8+INT(ALJ5*8)","v":-330200},null,null,"Time Step",null,{"$f":"(ALO4-'Full Vintage Planner'!$C$8)*8+INT(ALO5*8)","v":-330200},null,null,null,null,null,null,null,null,null,"Start Time",null,null,null,null,"Time Step",null,{"$f":"(AMF4-'Full Vintage Planner'!$C$8)*8+INT(AMF5*8)","v":-330200},null,null,"Time Step",null,{"$f":"(AMK4-'Full Vintage Planner'!$C$8)*8+INT(AMK5*8)","v":-330200},null,null,null,null,null,null,null,null,null,"Start Time",null,null,null,null,"Time Step",null,{"$f":"(ANB4-'Full Vintage Planner'!$C$8)*8+INT(ANB5*8)","v":-330200},null,null,"Time Step",null,{"$f":"(ANG4-'Full Vintage Planner'!$C$8)*8+INT(ANG5*8)","v":-330200},null,null,null,null,null,null,null,null,null,"Start Time",null,null,null,null,"Time Step",null,{"$f":"(ANX4-'Full Vintage Planner'!$C$8)*8+INT(ANX5*8)","v":-330200},null,null,"Time Step",null,{"$f":"(AOC4-'Full Vintage Planner'!$C$8)*8+INT(AOC5*8)","v":-330200},null,null,null,null,null,null,null,null,null,"Start Time",null,null,null,null,"Time Step",null,{"$f":"(AOT4-'Full Vintage Planner'!$C$8)*8+INT(AOT5*8)","v":-330200},null,null,"Time Step",null,{"$f":"(AOY4-'Full Vintage Planner'!$C$8)*8+INT(AOY5*8)","v":-330200},null,null,null,null,null,null,null,null,null,"Start Time",null,null,null,null,"Time Step",null,{"$f":"(APP4-'Full Vintage Planner'!$C$8)*8+INT(APP5*8)","v":-330200},null,null,"Time Step",null,{"$f":"(APU4-'Full Vintage Planner'!$C$8)*8+INT(APU5*8)","v":-330200},null,null,null,null,null,null,null,null,null,"Start Time",null,null,null,null,"Time Step",null,{"$f":"(AQL4-'Full Vintage Planner'!$C$8)*8+INT(AQL5*8)","v":-330200},null,null,"Time Step",null,{"$f":"(AQQ4-'Full Vintage Planner'!$C$8)*8+INT(AQQ5*8)","v":-330200},null,null,null,null,null,null,null,null,null,"Start Time",null,null,null,null,"Time Step",null,{"$f":"(ARH4-'Full Vintage Planner'!$C$8)*8+INT(ARH5*8)","v":-330200},null,null,"Time Step",null,{"$f":"(ARM4-'Full Vintage Planner'!$C$8)*8+INT(ARM5*8)","v":-330200},null,null,null,null,null,null,null,null,null,"Start Time",null,null,null,null,"Time Step",null,{"$f":"(ASD4-'Full Vintage Planner'!$C$8)*8+INT(ASD5*8)","v":-330200},null,null,"Time Step",null,{"$f":"(ASI4-'Full Vintage Planner'!$C$8)*8+INT(ASI5*8)","v":-330200},null,null,null,null,null,null,null,null,null,"Start Time",null,null,null,null,"Time Step",null,{"$f":"(ASZ4-'Full Vintage Planner'!$C$8)*8+INT(ASZ5*8)","v":-330200},null,null,"Time Step",null,{"$f":"(ATE4-'Full Vintage Planner'!$C$8)*8+INT(ATE5*8)","v":-330200},null,null,null,null,null,null,null,null,null,"Start Time",null,null,null,null,"Time Step",null,{"$f":"(ATV4-'Full Vintage Planner'!$C$8)*8+INT(ATV5*8)","v":-330200},null,null,"Time Step",null,{"$f":"(AUA4-'Full Vintage Planner'!$C$8)*8+INT(AUA5*8)","v":-330200},null,null,null,null,null,null,null,null,null,"Start Time",null,null,null,null,"Time Step",null,{"$f":"(AUR4-'Full Vintage Planner'!$C$8)*8+INT(AUR5*8)","v":-330200},null,null,"Time Step",null,{"$f":"(AUW4-'Full Vintage Planner'!$C$8)*8+INT(AUW5*8)","v":-330200},null,null,null,null,null,null,null,null,null,"Start Time",null,null,null,null,"Time Step",null,{"$f":"(AVN4-'Full Vintage Planner'!$C$8)*8+INT(AVN5*8)","v":-330200},null,null,"Time Step",null,{"$f":"(AVS4-'Full Vintage Planner'!$C$8)*8+INT(AVS5*8)","v":-330200},null,null,null,null,null,null,null,null,null,"Start Time",null,null,null,null,"Time Step",null,{"$f":"(AWJ4-'Full Vintage Planner'!$C$8)*8+INT(AWJ5*8)","v":-330200},null,null,"Time Step",null,{"$f":"(AWO4-'Full Vintage Planner'!$C$8)*8+INT(AWO5*8)","v":-330200},null,null,null,null,null,null,null,null,null,"Start Time",null,null,null,null,"Time Step",null,{"$f":"(AXF4-'Full Vintage Planner'!$C$8)*8+INT(AXF5*8)","v":-330200},null,null,"Time Step",null,{"$f":"(AXK4-'Full Vintage Planner'!$C$8)*8+INT(AXK5*8)","v":-330200},null,null,null,null,null,null,null,null,null,"Start Time",null,null,null,null,"Time Step",null,{"$f":"(AYB4-'Full Vintage Planner'!$C$8)*8+INT(AYB5*8)","v":-330200},null,null,"Time Step",null,{"$f":"(AYG4-'Full Vintage Planner'!$C$8)*8+INT(AYG5*8)","v":-330200},null,null,null,null,null,null,null,null,null,"Start Time",null,null,null,null,"Time Step",null,{"$f":"(AYX4-'Full Vintage Planner'!$C$8)*8+INT(AYX5*8)","v":-330200},null,null,"Time Step",null,{"$f":"(AZC4-'Full Vintage Planner'!$C$8)*8+INT(AZC5*8)","v":-330200},null,null,null,null,null,null,null,null,null,"Start Time",null,null,null,null,"Time Step",null,{"$f":"(AZT4-'Full Vintage Planner'!$C$8)*8+INT(AZT5*8)","v":-330200},null,null,"Time Step",null,{"$f":"(AZY4-'Full Vintage Planner'!$C$8)*8+INT(AZY5*8)","v":-330200},null,null,null,null,null,null,null,null,null,"Start Time",null,null,null,null,"Time Step",null,{"$f":"(BAP4-'Full Vintage Planner'!$C$8)*8+INT(BAP5*8)","v":-330200},null,null,"Time Step",null,{"$f":"(BAU4-'Full Vintage Planner'!$C$8)*8+INT(BAU5*8)","v":-330200},null,null,null,null,null,null,null,null,null,"Start Time",null,null,null,null,"Time Step",null,{"$f":"(BBL4-'Full Vintage Planner'!$C$8)*8+INT(BBL5*8)","v":-330200},null,null,"Time Step",null,{"$f":"(BBQ4-'Full Vintage Planner'!$C$8)*8+INT(BBQ5*8)","v":-330200},null,null,null,null,null,null,null,null,null,"Start Time",null,null,null,null,"Time Step",null,{"$f":"(BCH4-'Full Vintage Planner'!$C$8)*8+INT(BCH5*8)","v":-330200},null,null,"Time Step",null,{"$f":"(BCM4-'Full Vintage Planner'!$C$8)*8+INT(BCM5*8)","v":-330200},null,null,null,null,null,null,null,null,null,"Start Time",null,null,null,null,"Time Step",null,{"$f":"(BDD4-'Full Vintage Planner'!$C$8)*8+INT(BDD5*8)","v":-330200},null,null,"Time Step",null,{"$f":"(BDI4-'Full Vintage Planner'!$C$8)*8+INT(BDI5*8)","v":-330200},null,null,null,null,null,null,null,null,null,"Start Time",null,null,null,null,"Time Step",null,{"$f":"(BDZ4-'Full Vintage Planner'!$C$8)*8+INT(BDZ5*8)","v":-330200},null,null,"Time Step",null,{"$f":"(BEE4-'Full Vintage Planner'!$C$8)*8+INT(BEE5*8)","v":-330200},null,null,null,null,null,null,null,null,null,"Start Time",null,null,null,null,"Time Step",null,{"$f":"(BEV4-'Full Vintage Planner'!$C$8)*8+INT(BEV5*8)","v":-330200},null,null,"Time Step",null,{"$f":"(BFA4-'Full Vintage Planner'!$C$8)*8+INT(BFA5*8)","v":-330200},null,null,null,null,null,null,null,null,null,"Start Time",null,null,null,null,"Time Step",null,{"$f":"(BFR4-'Full Vintage Planner'!$C$8)*8+INT(BFR5*8)","v":-330200},null,null,"Time Step",null,{"$f":"(BFW4-'Full Vintage Planner'!$C$8)*8+INT(BFW5*8)","v":-330200},null,null,null,null,null,null,null,null,null,"Start Time",null,null,null,null,"Time Step",null,{"$f":"(BGN4-'Full Vintage Planner'!$C$8)*8+INT(BGN5*8)","v":-330200},null,null,"Time Step",null,{"$f":"(BGS4-'Full Vintage Planner'!$C$8)*8+INT(BGS5*8)","v":-330200},null,null,null,null,null,null,null,null,null,"Start Time",null,null,null,null,"Time Step",null,{"$f":"(BHJ4-'Full Vintage Planner'!$C$8)*8+INT(BHJ5*8)","v":-330200},null,null,"Time Step",null,{"$f":"(BHO4-'Full Vintage Planner'!$C$8)*8+INT(BHO5*8)","v":-330200},null,null,null,null,null,null,null,null,null,"Start Time",null,null,null,null,"Time Step",null,{"$f":"(BIF4-'Full Vintage Planner'!$C$8)*8+INT(BIF5*8)","v":-330200},null,null,"Time Step",null,{"$f":"(BIK4-'Full Vintage Planner'!$C$8)*8+INT(BIK5*8)","v":-330200},null,null,null,null,null,null,null,null,null,"Start Time",null,null,null,null,"Time Step",null,{"$f":"(BJB4-'Full Vintage Planner'!$C$8)*8+INT(BJB5*8)","v":-330200},null,null,"Time Step",null,{"$f":"(BJG4-'Full Vintage Planner'!$C$8)*8+INT(BJG5*8)","v":-330200},null,null,null,null,null,null,null,null,null,"Start Time",null,null,null,null,"Time Step",null,{"$f":"(BJX4-'Full Vintage Planner'!$C$8)*8+INT(BJX5*8)","v":-330200},null,null,"Time Step",null,{"$f":"(BKC4-'Full Vintage Planner'!$C$8)*8+INT(BKC5*8)","v":-330200},null,null,null,null,null,null,null,null,null,"Start Time",null,null,null,null,"Time Step",null,{"$f":"(BKT4-'Full Vintage Planner'!$C$8)*8+INT(BKT5*8)","v":-330200},null,null,"Time Step",null,{"$f":"(BKY4-'Full Vintage Planner'!$C$8)*8+INT(BKY5*8)","v":-330200},null,null,null,null,null,null,null,null,null,"Start Time",null,null,null,null,"Time Step",null,{"$f":"(BLP4-'Full Vintage Planner'!$C$8)*8+INT(BLP5*8)","v":-330200},null,null,"Time Step",null,{"$f":"(BLU4-'Full Vintage Planner'!$C$8)*8+INT(BLU5*8)","v":-330200},null,null,null,null,null,null,null,null,null,"Start Time",null,null,null,null,"Time Step",null,{"$f":"(BML4-'Full Vintage Planner'!$C$8)*8+INT(BML5*8)","v":-330200},null,null,"Time Step",null,{"$f":"(BMQ4-'Full Vintage Planner'!$C$8)*8+INT(BMQ5*8)","v":-330200},null,null,null,null,null,null,null,null,null,"Start Time",null,null,null,null,"Time Step",null,{"$f":"(BNH4-'Full Vintage Planner'!$C$8)*8+INT(BNH5*8)","v":-330200},null,null,"Time Step",null,{"$f":"(BNM4-'Full Vintage Planner'!$C$8)*8+INT(BNM5*8)","v":-330200},null,null,null,null,null,null,null,null,null,"Start Time",null,null,null,null,"Time Step",null,{"$f":"(BOD4-'Full Vintage Planner'!$C$8)*8+INT(BOD5*8)","v":-330200},null,null,"Time Step",null,{"$f":"(BOI4-'Full Vintage Planner'!$C$8)*8+INT(BOI5*8)","v":-330200},null,null,null,null,null,null,null,null,null,"Start Time",null,null,null,null,"Time Step",null,{"$f":"(BOZ4-'Full Vintage Planner'!$C$8)*8+INT(BOZ5*8)","v":-330200},null,null,"Time Step",null,{"$f":"(BPE4-'Full Vintage Planner'!$C$8)*8+INT(BPE5*8)","v":-330200},null,null,null,null,null,null,null,null,null,"Start Time",null,null,null,null,"Time Step",null,{"$f":"(BPV4-'Full Vintage Planner'!$C$8)*8+INT(BPV5*8)","v":-330200},null,null,"Time Step",null,{"$f":"(BQA4-'Full Vintage Planner'!$C$8)*8+INT(BQA5*8)","v":-330200},null,null,null,null,null,null,null,null,null,"Start Time",null,null,null,null,"Time Step",null,{"$f":"(BQR4-'Full Vintage Planner'!$C$8)*8+INT(BQR5*8)","v":-330200},null,null,"Time Step",null,{"$f":"(BQW4-'Full Vintage Planner'!$C$8)*8+INT(BQW5*8)","v":-330200},null,null,null,null,null,null,null,null,null,"Start Time",null,null,null,null,"Time Step",null,{"$f":"(BRN4-'Full Vintage Planner'!$C$8)*8+INT(BRN5*8)","v":-330200},null,null,"Time Step",null,{"$f":"(BRS4-'Full Vintage Planner'!$C$8)*8+INT(BRS5*8)","v":-330200},null,null,null,null,null,null,null,null,null,"Start Time",null,null,null,null,"Time Step",null,{"$f":"(BSJ4-'Full Vintage Planner'!$C$8)*8+INT(BSJ5*8)","v":-330200},null,null,"Time Step",null,{"$f":"(BSO4-'Full Vintage Planner'!$C$8)*8+INT(BSO5*8)","v":-330200},null,null,null,null,null,null,null,null,null,"Start Time",null,null,null,null,"Time Step",null,{"$f":"(BTF4-'Full Vintage Planner'!$C$8)*8+INT(BTF5*8)","v":-330200},null,null,"Time Step",null,{"$f":"(BTK4-'Full Vintage Planner'!$C$8)*8+INT(BTK5*8)","v":-330200},null,null,null,null,null,null,null,null,null,"Start Time",null,null,null,null,"Time Step",null,{"$f":"(BUB4-'Full Vintage Planner'!$C$8)*8+INT(BUB5*8)","v":-330200},null,null,"Time Step",null,{"$f":"(BUG4-'Full Vintage Planner'!$C$8)*8+INT(BUG5*8)","v":-330200},null,null,null,null,null,null,null,null,null,"Start Time",null,null,null,null,"Time Step",null,{"$f":"(BUX4-'Full Vintage Planner'!$C$8)*8+INT(BUX5*8)","v":-330200},null,null,"Time Step",null,{"$f":"(BVC4-'Full Vintage Planner'!$C$8)*8+INT(BVC5*8)","v":-330200},null,null,null,null,null,null,null,null,null,"Start Time",null,null,null,null,"Time Step",null,{"$f":"(BVT4-'Full Vintage Planner'!$C$8)*8+INT(BVT5*8)","v":-330200},null,null,"Time Step",null,{"$f":"(BVY4-'Full Vintage Planner'!$C$8)*8+INT(BVY5*8)","v":-330200},null,null,null,null,null,null,null,null,null,"Start Time",null,null,null,null,"Time Step",null,{"$f":"(BWP4-'Full Vintage Planner'!$C$8)*8+INT(BWP5*8)","v":-330200},null,null,"Time Step",null,{"$f":"(BWU4-'Full Vintage Planner'!$C$8)*8+INT(BWU5*8)","v":-330200},null,null,null,null,null,null,null,null,null,"Start Time",null,null,null,null,"Time Step",null,{"$f":"(BXL4-'Full Vintage Planner'!$C$8)*8+INT(BXL5*8)","v":-330200},null,null,"Time Step",null,{"$f":"(BXQ4-'Full Vintage Planner'!$C$8)*8+INT(BXQ5*8)","v":-330200},null,null,null,null,null,null,null,null,null,"Start Time",null,null,null,null,"Time Step",null,{"$f":"(BYH4-'Full Vintage Planner'!$C$8)*8+INT(BYH5*8)","v":-330200},null,null,"Time Step",null,{"$f":"(BYM4-'Full Vintage Planner'!$C$8)*8+INT(BYM5*8)","v":-330200},null,null,null,null,null,null,null,null,null,"Start Time",null,null,null,null,"Time Step",null,{"$f":"(BZD4-'Full Vintage Planner'!$C$8)*8+INT(BZD5*8)","v":-330200},null,null,"Time Step",null,{"$f":"(BZI4-'Full Vintage Planner'!$C$8)*8+INT(BZI5*8)","v":-330200},null,null,null,null,null,null,null,null,null,"Start Time",null,null,null,null,"Time Step",null,{"$f":"(BZZ4-'Full Vintage Planner'!$C$8)*8+INT(BZZ5*8)","v":-330200},null,null,"Time Step",null,{"$f":"(CAE4-'Full Vintage Planner'!$C$8)*8+INT(CAE5*8)","v":-330200},null,null,null,null,null,null,null,null,null,"Start Time",null,null,null,null,"Time Step",null,{"$f":"(CAV4-'Full Vintage Planner'!$C$8)*8+INT(CAV5*8)","v":-330200},null,null,"Time Step",null,{"$f":"(CBA4-'Full Vintage Planner'!$C$8)*8+INT(CBA5*8)","v":-330200},null,null,null,null,null,null,null,null,null,"Start Time",null,null,null,null,"Time Step",null,{"$f":"(CBR4-'Full Vintage Planner'!$C$8)*8+INT(CBR5*8)","v":-330200},null,null,"Time Step",null,{"$f":"(CBW4-'Full Vintage Planner'!$C$8)*8+INT(CBW5*8)","v":-330200},null,null,null,null,null,null,null,null,null,"Start Time",null,null,null,null,"Time Step",null,{"$f":"(CCN4-'Full Vintage Planner'!$C$8)*8+INT(CCN5*8)","v":-330200},null,null,"Time Step",null,{"$f":"(CCS4-'Full Vintage Planner'!$C$8)*8+INT(CCS5*8)","v":-330200},null,null,null,null,null,null,null,null,null,"Start Time",null,null,null,null,"Time Step",null,{"$f":"(CDJ4-'Full Vintage Planner'!$C$8)*8+INT(CDJ5*8)","v":-330200},null,null,"Time Step",null,{"$f":"(CDO4-'Full Vintage Planner'!$C$8)*8+INT(CDO5*8)","v":-330200},null,null,null,null,null,null,null,null,null,"Start Time",null,null,null,null,"Time Step",null,{"$f":"(CEF4-'Full Vintage Planner'!$C$8)*8+INT(CEF5*8)","v":-330200},null,null,"Time Step",null,{"$f":"(CEK4-'Full Vintage Planner'!$C$8)*8+INT(CEK5*8)","v":-330200},null,null,null,null,null,null,null,null,null,"Start Time",null,null,null,null,"Time Step",null,{"$f":"(CFB4-'Full Vintage Planner'!$C$8)*8+INT(CFB5*8)","v":-330200},null,null,"Time Step",null,{"$f":"(CFG4-'Full Vintage Planner'!$C$8)*8+INT(CFG5*8)","v":-330200}]
["Time Step",null,28,null,null,"Must Chill Flowrate",null,30,"kL/hr",null,"Cold Settling/Soak Finish Date",null,"2013-01-04",null,null,null,null,null,null,null,null,null,"Time Step",null,28,null,null,"Must Chill Flowrate",null,30,"kL/hr",null,"Cold Settling/Soak Finish Date",null,"2013-01-04",null,null,null,null,null,null,null,null,null,"Time Step",null,{"$f":"(AU5-'Full Vintage Planner'!$C$8)*8+INT(AU6*8)","v":28},null,null,"Must Chill Flowrate",null,30,"kL/hr",null,"Cold Settling/Soak Finish Date",null,"2013-01-04",null,null,null,null,null,null,null,null,null,"Time Step",null,{"$f":"(BQ5-'Full Vintage Planner'!$C$8)*8+INT(BQ6*8)","v":28},null,null,"Must Chill Flowrate",null,null,"kL/hr",null,"Cold Settling/Soak Finish Date",null,null,null,null,null,null,null,null,null,null,null,"Time Step",null,{"$f":"(CM5-'Full Vintage Planner'!$C$8)*8+INT(CM6*8)","v":-330200},null,null,"Must Chill Flowrate",null,null,"kL/hr",null,"Cold Settling/Soak Finish Date",null,null,null,null,null,null,null,null,null,null,null,"Time Step",null,{"$f":"(DI5-'Full Vintage Planner'!$C$8)*8+INT(DI6*8)","v":-330200},null,null,"Must Chill Flowrate",null,null,"kL/hr",null,"Cold Settling/Soak Finish Date",null,null,null,null,null,null,null,null,null,null,null,"Time Step",null,{"$f":"(EE5-'Full Vintage Planner'!$C$8)*8+INT(EE6*8)","v":-330200},null,null,"Must Chill Flowrate",null,null,"kL/hr",null,"Cold Settling/Soak Finish Date",null,null,null,null,null,null,null,null,null,null,null,"Time Step",null,{"$f":"(FA5-'Full Vintage Planner'!$C$8)*8+INT(FA6*8)","v":-330200},null,null,"Must Chill Flowrate",null,null,"kL/hr",null,"Cold Settling/Soak Finish Date",null,null,null,null,null,null,null,null,null,null,null,"Time Step",null,{"$f":"(FW5-'Full Vintage Planner'!$C$8)*8+INT(FW6*8)","v":-330200},null,null,"Must Chill Flowrate",null,null,"kL/hr",null,"Cold Settling/Soak Finish Date",null,null,null,null,null,null,null,null,null,null,null,"Time Step",null,{"$f":"(GS5-'Full Vintage Planner'!$C$8)*8+INT(GS6*8)","v":-330200},null,null,"Must Chill Flowrate",null,null,"kL/hr",null,"Cold Settling/Soak Finish Date",null,null,null,null,null,null,null,null,null,null,null,"Time Step",null,{"$f":"(HO5-'Full Vintage Planner'!$C$8)*8+INT(HO6*8)","v":-330200},null,null,"Must Chill Flowrate",null,null,"kL/hr",null,"Cold Settling/Soak Finish Date",null,null,null,null,null,null,null,null,null,null,null,"Time Step",null,{"$f":"(IK5-'Full Vintage Planner'!$C$8)*8+INT(IK6*8)","v":-330200},null,null,"Must Chill Flowrate",null,null,"kL/hr",null,"Cold Settling/Soak Finish Date",null,null,null,null,null,null,null,null,null,null,null,"Time Step",null,{"$f":"(JG5-'Full Vintage Planner'!$C$8)*8+INT(JG6*8)","v":-330200},null,null,"Must Chill Flowrate",null,null,"kL/hr",null,"Cold Settling/Soak Finish Date",null,null,null,null,null,null,null,null,null,null,null,"Time Step",null,{"$f":"(KC5-'Full Vintage Planner'!$C$8)*8+INT(KC6*8)","v":-330200},null,null,"Must Chill Flowrate",null,null,"kL/hr",null,"Cold Settling/Soak Finish Date",null,null,null,null,null,null,null,null,null,null,null,"Time Step",null,{"$f":"(KY5-'Full Vintage Planner'!$C$8)*8+INT(KY6*8)","v":-330200},null,null,"Must Chill Flowrate",null,null,"kL/hr",null,"Cold Settling/Soak Finish Date",null,null,null,null,null,null,null,null,null,null,null,"Time Step",null,{"$f":"(LU5-'Full Vintage Planner'!$C$8)*8+INT(LU6*8)","v":-330200},null,null,"Must Chill Flowrate",null,null,"kL/hr",null,"Cold Settling/Soak Finish Date",null,null,null,null,null,null,null,null,null,null,null,"Time Step",null,{"$f":"(MQ5-'Full Vintage Planner'!$C$8)*8+INT(MQ6*8)","v":-330200},null,null,"Must Chill Flowrate",null,null,"kL/hr",null,"Cold Settling/Soak Finish Date",null,null,null,null,null,null,null,null,null,null,null,"Time Step",null,{"$f":"(NM5-'Full Vintage Planner'!$C$8)*8+INT(NM6*8)","v":-330200},null,null,"Must Chill Flowrate",null,null,"kL/hr",null,"Cold Settling/Soak Finish Date",null,null,null,null,null,null,null,null,null,null,null,"Time Step",null,{"$f":"(OI5-'Full Vintage Planner'!$C$8)*8+INT(OI6*8)","v":-330200},null,null,"Must Chill Flowrate",null,null,"kL/hr",null,"Cold Settling/Soak Finish Date",null,null,null,null,null,null,null,null,null,null,null,"Time Step",null,{"$f":"(PE5-'Full Vintage Planner'!$C$8)*8+INT(PE6*8)","v":-330200},null,null,"Must Chill Flowrate",null,null,"kL/hr",null,"Cold Settling/Soak Finish Date",null,null,null,null,null,null,null,null,null,null,null,"Time Step",null,{"$f":"(QA5-'Full Vintage Planner'!$C$8)*8+INT(QA6*8)","v":-330200},null,null,"Must Chill Flowrate",null,null,"kL/hr",null,"Cold Settling/Soak Finish Date",null,null,null,null,null,null,null,null,null,null,null,"Time Step",null,{"$f":"(QW5-'Full Vintage Planner'!$C$8)*8+INT(QW6*8)","v":-330200},null,null,"Must Chill Flowrate",null,null,"kL/hr",null,"Cold Settling/Soak Finish Date",null,null,null,null,null,null,null,null,null,null,null,"Time Step",null,{"$f":"(RS5-'Full Vintage Planner'!$C$8)*8+INT(RS6*8)","v":-330200},null,null,"Must Chill Flowrate",null,null,"kL/hr",null,"Cold Settling/Soak Finish Date",null,null,null,null,null,null,null,null,null,null,null,"Time Step",null,{"$f":"(SO5-'Full Vintage Planner'!$C$8)*8+INT(SO6*8)","v":-330200},null,null,"Must Chill Flowrate",null,null,"kL/hr",null,"Cold Settling/Soak Finish Date",null,null,null,null,null,null,null,null,null,null,null,"Time Step",null,{"$f":"(TK5-'Full Vintage Planner'!$C$8)*8+INT(TK6*8)","v":-330200},null,null,"Must Chill Flowrate",null,null,"kL/hr",null,"Cold Settling/Soak Finish Date",null,null,null,null,null,null,null,null,null,null,null,"Time Step",null,{"$f":"(UG5-'Full Vintage Planner'!$C$8)*8+INT(UG6*8)","v":-330200},null,null,"Must Chill Flowrate",null,null,"kL/hr",null,"Cold Settling/Soak Finish Date",null,null,null,null,null,null,null,null,null,null,null,"Time Step",null,{"$f":"(VC5-'Full Vintage Planner'!$C$8)*8+INT(VC6*8)","v":-330200},null,null,"Must Chill Flowrate",null,null,"kL/hr",null,"Cold Settling/Soak Finish Date",null,null,null,null,null,null,null,null,null,null,null,"Time Step",null,{"$f":"(VY5-'Full Vintage Planner'!$C$8)*8+INT(VY6*8)","v":-330200},null,null,"Must Chill Flowrate",null,null,"kL/hr",null,"Cold Settling/Soak Finish Date",null,null,null,null,null,null,null,null,null,null,null,"Time Step",null,{"$f":"(WU5-'Full Vintage Planner'!$C$8)*8+INT(WU6*8)","v":-330200},null,null,"Must Chill Flowrate",null,null,"kL/hr",null,"Cold Settling/Soak Finish Date",null,null,null,null,null,null,null,null,null,null,null,"Time Step",null,{"$f":"(XQ5-'Full Vintage Planner'!$C$8)*8+INT(XQ6*8)","v":-330200},null,null,"Must Chill Flowrate",null,null,"kL/hr",null,"Cold Settling/Soak Finish Date",null,null,null,null,null,null,null,null,null,null,null,"Time Step",null,{"$f":"(YM5-'Full Vintage Planner'!$C$8)*8+INT(YM6*8)","v":-330200},null,null,"Must Chill Flowrate",null,null,"kL/hr",null,"Cold Settling/Soak Finish Date",null,null,null,null,null,null,null,null,null,null,null,"Time Step",null,{"$f":"(ZI5-'Full Vintage Planner'!$C$8)*8+INT(ZI6*8)","v":-330200},null,null,"Must Chill Flowrate",null,null,"kL/hr",null,"Cold Settling/Soak Finish Date",null,null,null,null,null,null,null,null,null,null,null,"Time Step",null,{"$f":"(AAE5-'Full Vintage Planner'!$C$8)*8+INT(AAE6*8)","v":-330200},null,null,"Must Chill Flowrate",null,null,"kL/hr",null,"Cold Settling/Soak Finish Date",null,null,null,null,null,null,null,null,null,null,null,"Time Step",null,{"$f":"(ABA5-'Full Vintage Planner'!$C$8)*8+INT(ABA6*8)","v":-330200},null,null,"Must Chill Flowrate",null,null,"kL/hr",null,"Cold Settling/Soak Finish Date",null,null,null,null,null,null,null,null,null,null,null,"Time Step",null,{"$f":"(ABW5-'Full Vintage Planner'!$C$8)*8+INT(ABW6*8)","v":-330200},null,null,"Must Chill Flowrate",null,null,"kL/hr",null,"Cold Settling/Soak Finish Date",null,null,null,null,null,null,null,null,null,null,null,"Time Step",null,{"$f":"(ACS5-'Full Vintage Planner'!$C$8)*8+INT(ACS6*8)","v":-330200},null,null,"Must Chill Flowrate",null,null,"kL/hr",null,"Cold Settling/Soak Finish Date",null,null,null,null,null,null,null,null,null,null,null,"Time Step",null,{"$f":"(ADO5-'Full Vintage Planner'!$C$8)*8+INT(ADO6*8)","v":-330200},null,null,"Must Chill Flowrate",null,null,"kL/hr",null,"Cold Settling/Soak Finish Date",null,null,null,null,null,null,null,null,null,null,null,"Time Step",null,{"$f":"(AEK5-'Full Vintage Planner'!$C$8)*8+INT(AEK6*8)","v":-330200},null,null,"Must Chill Flowrate",null,null,"kL/hr",null,"Cold Settling/Soak Finish Date",null,null,null,null,null,null,null,null,null,null,null,"Time Step",null,{"$f":"(AFG5-'Full Vintage Planner'!$C$8)*8+INT(AFG6*8)","v":-330200},null,null,"Must Chill Flowrate",null,null,"kL/hr",null,"Cold Settling/Soak Finish Date",null,null,null,null,null,null,null,null,null,null,null,"Time Step",null,{"$f":"(AGC5-'Full Vintage Planner'!$C$8)*8+INT(AGC6*8)","v":-330200},null,null,"Must Chill Flowrate",null,null,"kL/hr",null,"Cold Settling/Soak Finish Date",null,null,null,null,null,null,null,null,null,null,null,"Time Step",null,{"$f":"(AGY5-'Full Vintage Planner'!$C$8)*8+INT(AGY6*8)","v":-330200},null,null,"Must Chill Flowrate",null,null,"kL/hr",null,"Cold Settling/Soak Finish Date",null,null,null,null,null,null,null,null,null,null,null,"Time Step",null,{"$f":"(AHU5-'Full Vintage Planner'!$C$8)*8+INT(AHU6*8)","v":-330200},null,null,"Must Chill Flowrate",null,null,"kL/hr",null,"Cold Settling/Soak Finish Date",null,null,null,null,null,null,null,null,null,null,null,"Time Step",null,{"$f":"(AIQ5-'Full Vintage Planner'!$C$8)*8+INT(AIQ6*8)","v":-330200},null,null,"Must Chill Flowrate",null,null,"kL/hr",null,"Cold Settling/Soak Finish Date",null,null,null,null,null,null,null,null,null,null,null,"Time Step",null,{"$f":"(AJM5-'Full Vintage Planner'!$C$8)*8+INT(AJM6*8)","v":-330200},null,null,"Must Chill Flowrate",null,null,"kL/hr",null,"Cold Settling/Soak Finish Date",null,null,null,null,null,null,null,null,null,null,null,"Time Step",null,{"$f":"(AKI5-'Full Vintage Planner'!$C$8)*8+INT(AKI6*8)","v":-330200},null,null,"Must Chill Flowrate",null,null,"kL/hr",null,"Cold Settling/Soak Finish Date",null,null,null,null,null,null,null,null,null,null,null,"Time Step",null,{"$f":"(ALE5-'Full Vintage Planner'!$C$8)*8+INT(ALE6*8)","v":-330200},null,null,"Must Chill Flowrate",null,null,"kL/hr",null,"Cold Settling/Soak Finish Date",null,null,null,null,null,null,null,null,null,null,null,"Time Step",null,{"$f":"(AMA5-'Full Vintage Planner'!$C$8)*8+INT(AMA6*8)","v":-330200},null,null,"Must Chill Flowrate",null,null,"kL/hr",null,"Cold Settling/Soak Finish Date",null,null,null,null,null,null,null,null,null,null,null,"Time Step",null,{"$f":"(AMW5-'Full Vintage Planner'!$C$8)*8+INT(AMW6*8)","v":-330200},null,null,"Must Chill Flowrate",null,null,"kL/hr",null,"Cold Settling/Soak Finish Date",null,null,null,null,null,null,null,null,null,null,null,"Time Step",null,{"$f":"(ANS5-'Full Vintage Planner'!$C$8)*8+INT(ANS6*8)","v":-330200},null,null,"Must Chill Flowrate",null,null,"kL/hr",null,"Cold Settling/Soak Finish Date",null,null,null,null,null,null,null,null,null,null,null,"Time Step",null,{"$f":"(AOO5-'Full Vintage Planner'!$C$8)*8+INT(AOO6*8)","v":-330200},null,null,"Must Chill Flowrate",null,null,"kL/hr",null,"Cold Settling/Soak Finish Date",null,null,null,null,null,null,null,null,null,null,null,"Time Step",null,{"$f":"(APK5-'Full Vintage Planner'!$C$8)*8+INT(APK6*8)","v":-330200},null,null,"Must Chill Flowrate",null,null,"kL/hr",null,"Cold Settling/Soak Finish Date",null,null,null,null,null,null,null,null,null,null,null,"Time Step",null,{"$f":"(AQG5-'Full Vintage Planner'!$C$8)*8+INT(AQG6*8)","v":-330200},null,null,"Must Chill Flowrate",null,null,"kL/hr",null,"Cold Settling/Soak Finish Date",null,null,null,null,null,null,null,null,null,null,null,"Time Step",null,{"$f":"(ARC5-'Full Vintage Planner'!$C$8)*8+INT(ARC6*8)","v":-330200},null,null,"Must Chill Flowrate",null,null,"kL/hr",null,"Cold Settling/Soak Finish Date",null,null,null,null,null,null,null,null,null,null,null,"Time Step",null,{"$f":"(ARY5-'Full Vintage Planner'!$C$8)*8+INT(ARY6*8)","v":-330200},null,null,"Must Chill Flowrate",null,null,"kL/hr",null,"Cold Settling/Soak Finish Date",null,null,null,null,null,null,null,null,null,null,null,"Time Step",null,{"$f":"(ASU5-'Full Vintage Planner'!$C$8)*8+INT(ASU6*8)","v":-330200},null,null,"Must Chill Flowrate",null,null,"kL/hr",null,"Cold Settling/Soak Finish Date",null,null,null,null,null,null,null,null,null,null,null,"Time Step",null,{"$f":"(ATQ5-'Full Vintage Planner'!$C$8)*8+INT(ATQ6*8)","v":-330200},null,null,"Must Chill Flowrate",null,null,"kL/hr",null,"Cold Settling/Soak Finish Date",null,null,null,null,null,null,null,null,null,null,null,"Time Step",null,{"$f":"(AUM5-'Full Vintage Planner'!$C$8)*8+INT(AUM6*8)","v":-330200},null,null,"Must Chill Flowrate",null,null,"kL/hr",null,"Cold Settling/Soak Finish Date",null,null,null,null,null,null,null,null,null,null,null,"Time Step",null,{"$f":"(AVI5-'Full Vintage Planner'!$C$8)*8+INT(AVI6*8)","v":-330200},null,null,"Must Chill Flowrate",null,null,"kL/hr",null,"Cold Settling/Soak Finish Date",null,null,null,null,null,null,null,null,null,null,null,"Time Step",null,{"$f":"(AWE5-'Full Vintage Planner'!$C$8)*8+INT(AWE6*8)","v":-330200},null,null,"Must Chill Flowrate",null,null,"kL/hr",null,"Cold Settling/Soak Finish Date",null,null,null,null,null,null,null,null,null,null,null,"Time Step",null,{"$f":"(AXA5-'Full Vintage Planner'!$C$8)*8+INT(AXA6*8)","v":-330200},null,null,"Must Chill Flowrate",null,null,"kL/hr",null,"Cold Settling/Soak Finish Date",null,null,null,null,null,null,null,null,null,null,null,"Time Step",null,{"$f":"(AXW5-'Full Vintage Planner'!$C$8)*8+INT(AXW6*8)","v":-330200},null,null,"Must Chill Flowrate",null,null,"kL/hr",null,"Cold Settling/Soak Finish Date",null,null,null,null,null,null,null,null,null,null,null,"Time Step",null,{"$f":"(AYS5-'Full Vintage Planner'!$C$8)*8+INT(AYS6*8)","v":-330200},null,null,"Must Chill Flowrate",null,null,"kL/hr",null,"Cold Settling/Soak Finish Date",null,null,null,null,null,null,null,null,null,null,null,"Time Step",null,{"$f":"(AZO5-'Full Vintage Planner'!$C$8)*8+INT(AZO6*8)","v":-330200},null,null,"Must Chill Flowrate",null,null,"kL/hr",null,"Cold Settling/Soak Finish Date",null,null,null,null,null,null,null,null,null,null,null,"Time Step",null,{"$f":"(BAK5-'Full Vintage Planner'!$C$8)*8+INT(BAK6*8)","v":-330200},null,null,"Must Chill Flowrate",null,null,"kL/hr",null,"Cold Settling/Soak Finish Date",null,null,null,null,null,null,null,null,null,null,null,"Time Step",null,{"$f":"(BBG5-'Full Vintage Planner'!$C$8)*8+INT(BBG6*8)","v":-330200},null,null,"Must Chill Flowrate",null,null,"kL/hr",null,"Cold Settling/Soak Finish Date",null,null,null,null,null,null,null,null,null,null,null,"Time Step",null,{"$f":"(BCC5-'Full Vintage Planner'!$C$8)*8+INT(BCC6*8)","v":-330200},null,null,"Must Chill Flowrate",null,null,"kL/hr",null,"Cold Settling/Soak Finish Date",null,null,null,null,null,null,null,null,null,null,null,"Time Step",null,{"$f":"(BCY5-'Full Vintage Planner'!$C$8)*8+INT(BCY6*8)","v":-330200},null,null,"Must Chill Flowrate",null,null,"kL/hr",null,"Cold Settling/Soak Finish Date",null,null,null,null,null,null,null,null,null,null,null,"Time Step",null,{"$f":"(BDU5-'Full Vintage Planner'!$C$8)*8+INT(BDU6*8)","v":-330200},null,null,"Must Chill Flowrate",null,null,"kL/hr",null,"Cold Settling/Soak Finish Date",null,null,null,null,null,null,null,null,null,null,null,"Time Step",null,{"$f":"(BEQ5-'Full Vintage Planner'!$C$8)*8+INT(BEQ6*8)","v":-330200},null,null,"Must Chill Flowrate",null,null,"kL/hr",null,"Cold Settling/Soak Finish Date",null,null,null,null,null,null,null,null,null,null,null,"Time Step",null,{"$f":"(BFM5-'Full Vintage Planner'!$C$8)*8+INT(BFM6*8)","v":-330200},null,null,"Must Chill Flowrate",null,null,"kL/hr",null,"Cold Settling/Soak Finish Date",null,null,null,null,null,null,null,null,null,null,null,"Time Step",null,{"$f":"(BGI5-'Full Vintage Planner'!$C$8)*8+INT(BGI6*8)","v":-330200},null,null,"Must Chill Flowrate",null,null,"kL/hr",null,"Cold Settling/Soak Finish Date",null,null,null,null,null,null,null,null,null,null,null,"Time Step",null,{"$f":"(BHE5-'Full Vintage Planner'!$C$8)*8+INT(BHE6*8)","v":-330200},null,null,"Must Chill Flowrate",null,null,"kL/hr",null,"Cold Settling/Soak Finish Date",null,null,null,null,null,null,null,null,null,null,null,"Time Step",null,{"$f":"(BIA5-'Full Vintage Planner'!$C$8)*8+INT(BIA6*8)","v":-330200},null,null,"Must Chill Flowrate",null,null,"kL/hr",null,"Cold Settling/Soak Finish Date",null,null,null,null,null,null,null,null,null,null,null,"Time Step",null,{"$f":"(BIW5-'Full Vintage Planner'!$C$8)*8+INT(BIW6*8)","v":-330200},null,null,"Must Chill Flowrate",null,null,"kL/hr",null,"Cold Settling/Soak Finish Date",null,null,null,null,null,null,null,null,null,null,null,"Time Step",null,{"$f":"(BJS5-'Full Vintage Planner'!$C$8)*8+INT(BJS6*8)","v":-330200},null,null,"Must Chill Flowrate",null,null,"kL/hr",null,"Cold Settling/Soak Finish Date",null,null,null,null,null,null,null,null,null,null,null,"Time Step",null,{"$f":"(BKO5-'Full Vintage Planner'!$C$8)*8+INT(BKO6*8)","v":-330200},null,null,"Must Chill Flowrate",null,null,"kL/hr",null,"Cold Settling/Soak Finish Date",null,null,null,null,null,null,null,null,null,null,null,"Time Step",null,{"$f":"(BLK5-'Full Vintage Planner'!$C$8)*8+INT(BLK6*8)","v":-330200},null,null,"Must Chill Flowrate",null,null,"kL/hr",null,"Cold Settling/Soak Finish Date",null,null,null,null,null,null,null,null,null,null,null,"Time Step",null,{"$f":"(BMG5-'Full Vintage Planner'!$C$8)*8+INT(BMG6*8)","v":-330200},null,null,"Must Chill Flowrate",null,null,"kL/hr",null,"Cold Settling/Soak Finish Date",null,null,null,null,null,null,null,null,null,null,null,"Time Step",null,{"$f":"(BNC5-'Full Vintage Planner'!$C$8)*8+INT(BNC6*8)","v":-330200},null,null,"Must Chill Flowrate",null,null,"kL/hr",null,"Cold Settling/Soak Finish Date",null,null,null,null,null,null,null,null,null,null,null,"Time Step",null,{"$f":"(BNY5-'Full Vintage Planner'!$C$8)*8+INT(BNY6*8)","v":-330200},null,null,"Must Chill Flowrate",null,null,"kL/hr",null,"Cold Settling/Soak Finish Date",null,null,null,null,null,null,null,null,null,null,null,"Time Step",null,{"$f":"(BOU5-'Full Vintage Planner'!$C$8)*8+INT(BOU6*8)","v":-330200},null,null,"Must Chill Flowrate",null,null,"kL/hr",null,"Cold Settling/Soak Finish Date",null,null,null,null,null,null,null,null,null,null,null,"Time Step",null,{"$f":"(BPQ5-'Full Vintage Planner'!$C$8)*8+INT(BPQ6*8)","v":-330200},null,null,"Must Chill Flowrate",null,null,"kL/hr",null,"Cold Settling/Soak Finish Date",null,null,null,null,null,null,null,null,null,null,null,"Time Step",null,{"$f":"(BQM5-'Full Vintage Planner'!$C$8)*8+INT(BQM6*8)","v":-330200},null,null,"Must Chill Flowrate",null,null,"kL/hr",null,"Cold Settling/Soak Finish Date",null,null,null,null,null,null,null,null,null,null,null,"Time Step",null,{"$f":"(BRI5-'Full Vintage Planner'!$C$8)*8+INT(BRI6*8)","v":-330200},null,null,"Must Chill Flowrate",null,null,"kL/hr",null,"Cold Settling/Soak Finish Date",null,null,null,null,null,null,null,null,null,null,null,"Time Step",null,{"$f":"(BSE5-'Full Vintage Planner'!$C$8)*8+INT(BSE6*8)","v":-330200},null,null,"Must Chill Flowrate",null,null,"kL/hr",null,"Cold Settling/Soak Finish Date",null,null,null,null,null,null,null,null,null,null,null,"Time Step",null,{"$f":"(BTA5-'Full Vintage Planner'!$C$8)*8+INT(BTA6*8)","v":-330200},null,null,"Must Chill Flowrate",null,null,"kL/hr",null,"Cold Settling/Soak Finish Date",null,null,null,null,null,null,null,null,null,null,null,"Time Step",null,{"$f":"(BTW5-'Full Vintage Planner'!$C$8)*8+INT(BTW6*8)","v":-330200},null,null,"Must Chill Flowrate",null,null,"kL/hr",null,"Cold Settling/Soak Finish Date",null,null,null,null,null,null,null,null,null,null,null,"Time Step",null,{"$f":"(BUS5-'Full Vintage Planner'!$C$8)*8+INT(BUS6*8)","v":-330200},null,null,"Must Chill Flowrate",null,null,"kL/hr",null,"Cold Settling/Soak Finish Date",null,null,null,null,null,null,null,null,null,null,null,"Time Step",null,{"$f":"(BVO5-'Full Vintage Planner'!$C$8)*8+INT(BVO6*8)","v":-330200},null,null,"Must Chill Flowrate",null,null,"kL/hr",null,"Cold Settling/Soak Finish Date",null,null,null,null,null,null,null,null,null,null,null,"Time Step",null,{"$f":"(BWK5-'Full Vintage Planner'!$C$8)*8+INT(BWK6*8)","v":-330200},null,null,"Must Chill Flowrate",null,null,"kL/hr",null,"Cold Settling/Soak Finish Date",null,null,null,null,null,null,null,null,null,null,null,"Time Step",null,{"$f":"(BXG5-'Full Vintage Planner'!$C$8)*8+INT(BXG6*8)","v":-330200},null,null,"Must Chill Flowrate",null,null,"kL/hr",null,"Cold Settling/Soak Finish Date",null,null,null,null,null,null,null,null,null,null,null,"Time Step",null,{"$f":"(BYC5-'Full Vintage Planner'!$C$8)*8+INT(BYC6*8)","v":-330200},null,null,"Must Chill Flowrate",null,null,"kL/hr",null,"Cold Settling/Soak Finish Date",null,null,null,null,null,null,null,null,null,null,null,"Time Step",null,{"$f":"(BYY5-'Full Vintage Planner'!$C$8)*8+INT(BYY6*8)","v":-330200},null,null,"Must Chill Flowrate",null,null,"kL/hr",null,"Cold Settling/Soak Finish Date",null,null,null,null,null,null,null,null,null,null,null,"Time Step",null,{"$f":"(BZU5-'Full Vintage Planner'!$C$8)*8+INT(BZU6*8)","v":-330200},null,null,"Must Chill Flowrate",null,null,"kL/hr",null,"Cold Settling/Soak Finish Date",null,null,null,null,null,null,null,null,null,null,null,"Time Step",null,{"$f":"(CAQ5-'Full Vintage Planner'!$C$8)*8+INT(CAQ6*8)","v":-330200},null,null,"Must Chill Flowrate",null,null,"kL/hr",null,"Cold Settling/Soak Finish Date",null,null,null,null,null,null,null,null,null,null,null,"Time Step",null,{"$f":"(CBM5-'Full Vintage Planner'!$C$8)*8+INT(CBM6*8)","v":-330200},null,null,"Must Chill Flowrate",null,null,"kL/hr",null,"Cold Settling/Soak Finish Date",null,null,null,null,null,null,null,null,null,null,null,"Time Step",null,{"$f":"(CCI5-'Full Vintage Planner'!$C$8)*8+INT(CCI6*8)","v":-330200},null,null,"Must Chill Flowrate",null,null,"kL/hr",null,"Cold Settling/Soak Finish Date",null,null,null,null,null,null,null,null,null,null,null,"Time Step",null,{"$f":"(CDE5-'Full Vintage Planner'!$C$8)*8+INT(CDE6*8)","v":-330200},null,null,"Must Chill Flowrate",null,null,"kL/hr",null,"Cold Settling/Soak Finish Date",null,null,null,null,null,null,null,null,null,null,null,"Time Step",null,{"$f":"(CEA5-'Full Vintage Planner'!$C$8)*8+INT(CEA6*8)","v":-330200},null,null,"Must Chill Flowrate",null,null,"kL/hr",null,"Cold Settling/Soak Finish Date",null,null,null,null,null,null,null,null,null,null,null,"Time Step",null,{"$f":"(CEW5-'Full Vintage Planner'!$C$8)*8+INT(CEW6*8)","v":-330200},null,null,"Must Chill Flowrate",null,null,"kL/hr",null,"Cold Settling/Soak Finish Date"]
["Volume",null,40,"kL",null,"Inlet Juce Temp",null,15,"C",null,"Cold Settling/Soak Finish Time",null,"10:00:00",null,null,null,null,null,null,null,null,null,"Volume",null,100,"kL",null,"Inlet Juce Temp",null,15,"C",null,"Cold Settling/Soak Finish Time",null,"10:00:00",null,null,null,null,null,null,null,null,null,"Volume",null,250,"kL",null,"Inlet Juce Temp",null,15,"C",null,"Cold Settling/Soak Finish Time",null,"10:00:00",null,null,null,null,null,null,null,null,null,"Volume",null,40,"kL",null,"Inlet Juce Temp",null,null,"C",null,"Cold Settling/Soak Finish Time",null,null,null,null,null,null,null,null,null,null,null,"Volume",null,20,"kL",null,"Inlet Juce Temp",null,null,"C",null,"Cold Settling/Soak Finish Time",null,null,null,null,null,null,null,null,null,null,null,"Volume",null,20,"kL",null,"Inlet Juce Temp",null,null,"C",null,"Cold Settling/Soak Finish Time",null,null,null,null,null,null,null,null,null,null,null,"Volume",null,20,"kL",null,"Inlet Juce Temp",null,null,"C",null,"Cold Settling/Soak Finish Time",null,null,null,null,null,null,null,null,null,null,null,"Volume",null,20,"kL",null,"Inlet Juce Temp",null,null,"C",null,"Cold Settling/Soak Finish Time",null,null,null,null,null,null,null,null,null,null,null,"Volume",null,20,"kL",null,"Inlet Juce Temp",null,null,"C",null,"Cold Settling/Soak Finish Time",null,null,null,null,null,null,null,null,null,null,null,"Volume",null,20,"kL",null,"Inlet Juce Temp",null,null,"C",null,"Cold Settling/Soak Finish Time",null,null,null,null,null,null,null,null,null,null,null,"Volume",null,20,"kL",null,"Inlet Juce Temp",null,null,"C",null,"Cold Settling/Soak Finish Time",null,null,null,null,null,null,null,null,null,null,null,"Volume",null,20,"kL",null,"Inlet Juce Temp",null,null,"C",null,"Cold Settling/Soak Finish Time",null,null,null,null,null,null,null,null,null,null,null,"Volume",null,20,"kL",null,"Inlet Juce Temp",null,null,"C",null,"Cold Settling/Soak Finish Time",null,null,null,null,null,null,null,null,null,null,null,"Volume",null,20,"kL",null,"Inlet Juce Temp",null,null,"C",null,"Cold Settling/Soak Finish Time",null,null,null,null,null,null,null,null,null,null,null,"Volume",null,20,"kL",null,"Inlet Juce Temp",null,null,"C",null,"Cold Settling/Soak Finish Time",null,null,null,null,null,null,null,null,null,null,null,"Volume",null,20,"kL",null,"Inlet Juce Temp",null,null,"C",null,"Cold Settling/Soak Finish Time",null,null,null,null,null,null,null,null,null,null,null,"Volume",null,20,"kL",null,"Inlet Juce Temp",null,null,"C",null,"Cold Settling/Soak Finish Time",null,null,null,null,null,null,null,null,null,null,null,"Volume",null,20,"kL",null,"Inlet Juce Temp",null,null,"C",null,"Cold Settling/Soak Finish Time",null,null,null,null,null,null,null,null,null,null,null,"Volume",null,20,"kL",null,"Inlet Juce Temp",null,null,"C",null,"Cold Settling/Soak Finish Time",null,null,null,null,null,null,null,null,null,null,null,"Volume",null,20,"kL",null,"Inlet Juce Temp",null,null,"C",null,"Cold Settling/Soak Finish Time",null,null,null,null,null,null,null,null,null,null,null,"Volume",null,20,"kL",null,"Inlet Juce Temp",null,null,"C",null,"Cold Settling/Soak Finish Time",null,null,null,null,null,null,null,null,null,null,null,"Volume",null,20,"kL",null,"Inlet Juce Temp",null,null,"C",null,"Cold Settling/Soak Finish Time",null,null,null,null,null,null,null,null,null,null,null,"Volume",null,20,"kL",null,"Inlet Juce Temp",null,null,"C",null,"Cold Settling/Soak Finish Time",null,null,null,null,null,null,null,null,null,null,null,"Volume",null,20,"kL",null,"Inlet Juce Temp",null,null,"C",null,"Cold Settling/Soak Finish Time",null,null,null,null,null,null,null,null,null,null,null,"Volume",null,20,"kL",null,"Inlet Juce Temp",null,null,"C",null,"Cold Settling/Soak Finish Time",null,null,null,null,null,null,null,null,null,null,null,"Volume",null,20,"kL",null,"Inlet Juce Temp",null,null,"C",null,"Cold Settling/Soak Finish Time",null,null,null,null,null,null,null,null,null,null,null,"Volume",null,20,"kL",null,"Inlet Juce Temp",null,null,"C",null,"Cold Settling/Soak Finish Time",null,null,null,null,null,null,null,null,null,null,null,"Volume",null,20,"kL",null,"Inlet Juce Temp",null,null,"C",null,"Cold Settling/Soak Finish Time",null,null,null,null,null,null,null,null,null,null,null,"Volume",null,20,"kL",null,"Inlet Juce Temp",null,null,"C",null,"Cold Settling/Soak Finish Time",null,null,null,null,null,null,null,null,null,null,null,"Volume",null,20,"kL",null,"Inlet Juce Temp",null,null,"C",null,"Cold Settling/Soak Finish Time",null,null,null,null,null,null,null,null,null,null,null,"Volume",null,20,"kL",null,"Inlet Juce Temp",null,null,"C",null,"Cold Settling/Soak Finish Time",null,null,null,null,null,null,null,null,null,null,null,"Volume",null,20,"kL",null,"Inlet Juce Temp",null,null,"C",null,"Cold Settling/Soak Finish Time",null,null,null,null,null,null,null,null,null,null,null,"Volume",null,20,"kL",null,"Inlet Juce Temp",null,null,"C",null,"Cold Settling/Soak Finish Time",null,null,null,null,null,null,null,null,null,null,null,"Volume",null,20,"kL",null,"Inlet Juce Temp",null,null,"C",null,"Cold Settling/Soak Finish Time",null,null,null,null,null,null,null,null,null,null,null,"Volume",null,20,"kL",null,"Inlet Juce Temp",null,null,"C",null,"Cold Settling/Soak Finish Time",null,null,null,null,null,null,null,null,null,null,null,"Volume",null,20,"kL",null,"Inlet Juce Temp",null,null,"C",null,"Cold Settling/Soak Finish Time",null,null,null,null,null,null,null,null,null,null,null,"Volume",null,20,"kL",null,"Inlet Juce Temp",null,null,"C",null,"Cold Settling/Soak Finish Time",null,null,null,null,null,null,null,null,null,null,null,"Volume",null,20,"kL",null,"Inlet Juce Temp",null,null,"C",null,"Cold Settling/Soak Finish Time",null,null,null,null,null,null,null,null,null,null,null,"Volume",null,20,"kL",null,"Inlet Juce Temp",null,null,"C",null,"Cold Settling/Soak Finish Time",null,null,null,null,null,null,null,null,null,null,null,"Volume",null,20,"kL",null,"Inlet Juce Temp",null,null,"C",null,"Cold Settling/Soak Finish Time",null,null,null,null,null,null,null,null,null,null,null,"Volume",null,20,"kL",null,"Inlet Juce Temp",null,null,"C",null,"Cold Settling/Soak Finish Time",null,null,null,null,null,null,null,null,null,null,null,"Volume",null,20,"kL",null,"Inlet Juce Temp",null,null,"C",null,"Cold Settling/Soak Finish Time",null,null,null,null,null,null,null,null,null,null,null,"Volume",null,20,"kL",null,"Inlet Juce Temp",null,null,"C",null,"Cold Settling/Soak Finish Time",null,null,null,null,null,null,null,null,null,null,null,"Volume",null,20,"kL",null,"Inlet Juce Temp",null,null,"C",null,"Cold Settling/Soak Finish Time",null,null,null,null,null,null,null,null,null,null,null,"Volume",null,20,"kL",null,"Inlet Juce Temp",null,null,"C",null,"Cold Settling/Soak Finish Time",null,null,null,null,null,null,null,null,null,null,null,"Volume",null,20,"kL",null,"Inlet Juce Temp",null,null,"C",null,"Cold Settling/Soak Finish Time",null,null,null,null,null,null,null,null,null,null,null,"Volume",null,20,"kL",null,"Inlet Juce Temp",null,null,"C",null,"Cold Settling/Soak Finish Time",null,null,null,null,null,null,null,null,null,null,null,"Volume",null,20,"kL",null,"Inlet Juce Temp",null,null,"C",null,"Cold Settling/Soak Finish Time",null,null,null,null,null,null,null,null,null,null,null,"Volume",null,20,"kL",null,"Inlet Juce Temp",null,null,"C",null,"Cold Settling/Soak Finish Time",null,null,null,null,null,null,null,null,null,null,null,"Volume",null,20,"kL",null,"Inlet Juce Temp",null,null,"C",null,"Cold Settling/Soak Finish Time",null,null,null,null,null,null,null,null,null,null,null,"Volume",null,20,"kL",null,"Inlet Juce Temp",null,null,"C",null,"Cold Settling/Soak Finish Time",null,null,null,null,null,null,null,null,null,null,null,"Volume",null,20,"kL",null,"Inlet Juce Temp",null,null,"C",null,"Cold Settling/Soak Finish Time",null,null,null,null,null,null,null,null,null,null,null,"Volume",null,20,"kL",null,"Inlet Juce Temp",null,null,"C",null,"Cold Settling/Soak Finish Time",null,null,null,null,null,null,null,null,null,null,null,"Volume",null,20,"kL",null,"Inlet Juce Temp",null,null,"C",null,"Cold Settling/Soak Finish Time",null,null,null,null,null,null,null,null,null,null,null,"Volume",null,20,"kL",null,"Inlet Juce Temp",null,null,"C",null,"Cold Settling/Soak Finish Time",null,null,null,null,null,null,null,null,null,null,null,"Volume",null,20,"kL",null,"Inlet Juce Temp",null,null,"C",null,"Cold Settling/Soak Finish Time",null,null,null,null,null,null,null,null,null,null,null,"Volume",null,20,"kL",null,"Inlet Juce Temp",null,null,"C",null,"Cold Settling/Soak Finish Time",null,null,null,null,null,null,null,null,null,null,null,"Volume",null,20,"kL",null,"Inlet Juce Temp",null,null,"C",null,"Cold Settling/Soak Finish Time",null,null,null,null,null,null,null,null,null,null,null,"Volume",null,20,"kL",null,"Inlet Juce Temp",null,null,"C",null,"Cold Settling/Soak Finish Time",null,null,null,null,null,null,null,null,null,null,null,"Volume",null,20,"kL",null,"Inlet Juce Temp",null,null,"C",null,"Cold Settling/Soak Finish Time",null,null,null,null,null,null,null,null,null,null,null,"Volume",null,20,"kL",null,"Inlet Juce Temp",null,null,"C",null,"Cold Settling/Soak Finish Time",null,null,null,null,null,null,null,null,null,null,null,"Volume",null,20,"kL",null,"Inlet Juce Temp",null,null,"C",null,"Cold Settling/Soak Finish Time",null,null,null,null,null,null,null,null,null,null,null,"Volume",null,20,"kL",null,"Inlet Juce Temp",null,null,"C",null,"Cold Settling/Soak Finish Time",null,null,null,null,null,null,null,null,null,null,null,"Volume",null,20,"kL",null,"Inlet Juce Temp",null,null,"C",null,"Cold Settling/Soak Finish Time",null,null,null,null,null,null,null,null,null,null,null,"Volume",null,20,"kL",null,"Inlet Juce Temp",null,null,"C",null,"Cold Settling/Soak Finish Time",null,null,null,null,null,null,null,null,null,null,null,"Volume",null,20,"kL",null,"Inlet Juce Temp",null,null,"C",null,"Cold Settling/Soak Finish Time",null,null,null,null,null,null,null,null,null,null,null,"Volume",null,20,"kL",null,"Inlet Juce Temp",null,null,"C",null,"Cold Settling/Soak Finish Time",null,null,null,null,null,null,null,null,null,null,null,"Volume",null,20,"kL",null,"Inlet Juce Temp",null,null,"C",null,"Cold Settling/Soak Finish Time",null,null,null,null,null,null,null,null,null,null,null,"Volume",null,20,"kL",null,"Inlet Juce Temp",null,null,"C",null,"Cold Settling/Soak Finish Time",null,null,null,null,null,null,null,null,null,null,null,"Volume",null,20,"kL",null,"Inlet Juce Temp",null,null,"C",null,"Cold Settling/Soak Finish Time",null,null,null,null,null,null,null,null,null,null,null,"Volume",null,20,"kL",null,"Inlet Juce Temp",null,null,"C",null,"Cold Settling/Soak Finish Time",null,null,null,null,null,null,null,null,null,null,null,"Volume",null,20,"kL",null,"Inlet Juce Temp",null,null,"C",null,"Cold Settling/Soak Finish Time",null,null,null,null,null,null,null,null,null,null,null,"Volume",null,20,"kL",null,"Inlet Juce Temp",null,null,"C",null,"Cold Settling/Soak Finish Time",null,null,null,null,null,null,null,null,null,null,null,"Volume",null,20,"kL",null,"Inlet Juce Temp",null,null,"C",null,"Cold Settling/Soak Finish Time",null,null,null,null,null,null,null,null,null,null,null,"Volume",null,20,"kL",null,"Inlet Juce Temp",null,null,"C",null,"Cold Settling/Soak Finish Time",null,null,null,null,null,null,null,null,null,null,null,"Volume",null,20,"kL",null,"Inlet Juce Temp",null,null,"C",null,"Cold Settling/Soak Finish Time",null,null,null,null,null,null,null,null,null,null,null,"Volume",null,20,"kL",null,"Inlet Juce Temp",null,null,"C",null,"Cold Settling/Soak Finish Time",null,null,null,null,null,null,null,null,null,null,null,"Volume",null,20,"kL",null,"Inlet Juce Temp",null,null,"C",null,"Cold Settling/Soak Finish Time",null,null,null,null,null,null,null,null,null,null,null,"Volume",null,20,"kL",null,"Inlet Juce Temp",null,null,"C",null,"Cold Settling/Soak Finish Time",null,null,null,null,null,null,null,null,null,null,null,"Volume",null,20,"kL",null,"Inlet Juce Temp",null,null,"C",null,"Cold Settling/Soak Finish Time",null,null,null,null,null,null,null,null,null,null,null,"Volume",null,20,"kL",null,"Inlet Juce Temp",null,null,"C",null,"Cold Settling/Soak Finish Time",null,null,null,null,null,null,null,null,null,null,null,"Volume",null,20,"kL",null,"Inlet Juce Temp",null,null,"C",null,"Cold Settling/Soak Finish Time",null,null,null,null,null,null,null,null,null,null,null,"Volume",null,20,"kL",null,"Inlet Juce Temp",null,null,"C",null,"Cold Settling/Soak Finish Time",null,null,null,null,null,null,null,null,null,null,null,"Volume",null,20,"kL",null,"Inlet Juce Temp",null,null,"C",null,"Cold Settling/Soak Finish Time",null,null,null,null,null,null,null,null,null,null,null,"Volume",null,20,"kL",null,"Inlet Juce Temp",null,null,"C",null,"Cold Settling/Soak Finish Time",null,null,null,null,null,null,null,null,null,null,null,"Volume",null,20,"kL",null,"Inlet Juce Temp",null,null,"C",null,"Cold Settling/Soak Finish Time",null,null,null,null,null,null,null,null,null,null,null,"Volume",null,20,"kL",null,"Inlet Juce Temp",null,null,"C",null,"Cold Settling/Soak Finish Time",null,null,null,null,null,null,null,null,null,null,null,"Volume",null,20,"kL",null,"Inlet Juce Temp",null,null,"C",null,"Cold Settling/Soak Finish Time",null,null,null,null,null,null,null,null,null,null,null,"Volume",null,20,"kL",null,"Inlet Juce Temp",null,null,"C",null,"Cold Settling/Soak Finish Time",null,null,null,null,null,null,null,null,null,null,null,"Volume",null,20,"kL",null,"Inlet Juce Temp",null,null,"C",null,"Cold Settling/Soak Finish Time",null,null,null,null,null,null,null,null,null,null,null,"Volume",null,20,"kL",null,"Inlet Juce Temp",null,null,"C",null,"Cold Settling/Soak Finish Time",null,null,null,null,null,null,null,null,null,null,null,"Volume",null,20,"kL",null,"Inlet Juce Temp",null,null,"C",null,"Cold Settling/Soak Finish Time",null,null,null,null,null,null,null,null,null,null,null,"Volume",null,20,"kL",null,"Inlet Juce Temp",null,null,"C",null,"Cold Settling/Soak Finish Time",null,null,null,null,null,null,null,null,null,null,null,"Volume",null,20,"kL",null,"Inlet Juce Temp",null,null,"C",null,"Cold Settling/Soak Finish Time",null,null,null,null,null,null,null,null,null,null,null,"Volume",null,20,"kL",null,"Inlet Juce Temp",null,null,"C",null,"Cold Settling/Soak Finish Time",null,null,null,null,null,null,null,null,null,null,null,"Volume",null,20,"kL",null,"Inlet Juce Temp",null,null,"C",null,"Cold Settling/Soak Finish Time",null,null,null,null,null,null,null,null,null,null,null,"Volume",null,20,"kL",null,"Inlet Juce Temp",null,null,"C",null,"Cold Settling/Soak Finish Time",null,null,null,null,null,null,null,null,null,null,null,"Volume",null,20,"kL",null,"Inlet Juce Temp",null,null,"C",null,"Cold Settling/Soak Finish Time",null,null,null,null,null,null,null,null,null,null,null,"Volume",null,20,"kL",null,"Inlet Juce Temp",null,null,"C",null,"Cold Settling/Soak Finish Time",null,null,null,null,null,null,null,null,null,null,null,"Volume",null,20,"kL",null,"Inlet Juce Temp",null,null,"C",null,"Cold Settling/Soak Finish Time"]
["Initial Cell mass",null,null,"g/L",null,"Outlet Juice Temp",null,4,"C",null,"Time Step",null,27,null,null,null,null,null,null,null,null,null,"Initial Cell mass",null,null,"g/L",null,"Outlet Juice Temp",null,4,"C",null,"Time Step",null,27,null,null,null,null,null,null,null,null,null,"Initial Cell mass",null,null,"g/L",null,"Outlet Juice Temp",null,4,"C",null,"Time Step",null,27,null,null,null,null,null,null,null,null,null,"Initial Cell mass",null,null,"g/L",null,"Outlet Juice Temp",null,null,"C",null,"Time Step",null,{"$f":"(CA7-'Full Vintage Planner'!$C$8)*8+INT(CA8*8)","v":-330200},null,null,null,null,null,null,null,null,null,"Initial Cell mass",null,null,"g/L",null,"Outlet Juice Temp",null,null,"C",null,"Time Step",null,{"$f":"(CW7-'Full Vintage Planner'!$C$8)*8+INT(CW8*8)","v":-330200},null,null,null,null,null,null,null,null,null,"Initial Cell mass",null,null,"g/L",null,"Outlet Juice Temp",null,null,"C",null,"Time Step",null,{"$f":"(DS7-'Full Vintage Planner'!$C$8)*8+INT(DS8*8)","v":-330200},null,null,null,null,null,null,null,null,null,"Initial Cell mass",null,null,"g/L",null,"Outlet Juice Temp",null,null,"C",null,"Time Step",null,{"$f":"(EO7-'Full Vintage Planner'!$C$8)*8+INT(EO8*8)","v":-330200},null,null,null,null,null,null,null,null,null,"Initial Cell mass",null,null,"g/L",null,"Outlet Juice Temp",null,null,"C",null,"Time Step",null,{"$f":"(FK7-'Full Vintage Planner'!$C$8)*8+INT(FK8*8)","v":-330200},null,null,null,null,null,null,null,null,null,"Initial Cell mass",null,null,"g/L",null,"Outlet Juice Temp",null,null,"C",null,"Time Step",null,{"$f":"(GG7-'Full Vintage Planner'!$C$8)*8+INT(GG8*8)","v":-330200},null,null,null,null,null,null,null,null,null,"Initial Cell mass",null,null,"g/L",null,"Outlet Juice Temp",null,null,"C",null,"Time Step",null,{"$f":"(HC7-'Full Vintage Planner'!$C$8)*8+INT(HC8*8)","v":-330200},null,null,null,null,null,null,null,null,null,"Initial Cell mass",null,null,"g/L",null,"Outlet Juice Temp",null,null,"C",null,"Time Step",null,{"$f":"(HY7-'Full Vintage Planner'!$C$8)*8+INT(HY8*8)","v":-330200},null,null,null,null,null,null,null,null,null,"Initial Cell mass",null,null,"g/L",null,"Outlet Juice Temp",null,null,"C",null,"Time Step",null,{"$f":"(IU7-'Full Vintage Planner'!$C$8)*8+INT(IU8*8)","v":-330200},null,null,null,null,null,null,null,null,null,"Initial Cell mass",null,null,"g/L",null,"Outlet Juice Temp",null,null,"C",null,"Time Step",null,{"$f":"(JQ7-'Full Vintage Planner'!$C$8)*8+INT(JQ8*8)","v":-330200},null,null,null,null,null,null,null,null,null,"Initial Cell mass",null,null,"g/L",null,"Outlet Juice Temp",null,null,"C",null,"Time Step",null,{"$f":"(KM7-'Full Vintage Planner'!$C$8)*8+INT(KM8*8)","v":-330200},null,null,null,null,null,null,null,null,null,"Initial Cell mass",null,null,"g/L",null,"Outlet Juice Temp",null,null,"C",null,"Time Step",null,{"$f":"(LI7-'Full Vintage Planner'!$C$8)*8+INT(LI8*8)","v":-330200},null,null,null,null,null,null,null,null,null,"Initial Cell mass",null,null,"g/L",null,"Outlet Juice Temp",null,null,"C",null,"Time Step",null,{"$f":"(ME7-'Full Vintage Planner'!$C$8)*8+INT(ME8*8)","v":-330200},null,null,null,null,null,null,null,null,null,"Initial Cell mass",null,null,"g/L",null,"Outlet Juice Temp",null,null,"C",null,"Time Step",null,{"$f":"(NA7-'Full Vintage Planner'!$C$8)*8+INT(NA8*8)","v":-330200},null,null,null,null,null,null,null,null,null,"Initial Cell mass",null,null,"g/L",null,"Outlet Juice Temp",null,null,"C",null,"Time Step",null,{"$f":"(NW7-'Full Vintage Planner'!$C$8)*8+INT(NW8*8)","v":-330200},null,null,null,null,null,null,null,null,null,"Initial Cell mass",null,null,"g/L",null,"Outlet Juice Temp",null,null,"C",null,"Time Step",null,{"$f":"(OS7-'Full Vintage Planner'!$C$8)*8+INT(OS8*8)","v":-330200},null,null,null,null,null,null,null,null,null,"Initial Cell mass",null,null,"g/L",null,"Outlet Juice Temp",null,null,"C",null,"Time Step",null,{"$f":"(PO7-'Full Vintage Planner'!$C$8)*8+INT(PO8*8)","v":-330200},null,null,null,null,null,null,null,null,null,"Initial Cell mass",null,null,"g/L",null,"Outlet Juice Temp",null,null,"C",null,"Time Step",null,{"$f":"(QK7-'Full Vintage Planner'!$C$8)*8+INT(QK8*8)","v":-330200},null,null,null,null,null,null,null,null,null,"Initial Cell mass",null,null,"g/L",null,"Outlet Juice Temp",null,null,"C",null,"Time Step",null,{"$f":"(RG7-'Full Vintage Planner'!$C$8)*8+INT(RG8*8)","v":-330200},null,null,null,null,null,null,null,null,null,"Initial Cell mass",null,null,"g/L",null,"Outlet Juice Temp",null,null,"C",null,"Time Step",null,{"$f":"(SC7-'Full Vintage Planner'!$C$8)*8+INT(SC8*8)","v":-330200},null,null,null,null,null,null,null,null,null,"Initial Cell mass",null,null,"g/L",null,"Outlet Juice Temp",null,null,"C",null,"Time Step",null,{"$f":"(SY7-'Full Vintage Planner'!$C$8)*8+INT(SY8*8)","v":-330200},null,null,null,null,null,null,null,null,null,"Initial Cell mass",null,null,"g/L",null,"Outlet Juice Temp",null,null,"C",null,"Time Step",null,{"$f":"(TU7-'Full Vintage Planner'!$C$8)*8+INT(TU8*8)","v":-330200},null,null,null,null,null,null,null,null,null,"Initial Cell mass",null,null,"g/L",null,"Outlet Juice Temp",null,null,"C",null,"Time Step",null,{"$f":"(UQ7-'Full Vintage Planner'!$C$8)*8+INT(UQ8*8)","v":-330200},null,null,null,null,null,null,null,null,null,"Initial Cell mass",null,null,"g/L",null,"Outlet Juice Temp",null,null,"C",null,"Time Step",null,{"$f":"(VM7-'Full Vintage Planner'!$C$8)*8+INT(VM8*8)","v":-330200},null,null,null,null,null,null,null,null,null,"Initial Cell mass",null,null,"g/L",null,"Outlet Juice Temp",null,null,"C",null,"Time Step",null,{"$f":"(WI7-'Full Vintage Planner'!$C$8)*8+INT(WI8*8)","v":-330200},null,null,null,null,null,null,null,null,null,"Initial Cell mass",null,null,"g/L",null,"Outlet Juice Temp",null,null,"C",null,"Time Step",null,{"$f":"(XE7-'Full Vintage Planner'!$C$8)*8+INT(XE8*8)","v":-330200},null,null,null,null,null,null,null,null,null,"Initial Cell mass",null,null,"g/L",null,"Outlet Juice Temp",null,null,"C",null,"Time Step",null,{"$f":"(YA7-'Full Vintage Planner'!$C$8)*8+INT(YA8*8)","v":-330200},null,null,null,null,null,null,null,null,null,"Initial Cell mass",null,null,"g/L",null,"Outlet Juice Temp",null,null,"C",null,"Time Step",null,{"$f":"(YW7-'Full Vintage Planner'!$C$8)*8+INT(YW8*8)","v":-330200},null,null,null,null,null,null,null,null,null,"Initial Cell mass",null,null,"g/L",null,"Outlet Juice Temp",null,null,"C",null,"Time Step",null,{"$f":"(ZS7-'Full Vintage Planner'!$C$8)*8+INT(ZS8*8)","v":-330200},null,null,null,null,null,null,null,null,null,"Initial Cell mass",null,null,"g/L",null,"Outlet Juice Temp",null,null,"C",null,"Time Step",null,{"$f":"(AAO7-'Full Vintage Planner'!$C$8)*8+INT(AAO8*8)","v":-330200},null,null,null,null,null,null,null,null,null,"Initial Cell mass",null,null,"g/L",null,"Outlet Juice Temp",null,null,"C",null,"Time Step",null,{"$f":"(ABK7-'Full Vintage Planner'!$C$8)*8+INT(ABK8*8)","v":-330200},null,null,null,null,null,null,null,null,null,"Initial Cell mass",null,null,"g/L",null,"Outlet Juice Temp",null,null,"C",null,"Time Step",null,{"$f":"(ACG7-'Full Vintage Planner'!$C$8)*8+INT(ACG8*8)","v":-330200},null,null,null,null,null,null,null,null,null,"Initial Cell mass",null,null,"g/L",null,"Outlet Juice Temp",null,null,"C",null,"Time Step",null,{"$f":"(ADC7-'Full Vintage Planner'!$C$8)*8+INT(ADC8*8)","v":-330200},null,null,null,null,null,null,null,null,null,"Initial Cell mass",null,null,"g/L",null,"Outlet Juice Temp",null,null,"C",null,"Time Step",null,{"$f":"(ADY7-'Full Vintage Planner'!$C$8)*8+INT(ADY8*8)","v":-330200},null,null,null,null,null,null,null,null,null,"Initial Cell mass",null,null,"g/L",null,"Outlet Juice Temp",null,null,"C",null,"Time Step",null,{"$f":"(AEU7-'Full Vintage Planner'!$C$8)*8+INT(AEU8*8)","v":-330200},null,null,null,null,null,null,null,null,null,"Initial Cell mass",null,null,"g/L",null,"Outlet Juice Temp",null,null,"C",null,"Time Step",null,{"$f":"(AFQ7-'Full Vintage Planner'!$C$8)*8+INT(AFQ8*8)","v":-330200},null,null,null,null,null,null,null,null,null,"Initial Cell mass",null,null,"g/L",null,"Outlet Juice Temp",null,null,"C",null,"Time Step",null,{"$f":"(AGM7-'Full Vintage Planner'!$C$8)*8+INT(AGM8*8)","v":-330200},null,null,null,null,null,null,null,null,null,"Initial Cell mass",null,null,"g/L",null,"Outlet Juice Temp",null,null,"C",null,"Time Step",null,{"$f":"(AHI7-'Full Vintage Planner'!$C$8)*8+INT(AHI8*8)","v":-330200},null,null,null,null,null,null,null,null,null,"Initial Cell mass",null,null,"g/L",null,"Outlet Juice Temp",null,null,"C",null,"Time Step",null,{"$f":"(AIE7-'Full Vintage Planner'!$C$8)*8+INT(AIE8*8)","v":-330200},null,null,null,null,null,null,null,null,null,"Initial Cell mass",null,null,"g/L",null,"Outlet Juice Temp",null,null,"C",null,"Time Step",null,{"$f":"(AJA7-'Full Vintage Planner'!$C$8)*8+INT(AJA8*8)","v":-330200},null,null,null,null,null,null,null,null,null,"Initial Cell mass",null,null,"g/L",null,"Outlet Juice Temp",null,null,"C",null,"Time Step",null,{"$f":"(AJW7-'Full Vintage Planner'!$C$8)*8+INT(AJW8*8)","v":-330200},null,null,null,null,null,null,null,null,null,"Initial Cell mass",null,null,"g/L",null,"Outlet Juice Temp",null,null,"C",null,"Time Step",null,{"$f":"(AKS7-'Full Vintage Planner'!$C$8)*8+INT(AKS8*8)","v":-330200},null,null,null,null,null,null,null,null,null,"Initial Cell mass",null,null,"g/L",null,"Outlet Juice Temp",null,null,"C",null,"Time Step",null,{"$f":"(ALO7-'Full Vintage Planner'!$C$8)*8+INT(ALO8*8)","v":-330200},null,null,null,null,null,null,null,null,null,"Initial Cell mass",null,null,"g/L",null,"Outlet Juice Temp",null,null,"C",null,"Time Step",null,{"$f":"(AMK7-'Full Vintage Planner'!$C$8)*8+INT(AMK8*8)","v":-330200},null,null,null,null,null,null,null,null,null,"Initial Cell mass",null,null,"g/L",null,"Outlet Juice Temp",null,null,"C",null,"Time Step",null,{"$f":"(ANG7-'Full Vintage Planner'!$C$8)*8+INT(ANG8*8)","v":-330200},null,null,null,null,null,null,null,null,null,"Initial Cell mass",null,null,"g/L",null,"Outlet Juice Temp",null,null,"C",null,"Time Step",null,{"$f":"(AOC7-'Full Vintage Planner'!$C$8)*8+INT(AOC8*8)","v":-330200},null,null,null,null,null,null,null,null,null,"Initial Cell mass",null,null,"g/L",null,"Outlet Juice Temp",null,null,"C",null,"Time Step",null,{"$f":"(AOY7-'Full Vintage Planner'!$C$8)*8+INT(AOY8*8)","v":-330200},null,null,null,null,null,null,null,null,null,"Initial Cell mass",null,null,"g/L",null,"Outlet Juice Temp",null,null,"C",null,"Time Step",null,{"$f":"(APU7-'Full Vintage Planner'!$C$8)*8+INT(APU8*8)","v":-330200},null,null,null,null,null,null,null,null,null,"Initial Cell mass",null,null,"g/L",null,"Outlet Juice Temp",null,null,"C",null,"Time Step",null,{"$f":"(AQQ7-'Full Vintage Planner'!$C$8)*8+INT(AQQ8*8)","v":-330200},null,null,null,null,null,null,null,null,null,"Initial Cell mass",null,null,"g/L",null,"Outlet Juice Temp",null,null,"C",null,"Time Step",null,{"$f":"(ARM7-'Full Vintage Planner'!$C$8)*8+INT(ARM8*8)","v":-330200},null,null,null,null,null,null,null,null,null,"Initial Cell mass",null,null,"g/L",null,"Outlet Juice Temp",null,null,"C",null,"Time Step",null,{"$f":"(ASI7-'Full Vintage Planner'!$C$8)*8+INT(ASI8*8)","v":-330200},null,null,null,null,null,null,null,null,null,"Initial Cell mass",null,null,"g/L",null,"Outlet Juice Temp",null,null,"C",null,"Time Step",null,{"$f":"(ATE7-'Full Vintage Planner'!$C$8)*8+INT(ATE8*8)","v":-330200},null,null,null,null,null,null,null,null,null,"Initial Cell mass",null,null,"g/L",null,"Outlet Juice Temp",null,null,"C",null,"Time Step",null,{"$f":"(AUA7-'Full Vintage Planner'!$C$8)*8+INT(AUA8*8)","v":-330200},null,null,null,null,null,null,null,null,null,"Initial Cell mass",null,null,"g/L",null,"Outlet Juice Temp",null,null,"C",null,"Time Step",null,{"$f":"(AUW7-'Full Vintage Planner'!$C$8)*8+INT(AUW8*8)","v":-330200},null,null,null,null,null,null,null,null,null,"Initial Cell mass",null,null,"g/L",null,"Outlet Juice Temp",null,null,"C",null,"Time Step",null,{"$f":"(AVS7-'Full Vintage Planner'!$C$8)*8+INT(AVS8*8)","v":-330200},null,null,null,null,null,null,null,null,null,"Initial Cell mass",null,null,"g/L",null,"Outlet Juice Temp",null,null,"C",null,"Time Step",null,{"$f":"(AWO7-'Full Vintage Planner'!$C$8)*8+INT(AWO8*8)","v":-330200},null,null,null,null,null,null,null,null,null,"Initial Cell mass",null,null,"g/L",null,"Outlet Juice Temp",null,null,"C",null,"Time Step",null,{"$f":"(AXK7-'Full Vintage Planner'!$C$8)*8+INT(AXK8*8)","v":-330200},null,null,null,null,null,null,null,null,null,"Initial Cell mass",null,null,"g/L",null,"Outlet Juice Temp",null,null,"C",null,"Time Step",null,{"$f":"(AYG7-'Full Vintage Planner'!$C$8)*8+INT(AYG8*8)","v":-330200},null,null,null,null,null,null,null,null,null,"Initial Cell mass",null,null,"g/L",null,"Outlet Juice Temp",null,null,"C",null,"Time Step",null,{"$f":"(AZC7-'Full Vintage Planner'!$C$8)*8+INT(AZC8*8)","v":-330200},null,null,null,null,null,null,null,null,null,"Initial Cell mass",null,null,"g/L",null,"Outlet Juice Temp",null,null,"C",null,"Time Step",null,{"$f":"(AZY7-'Full Vintage Planner'!$C$8)*8+INT(AZY8*8)","v":-330200},null,null,null,null,null,null,null,null,null,"Initial Cell mass",null,null,"g/L",null,"Outlet Juice Temp",null,null,"C",null,"Time Step",null,{"$f":"(BAU7-'Full Vintage Planner'!$C$8)*8+INT(BAU8*8)","v":-330200},null,null,null,null,null,null,null,null,null,"Initial Cell mass",null,null,"g/L",null,"Outlet Juice Temp",null,null,"C",null,"Time Step",null,{"$f":"(BBQ7-'Full Vintage Planner'!$C$8)*8+INT(BBQ8*8)","v":-330200},null,null,null,null,null,null,null,null,null,"Initial Cell mass",null,null,"g/L",null,"Outlet Juice Temp",null,null,"C",null,"Time Step",null,{"$f":"(BCM7-'Full Vintage Planner'!$C$8)*8+INT(BCM8*8)","v":-330200},null,null,null,null,null,null,null,null,null,"Initial Cell mass",null,null,"g/L",null,"Outlet Juice Temp",null,null,"C",null,"Time Step",null,{"$f":"(BDI7-'Full Vintage Planner'!$C$8)*8+INT(BDI8*8)","v":-330200},null,null,null,null,null,null,null,null,null,"Initial Cell mass",null,null,"g/L",null,"Outlet Juice Temp",null,null,"C",null,"Time Step",null,{"$f":"(BEE7-'Full Vintage Planner'!$C$8)*8+INT(BEE8*8)","v":-330200},null,null,null,null,null,null,null,null,null,"Initial Cell mass",null,null,"g/L",null,"Outlet Juice Temp",null,null,"C",null,"Time Step",null,{"$f":"(BFA7-'Full Vintage Planner'!$C$8)*8+INT(BFA8*8)","v":-330200},null,null,null,null,null,null,null,null,null,"Initial Cell mass",null,null,"g/L",null,"Outlet Juice Temp",null,null,"C",null,"Time Step",null,{"$f":"(BFW7-'Full Vintage Planner'!$C$8)*8+INT(BFW8*8)","v":-330200},null,null,null,null,null,null,null,null,null,"Initial Cell mass",null,null,"g/L",null,"Outlet Juice Temp",null,null,"C",null,"Time Step",null,{"$f":"(BGS7-'Full Vintage Planner'!$C$8)*8+INT(BGS8*8)","v":-330200},null,null,null,null,null,null,null,null,null,"Initial Cell mass",null,null,"g/L",null,"Outlet Juice Temp",null,null,"C",null,"Time Step",null,{"$f":"(BHO7-'Full Vintage Planner'!$C$8)*8+INT(BHO8*8)","v":-330200},null,null,null,null,null,null,null,null,null,"Initial Cell mass",null,null,"g/L",null,"Outlet Juice Temp",null,null,"C",null,"Time Step",null,{"$f":"(BIK7-'Full Vintage Planner'!$C$8)*8+INT(BIK8*8)","v":-330200},null,null,null,null,null,null,null,null,null,"Initial Cell mass",null,null,"g/L",null,"Outlet Juice Temp",null,null,"C",null,"Time Step",null,{"$f":"(BJG7-'Full Vintage Planner'!$C$8)*8+INT(BJG8*8)","v":-330200},null,null,null,null,null,null,null,null,null,"Initial Cell mass",null,null,"g/L",null,"Outlet Juice Temp",null,null,"C",null,"Time Step",null,{"$f":"(BKC7-'Full Vintage Planner'!$C$8)*8+INT(BKC8*8)","v":-330200},null,null,null,null,null,null,null,null,null,"Initial Cell mass",null,null,"g/L",null,"Outlet Juice Temp",null,null,"C",null,"Time Step",null,{"$f":"(BKY7-'Full Vintage Planner'!$C$8)*8+INT(BKY8*8)","v":-330200},null,null,null,null,null,null,null,null,null,"Initial Cell mass",null,null,"g/L",null,"Outlet Juice Temp",null,null,"C",null,"Time Step",null,{"$f":"(BLU7-'Full Vintage Planner'!$C$8)*8+INT(BLU8*8)","v":-330200},null,null,null,null,null,null,null,null,null,"Initial Cell mass",null,null,"g/L",null,"Outlet Juice Temp",null,null,"C",null,"Time Step",null,{"$f":"(BMQ7-'Full Vintage Planner'!$C$8)*8+INT(BMQ8*8)","v":-330200},null,null,null,null,null,null,null,null,null,"Initial Cell mass",null,null,"g/L",null,"Outlet Juice Temp",null,null,"C",null,"Time Step",null,{"$f":"(BNM7-'Full Vintage Planner'!$C$8)*8+INT(BNM8*8)","v":-330200},null,null,null,null,null,null,null,null,null,"Initial Cell mass",null,null,"g/L",null,"Outlet Juice Temp",null,null,"C",null,"Time Step",null,{"$f":"(BOI7-'Full Vintage Planner'!$C$8)*8+INT(BOI8*8)","v":-330200},null,null,null,null,null,null,null,null,null,"Initial Cell mass",null,null,"g/L",null,"Outlet Juice Temp",null,null,"C",null,"Time Step",null,{"$f":"(BPE7-'Full Vintage Planner'!$C$8)*8+INT(BPE8*8)","v":-330200},null,null,null,null,null,null,null,null,null,"Initial Cell mass",null,null,"g/L",null,"Outlet Juice Temp",null,null,"C",null,"Time Step",null,{"$f":"(BQA7-'Full Vintage Planner'!$C$8)*8+INT(BQA8*8)","v":-330200},null,null,null,null,null,null,null,null,null,"Initial Cell mass",null,null,"g/L",null,"Outlet Juice Temp",null,null,"C",null,"Time Step",null,{"$f":"(BQW7-'Full Vintage Planner'!$C$8)*8+INT(BQW8*8)","v":-330200},null,null,null,null,null,null,null,null,null,"Initial Cell mass",null,null,"g/L",null,"Outlet Juice Temp",null,null,"C",null,"Time Step",null,{"$f":"(BRS7-'Full Vintage Planner'!$C$8)*8+INT(BRS8*8)","v":-330200},null,null,null,null,null,null,null,null,null,"Initial Cell mass",null,null,"g/L",null,"Outlet Juice Temp",null,null,"C",null,"Time Step",null,{"$f":"(BSO7-'Full Vintage Planner'!$C$8)*8+INT(BSO8*8)","v":-330200},null,null,null,null,null,null,null,null,null,"Initial Cell mass",null,null,"g/L",null,"Outlet Juice Temp",null,null,"C",null,"Time Step",null,{"$f":"(BTK7-'Full Vintage Planner'!$C$8)*8+INT(BTK8*8)","v":-330200},null,null,null,null,null,null,null,null,null,"Initial Cell mass",null,null,"g/L",null,"Outlet Juice Temp",null,null,"C",null,"Time Step",null,{"$f":"(BUG7-'Full Vintage Planner'!$C$8)*8+INT(BUG8*8)","v":-330200},null,null,null,null,null,null,null,null,null,"Initial Cell mass",null,null,"g/L",null,"Outlet Juice Temp",null,null,"C",null,"Time Step",null,{"$f":"(BVC7-'Full Vintage Planner'!$C$8)*8+INT(BVC8*8)","v":-330200},null,null,null,null,null,null,null,null,null,"Initial Cell mass",null,null,"g/L",null,"Outlet Juice Temp",null,null,"C",null,"Time Step",null,{"$f":"(BVY7-'Full Vintage Planner'!$C$8)*8+INT(BVY8*8)","v":-330200},null,null,null,null,null,null,null,null,null,"Initial Cell mass",null,null,"g/L",null,"Outlet Juice Temp",null,null,"C",null,"Time Step",null,{"$f":"(BWU7-'Full Vintage Planner'!$C$8)*8+INT(BWU8*8)","v":-330200},null,null,null,null,null,null,null,null,null,"Initial Cell mass",null,null,"g/L",null,"Outlet Juice Temp",null,null,"C",null,"Time Step",null,{"$f":"(BXQ7-'Full Vintage Planner'!$C$8)*8+INT(BXQ8*8)","v":-330200},null,null,null,null,null,null,null,null,null,"Initial Cell mass",null,null,"g/L",null,"Outlet Juice Temp",null,null,"C",null,"Time Step",null,{"$f":"(BYM7-'Full Vintage Planner'!$C$8)*8+INT(BYM8*8)","v":-330200},null,null,null,null,null,null,null,null,null,"Initial Cell mass",null,null,"g/L",null,"Outlet Juice Temp",null,null,"C",null,"Time Step",null,{"$f":"(BZI7-'Full Vintage Planner'!$C$8)*8+INT(BZI8*8)","v":-330200},null,null,null,null,null,null,null,null,null,"Initial Cell mass",null,null,"g/L",null,"Outlet Juice Temp",null,null,"C",null,"Time Step",null,{"$f":"(CAE7-'Full Vintage Planner'!$C$8)*8+INT(CAE8*8)","v":-330200},null,null,null,null,null,null,null,null,null,"Initial Cell mass",null,null,"g/L",null,"Outlet Juice Temp",null,null,"C",null,"Time Step",null,{"$f":"(CBA7-'Full Vintage Planner'!$C$8)*8+INT(CBA8*8)","v":-330200},null,null,null,null,null,null,null,null,null,"Initial Cell mass",null,null,"g/L",null,"Outlet Juice Temp",null,null,"C",null,"Time Step",null,{"$f":"(CBW7-'Full Vintage Planner'!$C$8)*8+INT(CBW8*8)","v":-330200},null,null,null,null,null,null,null,null,null,"Initial Cell mass",null,null,"g/L",null,"Outlet Juice Temp",null,null,"C",null,"Time Step",null,{"$f":"(CCS7-'Full Vintage Planner'!$C$8)*8+INT(CCS8*8)","v":-330200},null,null,null,null,null,null,null,null,null,"Initial Cell mass",null,null,"g/L",null,"Outlet Juice Temp",null,null,"C",null,"Time Step",null,{"$f":"(CDO7-'Full Vintage Planner'!$C$8)*8+INT(CDO8*8)","v":-330200},null,null,null,null,null,null,null,null,null,"Initial Cell mass",null,null,"g/L",null,"Outlet Juice Temp",null,null,"C",null,"Time Step",null,{"$f":"(CEK7-'Full Vintage Planner'!$C$8)*8+INT(CEK8*8)","v":-330200},null,null,null,null,null,null,null,null,null,"Initial Cell mass",null,null,"g/L",null,"Outlet Juice Temp",null,null,"C",null,"Time Step",null,{"$f":"(CFG7-'Full Vintage Planner'!$C$8)*8+INT(CFG8*8)","v":-330200}]
["Initial N",null,0.25,"g/L",null,null,null,null,null,null,"Cold Settling/Soak Temperature",null,2,"C",null,null,null,null,null,null,null,null,"Initial N",null,0.2,"g/L",null,null,null,null,null,null,"Cold Settling/Soak Temperature",null,2,"C",null,null,null,null,null,null,null,null,"Initial N",null,0.3,"g/L",null,null,null,null,null,null,"Cold Settling/Soak Temperature",null,2,"C",null,null,null,null,null,null,null,null,"Initial N",null,0.25,"g/L",null,null,null,null,null,null,"Cold Settling/Soak Temperature",null,null,"C",null,null,null,null,null,null,null,null,"Initial N",null,null,"g/L",null,null,null,null,null,null,"Cold Settling/Soak Temperature",null,null,"C",null,null,null,null,null,null,null,null,"Initial N",null,null,"g/L",null,null,null,null,null,null,"Cold Settling/Soak Temperature",null,null,"C",null,null,null,null,null,null,null,null,"Initial N",null,null,"g/L",null,null,null,null,null,null,"Cold Settling/Soak Temperature",null,null,"C",null,null,null,null,null,null,null,null,"Initial N",null,null,"g/L",null,null,null,null,null,null,"Cold Settling/Soak Temperature",null,null,"C",null,null,null,null,null,null,null,null,"Initial N",null,null,"g/L",null,null,null,null,null,null,"Cold Settling/Soak Temperature",null,null,"C",null,null,null,null,null,null,null,null,"Initial N",null,null,"g/L",null,null,null,null,null,null,"Cold Settling/Soak Temperature",null,null,"C",null,null,null,null,null,null,null,null,"Initial N",null,null,"g/L",null,null,null,null,null,null,"Cold Settling/Soak Temperature",null,null,"C",null,null,null,null,null,null,null,null,"Initial N",null,null,"g/L",null,null,null,null,null,null,"Cold Settling/Soak Temperature",null,null,"C",null,null,null,null,null,null,null,null,"Initial N",null,null,"g/L",null,null,null,null,null,null,"Cold Settling/Soak Temperature",null,null,"C",null,null,null,null,null,null,null,null,"Initial N",null,null,"g/L",null,null,null,null,null,null,"Cold Settling/Soak Temperature",null,null,"C",null,null,null,null,null,null,null,null,"Initial N",null,null,"g/L",null,null,null,null,null,null,"Cold Settling/Soak Temperature",null,null,"C",null,null,null,null,null,null,null,null,"Initial N",null,null,"g/L",null,null,null,null,null,null,"Cold Settling/Soak Temperature",null,null,"C",null,null,null,null,null,null,null,null,"Initial N",null,null,"g/L",null,null,null,null,null,null,"Cold Settling/Soak Temperature",null,null,"C",null,null,null,null,null,null,null,null,"Initial N",null,null,"g/L",null,null,null,null,null,null,"Cold Settling/Soak Temperature",null,null,"C",null,null,null,null,null,null,null,null,"Initial N",null,null,"g/L",null,null,null,null,null,null,"Cold Settling/Soak Temperature",null,null,"C",null,null,null,null,null,null,null,null,"Initial N",null,null,"g/L",null,null,null,null,null,null,"Cold Settling/Soak Temperature",null,null,"C",null,null,null,null,null,null,null,null,"Initial N",null,null,"g/L",null,null,null,null,null,null,"Cold Settling/Soak Temperature",null,null,"C",null,null,null,null,null,null,null,null,"Initial N",null,null,"g/L",null,null,null,null,null,null,"Cold Settling/Soak Temperature",null,null,"C",null,null,null,null,null,null,null,null,"Initial N",null,null,"g/L",null,null,null,null,null,null,"Cold Settling/Soak Temperature",null,null,"C",null,null,null,null,null,null,null,null,"Initial N",null,null,"g/L",null,null,null,null,null,null,"Cold Settling/Soak Temperature",null,null,"C",null,null,null,null,null,null,null,null,"Initial N",null,null,"g/L",null,null,null,null,null,null,"Cold Settling/Soak Temperature",null,null,"C",null,null,null,null,null,null,null,null,"Initial N",null,null,"g/L",null,null,null,null,null,null,"Cold Settling/Soak Temperature",null,null,"C",null,null,null,null,null,null,null,null,"Initial N",null,null,"g/L",null,null,null,null,null,null,"Cold Settling/Soak Temperature",null,null,"C",null,null,null,null,null,null,null,null,"Initial N",null,null,"g/L",null,null,null,null,null,null,"Cold Settling/Soak Temperature",null,null,"C",null,null,null,null,null,null,null,null,"Initial N",null,null,"g/L",null,null,null,null,null,null,"Cold Settling/Soak Temperature",null,null,"C",null,null,null,null,null,null,null,null,"Initial N",null,null,"g/L",null,null,null,null,null,null,"Cold Settling/Soak Temperature",null,null,"C",null,null,null,null,null,null,null,null,"Initial N",null,null,"g/L",null,null,null,null,null,null,"Cold Settling/Soak Temperature",null,null,"C",null,null,null,null,null,null,null,null,"Initial N",null,null,"g/L",null,null,null,null,null,null,"Cold Settling/Soak Temperature",null,null,"C",null,null,null,null,null,null,null,null,"Initial N",null,null,"g/L",null,null,null,null,null,null,"Cold Settling/Soak Temperature",null,null,"C",null,null,null,null,null,null,null,null,"Initial N",null,null,"g/L",null,null,null,null,null,null,"Cold Settling/Soak Temperature",null,null,"C",null,null,null,null,null,null,null,null,"Initial N",null,null,"g/L",null,null,null,null,null,null,"Cold Settling/Soak Temperature",null,null,"C",null,null,null,null,null,null,null,null,"Initial N",null,null,"g/L",null,null,null,null,null,null,"Cold Settling/Soak Temperature",null,null,"C",null,null,null,null,null,null,null,null,"Initial N",null,null,"g/L",null,null,null,null,null,null,"Cold Settling/Soak Temperature",null,null,"C",null,null,null,null,null,null,null,null,"Initial N",null,null,"g/L",null,null,null,null,null,null,"Cold Settling/Soak Temperature",null,null,"C",null,null,null,null,null,null,null,null,"Initial N",null,null,"g/L",null,null,null,null,null,null,"Cold Settling/Soak Temperature",null,null,"C",null,null,null,null,null,null,null,null,"Initial N",null,null,"g/L",null,null,null,null,null,null,"Cold Settling/Soak Temperature",null,null,"C",null,null,null,null,null,null,null,null,"Initial N",null,null,"g/L",null,null,null,null,null,null,"Cold Settling/Soak Temperature",null,null,"C",null,null,null,null,null,null,null,null,"Initial N",null,null,"g/L",null,null,null,null,null,null,"Cold Settling/Soak Temperature",null,null,"C",null,null,null,null,null,null,null,null,"Initial N",null,null,"g/L",null,null,null,null,null,null,"Cold Settling/Soak Temperature",null,null,"C",null,null,null,null,null,null,null,null,"Initial N",null,null,"g/L",null,null,null,null,null,null,"Cold Settling/Soak Temperature",null,null,"C",null,null,null,null,null,null,null,null,"Initial N",null,null,"g/L",null,null,null,null,null,null,"Cold Settling/Soak Temperature",null,null,"C",null,null,null,null,null,null,null,null,"Initial N",null,null,"g/L",null,null,null,null,null,null,"Cold Settling/Soak Temperature",null,null,"C",null,null,null,null,null,null,null,null,"Initial N",null,null,"g/L",null,null,null,null,null,null,"Cold Settling/Soak Temperature",null,null,"C",null,null,null,null,null,null,null,null,"Initial N",null,null,"g/L",null,null,null,null,null,null,"Cold Settling/Soak Temperature",null,null,"C",null,null,null,null,null,null,null,null,"Initial N",null,null,"g/L",null,null,null,null,null,null,"Cold Settling/Soak Temperature",null,null,"C",null,null,null,null,null,null,null,null,"Initial N",null,null,"g/L",null,null,null,null,null,null,"Cold Settling/Soak Temperature",null,null,"C",null,null,null,null,null,null,null,null,"Initial N",null,null,"g/L",null,null,null,null,null,null,"Cold Settling/Soak Temperature",null,null,"C",null,null,null,null,null,null,null,null,"Initial N",null,null,"g/L",null,null,null,null,null,null,"Cold Settling/Soak Temperature",null,null,"C",null,null,null,null,null,null,null,null,"Initial N",null,null,"g/L",null,null,null,null,null,null,"Cold Settling/Soak Temperature",null,null,"C",null,null,null,null,null,null,null,null,"Initial N",null,null,"g/L",null,null,null,null,null,null,"Cold Settling/Soak Temperature",null,null,"C",null,null,null,null,null,null,null,null,"Initial N",null,null,"g/L",null,null,null,null,null,null,"Cold Settling/Soak Temperature",null,null,"C",null,null,null,null,null,null,null,null,"Initial N",null,null,"g/L",null,null,null,null,null,null,"Cold Settling/Soak Temperature",null,null,"C",null,null,null,null,null,null,null,null,"Initial N",null,null,"g/L",null,null,null,null,null,null,"Cold Settling/Soak Temperature",null,null,"C",null,null,null,null,null,null,null,null,"Initial N",null,null,"g/L",null,null,null,null,null,null,"Cold Settling/Soak Temperature",null,null,"C",null,null,null,null,null,null,null,null,"Initial N",null,null,"g/L",null,null,null,null,null,null,"Cold Settling/Soak Temperature",null,null,"C",null,null,null,null,null,null,null,null,"Initial N",null,null,"g/L",null,null,null,null,null,null,"Cold Settling/Soak Temperature",null,null,"C",null,null,null,null,null,null,null,null,"Initial N",null,null,"g/L",null,null,null,null,null,null,"Cold Settling/Soak Temperature",null,null,"C",null,null,null,null,null,null,null,null,"Initial N",null,null,"g/L",null,null,null,null,null,null,"Cold Settling/Soak Temperature",null,null,"C",null,null,null,null,null,null,null,null,"Initial N",null,null,"g/L",null,null,null,null,null,null,"Cold Settling/Soak Temperature",null,null,"C",null,null,null,null,null,null,null,null,"Initial N",null,null,"g/L",null,null,null,null,null,null,"Cold Settling/Soak Temperature",null,null,"C",null,null,null,null,null,null,null,null,"Initial N",null,null,"g/L",null,null,null,null,null,null,"Cold Settling/Soak Temperature",null,null,"C",null,null,null,null,null,null,null,null,"Initial N",null,null,"g/L",null,null,null,null,null,null,"Cold Settling/Soak Temperature",null,null,"C",null,null,null,null,null,null,null,null,"Initial N",null,null,"g/L",null,null,null,null,null,null,"Cold Settling/Soak Temperature",null,null,"C",null,null,null,null,null,null,null,null,"Initial N",null,null,"g/L",null,null,null,null,null,null,"Cold Settling/Soak Temperature",null,null,"C",null,null,null,null,null,null,null,null,"Initial N",null,null,"g/L",null,null,null,null,null,null,"Cold Settling/Soak Temperature",null,null,"C",null,null,null,null,null,null,null,null,"Initial N",null,null,"g/L",null,null,null,null,null,null,"Cold Settling/Soak Temperature",null,null,"C",null,null,null,null,null,null,null,null,"Initial N",null,null,"g/L",null,null,null,null,null,null,"Cold Settling/Soak Temperature",null,null,"C",null,null,null,null,null,null,null,null,"Initial N",null,null,"g/L",null,null,null,null,null,null,"Cold Settling/Soak Temperature",null,null,"C",null,null,null,null,null,null,null,null,"Initial N",null,null,"g/L",null,null,null,null,null,null,"Cold Settling/Soak Temperature",null,null,"C",null,null,null,null,null,null,null,null,"Initial N",null,null,"g/L",null,null,null,null,null,null,"Cold Settling/Soak Temperature",null,null,"C",null,null,null,null,null,null,null,null,"Initial N",null,null,"g/L",null,null,null,null,null,null,"Cold Settling/Soak Temperature",null,null,"C",null,null,null,null,null,null,null,null,"Initial N",null,null,"g/L",null,null,null,null,null,null,"Cold Settling/Soak Temperature",null,null,"C",null,null,null,null,null,null,null,null,"Initial N",null,null,"g/L",null,null,null,null,null,null,"Cold Settling/Soak Temperature",null,null,"C",null,null,null,null,null,null,null,null,"Initial N",null,null,"g/L",null,null,null,null,null,null,"Cold Settling/Soak Temperature",null,null,"C",null,null,null,null,null,null,null,null,"Initial N",null,null,"g/L",null,null,null,null,null,null,"Cold Settling/Soak Temperature",null,null,"C",null,null,null,null,null,null,null,null,"Initial N",null,null,"g/L",null,null,null,null,null,null,"Cold Settling/Soak Temperature",null,null,"C",null,null,null,null,null,null,null,null,"Initial N",null,null,"g/L",null,null,null,null,null,null,"Cold Settling/Soak Temperature",null,null,"C",null,null,null,null,null,null,null,null,"Initial N",null,null,"g/L",null,null,null,null,null,null,"Cold Settling/Soak Temperature",null,null,"C",null,null,null,null,null,null,null,null,"Initial N",null,null,"g/L",null,null,null,null,null,null,"Cold Settling/Soak Temperature",null,null,"C",null,null,null,null,null,null,null,null,"Initial N",null,null,"g/L",null,null,null,null,null,null,"Cold Settling/Soak Temperature",null,null,"C",null,null,null,null,null,null,null,null,"Initial N",null,null,"g/L",null,null,null,null,null,null,"Cold Settling/Soak Temperature",null,null,"C",null,null,null,null,null,null,null,null,"Initial N",null,null,"g/L",null,null,null,null,null,null,"Cold Settling/Soak Temperature",null,null,"C",null,null,null,null,null,null,null,null,"Initial N",null,null,"g/L",null,null,null,null,null,null,"Cold Settling/Soak Temperature",null,null,"C",null,null,null,null,null,null,null,null,"Initial N",null,null,"g/L",null,null,null,null,null,null,"Cold Settling/Soak Temperature",null,null,"C",null,null,null,null,null,null,null,null,"Initial N",null,null,"g/L",null,null,null,null,null,null,"Cold Settling/Soak Temperature",null,null,"C",null,null,null,null,null,null,null,null,"Initial N",null,null,"g/L",null,null,null,null,null,null,"Cold Settling/Soak Temperature",null,null,"C",null,null,null,null,null,null,null,null,"Initial N",null,null,"g/L",null,null,null,null,null,null,"Cold Settling/Soak Temperature",null,null,"C",null,null,null,null,null,null,null,null,"Initial N",null,null,"g/L",null,null,null,null,null,null,"Cold Settling/Soak Temperature",null,null,"C",null,null,null,null,null,null,null,null,"Initial N",null,null,"g/L",null,null,null,null,null,null,"Cold Settling/Soak Temperature",null,null,"C",null,null,null,null,null,null,null,null,"Initial N",null,null,"g/L",null,null,null,null,null,null,"Cold Settling/Soak Temperature",null,null,"C",null,null,null,null,null,null,null,null,"Initial N",null,null,"g/L",null,null,null,null,null,null,"Cold Settling/Soak Temperature",null,null,"C",null,null,null,null,null,null,null,null,"Initial N",null,null,"g/L",null,null,null,null,null,null,"Cold Settling/Soak Temperature",null,null,"C",null,null,null,null,null,null,null,null,"Initial N",null,null,"g/L",null,null,null,null,null,null,"Cold Settling/Soak Temperature",null,null,"C",null,null,null,null,null,null,null,null,"Initial N",null,null,"g/L",null,null,null,null,null,null,"Cold Settling/Soak Temperature",null,null,"C",null,null,null,null,null,null,null,null,"Initial N",null,null,"g/L",null,null,null,null,null,null,"Cold Settling/Soak Temperature",null,null,"C",null,null,null,null,null,null,null,null,"Initial N",null,null,"g/L",null,null,null,null,null,null,"Cold Settling/Soak Temperature",null,null,"C"]
["Insulation U value",null,3,"W/m2/C",null,null,null,null,null,null,null,null,null,null,null,null,null,null,null,null,null,null,"Insulation U value",null,3,"W/m2/C",null,null,null,null,null,null,null,null,null,null,null,null,null,null,null,null,null,null,"Insulation U value",null,3,"W/m2/C",null,null,null,null,null,null,null,null,null,null,null,null,null,null,null,null,null,null,"Insulation U value",null,3,"W/m2/C",null,null,null,null,null,null,null,null,null,null,null,null,null,null,null,null,null,null,"Insulation U value",null,3,"W/m2/C",null,null,null,null,null,null,null,null,null,null,null,null,null,null,null,null,null,null,"Insulation U value",null,3,"W/m2/C",null,null,null,null,null,null,null,null,null,null,null,null,null,null,null,null,null,null,"Insulation U value",null,3,"W/m2/C",null,null,null,null,null,null,null,null,null,null,null,null,null,null,null,null,null,null,"Insulation U value",null,3,"W/m2/C",null,null,null,null,null,null,null,null,null,null,null,null,null,null,null,null,null,null,"Insulation U value",null,3,"W/m2/C",null,null,null,null,null,null,null,null,null,null,null,null,null,null,null,null,null,null,"Insulation U value",null,3,"W/m2/C",null,null,null,null,null,null,null,null,null,null,null,null,null,null,null,null,null,null,"Insulation U value",null,3,"W/m2/C",null,null,null,null,null,null,null,null,null,null,null,null,null,null,null,null,null,null,"Insulation U value",null,3,"W/m2/C",null,null,null,null,null,null,null,null,null,null,null,null,null,null,null,null,null,null,"Insulation U value",null,3,"W/m2/C",null,null,null,null,null,null,null,null,null,null,null,null,null,null,null,null,null,null,"Insulation U value",null,3,"W/m2/C",null,null,null,null,null,null,null,null,null,null,null,null,null,null,null,null,null,null,"Insulation U value",null,3,"W/m2/C",null,null,null,null,null,null,null,null,null,null,null,null,null,null,null,null,null,null,"Insulation U value",null,3,"W/m2/C",null,null,null,null,null,null,null,null,null,null,null,null,null,null,null,null,null,null,"Insulation U value",null,3,"W/m2/C",null,null,null,null,null,null,null,null,null,null,null,null,null,null,null,null,null,null,"Insulation U value",null,3,"W/m2/C",null,null,null,null,null,null,null,null,null,null,null,null,null,null,null,null,null,null,"Insulation U value",null,3,"W/m2/C",null,null,null,null,null,null,null,null,null,null,null,null,null,null,null,null,null,null,"Insulation U value",null,3,"W/m2/C",null,null,null,null,null,null,null,null,null,null,null,null,null,null,null,null,null,null,"Insulation U value",null,3,"W/m2/C",null,null,null,null,null,null,null,null,null,null,null,null,null,null,null,null,null,null,"Insulation U value",null,3,"W/m2/C",null,null,null,null,null,null,null,null,null,null,null,null,null,null,null,null,null,null,"Insulation U value",null,3,"W/m2/C",null,null,null,null,null,null,null,null,null,null,null,null,null,null,null,null,null,null,"Insulation U value",null,3,"W/m2/C",null,null,null,null,null,null,null,null,null,null,null,null,null,null,null,null,null,null,"Insulation U value",null,3,"W/m2/C",null,null,null,null,null,null,null,null,null,null,null,null,null,null,null,null,null,null,"Insulation U value",null,3,"W/m2/C",null,null,null,null,null,null,null,null,null,null,null,null,null,null,null,null,null,null,"Insulation U value",null,3,"W/m2/C",null,null,null,null,null,null,null,null,null,null,null,null,null,null,null,null,null,null,"Insulation U value",null,3,"W/m2/C",null,null,null,null,null,null,null,null,null,null,null,null,null,null,null,null,null,null,"Insulation U value",null,3,"W/m2/C",null,null,null,null,null,null,null,null,null,null,null,null,null,null,null,null,null,null,"Insulation U value",null,3,"W/m2/C",null,null,null,null,null,null,null,null,null,null,null,null,null,null,null,null,null,null,"Insulation U value",null,3,"W/m2/C",null,null,null,null,null,null,null,null,null,null,null,null,null,null,null,null,null,null,"Insulation U value",null,3,"W/m2/C",null,null,null,null,null,null,null,null,null,null,null,null,null,null,null,null,null,null,"Insulation U value",null,3,"W/m2/C",null,null,null,null,null,null,null,null,null,null,null,null,null,null,null,null,null,null,"Insulation U value",null,3,"W/m2/C",null,null,null,null,null,null,null,null,null,null,null,null,null,null,null,null,null,null,"Insulation U value",null,3,"W/m2/C",null,null,null,null,null,null,null,null,null,null,null,null,null,null,null,null,null,null,"Insulation U value",null,3,"W/m2/C",null,null,null,null,null,null,null,null,null,null,null,null,null,null,null,null,null,null,"Insulation U value",null,3,"W/m2/C",null,null,null,null,null,null,null,null,null,null,null,null,null,null,null,null,null,null,"Insulation U value",null,3,"W/m2/C",null,null,null,null,null,null,null,null,null,null,null,null,null,null,null,null,null,null,"Insulation U value",null,3,"W/m2/C",null,null,null,null,null,null,null,null,null,null,null,null,null,null,null,null,null,null,"Insulation U value",null,3,"W/m2/C",null,null,null,null,null,null,null,null,null,null,null,null,null,null,null,null,null,null,"Insulation U value",null,3,"W/m2/C",null,null,null,null,null,null,null,null,null,null,null,null,null,null,null,null,null,null,"Insulation U value",null,3,"W/m2/C",null,null,null,null,null,null,null,null,null,null,null,null,null,null,null,null,null,null,"Insulation U value",null,3,"W/m2/C",null,null,null,null,null,null,null,null,null,null,null,null,null,null,null,null,null,null,"Insulation U value",null,3,"W/m2/C",null,null,null,null,null,null,null,null,null,null,null,null,null,null,null,null,null,null,"Insulation U value",null,3,"W/m2/C",null,null,null,null,null,null,null,null,null,null,null,null,null,null,null,null,null,null,"Insulation U value",null,3,"W/m2/C",null,null,null,null,null,null,null,null,null,null,null,null,null,null,null,null,null,null,"Insulation U value",null,3,"W/m2/C",null,null,null,null,null,null,null,null,null,null,null,null,null,null,null,null,null,null,"Insulation U value",null,3,"W/m2/C",null,null,null,null,null,null,null,null,null,null,null,null,null,null,null,null,null,null,"Insulation U value",null,3,"W/m2/C",null,null,null,null,null,null,null,null,null,null,null,null,null,null,null,null,null,null,"Insulation U value",null,3,"W/m2/C",null,null,null,null,null,null,null,null,null,null,null,null,null,null,null,null,null,null,"Insulation U value",null,3,"W/m2/C",null,null,null,null,null,null,null,null,null,null,null,null,null,null,null,null,null,null,"Insulation U value",null,3,"W/m2/C",null,null,null,null,null,null,null,null,null,null,null,null,null,null,null,null,null,null,"Insulation U value",null,3,"W/m2/C",null,null,null,null,null,null,null,null,null,null,null,null,null,null,null,null,null,null,"Insulation U value",null,3,"W/m2/C",null,null,null,null,null,null,null,null,null,null,null,null,null,null,null,null,null,null,"Insulation U value",null,3,"W/m2/C",null,null,null,null,null,null,null,null,null,null,null,null,null,null,null,null,null,null,"Insulation U value",null,3,"W/m2/C",null,null,null,null,null,null,null,null,null,null,null,null,null,null,null,null,null,null,"Insulation U value",null,3,"W/m2/C",null,null,null,null,null,null,null,null,null,null,null,null,null,null,null,null,null,null,"Insulation U value",null,3,"W/m2/C",null,null,null,null,null,null,null,null,null,null,null,null,null,null,null,null,null,null,"Insulation U value",null,3,"W/m2/C",null,null,null,null,null,null,null,null,null,null,null,null,null,null,null,null,null,null,"Insulation U value",null,3,"W/m2/C",null,null,null,null,null,null,null,null,null,null,null,null,null,null,null,null,null,null,"Insulation U value",null,3,"W/m2/C",null,null,null,null,null,null,null,null,null,null,null,null,null,null,null,null,null,null,"Insulation U value",null,3,"W/m2/C",null,null,null,null,null,null,null,null,null,null,null,null,null,null,null,null,null,null,"Insulation U value",null,3,"W/m2/C",null,null,null,null,null,null,null,null,null,null,null,null,null,null,null,null,null,null,"Insulation U value",null,3,"W/m2/C",null,null,null,null,null,null,null,null,null,null,null,null,null,null,null,null,null,null,"Insulation U value",null,3,"W/m2/C",null,null,null,null,null,null,null,null,null,null,null,null,null,null,null,null,null,null,"Insulation U value",null,3,"W/m2/C",null,null,null,null,null,null,null,null,null,null,null,null,null,null,null,null,null,null,"Insulation U value",null,3,"W/m2/C",null,null,null,null,null,null,null,null,null,null,null,null,null,null,null,null,null,null,"Insulation U value",null,3,"W/m2/C",null,null,null,null,null,null,null,null,null,null,null,null,null,null,null,null,null,null,"Insulation U value",null,3,"W/m2/C",null,null,null,null,null,null,null,null,null,null,null,null,null,null,null,null,null,null,"Insulation U value",null,3,"W/m2/C",null,null,null,null,null,null,null,null,null,null,null,null,null,null,null,null,null,null,"Insulation U value",null,3,"W/m2/C",null,null,null,null,null,null,null,null,null,null,null,null,null,null,null,null,null,null,"Insulation U value",null,3,"W/m2/C",null,null,null,null,null,null,null,null,null,null,null,null,null,null,null,null,null,null,"Insulation U value",null,3,"W/m2/C",null,null,null,null,null,null,null,null,null,null,null,null,null,null,null,null,null,null,"Insulation U value",null,3,"W/m2/C",null,null,null,null,null,null,null,null,null,null,null,null,null,null,null,null,null,null,"Insulation U value",null,3,"W/m2/C",null,null,null,null,null,null,null,null,null,null,null,null,null,null,null,null,null,null,"Insulation U value",null,3,"W/m2/C",null,null,null,null,null,null,null,null,null,null,null,null,null,null,null,null,null,null,"Insulation U value",null,3,"W/m2/C",null,null,null,null,null,null,null,null,null,null,null,null,null,null,null,null,null,null,"Insulation U value",null,3,"W/m2/C",null,null,null,null,null,null,null,null,null,null,null,null,null,null,null,null,null,null,"Insulation U value",null,3,"W/m2/C",null,null,null,null,null,null,null,null,null,null,null,null,null,null,null,null,null,null,"Insulation U value",null,3,"W/m2/C",null,null,null,null,null,null,null,null,null,null,null,null,null,null,null,null,null,null,"Insulation U value",null,3,"W/m2/C",null,null,null,null,null,null,null,null,null,null,null,null,null,null,null,null,null,null,"Insulation U value",null,3,"W/m2/C",null,null,null,null,null,null,null,null,null,null,null,null,null,null,null,null,null,null,"Insulation U value",null,3,"W/m2/C",null,null,null,null,null,null,null,null,null,null,null,null,null,null,null,null,null,null,"Insulation U value",null,3,"W/m2/C",null,null,null,null,null,null,null,null,null,null,null,null,null,null,null,null,null,null,"Insulation U value",null,3,"W/m2/C",null,null,null,null,null,null,null,null,null,null,null,null,null,null,null,null,null,null,"Insulation U value",null,3,"W/m2/C",null,null,null,null,null,null,null,null,null,null,null,null,null,null,null,null,null,null,"Insulation U value",null,3,"W/m2/C",null,null,null,null,null,null,null,null,null,null,null,null,null,null,null,null,null,null,"Insulation U value",null,3,"W/m2/C",null,null,null,null,null,null,null,null,null,null,null,null,null,null,null,null,null,null,"Insulation U value",null,3,"W/m2/C",null,null,null,null,null,null,null,null,null,null,null,null,null,null,null,null,null,null,"Insulation U value",null,3,"W/m2/C",null,null,null,null,null,null,null,null,null,null,null,null,null,null,null,null,null,null,"Insulation U value",null,3,"W/m2/C",null,null,null,null,null,null,null,null,null,null,null,null,null,null,null,null,null,null,"Insulation U value",null,3,"W/m2/C",null,null,null,null,null,null,null,null,null,null,null,null,null,null,null,null,null,null,"Insulation U value",null,3,"W/m2/C",null,null,null,null,null,null,null,null,null,null,null,null,null,null,null,null,null,null,"Insulation U value",null,3,"W/m2/C",null,null,null,null,null,null,null,null,null,null,null,null,null,null,null,null,null,null,"Insulation U value",null,3,"W/m2/C",null,null,null,null,null,null,null,null,null,null,null,null,null,null,null,null,null,null,"Insulation U value",null,3,"W/m2/C",null,null,null,null,null,null,null,null,null,null,null,null,null,null,null,null,null,null,"Insulation U value",null,3,"W/m2/C",null,null,null,null,null,null,null,null,null,null,null,null,null,null,null,null,null,null,"Insulation U value",null,3,"W/m2/C",null,null,null,null,null,null,null,null,null,null,null,null,null,null,null,null,null,null,"Insulation U value",null,3,"W/m2/C",null,null,null,null,null,null,null,null,null,null,null,null,null,null,null,null,null,null,"Insulation U value",null,3,"W/m2/C"]
["Desired ferment duration",null,12,"days",null,null,null,null,null,null,null,null,null,null,null,null,null,null,null,null,null,null,"Desired ferment duration",null,14,"days",null,null,null,null,null,null,null,null,null,null,null,null,null,null,null,null,null,null,"Desired ferment duration",null,10,"days",null,null,null,null,null,null,null,null,null,null,null,null,null,null,null,null,null,null,"Desired ferment duration",null,8,"days",null,null,null,null,null,null,null,null,null,null,null,null,null,null,null,null,null,null,"Desired ferment duration",null,8,"days",null,null,null,null,null,null,null,null,null,null,null,null,null,null,null,null,null,null,"Desired ferment duration",null,8,"days",null,null,null,null,null,null,null,null,null,null,null,null,null,null,null,null,null,null,"Desired ferment duration",null,8,"days",null,null,null,null,null,null,null,null,null,null,null,null,null,null,null,null,null,null,"Desired ferment duration",null,8,"days",null,null,null,null,null,null,null,null,null,null,null,null,null,null,null,null,null,null,"Desired ferment duration",null,8,"days",null,null,null,null,null,null,null,null,null,null,null,null,null,null,null,null,null,null,"Desired ferment duration",null,8,"days",null,null,null,null,null,null,null,null,null,null,null,null,null,null,null,null,null,null,"Desired ferment duration",null,8,"days",null,null,null,null,null,null,null,null,null,null,null,null,null,null,null,null,null,null,"Desired ferment duration",null,8,"days",null,null,null,null,null,null,null,null,null,null,null,null,null,null,null,null,null,null,"Desired ferment duration",null,8,"days",null,null,null,null,null,null,null,null,null,null,null,null,null,null,null,null,null,null,"Desired ferment duration",null,8,"days",null,null,null,null,null,null,null,null,null,null,null,null,null,null,null,null,null,null,"Desired ferment duration",null,8,"days",null,null,null,null,null,null,null,null,null,null,null,null,null,null,null,null,null,null,"Desired ferment duration",null,8,"days",null,null,null,null,null,null,null,null,null,null,null,null,null,null,null,null,null,null,"Desired ferment duration",null,8,"days",null,null,null,null,null,null,null,null,null,null,null,null,null,null,null,null,null,null,"Desired ferment duration",null,8,"days",null,null,null,null,null,null,null,null,null,null,null,null,null,null,null,null,null,null,"Desired ferment duration",null,8,"days",null,null,null,null,null,null,null,null,null,null,null,null,null,null,null,null,null,null,"Desired ferment duration",null,8,"days",null,null,null,null,null,null,null,null,null,null,null,null,null,null,null,null,null,null,"Desired ferment duration",null,8,"days",null,null,null,null,null,null,null,null,null,null,null,null,null,null,null,null,null,null,"Desired ferment duration",null,8,"days",null,null,null,null,null,null,null,null,null,null,null,null,null,null,null,null,null,null,"Desired ferment duration",null,8,"days",null,null,null,null,null,null,null,null,null,null,null,null,null,null,null,null,null,null,"Desired ferment duration",null,8,"days",null,null,null,null,null,null,null,null,null,null,null,null,null,null,null,null,null,null,"Desired ferment duration",null,8,"days",null,null,null,null,null,null,null,null,null,null,null,null,null,null,null,null,null,null,"Desired ferment duration",null,8,"days",null,null,null,null,null,null,null,null,null,null,null,null,null,null,null,null,null,null,"Desired ferment duration",null,8,"days",null,null,null,null,null,null,null,null,null,null,null,null,null,null,null,null,null,null,"Desired ferment duration",null,8,"days",null,null,null,null,null,null,null,null,null,null,null,null,null,null,null,null,null,null,"Desired ferment duration",null,8,"days",null,null,null,null,null,null,null,null,null,null,null,null,null,null,null,null,null,null,"Desired ferment duration",null,8,"days",null,null,null,null,null,null,null,null,null,null,null,null,null,null,null,null,null,null,"Desired ferment duration",null,8,"days",null,null,null,null,null,null,null,null,null,null,null,null,null,null,null,null,null,null,"Desired ferment duration",null,8,"days",null,null,null,null,null,null,null,null,null,null,null,null,null,null,null,null,null,null,"Desired ferment duration",null,8,"days",null,null,null,null,null,null,null,null,null,null,null,null,null,null,null,null,null,null,"Desired ferment duration",null,8,"days",null,null,null,null,null,null,null,null,null,null,null,null,null,null,null,null,null,null,"Desired ferment duration",null,8,"days",null,null,null,null,null,null,null,null,null,null,null,null,null,null,null,null,null,null,"Desired ferment duration",null,8,"days",null,null,null,null,null,null,null,null,null,null,null,null,null,null,null,null,null,null,"Desired ferment duration",null,8,"days",null,null,null,null,null,null,null,null,null,null,null,null,null,null,null,null,null,null,"Desired ferment duration",null,8,"days",null,null,null,null,null,null,null,null,null,null,null,null,null,null,null,null,null,null,"Desired ferment duration",null,8,"days",null,null,null,null,null,null,null,null,null,null,null,null,null,null,null,null,null,null,"Desired ferment duration",null,8,"days",null,null,null,null,null,null,null,null,null,null,null,null,null,null,null,null,null,null,"Desired ferment duration",null,8,"days",null,null,null,null,null,null,null,null,null,null,null,null,null,null,null,null,null,null,"Desired ferment duration",null,8,"days",null,null,null,null,null,null,null,null,null,null,null,null,null,null,null,null,null,null,"Desired ferment duration",null,8,"days",null,null,null,null,null,null,null,null,null,null,null,null,null,null,null,null,null,null,"Desired ferment duration",null,8,"days",null,null,null,null,null,null,null,null,null,null,null,null,null,null,null,null,null,null,"Desired ferment duration",null,8,"days",null,null,null,null,null,null,null,null,null,null,null,null,null,null,null,null,null,null,"Desired ferment duration",null,8,"days",null,null,null,null,null,null,null,null,null,null,null,null,null,null,null,null,null,null,"Desired ferment duration",null,8,"days",null,null,null,null,null,null,null,null,null,null,null,null,null,null,null,null,null,null,"Desired ferment duration",null,8,"days",null,null,null,null,null,null,null,null,null,null,null,null,null,null,null,null,null,null,"Desired ferment duration",null,8,"days",null,null,null,null,null,null,null,null,null,null,null,null,null,null,null,null,null,null,"Desired ferment duration",null,8,"days",null,null,null,null,null,null,null,null,null,null,null,null,null,null,null,null,null,null,"Desired ferment duration",null,8,"days",null,null,null,null,null,null,null,null,null,null,null,null,null,null,null,null,null,null,"Desired ferment duration",null,8,"days",null,null,null,null,null,null,null,null,null,null,null,null,null,null,null,null,null,null,"Desired ferment duration",null,8,"days",null,null,null,null,null,null,null,null,null,null,null,null,null,null,null,null,null,null,"Desired ferment duration",null,8,"days",null,null,null,null,null,null,null,null,null,null,null,null,null,null,null,null,null,null,"Desired ferment duration",null,8,"days",null,null,null,null,null,null,null,null,null,null,null,null,null,null,null,null,null,null,"Desired ferment duration",null,8,"days",null,null,null,null,null,null,null,null,null,null,null,null,null,null,null,null,null,null,"Desired ferment duration",null,8,"days",null,null,null,null,null,null,null,null,null,null,null,null,null,null,null,null,null,null,"Desired ferment duration",null,8,"days",null,null,null,null,null,null,null,null,null,null,null,null,null,null,null,null,null,null,"Desired ferment duration",null,8,"days",null,null,null,null,null,null,null,null,null,null,null,null,null,null,null,null,null,null,"Desired ferment duration",null,8,"days",null,null,null,null,null,null,null,null,null,null,null,null,null,null,null,null,null,null,"Desired ferment duration",null,8,"days",null,null,null,null,null,null,null,null,null,null,null,null,null,null,null,null,null,null,"Desired ferment duration",null,8,"days",null,null,null,null,null,null,null,null,null,null,null,null,null,null,null,null,null,null,"Desired ferment duration",null,8,"days",null,null,null,null,null,null,null,null,null,null,null,null,null,null,null,null,null,null,"Desired ferment duration",null,8,"days",null,null,null,null,null,null,null,null,null,null,null,null,null,null,null,null,null,null,"Desired ferment duration",null,8,"days",null,null,null,null,null,null,null,null,null,null,null,null,null,null,null,null,null,null,"Desired ferment duration",null,8,"days",null,null,null,null,null,null,null,null,null,null,null,null,null,null,null,null,null,null,"Desired ferment duration",null,8,"days",null,null,null,null,null,null,null,null,null,null,null,null,null,null,null,null,null,null,"Desired ferment duration",null,8,"days",null,null,null,null,null,null,null,null,null,null,null,null,null,null,null,null,null,null,"Desired ferment duration",null,8,"days",null,null,null,null,null,null,null,null,null,null,null,null,null,null,null,null,null,null,"Desired ferment duration",null,8,"days",null,null,null,null,null,null,null,null,null,null,null,null,null,null,null,null,null,null,"Desired ferment duration",null,8,"days",null,null,null,null,null,null,null,null,null,null,null,null,null,null,null,null,null,null,"Desired ferment duration",null,8,"days",null,null,null,null,null,null,null,null,null,null,null,null,null,null,null,null,null,null,"Desired ferment duration",null,8,"days",null,null,null,null,null,null,null,null,null,null,null,null,null,null,null,null,null,null,"Desired ferment duration",null,8,"days",null,null,null,null,null,null,null,null,null,null,null,null,null,null,null,null,null,null,"Desired ferment duration",null,8,"days",null,null,null,null,null,null,null,null,null,null,null,null,null,null,null,null,null,null,"Desired ferment duration",null,8,"days",null,null,null,null,null,null,null,null,null,null,null,null,null,null,null,null,null,null,"Desired ferment duration",null,8,"days",null,null,null,null,null,null,null,null,null,null,null,null,null,null,null,null,null,null,"Desired ferment duration",null,8,"days",null,null,null,null,null,null,null,null,null,null,null,null,null,null,null,null,null,null,"Desired ferment duration",null,8,"days",null,null,null,null,null,null,null,null,null,null,null,null,null,null,null,null,null,null,"Desired ferment duration",null,8,"days",null,null,null,null,null,null,null,null,null,null,null,null,null,null,null,null,null,null,"Desired ferment duration",null,8,"days",null,null,null,null,null,null,null,null,null,null,null,null,null,null,null,null,null,null,"Desired ferment duration",null,8,"days",null,null,null,null,null,null,null,null,null,null,null,null,null,null,null,null,null,null,"Desired ferment duration",null,8,"days",null,null,null,null,null,null,null,null,null,null,null,null,null,null,null,null,null,null,"Desired ferment duration",null,8,"days",null,null,null,null,null,null,null,null,null,null,null,null,null,null,null,null,null,null,"Desired ferment duration",null,8,"days",null,null,null,null,null,null,null,null,null,null,null,null,null,null,null,null,null,null,"Desired ferment duration",null,8,"days",null,null,null,null,null,null,null,null,null,null,null,null,null,null,null,null,null,null,"Desired ferment duration",null,8,"days",null,null,null,null,null,null,null,null,null,null,null,null,null,null,null,null,null,null,"Desired ferment duration",null,8,"days",null,null,null,null,null,null,null,null,null,null,null,null,null,null,null,null,null,null,"Desired ferment duration",null,8,"days",null,null,null,null,null,null,null,null,null,null,null,null,null,null,null,null,null,null,"Desired ferment duration",null,8,"days",null,null,null,null,null,null,null,null,null,null,null,null,null,null,null,null,null,null,"Desired ferment duration",null,8,"days",null,null,null,null,null,null,null,null,null,null,null,null,null,null,null,null,null,null,"Desired ferment duration",null,8,"days",null,null,null,null,null,null,null,null,null,null,null,null,null,null,null,null,null,null,"Desired ferment duration",null,8,"days",null,null,null,null,null,null,null,null,null,null,null,null,null,null,null,null,null,null,"Desired ferment duration",null,8,"days",null,null,null,null,null,null,null,null,null,null,null,null,null,null,null,null,null,null,"Desired ferment duration",null,8,"days",null,null,null,null,null,null,null,null,null,null,null,null,null,null,null,null,null,null,"Desired ferment duration",null,8,"days",null,null,null,null,null,null,null,null,null,null,null,null,null,null,null,null,null,null,"Desired ferment duration",null,8,"days",null,null,null,null,null,null,null,null,null,null,null,null,null,null,null,null,null,null,"Desired ferment duration",null,8,"days",null,null,null,null,null,null,null,null,null,null,null,null,null,null,null,null,null,null,"Desired ferment duration",null,8,"days",null,null,null,null,null,null,null,null,null,null,null,null,null,null,null,null,null,null,"Desired ferment duration",null,8,"days"]
[]
["Prediction score",null,2.9664321627430117,null,null,"Ex tank",null,123,null,null,null,null,null,null,null,null,null,null,null,null,null,null,"Prediction score",null,12.034704948251871,null,null,"Ex tank",null,123,null,null,null,null,null,null,null,null,null,null,null,null,null,null,"Prediction score",null,5.1175052617281809,null,null,"Ex tank",null,123,null,null,null,null,null,null,null,null,null,null,null,null,null,null,"Prediction score",null,10.764001269708791,null,null,"Ex tank",null,null,null,null,null,null,null,null,null,null,null,null,null,null,null,null,"Prediction score",null,10.475051831017224,null,null,"Ex tank",null,null,null,null,null,null,null,null,null,null,null,null,null,null,null,null,"Prediction score",null,10.475051831017224,null,null,"Ex tank",null,null,null,null,null,null,null,null,null,null,null,null,null,null,null,null,"Prediction score",null,10.475051831017224,null,null,"Ex tank",null,null,null,null,null,null,null,null,null,null,null,null,null,null,null,null,"Prediction score",null,10.475051831017224,null,null,"Ex tank",null,null,null,null,null,null,null,null,null,null,null,null,null,null,null,null,"Prediction score",null,10.475051831017224,null,null,"Ex tank",null,null,null,null,null,null,null,null,null,null,null,null,null,null,null,null,"Prediction score",null,10.475051831017224,null,null,"Ex tank",null,null,null,null,null,null,null,null,null,null,null,null,null,null,null,null,"Prediction score",null,10.475051831017224,null,null,"Ex tank",null,null,null,null,null,null,null,null,null,null,null,null,null,null,null,null,"Prediction score",null,10.475051831017224,null,null,"Ex tank",null,null,null,null,null,null,null,null,null,null,null,null,null,null,null,null,"Prediction score",null,10.475051831017224,null,null,"Ex tank",null,null,null,null,null,null,null,null,null,null,null,null,null,null,null,null,"Prediction score",null,10.475051831017224,null,null,"Ex tank",null,null,null,null,null,null,null,null,null,null,null,null,null,null,null,null,"Prediction score",null,10.475051831017224,null,null,"Ex tank",null,null,null,null,null,null,null,null,null,null,null,null,null,null,null,null,"Prediction score",null,10.475051831017224,null,null,"Ex tank",null,null,null,null,null,null,null,null,null,null,null,null,null,null,null,null,"Prediction score",null,10.475051831017224,null,null,"Ex tank",null,null,null,null,null,null,null,null,null,null,null,null,null,null,null,null,"Prediction score",null,10.475051831017224,null,null,"Ex tank",null,null,null,null,null,null,null,null,null,null,null,null,null,null,null,null,"Prediction score",null,10.475051831017224,null,null,"Ex tank",null,null,null,null,null,null,null,null,null,null,null,null,null,null,null,null,"Prediction score",null,10.475051831017224,null,null,"Ex tank",null,null,null,null,null,null,null,null,null,null,null,null,null,null,null,null,"Prediction score",null,10.475051831017224,null,null,"Ex tank",null,null,null,null,null,null,null,null,null,null,null,null,null,null,null,null,"Prediction score",null,10.475051831017224,null,null,"Ex tank",null,null,null,null,null,null,null,null,null,null,null,null,null,null,null,null,"Prediction score",null,10.475051831017224,null,null,"Ex tank",null,null,null,null,null,null,null,null,null,null,null,null,null,null,null,null,"Prediction score",null,10.475051831017224,null,null,"Ex tank",null,null,null,null,null,null,null,null,null,null,null,null,null,null,null,null,"Prediction score",null,10.475051831017224,null,null,"Ex tank",null,null,null,null,null,null,null,null,null,null,null,null,null,null,null,null,"Prediction score",null,10.475051831017224,null,null,"Ex tank",null,null,null,null,null,null,null,null,null,null,null,null,null,null,null,null,"Prediction score",null,10.475051831017224,null,null,"Ex tank",null,null,null,null,null,null,null,null,null,null,null,null,null,null,null,null,"Prediction score",null,10.475051831017224,null,null,"Ex tank",null,null,null,null,null,null,null,null,null,null,null,null,null,null,null,null,"Prediction score",null,10.475051831017224,null,null,"Ex tank",null,null,null,null,null,null,null,null,null,null,null,null,null,null,null,null,"Prediction score",null,10.475051831017224,null,null,"Ex tank",null,null,null,null,null,null,null,null,null,null,null,null,null,null,null,null,"Prediction score",null,10.475051831017224,null,null,"Ex tank",null,null,null,null,null,null,null,null,null,null,null,null,null,null,null,null,"Prediction score",null,10.475051831017224,null,null,"Ex tank",null,null,null,null,null,null,null,null,null,null,null,null,null,null,null,null,"Prediction score",null,10.475051831017224,null,null,"Ex tank",null,null,null,null,null,null,null,null,null,null,null,null,null,null,null,null,"Prediction score",null,10.475051831017224,null,null,"Ex tank",null,null,null,null,null,null,null,null,null,null,null,null,null,null,null,null,"Prediction score",null,10.475051831017224,null,null,"Ex tank",null,null,null,null,null,null,null,null,null,null,null,null,null,null,null,null,"Prediction score",null,10.475051831017224,null,null,"Ex tank",null,null,null,null,null,null,null,null,null,null,null,null,null,null,null,null,"Prediction score",null,10.475051831017224,null,null,"Ex tank",null,null,null,null,null,null,null,null,null,null,null,null,null,null,null,null,"Prediction score",null,10.475051831017224,null,null,"Ex tank",null,null,null,null,null,null,null,null,null,null,null,null,null,null,null,null,"Prediction score",null,10.475051831017224,null,null,"Ex tank",null,null,null,null,null,null,null,null,null,null,null,null,null,null,null,null,"Prediction score",null,10.475051831017224,null,null,"Ex tank",null,null,null,null,null,null,null,null,null,null,null,null,null,null,null,null,"Prediction score",null,10.475051831017224,null,null,"Ex tank",null,null,null,null,null,null,null,null,null,null,null,null,null,null,null,null,"Prediction score",null,10.475051831017224,null,null,"Ex tank",null,null,null,null,null,null,null,null,null,null,null,null,null,null,null,null,"Prediction score",null,10.475051831017224,null,null,"Ex tank",null,null,null,null,null,null,null,null,null,null,null,null,null,null,null,null,"Prediction score",null,10.475051831017224,null,null,"Ex tank",null,null,null,null,null,null,null,null,null,null,null,null,null,null,null,null,"Prediction score",null,10.475051831017224,null,null,"Ex tank",null,null,null,null,null,null,null,null,null,null,null,null,null,null,null,null,"Prediction score",null,10.475051831017224,null,null,"Ex tank",null,null,null,null,null,null,null,null,null,null,null,null,null,null,null,null,"Prediction score",null,10.475051831017224,null,null,"Ex tank",null,null,null,null,null,null,null,null,null,null,null,null,null,null,null,null,"Prediction score",null,10.475051831017224,null,null,"Ex tank",null,null,null,null,null,null,null,null,null,null,null,null,null,null,null,null,"Prediction score",null,10.475051831017224,null,null,"Ex tank",null,null,null,null,null,null,null,null,null,null,null,null,null,null,null,null,"Prediction score",null,10.475051831017224,null,null,"Ex tank",null,null,null,null,null,null,null,null,null,null,null,null,null,null,null,null,"Prediction score",null,10.475051831017224,null,null,"Ex tank",null,null,null,null,null,null,null,null,null,null,null,null,null,null,null,null,"Prediction score",null,10.475051831017224,null,null,"Ex tank",null,null,null,null,null,null,null,null,null,null,null,null,null,null,null,null,"Prediction score",null,10.475051831017224,null,null,"Ex tank",null,null,null,null,null,null,null,null,null,null,null,null,null,null,null,null,"Prediction score",null,10.475051831017224,null,null,"Ex tank",null,null,null,null,null,null,null,null,null,null,null,null,null,null,null,null,"Prediction score",null,10.475051831017224,null,null,"Ex tank",null,null,null,null,null,null,null,null,null,null,null,null,null,null,null,null,"Prediction score",null,10.475051831017224,null,null,"Ex tank",null,null,null,null,null,null,null,null,null,null,null,null,null,null,null,null,"Prediction score",null,10.475051831017224,null,null,"Ex tank",null,null,null,null,null,null,null,null,null,null,null,null,null,null,null,null,"Prediction score",null,10.475051831017224,null,null,"Ex tank",null,null,null,null,null,null,null,null,null,null,null,null,null,null,null,null,"Prediction score",null,10.475051831017224,null,null,"Ex tank",null,null,null,null,null,null,null,null,null,null,null,null,null,null,null,null,"Prediction score",null,10.475051831017224,null,null,"Ex tank",null,null,null,null,null,null,null,null,null,null,null,null,null,null,null,null,"Prediction score",null,10.475051831017224,null,null,"Ex tank",null,null,null,null,null,null,null,null,null,null,null,null,null,null,null,null,"Prediction score",null,10.475051831017224,null,null,"Ex tank",null,null,null,null,null,null,null,null,null,null,null,null,null,null,null,null,"Prediction score",null,10.475051831017224,null,null,"Ex tank",null,null,null,null,null,null,null,null,null,null,null,null,null,null,null,null,"Prediction score",null,10.475051831017224,null,null,"Ex tank",null,null,null,null,null,null,null,null,null,null,null,null,null,null,null,null,"Prediction score",null,10.475051831017224,null,null,"Ex tank",null,null,null,null,null,null,null,null,null,null,null,null,null,null,null,null,"Prediction score",null,10.475051831017224,null,null,"Ex tank",null,null,null,null,null,null,null,null,null,null,null,null,null,null,null,null,"Prediction score",null,10.475051831017224,null,null,"Ex tank",null,null,null,null,null,null,null,null,null,null,null,null,null,null,null,null,"Prediction score",null,10.475051831017224,null,null,"Ex tank",null,null,null,null,null,null,null,null,null,null,null,null,null,null,null,null,"Prediction score",null,10.475051831017224,null,null,"Ex tank",null,null,null,null,null,null,null,null,null,null,null,null,null,null,null,null,"Prediction score",null,10.475051831017224,null,null,"Ex tank",null,null,null,null,null,null,null,null,null,null,null,null,null,null,null,null,"Prediction score",null,10.475051831017224,null,null,"Ex tank",null,null,null,null,null,null,null,null,null,null,null,null,null,null,null,null,"Prediction score",null,10.475051831017224,null,null,"Ex tank",null,null,null,null,null,null,null,null,null,null,null,null,null,null,null,null,"Prediction score",null,10.475051831017224,null,null,"Ex tank",null,null,null,null,null,null,null,null,null,null,null,null,null,null,null,null,"Prediction score",null,10.475051831017224,null,null,"Ex tank",null,null,null,null,null,null,null,null,null,null,null,null,null,null,null,null,"Prediction score",null,10.475051831017224,null,null,"Ex tank",null,null,null,null,null,null,null,null,null,null,null,null,null,null,null,null,"Prediction score",null,10.475051831017224,null,null,"Ex tank",null,null,null,null,null,null,null,null,null,null,null,null,null,null,null,null,"Prediction score",null,10.475051831017224,null,null,"Ex tank",null,null,null,null,null,null,null,null,null,null,null,null,null,null,null,null,"Prediction score",null,10.475051831017224,null,null,"Ex tank",null,null,null,null,null,null,null,null,null,null,null,null,null,null,null,null,"Prediction score",null,10.475051831017224,null,null,"Ex tank",null,null,null,null,null,null,null,null,null,null,null,null,null,null,null,null,"Prediction score",null,10.475051831017224,null,null,"Ex tank",null,null,null,null,null,null,null,null,null,null,null,null,null,null,null,null,"Prediction score",null,10.475051831017224,null,null,"Ex tank",null,null,null,null,null,null,null,null,null,null,null,null,null,null,null,null,"Prediction score",null,10.475051831017224,null,null,"Ex tank",null,null,null,null,null,null,null,null,null,null,null,null,null,null,null,null,"Prediction score",null,10.475051831017224,null,null,"Ex tank",null,null,null,null,null,null,null,null,null,null,null,null,null,null,null,null,"Prediction score",null,10.475051831017224,null,null,"Ex tank",null,null,null,null,null,null,null,null,null,null,null,null,null,null,null,null,"Prediction score",null,10.475051831017224,null,null,"Ex tank",null,null,null,null,null,null,null,null,null,null,null,null,null,null,null,null,"Prediction score",null,10.475051831017224,null,null,"Ex tank",null,null,null,null,null,null,null,null,null,null,null,null,null,null,null,null,"Prediction score",null,10.475051831017224,null,null,"Ex tank",null,null,null,null,null,null,null,null,null,null,null,null,null,null,null,null,"Prediction score",null,10.475051831017224,null,null,"Ex tank",null,null,null,null,null,null,null,null,null,null,null,null,null,null,null,null,"Prediction score",null,10.475051831017224,null,null,"Ex tank",null,null,null,null,null,null,null,null,null,null,null,null,null,null,null,null,"Prediction score",null,10.475051831017224,null,null,"Ex tank",null,null,null,null,null,null,null,null,null,null,null,null,null,null,null,null,"Prediction score",null,10.475051831017224,null,null,"Ex tank",null,null,null,null,null,null,null,null,null,null,null,null,null,null,null,null,"Prediction score",null,10.475051831017224,null,null,"Ex tank",null,null,null,null,null,null,null,null,null,null,null,null,null,null,null,null,"Prediction score",null,10.475051831017224,null,null,"Ex tank",null,null,null,null,null,null,null,null,null,null,null,null,null,null,null,null,"Prediction score",null,10.475051831017224,null,null,"Ex tank",null,null,null,null,null,null,null,null,null,null,null,null,null,null,null,null,"Prediction score",null,10.475051831017224,null,null,"Ex tank",null,null,null,null,null,null,null,null,null,null,null,null,null,null,null,null,"Prediction score",null,10.475051831017224,null,null,"Ex tank",null,null,null,null,null,null,null,null,null,null,null,null,null,null,null,null,"Prediction score",null,10.475051831017224,null,null,"Ex tank",null,null,null,null,null,null,null,null,null,null,null,null,null,null,null,null,"Prediction score",null,10.475051831017224,null,null,"Ex tank",null,null,null,null,null,null,null,null,null,null,null,null,null,null,null,null,"Prediction score",null,10.475051831017224,null,null,"Ex tank",null,null,null,null,null,null,null,null,null,null,null,null,null,null,null,null,"Prediction score",null,10.475051831017224,null,null,"Ex tank"]
["Refrigeration cost",null,268.41699409778533,null,null,"Yeast type",null,"Yeast AWRI1234",null,null,null,"Update Ferment 1 Prediction",null,null,null,null,null,null,null,null,null,null,"Refrigeration cost",null,583.60343500468309,null,null,"Yeast type",null,"Yeast AWRI1234",null,null,null,"Update Ferment 2 Prediction",null,null,null,null,null,null,null,null,null,null,"Refrigeration cost",null,1414.7256401612681,null,null,"Yeast type",null,"Yeast AWRI1234",null,null,null,"Update Ferment 3 Prediction",null,null,null,null,null,null,null,null,null,null,"Refrigeration cost",null,97.634597601517072,null,null,"Yeast type",null,null,null,null,null,"Update Ferment 4 Prediction",null,null,null,null,null,null,null,null,null,null,"Refrigeration cost",null,56.712204643172974,null,null,"Yeast type",null,null,null,null,null,"Update Ferment 5 Prediction",null,null,null,null,null,null,null,null,null,null,"Refrigeration cost",null,56.712204643172974,null,null,"Yeast type",null,null,null,null,null,"Update Ferment 6 Prediction",null,null,null,null,null,null,null,null,null,null,"Refrigeration cost",null,56.712204643172974,null,null,"Yeast type",null,null,null,null,null,"Update Ferment 7 Prediction",null,null,null,null,null,null,null,null,null,null,"Refrigeration cost",null,56.712204643172974,null,null,"Yeast type",null,null,null,null,null,"Update Ferment 8 Prediction",null,null,null,null,null,null,null,null,null,null,"Refrigeration cost",null,56.712204643172974,null,null,"Yeast type",null,null,null,null,null,"Update Ferment 9 Prediction",null,null,null,null,null,null,null,null,null,null,"Refrigeration cost",null,56.712204643172974,null,null,"Yeast type",null,null,null,null,null,"Update Ferment 10 Prediction",null,null,null,null,null,null,null,null,null,null,"Refrigeration cost",null,56.712204643172974,null,null,"Yeast type",null,null,null,null,null,"Update Ferment 11 Prediction",null,null,null,null,null,null,null,null,null,null,"Refrigeration cost",null,56.712204643172974,null,null,"Yeast type",null,null,null,null,null,"Update Ferment 12 Prediction",null,null,null,null,null,null,null,null,null,null,"Refrigeration cost",null,56.712204643172974,null,null,"Yeast type",null,null,null,null,null,"Update Ferment 13 Prediction",null,null,null,null,null,null,null,null,null,null,"Refrigeration cost",null,56.712204643172974,null,null,"Yeast type",null,null,null,null,null,"Update Ferment 14 Prediction",null,null,null,null,null,null,null,null,null,null,"Refrigeration cost",null,56.712204643172974,null,null,"Yeast type",null,null,null,null,null,"Update Ferment 15 Prediction",null,null,null,null,null,null,null,null,null,null,"Refrigeration cost",null,56.712204643172974,null,null,"Yeast type",null,null,null,null,null,"Update Ferment 16 Prediction",null,null,null,null,null,null,null,null,null,null,"Refrigeration cost",null,56.712204643172974,null,null,"Yeast type",null,null,null,null,null,"Update Ferment 17 Prediction",null,null,null,null,null,null,null,null,null,null,"Refrigeration cost",null,56.712204643172974,null,null,"Yeast type",null,null,null,null,null,"Update Ferment 18 Prediction",null,null,null,null,null,null,null,null,null,null,"Refrigeration cost",null,56.712204643172974,null,null,"Yeast type",null,null,null,null,null,"Update Ferment 19 Prediction",null,null,null,null,null,null,null,null,null,null,"Refrigeration cost",null,56.712204643172974,null,null,"Yeast type",null,null,null,null,null,"Update Ferment 20 Prediction",null,null,null,null,null,null,null,null,null,null,"Refrigeration cost",null,56.712204643172974,null,null,"Yeast type",null,null,null,null,null,"Update Ferment 21 Prediction",null,null,null,null,null,null,null,null,null,null,"Refrigeration cost",null,56.712204643172974,null,null,"Yeast type",null,null,null,null,null,"Update Ferment 22 Prediction",null,null,null,null,null,null,null,null,null,null,"Refrigeration cost",null,56.712204643172974,null,null,"Yeast type",null,null,null,null,null,"Update Ferment 23 Prediction",null,null,null,null,null,null,null,null,null,null,"Refrigeration cost",null,56.712204643172974,null,null,"Yeast type",null,null,null,null,null,"Update Ferment 24 Prediction",null,null,null,null,null,null,null,null,null,null,"Refrigeration cost",null,56.712204643172974,null,null,"Yeast type",null,null,null,null,null,"Update Ferment 25 Prediction",null,null,null,null,null,null,null,null,null,null,"Refrigeration cost",null,56.712204643172974,null,null,"Yeast type",null,null,null,null,null,"Update Ferment 26 Prediction",null,null,null,null,null,null,null,null,null,null,"Refrigeration cost",null,56.712204643172974,null,null,"Yeast type",null,null,null,null,null,"Update Ferment 27 Prediction",null,null,null,null,null,null,null,null,null,null,"Refrigeration cost",null,56.712204643172974,null,null,"Yeast type",null,null,null,null,null,"Update Ferment 28 Prediction",null,null,null,null,null,null,null,null,null,null,"Refrigeration cost",null,56.712204643172974,null,null,"Yeast type",null,null,null,null,null,"Update Ferment 29 Prediction",null,null,null,null,null,null,null,null,null,null,"Refrigeration cost",null,56.712204643172974,null,null,"Yeast type",null,null,null,null,null,"Update Ferment 30 Prediction",null,null,null,null,null,null,null,null,null,null,"Refrigeration cost",null,56.712204643172974,null,null,"Yeast type",null,null,null,null,null,"Update Ferment 31 Prediction",null,null,null,null,null,null,null,null,null,null,"Refrigeration cost",null,56.712204643172974,null,null,"Yeast type",null,null,null,null,null,"Update Ferment 32 Prediction",null,null,null,null,null,null,null,null,null,null,"Refrigeration cost",null,56.712204643172974,null,null,"Yeast type",null,null,null,null,null,"Update Ferment 33 Prediction",null,null,null,null,null,null,null,null,null,null,"Refrigeration cost",null,56.712204643172974,null,null,"Yeast type",null,null,null,null,null,"Update Ferment 34 Prediction",null,null,null,null,null,null,null,null,null,null,"Refrigeration cost",null,56.712204643172974,null,null,"Yeast type",null,null,null,null,null,"Update Ferment 35 Prediction",null,null,null,null,null,null,null,null,null,null,"Refrigeration cost",null,56.712204643172974,null,null,"Yeast type",null,null,null,null,null,"Update Ferment 36 Prediction",null,null,null,null,null,null,null,null,null,null,"Refrigeration cost",null,56.712204643172974,null,null,"Yeast type",null,null,null,null,null,"Update Ferment 37 Prediction",null,null,null,null,null,null,null,null,null,null,"Refrigeration cost",null,56.712204643172974,null,null,"Yeast type",null,null,null,null,null,"Update Ferment 38 Prediction",null,null,null,null,null,null,null,null,null,null,"Refrigeration cost",null,56.712204643172974,null,null,"Yeast type",null,null,null,null,null,"Update Ferment 39 Prediction",null,null,null,null,null,null,null,null,null,null,"Refrigeration cost",null,56.712204643172974,null,null,"Yeast type",null,null,null,null,null,"Update Ferment 40 Prediction",null,null,null,null,null,null,null,null,null,null,"Refrigeration cost",null,56.712204643172974,null,null,"Yeast type",null,null,null,null,null,"Update Ferment 41 Prediction",null,null,null,null,null,null,null,null,null,null,"Refrigeration cost",null,56.712204643172974,null,null,"Yeast type",null,null,null,null,null,"Update Ferment 42 Prediction",null,null,null,null,null,null,null,null,null,null,"Refrigeration cost",null,56.712204643172974,null,null,"Yeast type",null,null,null,null,null,"Update Ferment 43 Prediction",null,null,null,null,null,null,null,null,null,null,"Refrigeration cost",null,56.712204643172974,null,null,"Yeast type",null,null,null,null,null,"Update Ferment 44 Prediction",null,null,null,null,null,null,null,null,null,null,"Refrigeration cost",null,56.712204643172974,null,null,"Yeast type",null,null,null,null,null,"Update Ferment 45 Prediction",null,null,null,null,null,null,null,null,null,null,"Refrigeration cost",null,56.712204643172974,null,null,"Yeast type",null,null,null,null,null,"Update Ferment 46 Prediction",null,null,null,null,null,null,null,null,null,null,"Refrigeration cost",null,56.712204643172974,null,null,"Yeast type",null,null,null,null,null,"Update Ferment 47 Prediction",null,null,null,null,null,null,null,null,null,null,"Refrigeration cost",null,56.712204643172974,null,null,"Yeast type",null,null,null,null,null,"Update Ferment 48 Prediction",null,null,null,null,null,null,null,null,null,null,"Refrigeration cost",null,56.712204643172974,null,null,"Yeast type",null,null,null,null,null,"Update Ferment 49 Prediction",null,null,null,null,null,null,null,null,null,null,"Refrigeration cost",null,56.712204643172974,null,null,"Yeast type",null,null,null,null,null,"Update Ferment 50 Prediction",null,null,null,null,null,null,null,null,null,null,"Refrigeration cost",null,56.712204643172974,null,null,"Yeast type",null,null,null,null,null,"Update Ferment 51 Prediction",null,null,null,null,null,null,null,null,null,null,"Refrigeration cost",null,56.712204643172974,null,null,"Yeast type",null,null,null,null,null,"Update Ferment 52 Prediction",null,null,null,null,null,null,null,null,null,null,"Refrigeration cost",null,56.712204643172974,null,null,"Yeast type",null,null,null,null,null,"Update Ferment 53 Prediction",null,null,null,null,null,null,null,null,null,null,"Refrigeration cost",null,56.712204643172974,null,null,"Yeast type",null,null,null,null,null,"Update Ferment 54 Prediction",null,null,null,null,null,null,null,null,null,null,"Refrigeration cost",null,56.712204643172974,null,null,"Yeast type",null,null,null,null,null,"Update Ferment 55 Prediction",null,null,null,null,null,null,null,null,null,null,"Refrigeration cost",null,56.712204643172974,null,null,"Yeast type",null,null,null,null,null,"Update Ferment 56 Prediction",null,null,null,null,null,null,null,null,null,null,"Refrigeration cost",null,56.712204643172974,null,null,"Yeast type",null,null,null,null,null,"Update Ferment 57 Prediction",null,null,null,null,null,null,null,null,null,null,"Refrigeration cost",null,56.712204643172974,null,null,"Yeast type",null,null,null,null,null,"Update Ferment 58 Prediction",null,null,null,null,null,null,null,null,null,null,"Refrigeration cost",null,56.712204643172974,null,null,"Yeast type",null,null,null,null,null,"Update Ferment 59 Prediction",null,null,null,null,null,null,null,null,null,null,"Refrigeration cost",null,56.712204643172974,null,null,"Yeast type",null,null,null,null,null,"Update Ferment 60 Prediction",null,null,null,null,null,null,null,null,null,null,"Refrigeration cost",null,56.712204643172974,null,null,"Yeast type",null,null,null,null,null,"Update Ferment 61 Prediction",null,null,null,null,null,null,null,null,null,null,"Refrigeration cost",null,56.712204643172974,null,null,"Yeast type",null,null,null,null,null,"Update Ferment 62 Prediction",null,null,null,null,null,null,null,null,null,null,"Refrigeration cost",null,56.712204643172974,null,null,"Yeast type",null,null,null,null,null,"Update Ferment 63 Prediction",null,null,null,null,null,null,null,null,null,null,"Refrigeration cost",null,56.712204643172974,null,null,"Yeast type",null,null,null,null,null,"Update Ferment 64 Prediction",null,null,null,null,null,null,null,null,null,null,"Refrigeration cost",null,56.712204643172974,null,null,"Yeast type",null,null,null,null,null,"Update Ferment 65 Prediction",null,null,null,null,null,null,null,null,null,null,"Refrigeration cost",null,56.712204643172974,null,null,"Yeast type",null,null,null,null,null,"Update Ferment 66 Prediction",null,null,null,null,null,null,null,null,null,null,"Refrigeration cost",null,56.712204643172974,null,null,"Yeast type",null,null,null,null,null,"Update Ferment 67 Prediction",null,null,null,null,null,null,null,null,null,null,"Refrigeration cost",null,56.712204643172974,null,null,"Yeast type",null,null,null,null,null,"Update Ferment 68 Prediction",null,null,null,null,null,null,null,null,null,null,"Refrigeration cost",null,56.712204643172974,null,null,"Yeast type",null,null,null,null,null,"Update Ferment 69 Prediction",null,null,null,null,null,null,null,null,null,null,"Refrigeration cost",null,56.712204643172974,null,null,"Yeast type",null,null,null,null,null,"Update Ferment 70 Prediction",null,null,null,null,null,null,null,null,null,null,"Refrigeration cost",null,56.712204643172974,null,null,"Yeast type",null,null,null,null,null,"Update Ferment 71 Prediction",null,null,null,null,null,null,null,null,null,null,"Refrigeration cost",null,56.712204643172974,null,null,"Yeast type",null,null,null,null,null,"Update Ferment 72 Prediction",null,null,null,null,null,null,null,null,null,null,"Refrigeration cost",null,56.712204643172974,null,null,"Yeast type",null,null,null,null,null,"Update Ferment 73 Prediction",null,null,null,null,null,null,null,null,null,null,"Refrigeration cost",null,56.712204643172974,null,null,"Yeast type",null,null,null,null,null,"Update Ferment 74 Prediction",null,null,null,null,null,null,null,null,null,null,"Refrigeration cost",null,56.712204643172974,null,null,"Yeast type",null,null,null,null,null,"Update Ferment 75 Prediction",null,null,null,null,null,null,null,null,null,null,"Refrigeration cost",null,56.712204643172974,null,null,"Yeast type",null,null,null,null,null,"Update Ferment 76 Prediction",null,null,null,null,null,null,null,null,null,null,"Refrigeration cost",null,56.712204643172974,null,null,"Yeast type",null,null,null,null,null,"Update Ferment 77 Prediction",null,null,null,null,null,null,null,null,null,null,"Refrigeration cost",null,56.712204643172974,null,null,"Yeast type",null,null,null,null,null,"Update Ferment 78 Prediction",null,null,null,null,null,null,null,null,null,null,"Refrigeration cost",null,56.712204643172974,null,null,"Yeast type",null,null,null,null,null,"Update Ferment 79 Prediction",null,null,null,null,null,null,null,null,null,null,"Refrigeration cost",null,56.712204643172974,null,null,"Yeast type",null,null,null,null,null,"Update Ferment 80 Prediction",null,null,null,null,null,null,null,null,null,null,"Refrigeration cost",null,56.712204643172974,null,null,"Yeast type",null,null,null,null,null,"Update Ferment 81 Prediction",null,null,null,null,null,null,null,null,null,null,"Refrigeration cost",null,56.712204643172974,null,null,"Yeast type",null,null,null,null,null,"Update Ferment 82 Prediction",null,null,null,null,null,null,null,null,null,null,"Refrigeration cost",null,56.712204643172974,null,null,"Yeast type",null,null,null,null,null,"Update Ferment 83 Prediction",null,null,null,null,null,null,null,null,null,null,"Refrigeration cost",null,56.712204643172974,null,null,"Yeast type",null,null,null,null,null,"Update Ferment 84 Prediction",null,null,null,null,null,null,null,null,null,null,"Refrigeration cost",null,56.712204643172974,null,null,"Yeast type",null,null,null,null,null,"Update Ferment 85 Prediction",null,null,null,null,null,null,null,null,null,null,"Refrigeration cost",null,56.712204643172974,null,null,"Yeast type",null,null,null,null,null,"Update Ferment 86 Prediction",null,null,null,null,null,null,null,null,null,null,"Refrigeration cost",null,56.712204643172974,null,null,"Yeast type",null,null,null,null,null,"Update Ferment 87 Prediction",null,null,null,null,null,null,null,null,null,null,"Refrigeration cost",null,56.712204643172974,null,null,"Yeast type",null,null,null,null,null,"Update Ferment 88 Prediction",null,null,null,null,null,null,null,null,null,null,"Refrigeration cost",null,56.712204643172974,null,null,"Yeast type",null,null,null,null,null,"Update Ferment 89 Prediction",null,null,null,null,null,null,null,null,null,null,"Refrigeration cost",null,56.712204643172974,null,null,"Yeast type",null,null,null,null,null,"Update Ferment 90 Prediction",null,null,null,null,null,null,null,null,null,null,"Refrigeration cost",null,56.712204643172974,null,null,"Yeast type",null,null,null,null,null,"Update Ferment 91 Prediction",null,null,null,null,null,null,null,null,null,null,"Refrigeration cost",null,56.712204643172974,null,null,"Yeast type",null,null,null,null,null,"Update Ferment 92 Prediction",null,null,null,null,null,null,null,null,null,null,"Refrigeration cost",null,56.712204643172974,null,null,"Yeast type",null,null,null,null,null,"Update Ferment 93 Prediction",null,null,null,null,null,null,null,null,null,null,"Refrigeration cost",null,56.712204643172974,null,null,"Yeast type",null,null,null,null,null,"Update Ferment 94 Prediction",null,null,null,null,null,null,null,null,null,null,"Refrigeration cost",null,56.712204643172974,null,null,"Yeast type",null,null,null,null,null,"Update Ferment 95 Prediction",null,null,null,null,null,null,null,null,null,null,"Refrigeration cost",null,56.712204643172974,null,null,"Yeast type",null,null,null,null,null,"Update Ferment 96 Prediction",null,null,null,null,null,null,null,null,null,null,"Refrigeration cost",null,56.712204643172974,null,null,"Yeast type",null,null,null,null,null,"Update Ferment 97 Prediction",null,null,null,null,null,null,null,null,null,null,"Refrigeration cost",null,56.712204643172974,null,null,"Yeast type",null,null,null,null,null,"Update Ferment 98 Prediction",null,null,null,null,null,null,null,null,null,null,"Refrigeration cost",null,56.712204643172974,null,null,"Yeast type",null,null,null,null,null,"Update Ferment 99 Prediction",null,null,null,null,null,null,null,null,null,null,"Refrigeration cost",null,56.712204643172974,null,null,"Yeast type",null,null,null,null,null,"Update Ferment 100 Prediction"]
["Completion low limit",null,16.5,"days",null,"Variety",null,"XYZ",null,null,null,null,null,null,null,null,null,null,null,null,null,null,"Completion low limit",null,16,"days",null,"Variety",null,"ABC",null,null,null,null,null,null,null,null,null,null,null,null,null,null,"Completion low limit",null,9,"days",null,"Variety",null,"ABC",null,null,null,null,null,null,null,null,null,null,null,null,null,null,"Completion low limit",null,null,"days",null,"Variety",null,null,null,null,null,null,null,null,null,null,null,null,null,null,null,null,"Completion low limit",null,null,"days",null,"Variety",null,null,null,null,null,null,null,null,null,null,null,null,null,null,null,null,"Completion low limit",null,null,"days",null,"Variety",null,null,null,null,null,null,null,null,null,null,null,null,null,null,null,null,"Completion low limit",null,null,"days",null,"Variety",null,null,null,null,null,null,null,null,null,null,null,null,null,null,null,null,"Completion low limit",null,null,"days",null,"Variety",null,null,null,null,null,null,null,null,null,null,null,null,null,null,null,null,"Completion low limit",null,null,"days",null,"Variety",null,null,null,null,null,null,null,null,null,null,null,null,null,null,null,null,"Completion low limit",null,null,"days",null,"Variety",null,null,null,null,null,null,null,null,null,null,null,null,null,null,null,null,"Completion low limit",null,null,"days",null,"Variety",null,null,null,null,null,null,null,null,null,null,null,null,null,null,null,null,"Completion low limit",null,null,"days",null,"Variety",null,null,null,null,null,null,null,null,null,null,null,null,null,null,null,null,"Completion low limit",null,null,"days",null,"Variety",null,null,null,null,null,null,null,null,null,null,null,null,null,null,null,null,"Completion low limit",null,null,"days",null,"Variety",null,null,null,null,null,null,null,null,null,null,null,null,null,null,null,null,"Completion low limit",null,null,"days",null,"Variety",null,null,null,null,null,null,null,null,null,null,null,null,null,null,null,null,"Completion low limit",null,null,"days",null,"Variety",null,null,null,null,null,null,null,null,null,null,null,null,null,null,null,null,"Completion low limit",null,null,"days",null,"Variety",null,null,null,null,null,null,null,null,null,null,null,null,null,null,null,null,"Completion low limit",null,null,"days",null,"Variety",null,null,null,null,null,null,null,null,null,null,null,null,null,null,null,null,"Completion low limit",null,null,"days",null,"Variety",null,null,null,null,null,null,null,null,null,null,null,null,null,null,null,null,"Completion low limit",null,null,"days",null,"Variety",null,null,null,null,null,null,null,null,null,null,null,null,null,null,null,null,"Completion low limit",null,null,"days",null,"Variety",null,null,null,null,null,null,null,null,null,null,null,null,null,null,null,null,"Completion low limit",null,null,"days",null,"Variety",null,null,null,null,null,null,null,null,null,null,null,null,null,null,null,null,"Completion low limit",null,null,"days",null,"Variety",null,null,null,null,null,null,null,null,null,null,null,null,null,null,null,null,"Completion low limit",null,null,"days",null,"Variety",null,null,null,null,null,null,null,null,null,null,null,null,null,null,null,null,"Completion low limit",null,null,"days",null,"Variety",null,null,null,null,null,null,null,null,null,null,null,null,null,null,null,null,"Completion low limit",null,null,"days",null,"Variety",null,null,null,null,null,null,null,null,null,null,null,null,null,null,null,null,"Completion low limit",null,null,"days",null,"Variety",null,null,null,null,null,null,null,null,null,null,null,null,null,null,null,null,"Completion low limit",null,null,"days",null,"Variety",null,null,null,null,null,null,null,null,null,null,null,null,null,null,null,null,"Completion low limit",null,null,"days",null,"Variety",null,null,null,null,null,null,null,null,null,null,null,null,null,null,null,null,"Completion low limit",null,null,"days",null,"Variety",null,null,null,null,null,null,null,null,null,null,null,null,null,null,null,null,"Completion low limit",null,null,"days",null,"Variety",null,null,null,null,null,null,null,null,null,null,null,null,null,null,null,null,"Completion low limit",null,null,"days",null,"Variety",null,null,null,null,null,null,null,null,null,null,null,null,null,null,null,null,"Completion low limit",null,null,"days",null,"Variety",null,null,null,null,null,null,null,null,null,null,null,null,null,null,null,null,"Completion low limit",null,null,"days",null,"Variety",null,null,null,null,null,null,null,null,null,null,null,null,null,null,null,null,"Completion low limit",null,null,"days",null,"Variety",null,null,null,null,null,null,null,null,null,null,null,null,null,null,null,null,"Completion low limit",null,null,"days",null,"Variety",null,null,null,null,null,null,null,null,null,null,null,null,null,null,null,null,"Completion low limit",null,null,"days",null,"Variety",null,null,null,null,null,null,null,null,null,null,null,null,null,null,null,null,"Completion low limit",null,null,"days",null,"Variety",null,null,null,null,null,null,null,null,null,null,null,null,null,null,null,null,"Completion low limit",null,null,"days",null,"Variety",null,null,null,null,null,null,null,null,null,null,null,null,null,null,null,null,"Completion low limit",null,null,"days",null,"Variety",null,null,null,null,null,null,null,null,null,null,null,null,null,null,null,null,"Completion low limit",null,null,"days",null,"Variety",null,null,null,null,null,null,null,null,null,null,null,null,null,null,null,null,"Completion low limit",null,null,"days",null,"Variety",null,null,null,null,null,null,null,null,null,null,null,null,null,null,null,null,"Completion low limit",null,null,"days",null,"Variety",null,null,null,null,null,null,null,null,null,null,null,null,null,null,null,null,"Completion low limit",null,null,"days",null,"Variety",null,null,null,null,null,null,null,null,null,null,null,null,null,null,null,null,"Completion low limit",null,null,"days",null,"Variety",null,null,null,null,null,null,null,null,null,null,null,null,null,null,null,null,"Completion low limit",null,null,"days",null,"Variety",null,null,null,null,null,null,null,null,null,null,null,null,null,null,null,null,"Completion low limit",null,null,"days",null,"Variety",null,null,null,null,null,null,null,null,null,null,null,null,null,null,null,null,"Completion low limit",null,null,"days",null,"Variety",null,null,null,null,null,null,null,null,null,null,null,null,null,null,null,null,"Completion low limit",null,null,"days",null,"Variety",null,null,null,null,null,null,null,null,null,null,null,null,null,null,null,null,"Completion low limit",null,null,"days",null,"Variety",null,null,null,null,null,null,null,null,null,null,null,null,null,null,null,null,"Completion low limit",null,null,"days",null,"Variety",null,null,null,null,null,null,null,null,null,null,null,null,null,null,null,null,"Completion low limit",null,null,"days",null,"Variety",null,null,null,null,null,null,null,null,null,null,null,null,null,null,null,null,"Completion low limit",null,null,"days",null,"Variety",null,null,null,null,null,null,null,null,null,null,null,null,null,null,null,null,"Completion low limit",null,null,"days",null,"Variety",null,null,null,null,null,null,null,null,null,null,null,null,null,null,null,null,"Completion low limit",null,null,"days",null,"Variety",null,null,null,null,null,null,null,null,null,null,null,null,null,null,null,null,"Completion low limit",null,null,"days",null,"Variety",null,null,null,null,null,null,null,null,null,null,null,null,null,null,null,null,"Completion low limit",null,null,"days",null,"Variety",null,null,null,null,null,null,null,null,null,null,null,null,null,null,null,null,"Completion low limit",null,null,"days",null,"Variety",null,null,null,null,null,null,null,null,null,null,null,null,null,null,null,null,"Completion low limit",null,null,"days",null,"Variety",null,null,null,null,null,null,null,null,null,null,null,null,null,null,null,null,"Completion low limit",null,null,"days",null,"Variety",null,null,null,null,null,null,null,null,null,null,null,null,null,null,null,null,"Completion low limit",null,null,"days",null,"Variety",null,null,null,null,null,null,null,null,null,null,null,null,null,null,null,null,"Completion low limit",null,null,"days",null,"Variety",null,null,null,null,null,null,null,null,null,null,null,null,null,null,null,null,"Completion low limit",null,null,"days",null,"Variety",null,null,null,null,null,null,null,null,null,null,null,null,null,null,null,null,"Completion low limit",null,null,"days",null,"Variety",null,null,null,null,null,null,null,null,null,null,null,null,null,null,null,null,"Completion low limit",null,null,"days",null,"Variety",null,null,null,null,null,null,null,null,null,null,null,null,null,null,null,null,"Completion low limit",null,null,"days",null,"Variety",null,null,null,null,null,null,null,null,null,null,null,null,null,null,null,null,"Completion low limit",null,null,"days",null,"Variety",null,null,null,null,null,null,null,null,null,null,null,null,null,null,null,null,"Completion low limit",null,null,"days",null,"Variety",null,null,null,null,null,null,null,null,null,null,null,null,null,null,null,null,"Completion low limit",null,null,"days",null,"Variety",null,null,null,null,null,null,null,null,null,null,null,null,null,null,null,null,"Completion low limit",null,null,"days",null,"Variety",null,null,null,null,null,null,null,null,null,null,null,null,null,null,null,null,"Completion low limit",null,null,"days",null,"Variety",null,null,null,null,null,null,null,null,null,null,null,null,null,null,null,null,"Completion low limit",null,null,"days",null,"Variety",null,null,null,null,null,null,null,null,null,null,null,null,null,null,null,null,"Completion low limit",null,null,"days",null,"Variety",null,null,null,null,null,null,null,null,null,null,null,null,null,null,null,null,"Completion low limit",null,null,"days",null,"Variety",null,null,null,null,null,null,null,null,null,null,null,null,null,null,null,null,"Completion low limit",null,null,"days",null,"Variety",null,null,null,null,null,null,null,null,null,null,null,null,null,null,null,null,"Completion low limit",null,null,"days",null,"Variety",null,null,null,null,null,null,null,null,null,null,null,null,null,null,null,null,"Completion low limit",null,null,"days",null,"Variety",null,null,null,null,null,null,null,null,null,null,null,null,null,null,null,null,"Completion low limit",null,null,"days",null,"Variety",null,null,null,null,null,null,null,null,null,null,null,null,null,null,null,null,"Completion low limit",null,null,"days",null,"Variety",null,null,null,null,null,null,null,null,null,null,null,null,null,null,null,null,"Completion low limit",null,null,"days",null,"Variety",null,null,null,null,null,null,null,null,null,null,null,null,null,null,null,null,"Completion low limit",null,null,"days",null,"Variety",null,null,null,null,null,null,null,null,null,null,null,null,null,null,null,null,"Completion low limit",null,null,"days",null,"Variety",null,null,null,null,null,null,null,null,null,null,null,null,null,null,null,null,"Completion low limit",null,null,"days",null,"Variety",null,null,null,null,null,null,null,null,null,null,null,null,null,null,null,null,"Completion low limit",null,null,"days",null,"Variety",null,null,null,null,null,null,null,null,null,null,null,null,null,null,null,null,"Completion low limit",null,null,"days",null,"Variety",null,null,null,null,null,null,null,null,null,null,null,null,null,null,null,null,"Completion low limit",null,null,"days",null,"Variety",null,null,null,null,null,null,null,null,null,null,null,null,null,null,null,null,"Completion low limit",null,null,"days",null,"Variety",null,null,null,null,null,null,null,null,null,null,null,null,null,null,null,null,"Completion low limit",null,null,"days",null,"Variety",null,null,null,null,null,null,null,null,null,null,null,null,null,null,null,null,"Completion low limit",null,null,"days",null,"Variety",null,null,null,null,null,null,null,null,null,null,null,null,null,null,null,null,"Completion low limit",null,null,"days",null,"Variety",null,null,null,null,null,null,null,null,null,null,null,null,null,null,null,null,"Completion low limit",null,null,"days",null,"Variety",null,null,null,null,null,null,null,null,null,null,null,null,null,null,null,null,"Completion low limit",null,null,"days",null,"Variety",null,null,null,null,null,null,null,null,null,null,null,null,null,null,null,null,"Completion low limit",null,null,"days",null,"Variety",null,null,null,null,null,null,null,null,null,null,null,null,null,null,null,null,"Completion low limit",null,null,"days",null,"Variety",null,null,null,null,null,null,null,null,null,null,null,null,null,null,null,null,"Completion low limit",null,null,"days",null,"Variety",null,null,null,null,null,null,null,null,null,null,null,null,null,null,null,null,"Completion low limit",null,null,"days",null,"Variety",null,null,null,null,null,null,null,null,null,null,null,null,null,null,null,null,"Completion low limit",null,null,"days",null,"Variety",null,null,null,null,null,null,null,null,null,null,null,null,null,null,null,null,"Completion low limit",null,null,"days",null,"Variety",null,null,null,null,null,null,null,null,null,null,null,null,null,null,null,null,"Completion low limit",null,null,"days",null,"Variety",null,null,null,null,null,null,null,null,null,null,null,null,null,null,null,null,"Completion low limit",null,null,"days",null,"Variety"]
["Date","Day","Baume","Temp C","DAP addition","Mixing (0=off, 1=low, 2=medium, 3=high) ","Nutrient Addition","Pump over","Aeration","Yeast Innoc.","Comments","pH","TA","FSO2","TSO2","YAN","GF","Other","Other Additions","Baume – Model","Required Refrigeration (kWr)",null,"Date","Day","Baume","Temp C","DAP addition","Mixing (0=off, 1=low, 2=medium, 3=high) ","Nutrient Addition","Pump over","Aeration","Yeast Innoc.","Comments","pH","TA","FSO2","TSO2","YAN","GF","Other","Other Additions","Baume – Model","Required Refrigeration (kWr)",null,"Date","Day","Baume","Temp C","DAP addition","Mixing (0=off, 1=low, 2=medium, 3=high) ","Nutrient Addition","Pump over","Aeration","Yeast Innoc.","Comments","pH","TA","FSO2","TSO2","YAN","GF","Other","Other Additions","Baume – Model","Required Refrigeration (kWr)",null,"Date","Day","Baume","Temp C","DAP addition","Mixing (0=off, 1=low, 2=medium, 3=high) ","Nutrient Addition","Pump over","Aeration","Yeast Innoc.","Comments","pH","TA","FSO2","TSO2","YAN","GF","Other","Other Additions","Baume – Model","Required Refrigeration (kWr)",null,"Date","Day","Baume","Temp C","DAP addition","Mixing (0=off, 1=low, 2=medium, 3=high) ","Nutrient Addition","Pump over","Aeration","Yeast Innoc.","Comments","pH","TA","FSO2","TSO2","YAN","GF","Other","Other Additions","Baume – Model","Required Refrigeration (kWr)",null,"Date","Day","Baume","Temp C","DAP addition","Mixing (0=off, 1=low, 2=medium, 3=high) ","Nutrient Addition","Pump over","Aeration","Yeast Innoc.","Comments","pH","TA","FSO2","TSO2","YAN","GF","Other","Other Additions","Baume – Model","Required Refrigeration (kWr)",null,"Date","Day","Baume","Temp C","DAP addition","Mixing (0=off, 1=low, 2=medium, 3=high) ","Nutrient Addition","Pump over","Aeration","Yeast Innoc.","Comments","pH","TA","FSO2","TSO2","YAN","GF","Other","Other Additions","Baume – Model","Required Refrigeration (kWr)",null,"Date","Day","Baume","Temp C","DAP addition","Mixing (0=off, 1=low, 2=medium, 3=high) ","Nutrient Addition","Pump over","Aeration","Yeast Innoc.","Comments","pH","TA","FSO2","TSO2","YAN","GF","Other","Other Additions","Baume – Model","Required Refrigeration (kWr)",null,"Date","Day","Baume","Temp C","DAP addition","Mixing (0=off, 1=low, 2=medium, 3=high) ","Nutrient Addition","Pump over","Aeration","Yeast Innoc.","Comments","pH","TA","FSO2","TSO2","YAN","GF","Other","Other Additions","Baume – Model","Required Refrigeration (kWr)",null,"Date","Day","Baume","Temp C","DAP addition","Mixing (0=off, 1=low, 2=medium, 3=high) ","Nutrient Addition","Pump over","Aeration","Yeast Innoc.","Comments","pH","TA","FSO2","TSO2","YAN","GF","Other","Other Additions","Baume – Model","Required Refrigeration (kWr)",null,"Date","Day","Baume","Temp C","DAP addition","Mixing (0=off, 1=low, 2=medium, 3=high) ","Nutrient Addition","Pump over","Aeration","Yeast Innoc.","Comments","pH","TA","FSO2","TSO2","YAN","GF","Other","Other Additions","Baume – Model","Required Refrigeration (kWr)",null,"Date","Day","Baume","Temp C","DAP addition","Mixing (0=off, 1=low, 2=medium, 3=high) ","Nutrient Addition","Pump over","Aeration","Yeast Innoc.","Comments","pH","TA","FSO2","TSO2","YAN","GF","Other","Other Additions","Baume – Model","Required Refrigeration (kWr)",null,"Date","Day","Baume","Temp C","DAP addition","Mixing (0=off, 1=low, 2=medium, 3=high) ","Nutrient Addition","Pump over","Aeration","Yeast Innoc.","Comments","pH","TA","FSO2","TSO2","YAN","GF","Other","Other Additions","Baume – Model","Required Refrigeration (kWr)",null,"Date","Day","Baume","Temp C","DAP addition","Mixing (0=off, 1=low, 2=medium, 3=high) ","Nutrient Addition","Pump over","Aeration","Yeast Innoc.","Comments","pH","TA","FSO2","TSO2","YAN","GF","Other","Other Additions","Baume – Model","Required Refrigeration (kWr)",null,"Date","Day","Baume","Temp C","DAP addition","Mixing (0=off, 1=low, 2=medium, 3=high) ","Nutrient Addition","Pump over","Aeration","Yeast Innoc.","Comments","pH","TA","FSO2","TSO2","YAN","GF","Other","Other Additions","Baume – Model","Required Refrigeration (kWr)",null,"Date","Day","Baume","Temp C","DAP addition","Mixing (0=off, 1=low, 2=medium, 3=high) ","Nutrient Addition","Pump over","Aeration","Yeast Innoc.","Comments","pH","TA","FSO2","TSO2","YAN","GF","Other","Other Additions","Baume – Model","Required Refrigeration (kWr)",null,"Date","Day","Baume","Temp C","DAP addition","Mixing (0=off, 1=low, 2=medium, 3=high) ","Nutrient Addition","Pump over","Aeration","Yeast Innoc.","Comments","pH","TA","FSO2","TSO2","YAN","GF","Other","Other Additions","Baume – Model","Required Refrigeration (kWr)",null,"Date","Day","Baume","Temp C","DAP addition","Mixing (0=off, 1=low, 2=medium, 3=high) ","Nutrient Addition","Pump over","Aeration","Yeast Innoc.","Comments","pH","TA","FSO2","TSO2","YAN","GF","Other","Other Additions","Baume – Model","Required Refrigeration (kWr)",null,"Date","Day","Baume","Temp C","DAP addition","Mixing (0=off, 1=low, 2=medium, 3=high) ","Nutrient Addition","Pump over","Aeration","Yeast Innoc.","Comments","pH","TA","FSO2","TSO2","YAN","GF","Other","Other Additions","Baume – Model","Required Refrigeration (kWr)",null,"Date","Day","Baume","Temp C","DAP addition","Mixing (0=off, 1=low, 2=medium, 3=high) ","Nutrient Addition","Pump over","Aeration","Yeast Innoc.","Comments","pH","TA","FSO2","TSO2","YAN","GF","Other","Other Additions","Baume – Model","Required Refrigeration (kWr)",null,"Date","Day","Baume","Temp C","DAP addition","Mixing (0=off, 1=low, 2=medium, 3=high) ","Nutrient Addition","Pump over","Aeration","Yeast Innoc.","Comments","pH","TA","FSO2","TSO2","YAN","GF","Other","Other Additions","Baume – Model","Required Refrigeration (kWr)",null,"Date","Day","Baume","Temp C","DAP addition","Mixing (0=off, 1=low, 2=medium, 3=high) ","Nutrient Addition","Pump over","Aeration","Yeast Innoc.","Comments","pH","TA","FSO2","TSO2","YAN","GF","Other","Other Additions","Baume – Model","Required Refrigeration (kWr)",null,"Date","Day","Baume","Temp C","DAP addition","Mixing (0=off, 1=low, 2=medium, 3=high) ","Nutrient Addition","Pump over","Aeration","Yeast Innoc.","Comments","pH","TA","FSO2","TSO2","YAN","GF","Other","Other Additions","Baume – Model","Required Refrigeration (kWr)",null,"Date","Day","Baume","Temp C","DAP addition","Mixing (0=off, 1=low, 2=medium, 3=high) ","Nutrient Addition","Pump over","Aeration","Yeast Innoc.","Comments","pH","TA","FSO2","TSO2","YAN","GF","Other","Other Additions","Baume – Model","Required Refrigeration (kWr)",null,"Date","Day","Baume","Temp C","DAP addition","Mixing (0=off, 1=low, 2=medium, 3=high) ","Nutrient Addition","Pump over","Aeration","Yeast Innoc.","Comments","pH","TA","FSO2","TSO2","YAN","GF","Other","Other Additions","Baume – Model","Required Refrigeration (kWr)",null,"Date","Day","Baume","Temp C","DAP addition","Mixing (0=off, 1=low, 2=medium, 3=high) ","Nutrient Addition","Pump over","Aeration","Yeast Innoc.","Comments","pH","TA","FSO2","TSO2","YAN","GF","Other","Other Additions","Baume – Model","Required Refrigeration (kWr)",null,"Date","Day","Baume","Temp C","DAP addition","Mixing (0=off, 1=low, 2=medium, 3=high) ","Nutrient Addition","Pump over","Aeration","Yeast Innoc.","Comments","pH","TA","FSO2","TSO2","YAN","GF","Other","Other Additions","Baume – Model","Required Refrigeration (kWr)",null,"Date","Day","Baume","Temp C","DAP addition","Mixing (0=off, 1=low, 2=medium, 3=high) ","Nutrient Addition","Pump over","Aeration","Yeast Innoc.","Comments","pH","TA","FSO2","TSO2","YAN","GF","Other","Other Additions","Baume – Model","Required Refrigeration (kWr)",null,"Date","Day","Baume","Temp C","DAP addition","Mixing (0=off, 1=low, 2=medium, 3=high) ","Nutrient Addition","Pump over","Aeration","Yeast Innoc.","Comments","pH","TA","FSO2","TSO2","YAN","GF","Other","Other Additions","Baume – Model","Required Refrigeration (kWr)",null,"Date","Day","Baume","Temp C","DAP addition","Mixing (0=off, 1=low, 2=medium, 3=high) ","Nutrient Addition","Pump over","Aeration","Yeast Innoc.","Comments","pH","TA","FSO2","TSO2","YAN","GF","Other","Other Additions","Baume – Model","Required Refrigeration (kWr)",null,"Date","Day","Baume","Temp C","DAP addition","Mixing (0=off, 1=low, 2=medium, 3=high) ","Nutrient Addition","Pump over","Aeration","Yeast Innoc.","Comments","pH","TA","FSO2","TSO2","YAN","GF","Other","Other Additions","Baume – Model","Required Refrigeration (kWr)",null,"Date","Day","Baume","Temp C","DAP addition","Mixing (0=off, 1=low, 2=medium, 3=high) ","Nutrient Addition","Pump over","Aeration","Yeast Innoc.","Comments","pH","TA","FSO2","TSO2","YAN","GF","Other","Other Additions","Baume – Model","Required Refrigeration (kWr)",null,"Date","Day","Baume","Temp C","DAP addition","Mixing (0=off, 1=low, 2=medium, 3=high) ","Nutrient Addition","Pump over","Aeration","Yeast Innoc.","Comments","pH","TA","FSO2","TSO2","YAN","GF","Other","Other Additions","Baume – Model","Required Refrigeration (kWr)",null,"Date","Day","Baume","Temp C","DAP addition","Mixing (0=off, 1=low, 2=medium, 3=high) ","Nutrient Addition","Pump over","Aeration","Yeast Innoc.","Comments","pH","TA","FSO2","TSO2","YAN","GF","Other","Other Additions","Baume – Model","Required Refrigeration (kWr)",null,"Date","Day","Baume","Temp C","DAP addition","Mixing (0=off, 1=low, 2=medium, 3=high) ","Nutrient Addition","Pump over","Aeration","Yeast Innoc.","Comments","pH","TA","FSO2","TSO2","YAN","GF","Other","Other Additions","Baume – Model","Required Refrigeration (kWr)",null,"Date","Day","Baume","Temp C","DAP addition","Mixing (0=off, 1=low, 2=medium, 3=high) ","Nutrient Addition","Pump over","Aeration","Yeast Innoc.","Comments","pH","TA","FSO2","TSO2","YAN","GF","Other","Other Additions","Baume – Model","Required Refrigeration (kWr)",null,"Date","Day","Baume","Temp C","DAP addition","Mixing (0=off, 1=low, 2=medium, 3=high) ","Nutrient Addition","Pump over","Aeration","Yeast Innoc.","Comments","pH","TA","FSO2","TSO2","YAN","GF","Other","Other Additions","Baume – Model","Required Refrigeration (kWr)",null,"Date","Day","Baume","Temp C","DAP addition","Mixing (0=off, 1=low, 2=medium, 3=high) ","Nutrient Addition","Pump over","Aeration","Yeast Innoc.","Comments","pH","TA","FSO2","TSO2","YAN","GF","Other","Other Additions","Baume – Model","Required Refrigeration (kWr)",null,"Date","Day","Baume","Temp C","DAP addition","Mixing (0=off, 1=low, 2=medium, 3=high) ","Nutrient Addition","Pump over","Aeration","Yeast Innoc.","Comments","pH","TA","FSO2","TSO2","YAN","GF","Other","Other Additions","Baume – Model","Required Refrigeration (kWr)",null,"Date","Day","Baume","Temp C","DAP addition","Mixing (0=off, 1=low, 2=medium, 3=high) ","Nutrient Addition","Pump over","Aeration","Yeast Innoc.","Comments","pH","TA","FSO2","TSO2","YAN","GF","Other","Other Additions","Baume – Model","Required Refrigeration (kWr)",null,"Date","Day","Baume","Temp C","DAP addition","Mixing (0=off, 1=low, 2=medium, 3=high) ","Nutrient Addition","Pump over","Aeration","Yeast Innoc.","Comments","pH","TA","FSO2","TSO2","YAN","GF","Other","Other Additions","Baume – Model","Required Refrigeration (kWr)",null,"Date","Day","Baume","Temp C","DAP addition","Mixing (0=off, 1=low, 2=medium, 3=high) ","Nutrient Addition","Pump over","Aeration","Yeast Innoc.","Comments","pH","TA","FSO2","TSO2","YAN","GF","Other","Other Additions","Baume – Model","Required Refrigeration (kWr)",null,"Date","Day","Baume","Temp C","DAP addition","Mixing (0=off, 1=low, 2=medium, 3=high) ","Nutrient Addition","Pump over","Aeration","Yeast Innoc.","Comments","pH","TA","FSO2","TSO2","YAN","GF","Other","Other Additions","Baume – Model","Required Refrigeration (kWr)",null,"Date","Day","Baume","Temp C","DAP addition","Mixing (0=off, 1=low, 2=medium, 3=high) ","Nutrient Addition","Pump over","Aeration","Yeast Innoc.","Comments","pH","TA","FSO2","TSO2","YAN","GF","Other","Other Additions","Baume – Model","Required Refrigeration (kWr)",null,"Date","Day","Baume","Temp C","DAP addition","Mixing (0=off, 1=low, 2=medium, 3=high) ","Nutrient Addition","Pump over","Aeration","Yeast Innoc.","Comments","pH","TA","FSO2","TSO2","YAN","GF","Other","Other Additions","Baume – Model","Required Refrigeration (kWr)",null,"Date","Day","Baume","Temp C","DAP addition","Mixing (0=off, 1=low, 2=medium, 3=high) ","Nutrient Addition","Pump over","Aeration","Yeast Innoc.","Comments","pH","TA","FSO2","TSO2","YAN","GF","Other","Other Additions","Baume – Model","Required Refrigeration (kWr)",null,"Date","Day","Baume","Temp C","DAP addition","Mixing (0=off, 1=low, 2=medium, 3=high) ","Nutrient Addition","Pump over","Aeration","Yeast Innoc.","Comments","pH","TA","FSO2","TSO2","YAN","GF","Other","Other Additions","Baume – Model","Required Refrigeration (kWr)",null,"Date","Day","Baume","Temp C","DAP addition","Mixing (0=off, 1=low, 2=medium, 3=high) ","Nutrient Addition","Pump over","Aeration","Yeast Innoc.","Comments","pH","TA","FSO2","TSO2","YAN","GF","Other","Other Additions","Baume – Model","Required Refrigeration (kWr)",null,"Date","Day","Baume","Temp C","DAP addition","Mixing (0=off, 1=low, 2=medium, 3=high) ","Nutrient Addition","Pump over","Aeration","Yeast Innoc.","Comments","pH","TA","FSO2","TSO2","YAN","GF","Other","Other Additions","Baume – Model","Required Refrigeration (kWr)",null,"Date","Day","Baume","Temp C","DAP addition","Mixing (0=off, 1=low, 2=medium, 3=high) ","Nutrient Addition","Pump over","Aeration","Yeast Innoc.","Comments","pH","TA","FSO2","TSO2","YAN","GF","Other","Other Additions","Baume – Model","Required Refrigeration (kWr)",null,"Date","Day","Baume","Temp C","DAP addition","Mixing (0=off, 1=low, 2=medium, 3=high) ","Nutrient Addition","Pump over","Aeration","Yeast Innoc.","Comments","pH","TA","FSO2","TSO2","YAN","GF","Other","Other Additions","Baume – Model","Required Refrigeration (kWr)",null,"Date","Day","Baume","Temp C","DAP addition","Mixing (0=off, 1=low, 2=medium, 3=high) ","Nutrient Addition","Pump over","Aeration","Yeast Innoc.","Comments","pH","TA","FSO2","TSO2","YAN","GF","Other","Other Additions","Baume – Model","Required Refrigeration (kWr)",null,"Date","Day","Baume","Temp C","DAP addition","Mixing (0=off, 1=low, 2=medium, 3=high) ","Nutrient Addition","Pump over","Aeration","Yeast Innoc.","Comments","pH","TA","FSO2","TSO2","YAN","GF","Other","Other Additions","Baume – Model","Required Refrigeration (kWr)",null,"Date","Day","Baume","Temp C","DAP addition","Mixing (0=off, 1=low, 2=medium, 3=high) ","Nutrient Addition","Pump over","Aeration","Yeast Innoc.","Comments","pH","TA","FSO2","TSO2","YAN","GF","Other","Other Additions","Baume – Model","Required Refrigeration (kWr)",null,"Date","Day","Baume","Temp C","DAP addition","Mixing (0=off, 1=low, 2=medium, 3=high) ","Nutrient Addition","Pump over","Aeration","Yeast Innoc.","Comments","pH","TA","FSO2","TSO2","YAN","GF","Other","Other Additions","Baume – Model","Required Refrigeration (kWr)",null,"Date","Day","Baume","Temp C","DAP addition","Mixing (0=off, 1=low, 2=medium, 3=high) ","Nutrient Addition","Pump over","Aeration","Yeast Innoc.","Comments","pH","TA","FSO2","TSO2","YAN","GF","Other","Other Additions","Baume – Model","Required Refrigeration (kWr)",null,"Date","Day","Baume","Temp C","DAP addition","Mixing (0=off, 1=low, 2=medium, 3=high) ","Nutrient Addition","Pump over","Aeration","Yeast Innoc.","Comments","pH","TA","FSO2","TSO2","YAN","GF","Other","Other Additions","Baume – Model","Required Refrigeration (kWr)",null,"Date","Day","Baume","Temp C","DAP addition","Mixing (0=off, 1=low, 2=medium, 3=high) ","Nutrient Addition","Pump over","Aeration","Yeast Innoc.","Comments","pH","TA","FSO2","TSO2","YAN","GF","Other","Other Additions","Baume – Model","Required Refrigeration (kWr)",null,"Date","Day","Baume","Temp C","DAP addition","Mixing (0=off, 1=low, 2=medium, 3=high) ","Nutrient Addition","Pump over","Aeration","Yeast Innoc.","Comments","pH","TA","FSO2","TSO2","YAN","GF","Other","Other Additions","Baume – Model","Required Refrigeration (kWr)",null,"Date","Day","Baume","Temp C","DAP addition","Mixing (0=off, 1=low, 2=medium, 3=high) ","Nutrient Addition","Pump over","Aeration","Yeast Innoc.","Comments","pH","TA","FSO2","TSO2","YAN","GF","Other","Other Additions","Baume – Model","Required Refrigeration (kWr)",null,"Date","Day","Baume","Temp C","DAP addition","Mixing (0=off, 1=low, 2=medium, 3=high) ","Nutrient Addition","Pump over","Aeration","Yeast Innoc.","Comments","pH","TA","FSO2","TSO2","YAN","GF","Other","Other Additions","Baume – Model","Required Refrigeration (kWr)",null,"Date","Day","Baume","Temp C","DAP addition","Mixing (0=off, 1=low, 2=medium, 3=high) ","Nutrient Addition","Pump over","Aeration","Yeast Innoc.","Comments","pH","TA","FSO2","TSO2","YAN","GF","Other","Other Additions","Baume – Model","Required Refrigeration (kWr)",null,"Date","Day","Baume","Temp C","DAP addition","Mixing (0=off, 1=low, 2=medium, 3=high) ","Nutrient Addition","Pump over","Aeration","Yeast Innoc.","Comments","pH","TA","FSO2","TSO2","YAN","GF","Other","Other Additions","Baume – Model","Required Refrigeration (kWr)",null,"Date","Day","Baume","Temp C","DAP addition","Mixing (0=off, 1=low, 2=medium, 3=high) ","Nutrient Addition","Pump over","Aeration","Yeast Innoc.","Comments","pH","TA","FSO2","TSO2","YAN","GF","Other","Other Additions","Baume – Model","Required Refrigeration (kWr)",null,"Date","Day","Baume","Temp C","DAP addition","Mixing (0=off, 1=low, 2=medium, 3=high) ","Nutrient Addition","Pump over","Aeration","Yeast Innoc.","Comments","pH","TA","FSO2","TSO2","YAN","GF","Other","Other Additions","Baume – Model","Required Refrigeration (kWr)",null,"Date","Day","Baume","Temp C","DAP addition","Mixing (0=off, 1=low, 2=medium, 3=high) ","Nutrient Addition","Pump over","Aeration","Yeast Innoc.","Comments","pH","TA","FSO2","TSO2","YAN","GF","Other","Other Additions","Baume – Model","Required Refrigeration (kWr)",null,"Date","Day","Baume","Temp C","DAP addition","Mixing (0=off, 1=low, 2=medium, 3=high) ","Nutrient Addition","Pump over","Aeration","Yeast Innoc.","Comments","pH","TA","FSO2","TSO2","YAN","GF","Other","Other Additions","Baume – Model","Required Refrigeration (kWr)",null,"Date","Day","Baume","Temp C","DAP addition","Mixing (0=off, 1=low, 2=medium, 3=high) ","Nutrient Addition","Pump over","Aeration","Yeast Innoc.","Comments","pH","TA","FSO2","TSO2","YAN","GF","Other","Other Additions","Baume – Model","Required Refrigeration (kWr)",null,"Date","Day","Baume","Temp C","DAP addition","Mixing (0=off, 1=low, 2=medium, 3=high) ","Nutrient Addition","Pump over","Aeration","Yeast Innoc.","Comments","pH","TA","FSO2","TSO2","YAN","GF","Other","Other Additions","Baume – Model","Required Refrigeration (kWr)",null,"Date","Day","Baume","Temp C","DAP addition","Mixing (0=off, 1=low, 2=medium, 3=high) ","Nutrient Addition","Pump over","Aeration","Yeast Innoc.","Comments","pH","TA","FSO2","TSO2","YAN","GF","Other","Other Additions","Baume – Model","Required Refrigeration (kWr)",null,"Date","Day","Baume","Temp C","DAP addition","Mixing (0=off, 1=low, 2=medium, 3=high) ","Nutrient Addition","Pump over","Aeration","Yeast Innoc.","Comments","pH","TA","FSO2","TSO2","YAN","GF","Other","Other Additions","Baume – Model","Required Refrigeration (kWr)",null,"Date","Day","Baume","Temp C","DAP addition","Mixing (0=off, 1=low, 2=medium, 3=high) ","Nutrient Addition","Pump over","Aeration","Yeast Innoc.","Comments","pH","TA","FSO2","TSO2","YAN","GF","Other","Other Additions","Baume – Model","Required Refrigeration (kWr)",null,"Date","Day","Baume","Temp C","DAP addition","Mixing (0=off, 1=low, 2=medium, 3=high) ","Nutrient Addition","Pump over","Aeration","Yeast Innoc.","Comments","pH","TA","FSO2","TSO2","YAN","GF","Other","Other Additions","Baume – Model","Required Refrigeration (kWr)",null,"Date","Day","Baume","Temp C","DAP addition","Mixing (0=off, 1=low, 2=medium, 3=high) ","Nutrient Addition","Pump over","Aeration","Yeast Innoc.","Comments","pH","TA","FSO2","TSO2","YAN","GF","Other","Other Additions","Baume – Model","Required Refrigeration (kWr)",null,"Date","Day","Baume","Temp C","DAP addition","Mixing (0=off, 1=low, 2=medium, 3=high) ","Nutrient Addition","Pump over","Aeration","Yeast Innoc.","Comments","pH","TA","FSO2","TSO2","YAN","GF","Other","Other Additions","Baume – Model","Required Refrigeration (kWr)",null,"Date","Day","Baume","Temp C","DAP addition","Mixing (0=off, 1=low, 2=medium, 3=high) ","Nutrient Addition","Pump over","Aeration","Yeast Innoc.","Comments","pH","TA","FSO2","TSO2","YAN","GF","Other","Other Additions","Baume – Model","Required Refrigeration (kWr)",null,"Date","Day","Baume","Temp C","DAP addition","Mixing (0=off, 1=low, 2=medium, 3=high) ","Nutrient Addition","Pump over","Aeration","Yeast Innoc.","Comments","pH","TA","FSO2","TSO2","YAN","GF","Other","Other Additions","Baume – Model","Required Refrigeration (kWr)",null,"Date","Day","Baume","Temp C","DAP addition","Mixing (0=off, 1=low, 2=medium, 3=high) ","Nutrient Addition","Pump over","Aeration","Yeast Innoc.","Comments","pH","TA","FSO2","TSO2","YAN","GF","Other","Other Additions","Baume – Model","Required Refrigeration (kWr)",null,"Date","Day","Baume","Temp C","DAP addition","Mixing (0=off, 1=low, 2=medium, 3=high) ","Nutrient Addition","Pump over","Aeration","Yeast Innoc.","Comments","pH","TA","FSO2","TSO2","YAN","GF","Other","Other Additions","Baume – Model","Required Refrigeration (kWr)",null,"Date","Day","Baume","Temp C","DAP addition","Mixing (0=off, 1=low, 2=medium, 3=high) ","Nutrient Addition","Pump over","Aeration","Yeast Innoc.","Comments","pH","TA","FSO2","TSO2","YAN","GF","Other","Other Additions","Baume – Model","Required Refrigeration (kWr)",null,"Date","Day","Baume","Temp C","DAP addition","Mixing (0=off, 1=low, 2=medium, 3=high) ","Nutrient Addition","Pump over","Aeration","Yeast Innoc.","Comments","pH","TA","FSO2","TSO2","YAN","GF","Other","Other Additions","Baume – Model","Required Refrigeration (kWr)",null,"Date","Day","Baume","Temp C","DAP addition","Mixing (0=off, 1=low, 2=medium, 3=high) ","Nutrient Addition","Pump over","Aeration","Yeast Innoc.","Comments","pH","TA","FSO2","TSO2","YAN","GF","Other","Other Additions","Baume – Model","Required Refrigeration (kWr)",null,"Date","Day","Baume","Temp C","DAP addition","Mixing (0=off, 1=low, 2=medium, 3=high) ","Nutrient Addition","Pump over","Aeration","Yeast Innoc.","Comments","pH","TA","FSO2","TSO2","YAN","GF","Other","Other Additions","Baume – Model","Required Refrigeration (kWr)",null,"Date","Day","Baume","Temp C","DAP addition","Mixing (0=off, 1=low, 2=medium, 3=high) ","Nutrient Addition","Pump over","Aeration","Yeast Innoc.","Comments","pH","TA","FSO2","TSO2","YAN","GF","Other","Other Additions","Baume – Model","Required Refrigeration (kWr)",null,"Date","Day","Baume","Temp C","DAP addition","Mixing (0=off, 1=low, 2=medium, 3=high) ","Nutrient Addition","Pump over","Aeration","Yeast Innoc.","Comments","pH","TA","FSO2","TSO2","YAN","GF","Other","Other Additions","Baume – Model","Required Refrigeration (kWr)",null,"Date","Day","Baume","Temp C","DAP addition","Mixing (0=off, 1=low, 2=medium, 3=high) ","Nutrient Addition","Pump over","Aeration","Yeast Innoc.","Comments","pH","TA","FSO2","TSO2","YAN","GF","Other","Other Additions","Baume – Model","Required Refrigeration (kWr)",null,"Date","Day","Baume","Temp C","DAP addition","Mixing (0=off, 1=low, 2=medium, 3=high) ","Nutrient Addition","Pump over","Aeration","Yeast Innoc.","Comments","pH","TA","FSO2","TSO2","YAN","GF","Other","Other Additions","Baume – Model","Required Refrigeration (kWr)",null,"Date","Day","Baume","Temp C","DAP addition","Mixing (0=off, 1=low, 2=medium, 3=high) ","Nutrient Addition","Pump over","Aeration","Yeast Innoc.","Comments","pH","TA","FSO2","TSO2","YAN","GF","Other","Other Additions","Baume – Model","Required Refrigeration (kWr)",null,"Date","Day","Baume","Temp C","DAP addition","Mixing (0=off, 1=low, 2=medium, 3=high) ","Nutrient Addition","Pump over","Aeration","Yeast Innoc.","Comments","pH","TA","FSO2","TSO2","YAN","GF","Other","Other Additions","Baume – Model","Required Refrigeration (kWr)",null,"Date","Day","Baume","Temp C","DAP addition","Mixing (0=off, 1=low, 2=medium, 3=high) ","Nutrient Addition","Pump over","Aeration","Yeast Innoc.","Comments","pH","TA","FSO2","TSO2","YAN","GF","Other","Other Additions","Baume – Model","Required Refrigeration (kWr)",null,"Date","Day","Baume","Temp C","DAP addition","Mixing (0=off, 1=low, 2=medium, 3=high) ","Nutrient Addition","Pump over","Aeration","Yeast Innoc.","Comments","pH","TA","FSO2","TSO2","YAN","GF","Other","Other Additions","Baume – Model","Required Refrigeration (kWr)",null,"Date","Day","Baume","Temp C","DAP addition","Mixing (0=off, 1=low, 2=medium, 3=high) ","Nutrient Addition","Pump over","Aeration","Yeast Innoc.","Comments","pH","TA","FSO2","TSO2","YAN","GF","Other","Other Additions","Baume – Model","Required Refrigeration (kWr)",null,"Date","Day","Baume","Temp C","DAP addition","Mixing (0=off, 1=low, 2=medium, 3=high) ","Nutrient Addition","Pump over","Aeration","Yeast Innoc.","Comments","pH","TA","FSO2","TSO2","YAN","GF","Other","Other Additions","Baume – Model","Required Refrigeration (kWr)",null,"Date","Day","Baume","Temp C","DAP addition","Mixing (0=off, 1=low, 2=medium, 3=high) ","Nutrient Addition","Pump over","Aeration","Yeast Innoc.","Comments","pH","TA","FSO2","TSO2","YAN","GF","Other","Other Additions","Baume – Model","Required Refrigeration (kWr)",null,"Date","Day","Baume","Temp C","DAP addition","Mixing (0=off, 1=low, 2=medium, 3=high) ","Nutrient Addition","Pump over","Aeration","Yeast Innoc.","Comments","pH","TA","FSO2","TSO2","YAN","GF","Other","Other Additions","Baume – Model","Required Refrigeration (kWr)",null,"Date","Day","Baume","Temp C","DAP addition","Mixing (0=off, 1=low, 2=medium, 3=high) ","Nutrient Addition","Pump over","Aeration","Yeast Innoc.","Comments","pH","TA","FSO2","TSO2","YAN","GF","Other","Other Additions","Baume – Model","Required Refrigeration (kWr)",null,"Date","Day","Baume","Temp C","DAP addition","Mixing (0=off, 1=low, 2=medium, 3=high) ","Nutrient Addition","Pump over","Aeration","Yeast Innoc.","Comments","pH","TA","FSO2","TSO2","YAN","GF","Other","Other Additions","Baume – Model","Required Refrigeration (kWr)",null,"Date","Day","Baume","Temp C","DAP addition","Mixing (0=off, 1=low, 2=medium, 3=high) ","Nutrient Addition","Pump over","Aeration","Yeast Innoc.","Comments","pH","TA","FSO2","TSO2","YAN","GF","Other","Other Additions","Baume – Model","Required Refrigeration (kWr)",null,"Date","Day","Baume","Temp C","DAP addition","Mixing (0=off, 1=low, 2=medium, 3=high) ","Nutrient Addition","Pump over","Aeration","Yeast Innoc.","Comments","pH","TA","FSO2","TSO2","YAN","GF","Other","Other Additions","Baume – Model","Required Refrigeration (kWr)",null,"Date","Day","Baume","Temp C","DAP addition","Mixing (0=off, 1=low, 2=medium, 3=high) ","Nutrient Addition","Pump over","Aeration","Yeast Innoc.","Comments","pH","TA","FSO2","TSO2","YAN","GF","Other","Other Additions","Baume – Model","Required Refrigeration (kWr)"]
["2013-01-05T12:00:00",1,10.1,16,null,null,null,null,null,null,null,null,null,null,null,null,null,null,null,10.004497256446175,2.5248354278601579,null,"2013-01-05T12:00:00",1,13.1,16.5,null,null,null,null,null,null,null,null,null,null,null,null,null,null,null,13.002017381672751,4.2199077941008802,null,"2013-01-05T12:00:00",1,11.4,14,null,null,null,null,null,null,null,null,null,null,null,null,null,null,null,11.253926243364601,13.958667163882563,null,"2013-01-05T12:00:00",1,null,null,null,null,null,null,null,null,null,null,null,null,null,null,null,null,null,null,null,null,"1900-01-01",1,null,null,null,null,null,null,null,null,null,null,null,null,null,null,null,null,null,null,null,null,"1900-01-01",1,null,null,null,null,null,null,null,null,null,null,null,null,null,null,null,null,null,null,null,null,"1900-01-01",1,null,null,null,null,null,null,null,null,null,null,null,null,null,null,null,null,null,null,null,null,"1900-01-01",1,null,null,null,null,null,null,null,null,null,null,null,null,null,null,null,null,null,null,null,null,"1900-01-01",1,null,null,null,null,null,null,null,null,null,null,null,null,null,null,null,null,null,null,null,null,"1900-01-01",1,null,null,null,null,null,null,null,null,null,null,null,null,null,null,null,null,null,null,null,null,"1900-01-01",1,null,null,null,null,null,null,null,null,null,null,null,null,null,null,null,null,null,null,null,null,"1900-01-01",1,null,null,null,null,null,null,null,null,null,null,null,null,null,null,null,null,null,null,null,null,"1900-01-01",1,null,null,null,null,null,null,null,null,null,null,null,null,null,null,null,null,null,null,null,null,"1900-01-01",1,null,null,null,null,null,null,null,null,null,null,null,null,null,null,null,null,null,null,null,null,"1900-01-01",1,null,null,null,null,null,null,null,null,null,null,null,null,null,null,null,null,null,null,null,null,"1900-01-01",1,null,null,null,null,null,null,null,null,null,null,null,null,null,null,null,null,null,null,null,null,"1900-01-01",1,null,null,null,null,null,null,null,null,null,null,null,null,null,null,null,null,null,null,null,null,"1900-01-01",1,null,null,null,null,null,null,null,null,null,null,null,null,null,null,null,null,null,null,null,null,"1900-01-01",1,null,null,null,null,null,null,null,null,null,null,null,null,null,null,null,null,null,null,null,null,"1900-01-01",1,null,null,null,null,null,null,null,null,null,null,null,null,null,null,null,null,null,null,null,null,"1900-01-01",1,null,null,null,null,null,null,null,null,null,null,null,null,null,null,null,null,null,null,null,null,"1900-01-01",1,null,null,null,null,null,null,null,null,null,null,null,null,null,null,null,null,null,null,null,null,"1900-01-01",1,null,null,null,null,null,null,null,null,null,null,null,null,null,null,null,null,null,null,null,null,"1900-01-01",1,null,null,null,null,null,null,null,null,null,null,null,null,null,null,null,null,null,null,null,null,"1900-01-01",1,null,null,null,null,null,null,null,null,null,null,null,null,null,null,null,null,null,null,null,null,"1900-01-01",1,null,null,null,null,null,null,null,null,null,null,null,null,null,null,null,null,null,null,null,null,"1900-01-01",1,null,null,null,null,null,null,null,null,null,null,null,null,null,null,null,null,null,null,null,null,"1900-01-01",1,null,null,null,null,null,null,null,null,null,null,null,null,null,null,null,null,null,null,null,null,"1900-01-01",1,null,null,null,null,null,null,null,null,null,null,null,null,null,null,null,null,null,null,null,null,"1900-01-01",1,null,null,null,null,null,null,null,null,null,null,null,null,null,null,null,null,null,null,null,null,"1900-01-01",1,null,null,null,null,null,null,null,null,null,null,null,null,null,null,null,null,null,null,null,null,"1900-01-01",1,null,null,null,null,null,null,null,null,null,null,null,null,null,null,null,null,null,null,null,null,"1900-01-01",1,null,null,null,null,null,null,null,null,null,null,null,null,null,null,null,null,null,null,null,null,"1900-01-01",1,null,null,null,null,null,null,null,null,null,null,null,null,null,null,null,null,null,null,null,null,"1900-01-01",1,null,null,null,null,null,null,null,null,null,null,null,null,null,null,null,null,null,null,null,null,"1900-01-01",1,null,null,null,null,null,null,null,null,null,null,null,null,null,null,null,null,null,null,null,null,"1900-01-01",1,null,null,null,null,null,null,null,null,null,null,null,null,null,null,null,null,null,null,null,null,"1900-01-01",1,null,null,null,null,null,null,null,null,null,null,null,null,null,null,null,null,null,null,null,null,"1900-01-01",1,null,null,null,null,null,null,null,null,null,null,null,null,null,null,null,null,null,null,null,null,"1900-01-01",1,null,null,null,null,null,null,null,null,null,null,null,null,null,null,null,null,null,null,null,null,"1900-01-01",1,null,null,null,null,null,null,null,null,null,null,null,null,null,null,null,null,null,null,null,null,"1900-01-01",1,null,null,null,null,null,null,null,null,null,null,null,null,null,null,null,null,null,null,null,null,"1900-01-01",1,null,null,null,null,null,null,null,null,null,null,null,null,null,null,null,null,null,null,null,null,"1900-01-01",1,null,null,null,null,null,null,null,null,null,null,null,null,null,null,null,null,null,null,null,null,"1900-01-01",1,null,null,null,null,null,null,null,null,null,null,null,null,null,null,null,null,null,null,null,null,"1900-01-01",1,null,null,null,null,null,null,null,null,null,null,null,null,null,null,null,null,null,null,null,null,"1900-01-01",1,null,null,null,null,null,null,null,null,null,null,null,null,null,null,null,null,null,null,null,null,"1900-01-01",1,null,null,null,null,null,null,null,null,null,null,null,null,null,null,null,null,null,null,null,null,"1900-01-01",1,null,null,null,null,null,null,null,null,null,null,null,null,null,null,null,null,null,null,null,null,"1900-01-01",1,null,null,null,null,null,null,null,null,null,null,null,null,null,null,null,null,null,null,null,null,"1900-01-01",1,null,null,null,null,null,null,null,null,null,null,null,null,null,null,null,null,null,null,null,null,"1900-01-01",1,null,null,null,null,null,null,null,null,null,null,null,null,null,null,null,null,null,null,null,null,"1900-01-01",1,null,null,null,null,null,null,null,null,null,null,null,null,null,null,null,null,null,null,null,null,"1900-01-01",1,null,null,null,null,null,null,null,null,null,null,null,null,null,null,null,null,null,null,null,null,"1900-01-01",1,null,null,null,null,null,null,null,null,null,null,null,null,null,null,null,null,null,null,null,null,"1900-01-01",1,null,null,null,null,null,null,null,null,null,null,null,null,null,null,null,null,null,null,null,null,"1900-01-01",1,null,null,null,null,null,null,null,null,null,null,null,null,null,null,null,null,null,null,null,null,"1900-01-01",1,null,null,null,null,null,null,null,null,null,null,null,null,null,null,null,null,null,null,null,null,"1900-01-01",1,null,null,null,null,null,null,null,null,null,null,null,null,null,null,null,null,null,null,null,null,"1900-01-01",1,null,null,null,null,null,null,null,null,null,null,null,null,null,null,null,null,null,null,null,null,"1900-01-01",1,null,null,null,null,null,null,null,null,null,null,null,null,null,null,null,null,null,null,null,null,"1900-01-01",1,null,null,null,null,null,null,null,null,null,null,null,null,null,null,null,null,null,null,null,null,"1900-01-01",1,null,null,null,null,null,null,null,null,null,null,null,null,null,null,null,null,null,null,null,null,"1900-01-01",1,null,null,null,null,null,null,null,null,null,null,null,null,null,null,null,null,null,null,null,null,"1900-01-01",1,null,null,null,null,null,null,null,null,null,null,null,null,null,null,null,null,null,null,null,null,"1900-01-01",1,null,null,null,null,null,null,null,null,null,null,null,null,null,null,null,null,null,null,null,null,"1900-01-01",1,null,null,null,null,null,null,null,null,null,null,null,null,null,null,null,null,null,null,null,null,"1900-01-01",1,null,null,null,null,null,null,null,null,null,null,null,null,null,null,null,null,null,null,null,null,"1900-01-01",1,null,null,null,null,null,null,null,null,null,null,null,null,null,null,null,null,null,null,null,null,"1900-01-01",1,null,null,null,null,null,null,null,null,null,null,null,null,null,null,null,null,null,null,null,null,"1900-01-01",1,null,null,null,null,null,null,null,null,null,null,null,null,null,null,null,null,null,null,null,null,"1900-01-01",1,null,null,null,null,null,null,null,null,null,null,null,null,null,null,null,null,null,null,null,null,"1900-01-01",1,null,null,null,null,null,null,null,null,null,null,null,null,null,null,null,null,null,null,null,null,"1900-01-01",1,null,null,null,null,null,null,null,null,null,null,null,null,null,null,null,null,null,null,null,null,"1900-01-01",1,null,null,null,null,null,null,null,null,null,null,null,null,null,null,null,null,null,null,null,null,"1900-01-01",1,null,null,null,null,null,null,null,null,null,null,null,null,null,null,null,null,null,null,null,null,"1900-01-01",1,null,null,null,null,null,null,null,null,null,null,null,null,null,null,null,null,null,null,null,null,"1900-01-01",1,null,null,null,null,null,null,null,null,null,null,null,null,null,null,null,null,null,null,null,null,"1900-01-01",1,null,null,null,null,null,null,null,null,null,null,null,null,null,null,null,null,null,null,null,null,"1900-01-01",1,null,null,null,null,null,null,null,null,null,null,null,null,null,null,null,null,null,null,null,null,"1900-01-01",1,null,null,null,null,null,null,null,null,null,null,null,null,null,null,null,null,null,null,null,null,"1900-01-01",1,null,null,null,null,null,null,null,null,null,null,null,null,null,null,null,null,null,null,null,null,"1900-01-01",1,null,null,null,null,null,null,null,null,null,null,null,null,null,null,null,null,null,null,null,null,"1900-01-01",1,null,null,null,null,null,null,null,null,null,null,null,null,null,null,null,null,null,null,null,null,"1900-01-01",1,null,null,null,null,null,null,null,null,null,null,null,null,null,null,null,null,null,null,null,null,"1900-01-01",1,null,null,null,null,null,null,null,null,null,null,null,null,null,null,null,null,null,null,null,null,"1900-01-01",1,null,null,null,null,null,null,null,null,null,null,null,null,null,null,null,null,null,null,null,null,"1900-01-01",1,null,null,null,null,null,null,null,null,null,null,null,null,null,null,null,null,null,null,null,null,"1900-01-01",1,null,null,null,null,null,null,null,null,null,null,null,null,null,null,null,null,null,null,null,null,"1900-01-01",1,null,null,null,null,null,null,null,null,null,null,null,null,null,null,null,null,null,null,null,null,"1900-01-01",1,null,null,null,null,null,null,null,null,null,null,null,null,null,null,null,null,null,null,null,null,"1900-01-01",1,null,null,null,null,null,null,null,null,null,null,null,null,null,null,null,null,null,null,null,null,"1900-01-01",1,null,null,null,null,null,null,null,null,null,null,null,null,null,null,null,null,null,null,null,null,"1900-01-01",1,null,null,null,null,null,null,null,null,null,null,null,null,null,null,null,null,null,null,null,null,"1900-01-01",1,null,null,null,null,null,null,null,null,null,null,null,null,null,null,null,null,null,null,null,null,"1900-01-01",1,null,null,null,null,null,null,null,null,null,null,null,null,null,null,null,null,null,null,null,null,"1900-01-01",1,null,null,null,null,null,null,null,null,null,null,null,null,null,null,null,null,null,null,null,null,"1900-01-01",1,null,null,null,null,null,null,null,null,null,null,null,null,null,null,null,null,null,null,null,null,"1900-01-01",1,null,null,null,null,null,null,null,null,null,null,null,null,null,null,null,null,null,null,null,null,"1900-01-01",1]
["2013-01-07T12:00:00",3,8.5,13.5,null,null,null,null,null,null,null,null,null,null,null,null,null,null,null,8.5607569238200476,6.5814279688418278,null,"2013-01-07T12:00:00",3,12.3,14,null,null,null,null,null,null,null,null,null,null,null,null,null,null,null,11.786324174141416,17.905060171631078,null,"2013-01-07T12:00:00",3,8.6999999999999993,14,null,null,null,null,null,null,null,null,null,null,null,null,null,null,null,8.5306632534463471,69.259820423958686,null,"2013-01-07T12:00:00",3,null,null,null,null,null,null,null,null,null,null,null,null,null,null,null,null,null,null,null,null,"1900-01-03",3,null,null,null,null,null,null,null,null,null,null,null,null,null,null,null,null,null,null,null,null,"1900-01-03",3,null,null,null,null,null,null,null,null,null,null,null,null,null,null,null,null,null,null,null,null,"1900-01-03",3,null,null,null,null,null,null,null,null,null,null,null,null,null,null,null,null,null,null,null,null,"1900-01-03",3,null,null,null,null,null,null,null,null,null,null,null,null,null,null,null,null,null,null,null,null,"1900-01-03",3,null,null,null,null,null,null,null,null,null,null,null,null,null,null,null,null,null,null,null,null,"1900-01-03",3,null,null,null,null,null,null,null,null,null,null,null,null,null,null,null,null,null,null,null,null,"1900-01-03",3,null,null,null,null,null,null,null,null,null,null,null,null,null,null,null,null,null,null,null,null,"1900-01-03",3,null,null,null,null,null,null,null,null,null,null,null,null,null,null,null,null,null,null,null,null,"1900-01-03",3,null,null,null,null,null,null,null,null,null,null,null,null,null,null,null,null,null,null,null,null,"1900-01-03",3,null,null,null,null,null,null,null,null,null,null,null,null,null,null,null,null,null,null,null,null,"1900-01-03",3,null,null,null,null,null,null,null,null,null,null,null,null,null,null,null,null,null,null,null,null,"1900-01-03",3,null,null,null,null,null,null,null,null,null,null,null,null,null,null,null,null,null,null,null,null,"1900-01-03",3,null,null,null,null,null,null,null,null,null,null,null,null,null,null,null,null,null,null,null,null,"1900-01-03",3,null,null,null,null,null,null,null,null,null,null,null,null,null,null,null,null,null,null,null,null,"1900-01-03",3,null,null,null,null,null,null,null,null,null,null,null,null,null,null,null,null,null,null,null,null,"1900-01-03",3,null,null,null,null,null,null,null,null,null,null,null,null,null,null,null,null,null,null,null,null,"1900-01-03",3,null,null,null,null,null,null,null,null,null,null,null,null,null,null,null,null,null,null,null,null,"1900-01-03",3,null,null,null,null,null,null,null,null,null,null,null,null,null,null,null,null,null,null,null,null,"1900-01-03",3,null,null,null,null,null,null,null,null,null,null,null,null,null,null,null,null,null,null,null,null,"1900-01-03",3,null,null,null,null,null,null,null,null,null,null,null,null,null,null,null,null,null,null,null,null,"1900-01-03",3,null,null,null,null,null,null,null,null,null,null,null,null,null,null,null,null,null,null,null,null,"1900-01-03",3,null,null,null,null,null,null,null,null,null,null,null,null,null,null,null,null,null,null,null,null,"1900-01-03",3,null,null,null,null,null,null,null,null,null,null,null,null,null,null,null,null,null,null,null,null,"1900-01-03",3,null,null,null,null,null,null,null,null,null,null,null,null,null,null,null,null,null,null,null,null,"1900-01-03",3,null,null,null,null,null,null,null,null,null,null,null,null,null,null,null,null,null,null,null,null,"1900-01-03",3,null,null,null,null,null,null,null,null,null,null,null,null,null,null,null,null,null,null,null,null,"1900-01-03",3,null,null,null,null,null,null,null,null,null,null,null,null,null,null,null,null,null,null,null,null,"1900-01-03",3,null,null,null,null,null,null,null,null,null,null,null,null,null,null,null,null,null,null,null,null,"1900-01-03",3,null,null,null,null,null,null,null,null,null,null,null,null,null,null,null,null,null,null,null,null,"1900-01-03",3,null,null,null,null,null,null,null,null,null,null,null,null,null,null,null,null,null,null,null,null,"1900-01-03",3,null,null,null,null,null,null,null,null,null,null,null,null,null,null,null,null,null,null,null,null,"1900-01-03",3,null,null,null,null,null,null,null,null,null,null,null,null,null,null,null,null,null,null,null,null,"1900-01-03",3,null,null,null,null,null,null,null,null,null,null,null,null,null,null,null,null,null,null,null,null,"1900-01-03",3,null,null,null,null,null,null,null,null,null,null,null,null,null,null,null,null,null,null,null,null,"1900-01-03",3,null,null,null,null,null,null,null,null,null,null,null,null,null,null,null,null,null,null,null,null,"1900-01-03",3,null,null,null,null,null,null,null,null,null,null,null,null,null,null,null,null,null,null,null,null,"1900-01-03",3,null,null,null,null,null,null,null,null,null,null,null,null,null,null,null,null,null,null,null,null,"1900-01-03",3,null,null,null,null,null,null,null,null,null,null,null,null,null,null,null,null,null,null,null,null,"1900-01-03",3,null,null,null,null,null,null,null,null,null,null,null,null,null,null,null,null,null,null,null,null,"1900-01-03",3,null,null,null,null,null,null,null,null,null,null,null,null,null,null,null,null,null,null,null,null,"1900-01-03",3,null,null,null,null,null,null,null,null,null,null,null,null,null,null,null,null,null,null,null,null,"1900-01-03",3,null,null,null,null,null,null,null,null,null,null,null,null,null,null,null,null,null,null,null,null,"1900-01-03",3,null,null,null,null,null,null,null,null,null,null,null,null,null,null,null,null,null,null,null,null,"1900-01-03",3,null,null,null,null,null,null,null,null,null,null,null,null,null,null,null,null,null,null,null,null,"1900-01-03",3,null,null,null,null,null,null,null,null,null,null,null,null,null,null,null,null,null,null,null,null,"1900-01-03",3,null,null,null,null,null,null,null,null,null,null,null,null,null,null,null,null,null,null,null,null,"1900-01-03",3,null,null,null,null,null,null,null,null,null,null,null,null,null,null,null,null,null,null,null,null,"1900-01-03",3,null,null,null,null,null,null,null,null,null,null,null,null,null,null,null,null,null,null,null,null,"1900-01-03",3,null,null,null,null,null,null,null,null,null,null,null,null,null,null,null,null,null,null,null,null,"1900-01-03",3,null,null,null,null,null,null,null,null,null,null,null,null,null,null,null,null,null,null,null,null,"1900-01-03",3,null,null,null,null,null,null,null,null,null,null,null,null,null,null,null,null,null,null,null,null,"1900-01-03",3,null,null,null,null,null,null,null,null,null,null,null,null,null,null,null,null,null,null,null,null,"1900-01-03",3,null,null,null,null,null,null,null,null,null,null,null,null,null,null,null,null,null,null,null,null,"1900-01-03",3,null,null,null,null,null,null,null,null,null,null,null,null,null,null,null,null,null,null,null,null,"1900-01-03",3,null,null,null,null,null,null,null,null,null,null,null,null,null,null,null,null,null,null,null,null,"1900-01-03",3,null,null,null,null,null,null,null,null,null,null,null,null,null,null,null,null,null,null,null,null,"1900-01-03",3,null,null,null,null,null,null,null,null,null,null,null,null,null,null,null,null,null,null,null,null,"1900-01-03",3,null,null,null,null,null,null,null,null,null,null,null,null,null,null,null,null,null,null,null,null,"1900-01-03",3,null,null,null,null,null,null,null,null,null,null,null,null,null,null,null,null,null,null,null,null,"1900-01-03",3,null,null,null,null,null,null,null,null,null,null,null,null,null,null,null,null,null,null,null,null,"1900-01-03",3,null,null,null,null,null,null,null,null,null,null,null,null,null,null,null,null,null,null,null,null,"1900-01-03",3,null,null,null,null,null,null,null,null,null,null,null,null,null,null,null,null,null,null,null,null,"1900-01-03",3,null,null,null,null,null,null,null,null,null,null,null,null,null,null,null,null,null,null,null,null,"1900-01-03",3,null,null,null,null,null,null,null,null,null,null,null,null,null,null,null,null,null,null,null,null,"1900-01-03",3,null,null,null,null,null,null,null,null,null,null,null,null,null,null,null,null,null,null,null,null,"1900-01-03",3,null,null,null,null,null,null,null,null,null,null,null,null,null,null,null,null,null,null,null,null,"1900-01-03",3,null,null,null,null,null,null,null,null,null,null,null,null,null,null,null,null,null,null,null,null,"1900-01-03",3,null,null,null,null,null,null,null,null,null,null,null,null,null,null,null,null,null,null,null,null,"1900-01-03",3,null,null,null,null,null,null,null,null,null,null,null,null,null,null,null,null,null,null,null,null,"1900-01-03",3,null,null,null,null,null,null,null,null,null,null,null,null,null,null,null,null,null,null,null,null,"1900-01-03",3,null,null,null,null,null,null,null,null,null,null,null,null,null,null,null,null,null,null,null,null,"1900-01-03",3,null,null,null,null,null,null,null,null,null,null,null,null,null,null,null,null,null,null,null,null,"1900-01-03",3,null,null,null,null,null,null,null,null,null,null,null,null,null,null,null,null,null,null,null,null,"1900-01-03",3,null,null,null,null,null,null,null,null,null,null,null,null,null,null,null,null,null,null,null,null,"1900-01-03",3,null,null,null,null,null,null,null,null,null,null,null,null,null,null,null,null,null,null,null,null,"1900-01-03",3,null,null,null,null,null,null,null,null,null,null,null,null,null,null,null,null,null,null,null,null,"1900-01-03",3,null,null,null,null,null,null,null,null,null,null,null,null,null,null,null,null,null,null,null,null,"1900-01-03",3,null,null,null,null,null,null,null,null,null,null,null,null,null,null,null,null,null,null,null,null,"1900-01-03",3,null,null,null,null,null,null,null,null,null,null,null,null,null,null,null,null,null,null,null,null,"1900-01-03",3,null,null,null,null,null,null,null,null,null,null,null,null,null,null,null,null,null,null,null,null,"1900-01-03",3,null,null,null,null,null,null,null,null,null,null,null,null,null,null,null,null,null,null,null,null,"1900-01-03",3,null,null,null,null,null,null,null,null,null,null,null,null,null,null,null,null,null,null,null,null,"1900-01-03",3,null,null,null,null,null,null,null,null,null,null,null,null,null,null,null,null,null,null,null,null,"1900-01-03",3,null,null,null,null,null,null,null,null,null,null,null,null,null,null,null,null,null,null,null,null,"1900-01-03",3,null,null,null,null,null,null,null,null,null,null,null,null,null,null,null,null,null,null,null,null,"1900-01-03",3,null,null,null,null,null,null,null,null,null,null,null,null,null,null,null,null,null,null,null,null,"1900-01-03",3,null,null,null,null,null,null,null,null,null,null,null,null,null,null,null,null,null,null,null,null,"1900-01-03",3,null,null,null,null,null,null,null,null,null,null,null,null,null,null,null,null,null,null,null,null,"1900-01-03",3,null,null,null,null,null,null,null,null,null,null,null,null,null,null,null,null,null,null,null,null,"1900-01-03",3,null,null,null,null,null,null,null,null,null,null,null,null,null,null,null,null,null,null,null,null,"1900-01-03",3,null,null,null,null,null,null,null,null,null,null,null,null,null,null,null,null,null,null,null,null,"1900-01-03",3,null,null,null,null,null,null,null,null,null,null,null,null,null,null,null,null,null,null,null,null,"1900-01-03",3,null,null,null,null,null,null,null,null,null,null,null,null,null,null,null,null,null,null,null,null,"1900-01-03",3,null,null,null,null,null,null,null,null,null,null,null,null,null,null,null,null,null,null,null,null,"1900-01-03",3,null,null,null,null,null,null,null,null,null,null,null,null,null,null,null,null,null,null,null,null,"1900-01-03",3]
["2013-01-10",5.5,null,null,null,null,null,null,null,null,null,null,null,null,null,null,null,null,null,6.2465895724617635,5.3919206038345511,null,"2013-01-10",5.5,8.5,16,null,1,null,null,null,null,null,null,null,null,null,null,null,null,null,8.977258957799128,14.621838584117329,null,"2013-01-10",5.5,null,null,null,null,null,null,null,null,null,null,null,null,null,null,null,null,null,3.5574579116416647,56.509815983612967,null,"2013-01-10",5.5,null,null,null,null,null,null,null,null,null,null,null,null,null,null,null,null,null,null,null,null,"1900-01-05T12:00:00",5.5,null,null,null,null,null,null,null,null,null,null,null,null,null,null,null,null,null,null,null,null,"1900-01-05T12:00:00",5.5,null,null,null,null,null,null,null,null,null,null,null,null,null,null,null,null,null,null,null,null,"1900-01-05T12:00:00",5.5,null,null,null,null,null,null,null,null,null,null,null,null,null,null,null,null,null,null,null,null,"1900-01-05T12:00:00",5.5,null,null,null,null,null,null,null,null,null,null,null,null,null,null,null,null,null,null,null,null,"1900-01-05T12:00:00",5.5,null,null,null,null,null,null,null,null,null,null,null,null,null,null,null,null,null,null,null,null,"1900-01-05T12:00:00",5.5,null,null,null,null,null,null,null,null,null,null,null,null,null,null,null,null,null,null,null,null,"1900-01-05T12:00:00",5.5,null,null,null,null,null,null,null,null,null,null,null,null,null,null,null,null,null,null,null,null,"1900-01-05T12:00:00",5.5,null,null,null,null,null,null,null,null,null,null,null,null,null,null,null,null,null,null,null,null,"1900-01-05T12:00:00",5.5,null,null,null,null,null,null,null,null,null,null,null,null,null,null,null,null,null,null,null,null,"1900-01-05T12:00:00",5.5,null,null,null,null,null,null,null,null,null,null,null,null,null,null,null,null,null,null,null,null,"1900-01-05T12:00:00",5.5,null,null,null,null,null,null,null,null,null,null,null,null,null,null,null,null,null,null,null,null,"1900-01-05T12:00:00",5.5,null,null,null,null,null,null,null,null,null,null,null,null,null,null,null,null,null,null,null,null,"1900-01-05T12:00:00",5.5,null,null,null,null,null,null,null,null,null,null,null,null,null,null,null,null,null,null,null,null,"1900-01-05T12:00:00",5.5,null,null,null,null,null,null,null,null,null,null,null,null,null,null,null,null,null,null,null,null,"1900-01-05T12:00:00",5.5,null,null,null,null,null,null,null,null,null,null,null,null,null,null,null,null,null,null,null,null,"1900-01-05T12:00:00",5.5,null,null,null,null,null,null,null,null,null,null,null,null,null,null,null,null,null,null,null,null,"1900-01-05T12:00:00",5.5,null,null,null,null,null,null,null,null,null,null,null,null,null,null,null,null,null,null,null,null,"1900-01-05T12:00:00",5.5,null,null,null,null,null,null,null,null,null,null,null,null,null,null,null,null,null,null,null,null,"1900-01-05T12:00:00",5.5,null,null,null,null,null,null,null,null,null,null,null,null,null,null,null,null,null,null,null,null,"1900-01-05T12:00:00",5.5,null,null,null,null,null,null,null,null,null,null,null,null,null,null,null,null,null,null,null,null,"1900-01-05T12:00:00",5.5,null,null,null,null,null,null,null,null,null,null,null,null,null,null,null,null,null,null,null,null,"1900-01-05T12:00:00",5.5,null,null,null,null,null,null,null,null,null,null,null,null,null,null,null,null,null,null,null,null,"1900-01-05T12:00:00",5.5,null,null,null,null,null,null,null,null,null,null,null,null,null,null,null,null,null,null,null,null,"1900-01-05T12:00:00",5.5,null,null,null,null,null,null,null,null,null,null,null,null,null,null,null,null,null,null,null,null,"1900-01-05T12:00:00",5.5,null,null,null,null,null,null,null,null,null,null,null,null,null,null,null,null,null,null,null,null,"1900-01-05T12:00:00",5.5,null,null,null,null,null,null,null,null,null,null,null,null,null,null,null,null,null,null,null,null,"1900-01-05T12:00:00",5.5,null,null,null,null,null,null,null,null,null,null,null,null,null,null,null,null,null,null,null,null,"1900-01-05T12:00:00",5.5,null,null,null,null,null,null,null,null,null,null,null,null,null,null,null,null,null,null,null,null,"1900-01-05T12:00:00",5.5,null,null,null,null,null,null,null,null,null,null,null,null,null,null,null,null,null,null,null,null,"1900-01-05T12:00:00",5.5,null,null,null,null,null,null,null,null,null,null,null,null,null,null,null,null,null,null,null,null,"1900-01-05T12:00:00",5.5,null,null,null,null,null,null,null,null,null,null,null,null,null,null,null,null,null,null,null,null,"1900-01-05T12:00:00",5.5,null,null,null,null,null,null,null,null,null,null,null,null,null,null,null,null,null,null,null,null,"1900-01-05T12:00:00",5.5,null,null,null,null,null,null,null,null,null,null,null,null,null,null,null,null,null,null,null,null,"1900-01-05T12:00:00",5.5,null,null,null,null,null,null,null,null,null,null,null,null,null,null,null,null,null,null,null,null,"1900-01-05T12:00:00",5.5,null,null,null,null,null,null,null,null,null,null,null,null,null,null,null,null,null,null,null,null,"1900-01-05T12:00:00",5.5,null,null,null,null,null,null,null,null,null,null,null,null,null,null,null,null,null,null,null,null,"1900-01-05T12:00:00",5.5,null,null,null,null,null,null,null,null,null,null,null,null,null,null,null,null,null,null,null,null,"1900-01-05T12:00:00",5.5,null,null,null,null,null,null,null,null,null,null,null,null,null,null,null,null,null,null,null,null,"1900-01-05T12:00:00",5.5,null,null,null,null,null,null,null,null,null,null,null,null,null,null,null,null,null,null,null,null,"1900-01-05T12:00:00",5.5,null,null,null,null,null,null,null,null,null,null,null,null,null,null,null,null,null,null,null,null,"1900-01-05T12:00:00",5.5,null,null,null,null,null,null,null,null,null,null,null,null,null,null,null,null,null,null,null,null,"1900-01-05T12:00:00",5.5,null,null,null,null,null,null,null,null,null,null,null,null,null,null,null,null,null,null,null,null,"1900-01-05T12:00:00",5.5,null,null,null,null,null,null,null,null,null,null,null,null,null,null,null,null,null,null,null,null,"1900-01-05T12:00:00",5.5,null,null,null,null,null,null,null,null,null,null,null,null,null,null,null,null,null,null,null,null,"1900-01-05T12:00:00",5.5,null,null,null,null,null,null,null,null,null,null,null,null,null,null,null,null,null,null,null,null,"1900-01-05T12:00:00",5.5,null,null,null,null,null,null,null,null,null,null,null,null,null,null,null,null,null,null,null,null,"1900-01-05T12:00:00",5.5,null,null,null,null,null,null,null,null,null,null,null,null,null,null,null,null,null,null,null,null,"1900-01-05T12:00:00",5.5,null,null,null,null,null,null,null,null,null,null,null,null,null,null,null,null,null,null,null,null,"1900-01-05T12:00:00",5.5,null,null,null,null,null,null,null,null,null,null,null,null,null,null,null,null,null,null,null,null,"1900-01-05T12:00:00",5.5,null,null,null,null,null,null,null,null,null,null,null,null,null,null,null,null,null,null,null,null,"1900-01-05T12:00:00",5.5,null,null,null,null,null,null,null,null,null,null,null,null,null,null,null,null,null,null,null,null,"1900-01-05T12:00:00",5.5,null,null,null,null,null,null,null,null,null,null,null,null,null,null,null,null,null,null,null,null,"1900-01-05T12:00:00",5.5,null,null,null,null,null,null,null,null,null,null,null,null,null,null,null,null,null,null,null,null,"1900-01-05T12:00:00",5.5,null,null,null,null,null,null,null,null,null,null,null,null,null,null,null,null,null,null,null,null,"1900-01-05T12:00:00",5.5,null,null,null,null,null,null,null,null,null,null,null,null,null,null,null,null,null,null,null,null,"1900-01-05T12:00:00",5.5,null,null,null,null,null,null,null,null,null,null,null,null,null,null,null,null,null,null,null,null,"1900-01-05T12:00:00",5.5,null,null,null,null,null,null,null,null,null,null,null,null,null,null,null,null,null,null,null,null,"1900-01-05T12:00:00",5.5,null,null,null,null,null,null,null,null,null,null,null,null,null,null,null,null,null,null,null,null,"1900-01-05T12:00:00",5.5,null,null,null,null,null,null,null,null,null,null,null,null,null,null,null,null,null,null,null,null,"1900-01-05T12:00:00",5.5,null,null,null,null,null,null,null,null,null,null,null,null,null,null,null,null,null,null,null,null,"1900-01-05T12:00:00",5.5,null,null,null,null,null,null,null,null,null,null,null,null,null,null,null,null,null,null,null,null,"1900-01-05T12:00:00",5.5,null,null,null,null,null,null,null,null,null,null,null,null,null,null,null,null,null,null,null,null,"1900-01-05T12:00:00",5.5,null,null,null,null,null,null,null,null,null,null,null,null,null,null,null,null,null,null,null,null,"1900-01-05T12:00:00",5.5,null,null,null,null,null,null,null,null,null,null,null,null,null,null,null,null,null,null,null,null,"1900-01-05T12:00:00",5.5,null,null,null,null,null,null,null,null,null,null,null,null,null,null,null,null,null,null,null,null,"1900-01-05T12:00:00",5.5,null,null,null,null,null,null,null,null,null,null,null,null,null,null,null,null,null,null,null,null,"1900-01-05T12:00:00",5.5,null,null,null,null,null,null,null,null,null,null,null,null,null,null,null,null,null,null,null,null,"1900-01-05T12:00:00",5.5,null,null,null,null,null,null,null,null,null,null,null,null,null,null,null,null,null,null,null,null,"1900-01-05T12:00:00",5.5,null,null,null,null,null,null,null,null,null,null,null,null,null,null,null,null,null,null,null,null,"1900-01-05T12:00:00",5.5,null,null,null,null,null,null,null,null,null,null,null,null,null,null,null,null,null,null,null,null,"1900-01-05T12:00:00",5.5,null,null,null,null,null,null,null,null,null,null,null,null,null,null,null,null,null,null,null,null,"1900-01-05T12:00:00",5.5,null,null,null,null,null,null,null,null,null,null,null,null,null,null,null,null,null,null,null,null,"1900-01-05T12:00:00",5.5,null,null,null,null,null,null,null,null,null,null,null,null,null,null,null,null,null,null,null,null,"1900-01-05T12:00:00",5.5,null,null,null,null,null,null,null,null,null,null,null,null,null,null,null,null,null,null,null,null,"1900-01-05T12:00:00",5.5,null,null,null,null,null,null,null,null,null,null,null,null,null,null,null,null,null,null,null,null,"1900-01-05T12:00:00",5.5,null,null,null,null,null,null,null,null,null,null,null,null,null,null,null,null,null,null,null,null,"1900-01-05T12:00:00",5.5,null,null,null,null,null,null,null,null,null,null,null,null,null,null,null,null,null,null,null,null,"1900-01-05T12:00:00",5.5,null,null,null,null,null,null,null,null,null,null,null,null,null,null,null,null,null,null,null,null,"1900-01-05T12:00:00",5.5,null,null,null,null,null,null,null,null,null,null,null,null,null,null,null,null,null,null,null,null,"1900-01-05T12:00:00",5.5,null,null,null,null,null,null,null,null,null,null,null,null,null,null,null,null,null,null,null,null,"1900-01-05T12:00:00",5.5,null,null,null,null,null,null,null,null,null,null,null,null,null,null,null,null,null,null,null,null,"1900-01-05T12:00:00",5.5,null,null,null,null,null,null,null,null,null,null,null,null,null,null,null,null,null,null,null,null,"1900-01-05T12:00:00",5.5,null,null,null,null,null,null,null,null,null,null,null,null,null,null,null,null,null,null,null,null,"1900-01-05T12:00:00",5.5,null,null,null,null,null,null,null,null,null,null,null,null,null,null,null,null,null,null,null,null,"1900-01-05T12:00:00",5.5,null,null,null,null,null,null,null,null,null,null,null,null,null,null,null,null,null,null,null,null,"1900-01-05T12:00:00",5.5,null,null,null,null,null,null,null,null,null,null,null,null,null,null,null,null,null,null,null,null,"1900-01-05T12:00:00",5.5,null,null,null,null,null,null,null,null,null,null,null,null,null,null,null,null,null,null,null,null,"1900-01-05T12:00:00",5.5,null,null,null,null,null,null,null,null,null,null,null,null,null,null,null,null,null,null,null,null,"1900-01-05T12:00:00",5.5,null,null,null,null,null,null,null,null,null,null,null,null,null,null,null,null,null,null,null,null,"1900-01-05T12:00:00",5.5,null,null,null,null,null,null,null,null,null,null,null,null,null,null,null,null,null,null,null,null,"1900-01-05T12:00:00",5.5,null,null,null,null,null,null,null,null,null,null,null,null,null,null,null,null,null,null,null,null,"1900-01-05T12:00:00",5.5,null,null,null,null,null,null,null,null,null,null,null,null,null,null,null,null,null,null,null,null,"1900-01-05T12:00:00",5.5,null,null,null,null,null,null,null,null,null,null,null,null,null,null,null,null,null,null,null,null,"1900-01-05T12:00:00",5.5,null,null,null,null,null,null,null,null,null,null,null,null,null,null,null,null,null,null,null,null,"1900-01-05T12:00:00",5.5,null,null,null,null,null,null,null,null,null,null,null,null,null,null,null,null,null,null,null,null,"1900-01-05T12:00:00",5.5]
["2013-01-12T12:00:00",8,null,null,null,null,null,null,null,null,null,null,null,null,null,null,null,null,null,4.2888935316899097,5.3247917329871592,null,"2013-01-12T12:00:00",8,null,null,null,null,null,null,null,null,null,null,null,null,null,null,null,null,null,5.2924952559168421,14.340781319660445,null,"2013-01-12T12:00:00",8,null,null,null,null,null,null,null,null,null,null,null,null,null,null,null,null,null,0.64055228821398003,27.42307899582082,null,"2013-01-12T12:00:00",8,null,null,null,null,null,null,null,null,null,null,null,null,null,null,null,null,null,null,null,null,"1900-01-08",8,null,null,null,null,null,null,null,null,null,null,null,null,null,null,null,null,null,null,null,null,"1900-01-08",8,null,null,null,null,null,null,null,null,null,null,null,null,null,null,null,null,null,null,null,null,"1900-01-08",8,null,null,null,null,null,null,null,null,null,null,null,null,null,null,null,null,null,null,null,null,"1900-01-08",8,null,null,null,null,null,null,null,null,null,null,null,null,null,null,null,null,null,null,null,null,"1900-01-08",8,null,null,null,null,null,null,null,null,null,null,null,null,null,null,null,null,null,null,null,null,"1900-01-08",8,null,null,null,null,null,null,null,null,null,null,null,null,null,null,null,null,null,null,null,null,"1900-01-08",8,null,null,null,null,null,null,null,null,null,null,null,null,null,null,null,null,null,null,null,null,"1900-01-08",8,null,null,null,null,null,null,null,null,null,null,null,null,null,null,null,null,null,null,null,null,"1900-01-08",8,null,null,null,null,null,null,null,null,null,null,null,null,null,null,null,null,null,null,null,null,"1900-01-08",8,null,null,null,null,null,null,null,null,null,null,null,null,null,null,null,null,null,null,null,null,"1900-01-08",8,null,null,null,null,null,null,null,null,null,null,null,null,null,null,null,null,null,null,null,null,"1900-01-08",8,null,null,null,null,null,null,null,null,null,null,null,null,null,null,null,null,null,null,null,null,"1900-01-08",8,null,null,null,null,null,null,null,null,null,null,null,null,null,null,null,null,null,null,null,null,"1900-01-08",8,null,null,null,null,null,null,null,null,null,null,null,null,null,null,null,null,null,null,null,null,"1900-01-08",8,null,null,null,null,null,null,null,null,null,null,null,null,null,null,null,null,null,null,null,null,"1900-01-08",8,null,null,null,null,null,null,null,null,null,null,null,null,null,null,null,null,null,null,null,null,"1900-01-08",8,null,null,null,null,null,null,null,null,null,null,null,null,null,null,null,null,null,null,null,null,"1900-01-08",8,null,null,null,null,null,null,null,null,null,null,null,null,null,null,null,null,null,null,null,null,"1900-01-08",8,null,null,null,null,null,null,null,null,null,null,null,null,null,null,null,null,null,null,null,null,"1900-01-08",8,null,null,null,null,null,null,null,null,null,null,null,null,null,null,null,null,null,null,null,null,"1900-01-08",8,null,null,null,null,null,null,null,null,null,null,null,null,null,null,null,null,null,null,null,null,"1900-01-08",8,null,null,null,null,null,null,null,null,null,null,null,null,null,null,null,null,null,null,null,null,"1900-01-08",8,null,null,null,null,null,null,null,null,null,null,null,null,null,null,null,null,null,null,null,null,"1900-01-08",8,null,null,null,null,null,null,null,null,null,null,null,null,null,null,null,null,null,null,null,null,"1900-01-08",8,null,null,null,null,null,null,null,null,null,null,null,null,null,null,null,null,null,null,null,null,"1900-01-08",8,null,null,null,null,null,null,null,null,null,null,null,null,null,null,null,null,null,null,null,null,"1900-01-08",8,null,null,null,null,null,null,null,null,null,null,null,null,null,null,null,null,null,null,null,null,"1900-01-08",8,null,null,null,null,null,null,null,null,null,null,null,null,null,null,null,null,null,null,null,null,"1900-01-08",8,null,null,null,null,null,null,null,null,null,null,null,null,null,null,null,null,null,null,null,null,"1900-01-08",8,null,null,null,null,null,null,null,null,null,null,null,null,null,null,null,null,null,null,null,null,"1900-01-08",8,null,null,null,null,null,null,null,null,null,null,null,null,null,null,null,null,null,null,null,null,"1900-01-08",8,null,null,null,null,null,null,null,null,null,null,null,null,null,null,null,null,null,null,null,null,"1900-01-08",8,null,null,null,null,null,null,null,null,null,null,null,null,null,null,null,null,null,null,null,null,"1900-01-08",8,null,null,null,null,null,null,null,null,null,null,null,null,null,null,null,null,null,null,null,null,"1900-01-08",8,null,null,null,null,null,null,null,null,null,null,null,null,null,null,null,null,null,null,null,null,"1900-01-08",8,null,null,null,null,null,null,null,null,null,null,null,null,null,null,null,null,null,null,null,null,"1900-01-08",8,null,null,null,null,null,null,null,null,null,null,null,null,null,null,null,null,null,null,null,null,"1900-01-08",8,null,null,null,null,null,null,null,null,null,null,null,null,null,null,null,null,null,null,null,null,"1900-01-08",8,null,null,null,null,null,null,null,null,null,null,null,null,null,null,null,null,null,null,null,null,"1900-01-08",8,null,null,null,null,null,null,null,null,null,null,null,null,null,null,null,null,null,null,null,null,"1900-01-08",8,null,null,null,null,null,null,null,null,null,null,null,null,null,null,null,null,null,null,null,null,"1900-01-08",8,null,null,null,null,null,null,null,null,null,null,null,null,null,null,null,null,null,null,null,null,"1900-01-08",8,null,null,null,null,null,null,null,null,null,null,null,null,null,null,null,null,null,null,null,null,"1900-01-08",8,null,null,null,null,null,null,null,null,null,null,null,null,null,null,null,null,null,null,null,null,"1900-01-08",8,null,null,null,null,null,null,null,null,null,null,null,null,null,null,null,null,null,null,null,null,"1900-01-08",8,null,null,null,null,null,null,null,null,null,null,null,null,null,null,null,null,null,null,null,null,"1900-01-08",8,null,null,null,null,null,null,null,null,null,null,null,null,null,null,null,null,null,null,null,null,"1900-01-08",8,null,null,null,null,null,null,null,null,null,null,null,null,null,null,null,null,null,null,null,null,"1900-01-08",8,null,null,null,null,null,null,null,null,null,null,null,null,null,null,null,null,null,null,null,null,"1900-01-08",8,null,null,null,null,null,null,null,null,null,null,null,null,null,null,null,null,null,null,null,null,"1900-01-08",8,null,null,null,null,null,null,null,null,null,null,null,null,null,null,null,null,null,null,null,null,"1900-01-08",8,null,null,null,null,null,null,null,null,null,null,null,null,null,null,null,null,null,null,null,null,"1900-01-08",8,null,null,null,null,null,null,null,null,null,null,null,null,null,null,null,null,null,null,null,null,"1900-01-08",8,null,null,null,null,null,null,null,null,null,null,null,null,null,null,null,null,null,null,null,null,"1900-01-08",8,null,null,null,null,null,null,null,null,null,null,null,null,null,null,null,null,null,null,null,null,"1900-01-08",8,null,null,null,null,null,null,null,null,null,null,null,null,null,null,null,null,null,null,null,null,"1900-01-08",8,null,null,null,null,null,null,null,null,null,null,null,null,null,null,null,null,null,null,null,null,"1900-01-08",8,null,null,null,null,null,null,null,null,null,null,null,null,null,null,null,null,null,null,null,null,"1900-01-08",8,null,null,null,null,null,null,null,null,null,null,null,null,null,null,null,null,null,null,null,null,"1900-01-08",8,null,null,null,null,null,null,null,null,null,null,null,null,null,null,null,null,null,null,null,null,"1900-01-08",8,null,null,null,null,null,null,null,null,null,null,null,null,null,null,null,null,null,null,null,null,"1900-01-08",8,null,null,null,null,null,null,null,null,null,null,null,null,null,null,null,null,null,null,null,null,"1900-01-08",8,null,null,null,null,null,null,null,null,null,null,null,null,null,null,null,null,null,null,null,null,"1900-01-08",8,null,null,null,null,null,null,null,null,null,null,null,null,null,null,null,null,null,null,null,null,"1900-01-08",8,null,null,null,null,null,null,null,null,null,null,null,null,null,null,null,null,null,null,null,null,"1900-01-08",8,null,null,null,null,null,null,null,null,null,null,null,null,null,null,null,null,null,null,null,null,"1900-01-08",8,null,null,null,null,null,null,null,null,null,null,null,null,null,null,null,null,null,null,null,null,"1900-01-08",8,null,null,null,null,null,null,null,null,null,null,null,null,null,null,null,null,null,null,null,null,"1900-01-08",8,null,null,null,null,null,null,null,null,null,null,null,null,null,null,null,null,null,null,null,null,"1900-01-08",8,null,null,null,null,null,null,null,null,null,null,null,null,null,null,null,null,null,null,null,null,"1900-01-08",8,null,null,null,null,null,null,null,null,null,null,null,null,null,null,null,null,null,null,null,null,"1900-01-08",8,null,null,null,null,null,null,null,null,null,null,null,null,null,null,null,null,null,null,null,null,"1900-01-08",8,null,null,null,null,null,null,null,null,null,null,null,null,null,null,null,null,null,null,null,null,"1900-01-08",8,null,null,null,null,null,null,null,null,null,null,null,null,null,null,null,null,null,null,null,null,"1900-01-08",8,null,null,null,null,null,null,null,null,null,null,null,null,null,null,null,null,null,null,null,null,"1900-01-08",8,null,null,null,null,null,null,null,null,null,null,null,null,null,null,null,null,null,null,null,null,"1900-01-08",8,null,null,null,null,null,null,null,null,null,null,null,null,null,null,null,null,null,null,null,null,"1900-01-08",8,null,null,null,null,null,null,null,null,null,null,null,null,null,null,null,null,null,null,null,null,"1900-01-08",8,null,null,null,null,null,null,null,null,null,null,null,null,null,null,null,null,null,null,null,null,"1900-01-08",8,null,null,null,null,null,null,null,null,null,null,null,null,null,null,null,null,null,null,null,null,"1900-01-08",8,null,null,null,null,null,null,null,null,null,null,null,null,null,null,null,null,null,null,null,null,"1900-01-08",8,null,null,null,null,null,null,null,null,null,null,null,null,null,null,null,null,null,null,null,null,"1900-01-08",8,null,null,null,null,null,null,null,null,null,null,null,null,null,null,null,null,null,null,null,null,"1900-01-08",8,null,null,null,null,null,null,null,null,null,null,null,null,null,null,null,null,null,null,null,null,"1900-01-08",8,null,null,null,null,null,null,null,null,null,null,null,null,null,null,null,null,null,null,null,null,"1900-01-08",8,null,null,null,null,null,null,null,null,null,null,null,null,null,null,null,null,null,null,null,null,"1900-01-08",8,null,null,null,null,null,null,null,null,null,null,null,null,null,null,null,null,null,null,null,null,"1900-01-08",8,null,null,null,null,null,null,null,null,null,null,null,null,null,null,null,null,null,null,null,null,"1900-01-08",8,null,null,null,null,null,null,null,null,null,null,null,null,null,null,null,null,null,null,null,null,"1900-01-08",8,null,null,null,null,null,null,null,null,null,null,null,null,null,null,null,null,null,null,null,null,"1900-01-08",8,null,null,null,null,null,null,null,null,null,null,null,null,null,null,null,null,null,null,null,null,"1900-01-08",8,null,null,null,null,null,null,null,null,null,null,null,null,null,null,null,null,null,null,null,null,"1900-01-08",8,null,null,null,null,null,null,null,null,null,null,null,null,null,null,null,null,null,null,null,null,"1900-01-08",8,null,null,null,null,null,null,null,null,null,null,null,null,null,null,null,null,null,null,null,null,"1900-01-08",8,null,null,null,null,null,null,null,null,null,null,null,null,null,null,null,null,null,null,null,null,"1900-01-08",8]
["2013-01-15T12:00:00",11,null,null,null,null,null,null,null,null,null,null,null,null,null,null,null,null,null,2.4345108720833233,4.4606794172152897,null,"2013-01-15T12:00:00",11,null,null,null,null,null,null,null,null,null,null,null,null,null,null,null,null,null,2.6678622631942854,10.885202456518561,null,"2013-01-15T12:00:00",11,null,null,null,null,null,null,null,null,null,null,null,null,null,null,null,null,null,-0.52195748504327877,12.243434372227334,null,"2013-01-15T12:00:00",11,null,null,null,null,null,null,null,null,null,null,null,null,null,null,null,null,null,null,null,null,"1900-01-11",11,null,null,null,null,null,null,null,null,null,null,null,null,null,null,null,null,null,null,null,null,"1900-01-11",11,null,null,null,null,null,null,null,null,null,null,null,null,null,null,null,null,null,null,null,null,"1900-01-11",11,null,null,null,null,null,null,null,null,null,null,null,null,null,null,null,null,null,null,null,null,"1900-01-11",11,null,null,null,null,null,null,null,null,null,null,null,null,null,null,null,null,null,null,null,null,"1900-01-11",11,null,null,null,null,null,null,null,null,null,null,null,null,null,null,null,null,null,null,null,null,"1900-01-11",11,null,null,null,null,null,null,null,null,null,null,null,null,null,null,null,null,null,null,null,null,"1900-01-11",11,null,null,null,null,null,null,null,null,null,null,null,null,null,null,null,null,null,null,null,null,"1900-01-11",11,null,null,null,null,null,null,null,null,null,null,null,null,null,null,null,null,null,null,null,null,"1900-01-11",11,null,null,null,null,null,null,null,null,null,null,null,null,null,null,null,null,null,null,null,null,"1900-01-11",11,null,null,null,null,null,null,null,null,null,null,null,null,null,null,null,null,null,null,null,null,"1900-01-11",11,null,null,null,null,null,null,null,null,null,null,null,null,null,null,null,null,null,null,null,null,"1900-01-11",11,null,null,null,null,null,null,null,null,null,null,null,null,null,null,null,null,null,null,null,null,"1900-01-11",11,null,null,null,null,null,null,null,null,null,null,null,null,null,null,null,null,null,null,null,null,"1900-01-11",11,null,null,null,null,null,null,null,null,null,null,null,null,null,null,null,null,null,null,null,null,"1900-01-11",11,null,null,null,null,null,null,null,null,null,null,null,null,null,null,null,null,null,null,null,null,"1900-01-11",11,null,null,null,null,null,null,null,null,null,null,null,null,null,null,null,null,null,null,null,null,"1900-01-11",11,null,null,null,null,null,null,null,null,null,null,null,null,null,null,null,null,null,null,null,null,"1900-01-11",11,null,null,null,null,null,null,null,null,null,null,null,null,null,null,null,null,null,null,null,null,"1900-01-11",11,null,null,null,null,null,null,null,null,null,null,null,null,null,null,null,null,null,null,null,null,"1900-01-11",11,null,null,null,null,null,null,null,null,null,null,null,null,null,null,null,null,null,null,null,null,"1900-01-11",11,null,null,null,null,null,null,null,null,null,null,null,null,null,null,null,null,null,null,null,null,"1900-01-11",11,null,null,null,null,null,null,null,null,null,null,null,null,null,null,null,null,null,null,null,null,"1900-01-11",11,null,null,null,null,null,null,null,null,null,null,null,null,null,null,null,null,null,null,null,null,"1900-01-11",11,null,null,null,null,null,null,null,null,null,null,null,null,null,null,null,null,null,null,null,null,"1900-01-11",11,null,null,null,null,null,null,null,null,null,null,null,null,null,null,null,null,null,null,null,null,"1900-01-11",11,null,null,null,null,null,null,null,null,null,null,null,null,null,null,null,null,null,null,null,null,"1900-01-11",11,null,null,null,null,null,null,null,null,null,null,null,null,null,null,null,null,null,null,null,null,"1900-01-11",11,null,null,null,null,null,null,null,null,null,null,null,null,null,null,null,null,null,null,null,null,"1900-01-11",11,null,null,null,null,null,null,null,null,null,null,null,null,null,null,null,null,null,null,null,null,"1900-01-11",11,null,null,null,null,null,null,null,null,null,null,null,null,null,null,null,null,null,null,null,null,"1900-01-11",11,null,null,null,null,null,null,null,null,null,null,null,null,null,null,null,null,null,null,null,null,"1900-01-11",11,null,null,null,null,null,null,null,null,null,null,null,null,null,null,null,null,null,null,null,null,"1900-01-11",11,null,null,null,null,null,null,null,null,null,null,null,null,null,null,null,null,null,null,null,null,"1900-01-11",11,null,null,null,null,null,null,null,null,null,null,null,null,null,null,null,null,null,null,null,null,"1900-01-11",11,null,null,null,null,null,null,null,null,null,null,null,null,null,null,null,null,null,null,null,null,"1900-01-11",11,null,null,null,null,null,null,null,null,null,null,null,null,null,null,null,null,null,null,null,null,"1900-01-11",11,null,null,null,null,null,null,null,null,null,null,null,null,null,null,null,null,null,null,null,null,"1900-01-11",11,null,null,null,null,null,null,null,null,null,null,null,null,null,null,null,null,null,null,null,null,"1900-01-11",11,null,null,null,null,null,null,null,null,null,null,null,null,null,null,null,null,null,null,null,null,"1900-01-11",11,null,null,null,null,null,null,null,null,null,null,null,null,null,null,null,null,null,null,null,null,"1900-01-11",11,null,null,null,null,null,null,null,null,null,null,null,null,null,null,null,null,null,null,null,null,"1900-01-11",11,null,null,null,null,null,null,null,null,null,null,null,null,null,null,null,null,null,null,null,null,"1900-01-11",11,null,null,null,null,null,null,null,null,null,null,null,null,null,null,null,null,null,null,null,null,"1900-01-11",11,null,null,null,null,null,null,null,null,null,null,null,null,null,null,null,null,null,null,null,null,"1900-01-11",11,null,null,null,null,null,null,null,null,null,null,null,null,null,null,null,null,null,null,null,null,"1900-01-11",11,null,null,null,null,null,null,null,null,null,null,null,null,null,null,null,null,null,null,null,null,"1900-01-11",11,null,null,null,null,null,null,null,null,null,null,null,null,null,null,null,null,null,null,null,null,"1900-01-11",11,null,null,null,null,null,null,null,null,null,null,null,null,null,null,null,null,null,null,null,null,"1900-01-11",11,null,null,null,null,null,null,null,null,null,null,null,null,null,null,null,null,null,null,null,null,"1900-01-11",11,null,null,null,null,null,null,null,null,null,null,null,null,null,null,null,null,null,null,null,null,"1900-01-11",11,null,null,null,null,null,null,null,null,null,null,null,null,null,null,null,null,null,null,null,null,"1900-01-11",11,null,null,null,null,null,null,null,null,null,null,null,null,null,null,null,null,null,null,null,null,"1900-01-11",11,null,null,null,null,null,null,null,null,null,null,null,null,null,null,null,null,null,null,null,null,"1900-01-11",11,null,null,null,null,null,null,null,null,null,null,null,null,null,null,null,null,null,null,null,null,"1900-01-11",11,null,null,null,null,null,null,null,null,null,null,null,null,null,null,null,null,null,null,null,null,"1900-01-11",11,null,null,null,null,null,null,null,null,null,null,null,null,null,null,null,null,null,null,null,null,"1900-01-11",11,null,null,null,null,null,null,null,null,null,null,null,null,null,null,null,null,null,null,null,null,"1900-01-11",11,null,null,null,null,null,null,null,null,null,null,null,null,null,null,null,null,null,null,null,null,"1900-01-11",11,null,null,null,null,null,null,null,null,null,null,null,null,null,null,null,null,null,null,null,null,"1900-01-11",11,null,null,null,null,null,null,null,null,null,null,null,null,null,null,null,null,null,null,null,null,"1900-01-11",11,null,null,null,null,null,null,null,null,null,null,null,null,null,null,null,null,null,null,null,null,"1900-01-11",11,null,null,null,null,null,null,null,null,null,null,null,null,null,null,null,null,null,null,null,null,"1900-01-11",11,null,null,null,null,null,null,null,null,null,null,null,null,null,null,null,null,null,null,null,null,"1900-01-11",11,null,null,null,null,null,null,null,null,null,null,null,null,null,null,null,null,null,null,null,null,"1900-01-11",11,null,null,null,null,null,null,null,null,null,null,null,null,null,null,null,null,null,null,null,null,"1900-01-11",11,null,null,null,null,null,null,null,null,null,null,null,null,null,null,null,null,null,null,null,null,"1900-01-11",11,null,null,null,null,null,null,null,null,null,null,null,null,null,null,null,null,null,null,null,null,"1900-01-11",11,null,null,null,null,null,null,null,null,null,null,null,null,null,null,null,null,null,null,null,null,"1900-01-11",11,null,null,null,null,null,null,null,null,null,null,null,null,null,null,null,null,null,null,null,null,"1900-01-11",11,null,null,null,null,null,null,null,null,null,null,null,null,null,null,null,null,null,null,null,null,"1900-01-11",11,null,null,null,null,null,null,null,null,null,null,null,null,null,null,null,null,null,null,null,null,"1900-01-11",11,null,null,null,null,null,null,null,null,null,null,null,null,null,null,null,null,null,null,null,null,"1900-01-11",11,null,null,null,null,null,null,null,null,null,null,null,null,null,null,null,null,null,null,null,null,"1900-01-11",11,null,null,null,null,null,null,null,null,null,null,null,null,null,null,null,null,null,null,null,null,"1900-01-11",11,null,null,null,null,null,null,null,null,null,null,null,null,null,null,null,null,null,null,null,null,"1900-01-11",11,null,null,null,null,null,null,null,null,null,null,null,null,null,null,null,null,null,null,null,null,"1900-01-11",11,null,null,null,null,null,null,null,null,null,null,null,null,null,null,null,null,null,null,null,null,"1900-01-11",11,null,null,null,null,null,null,null,null,null,null,null,null,null,null,null,null,null,null,null,null,"1900-01-11",11,null,null,null,null,null,null,null,null,null,null,null,null,null,null,null,null,null,null,null,null,"1900-01-11",11,null,null,null,null,null,null,null,null,null,null,null,null,null,null,null,null,null,null,null,null,"1900-01-11",11,null,null,null,null,null,null,null,null,null,null,null,null,null,null,null,null,null,null,null,null,"1900-01-11",11,null,null,null,null,null,null,null,null,null,null,null,null,null,null,null,null,null,null,null,null,"1900-01-11",11,null,null,null,null,null,null,null,null,null,null,null,null,null,null,null,null,null,null,null,null,"1900-01-11",11,null,null,null,null,null,null,null,null,null,null,null,null,null,null,null,null,null,null,null,null,"1900-01-11",11,null,null,null,null,null,null,null,null,null,null,null,null,null,null,null,null,null,null,null,null,"1900-01-11",11,null,null,null,null,null,null,null,null,null,null,null,null,null,null,null,null,null,null,null,null,"1900-01-11",11,null,null,null,null,null,null,null,null,null,null,null,null,null,null,null,null,null,null,null,null,"1900-01-11",11,null,null,null,null,null,null,null,null,null,null,null,null,null,null,null,null,null,null,null,null,"1900-01-11",11,null,null,null,null,null,null,null,null,null,null,null,null,null,null,null,null,null,null,null,null,"1900-01-11",11,null,null,null,null,null,null,null,null,null,null,null,null,null,null,null,null,null,null,null,null,"1900-01-11",11,null,null,null,null,null,null,null,null,null,null,null,null,null,null,null,null,null,null,null,null,"1900-01-11",11,null,null,null,null,null,null,null,null,null,null,null,null,null,null,null,null,null,null,null,null,"1900-01-11",11,null,null,null,null,null,null,null,null,null,null,null,null,null,null,null,null,null,null,null,null,"1900-01-11",11,null,null,null,null,null,null,null,null,null,null,null,null,null,null,null,null,null,null,null,null,"1900-01-11",11,null,null,null,null,null,null,null,null,null,null,null,null,null,null,null,null,null,null,null,null,"1900-01-11",11]
["2013-01-16",11.5,null,null,null,null,null,null,null,null,null,null,null,null,null,null,null,null,null,2.1766078016428727,3.6712789530351504,null,"2013-01-16",11.5,null,null,null,null,null,null,null,null,null,null,null,null,null,null,null,null,null,2.3262268274051716,8.8812720888426409,null,"2013-01-16",11.5,null,null,null,null,null,null,null,null,null,null,null,null,null,null,null,null,null,-0.61259390836837169,8.9934641783221743,null,"2013-01-16",11.5,null,null,null,null,null,null,null,null,null,null,null,null,null,null,null,null,null,null,null,null,"1900-01-11T12:00:00",11.5,null,null,null,null,null,null,null,null,null,null,null,null,null,null,null,null,null,null,null,null,"1900-01-11T12:00:00",11.5,null,null,null,null,null,null,null,null,null,null,null,null,null,null,null,null,null,null,null,null,"1900-01-11T12:00:00",11.5,null,null,null,null,null,null,null,null,null,null,null,null,null,null,null,null,null,null,null,null,"1900-01-11T12:00:00",11.5,null,null,null,null,null,null,null,null,null,null,null,null,null,null,null,null,null,null,null,null,"1900-01-11T12:00:00",11.5,null,null,null,null,null,null,null,null,null,null,null,null,null,null,null,null,null,null,null,null,"1900-01-11T12:00:00",11.5,null,null,null,null,null,null,null,null,null,null,null,null,null,null,null,null,null,null,null,null,"1900-01-11T12:00:00",11.5,null,null,null,null,null,null,null,null,null,null,null,null,null,null,null,null,null,null,null,null,"1900-01-11T12:00:00",11.5,null,null,null,null,null,null,null,null,null,null,null,null,null,null,null,null,null,null,null,null,"1900-01-11T12:00:00",11.5,null,null,null,null,null,null,null,null,null,null,null,null,null,null,null,null,null,null,null,null,"1900-01-11T12:00:00",11.5,null,null,null,null,null,null,null,null,null,null,null,null,null,null,null,null,null,null,null,null,"1900-01-11T12:00:00",11.5,null,null,null,null,null,null,null,null,null,null,null,null,null,null,null,null,null,null,null,null,"1900-01-11T12:00:00",11.5,null,null,null,null,null,null,null,null,null,null,null,null,null,null,null,null,null,null,null,null,"1900-01-11T12:00:00",11.5,null,null,null,null,null,null,null,null,null,null,null,null,null,null,null,null,null,null,null,null,"1900-01-11T12:00:00",11.5,null,null,null,null,null,null,null,null,null,null,null,null,null,null,null,null,null,null,null,null,"1900-01-11T12:00:00",11.5,null,null,null,null,null,null,null,null,null,null,null,null,null,null,null,null,null,null,null,null,"1900-01-11T12:00:00",11.5,null,null,null,null,null,null,null,null,null,null,null,null,null,null,null,null,null,null,null,null,"1900-01-11T12:00:00",11.5,null,null,null,null,null,null,null,null,null,null,null,null,null,null,null,null,null,null,null,null,"1900-01-11T12:00:00",11.5,null,null,null,null,null,null,null,null,null,null,null,null,null,null,null,null,null,null,null,null,"1900-01-11T12:00:00",11.5,null,null,null,null,null,null,null,null,null,null,null,null,null,null,null,null,null,null,null,null,"1900-01-11T12:00:00",11.5,null,null,null,null,null,null,null,null,null,null,null,null,null,null,null,null,null,null,null,null,"1900-01-11T12:00:00",11.5,null,null,null,null,null,null,null,null,null,null,null,null,null,null,null,null,null,null,null,null,"1900-01-11T12:00:00",11.5,null,null,null,null,null,null,null,null,null,null,null,null,null,null,null,null,null,null,null,null,"1900-01-11T12:00:00",11.5,null,null,null,null,null,null,null,null,null,null,null,null,null,null,null,null,null,null,null,null,"1900-01-11T12:00:00",11.5,null,null,null,null,null,null,null,null,null,null,null,null,null,null,null,null,null,null,null,null,"1900-01-11T12:00:00",11.5,null,null,null,null,null,null,null,null,null,null,null,null,null,null,null,null,null,null,null,null,"1900-01-11T12:00:00",11.5,null,null,null,null,null,null,null,null,null,null,null,null,null,null,null,null,null,null,null,null,"1900-01-11T12:00:00",11.5,null,null,null,null,null,null,null,null,null,null,null,null,null,null,null,null,null,null,null,null,"1900-01-11T12:00:00",11.5,null,null,null,null,null,null,null,null,null,null,null,null,null,null,null,null,null,null,null,null,"1900-01-11T12:00:00",11.5,null,null,null,null,null,null,null,null,null,null,null,null,null,null,null,null,null,null,null,null,"1900-01-11T12:00:00",11.5,null,null,null,null,null,null,null,null,null,null,null,null,null,null,null,null,null,null,null,null,"1900-01-11T12:00:00",11.5,null,null,null,null,null,null,null,null,null,null,null,null,null,null,null,null,null,null,null,null,"1900-01-11T12:00:00",11.5,null,null,null,null,null,null,null,null,null,null,null,null,null,null,null,null,null,null,null,null,"1900-01-11T12:00:00",11.5,null,null,null,null,null,null,null,null,null,null,null,null,null,null,null,null,null,null,null,null,"1900-01-11T12:00:00",11.5,null,null,null,null,null,null,null,null,null,null,null,null,null,null,null,null,null,null,null,null,"1900-01-11T12:00:00",11.5,null,null,null,null,null,null,null,null,null,null,null,null,null,null,null,null,null,null,null,null,"1900-01-11T12:00:00",11.5,null,null,null,null,null,null,null,null,null,null,null,null,null,null,null,null,null,null,null,null,"1900-01-11T12:00:00",11.5,null,null,null,null,null,null,null,null,null,null,null,null,null,null,null,null,null,null,null,null,"1900-01-11T12:00:00",11.5,null,null,null,null,null,null,null,null,null,null,null,null,null,null,null,null,null,null,null,null,"1900-01-11T12:00:00",11.5,null,null,null,null,null,null,null,null,null,null,null,null,null,null,null,null,null,null,null,null,"1900-01-11T12:00:00",11.5,null,null,null,null,null,null,null,null,null,null,null,null,null,null,null,null,null,null,null,null,"1900-01-11T12:00:00",11.5,null,null,null,null,null,null,null,null,null,null,null,null,null,null,null,null,null,null,null,null,"1900-01-11T12:00:00",11.5,null,null,null,null,null,null,null,null,null,null,null,null,null,null,null,null,null,null,null,null,"1900-01-11T12:00:00",11.5,null,null,null,null,null,null,null,null,null,null,null,null,null,null,null,null,null,null,null,null,"1900-01-11T12:00:00",11.5,null,null,null,null,null,null,null,null,null,null,null,null,null,null,null,null,null,null,null,null,"1900-01-11T12:00:00",11.5,null,null,null,null,null,null,null,null,null,null,null,null,null,null,null,null,null,null,null,null,"1900-01-11T12:00:00",11.5,null,null,null,null,null,null,null,null,null,null,null,null,null,null,null,null,null,null,null,null,"1900-01-11T12:00:00",11.5,null,null,null,null,null,null,null,null,null,null,null,null,null,null,null,null,null,null,null,null,"1900-01-11T12:00:00",11.5,null,null,null,null,null,null,null,null,null,null,null,null,null,null,null,null,null,null,null,null,"1900-01-11T12:00:00",11.5,null,null,null,null,null,null,null,null,null,null,null,null,null,null,null,null,null,null,null,null,"1900-01-11T12:00:00",11.5,null,null,null,null,null,null,null,null,null,null,null,null,null,null,null,null,null,null,null,null,"1900-01-11T12:00:00",11.5,null,null,null,null,null,null,null,null,null,null,null,null,null,null,null,null,null,null,null,null,"1900-01-11T12:00:00",11.5,null,null,null,null,null,null,null,null,null,null,null,null,null,null,null,null,null,null,null,null,"1900-01-11T12:00:00",11.5,null,null,null,null,null,null,null,null,null,null,null,null,null,null,null,null,null,null,null,null,"1900-01-11T12:00:00",11.5,null,null,null,null,null,null,null,null,null,null,null,null,null,null,null,null,null,null,null,null,"1900-01-11T12:00:00",11.5,null,null,null,null,null,null,null,null,null,null,null,null,null,null,null,null,null,null,null,null,"1900-01-11T12:00:00",11.5,null,null,null,null,null,null,null,null,null,null,null,null,null,null,null,null,null,null,null,null,"1900-01-11T12:00:00",11.5,null,null,null,null,null,null,null,null,null,null,null,null,null,null,null,null,null,null,null,null,"1900-01-11T12:00:00",11.5,null,null,null,null,null,null,null,null,null,null,null,null,null,null,null,null,null,null,null,null,"1900-01-11T12:00:00",11.5,null,null,null,null,null,null,null,null,null,null,null,null,null,null,null,null,null,null,null,null,"1900-01-11T12:00:00",11.5,null,null,null,null,null,null,null,null,null,null,null,null,null,null,null,null,null,null,null,null,"1900-01-11T12:00:00",11.5,null,null,null,null,null,null,null,null,null,null,null,null,null,null,null,null,null,null,null,null,"1900-01-11T12:00:00",11.5,null,null,null,null,null,null,null,null,null,null,null,null,null,null,null,null,null,null,null,null,"1900-01-11T12:00:00",11.5,null,null,null,null,null,null,null,null,null,null,null,null,null,null,null,null,null,null,null,null,"1900-01-11T12:00:00",11.5,null,null,null,null,null,null,null,null,null,null,null,null,null,null,null,null,null,null,null,null,"1900-01-11T12:00:00",11.5,null,null,null,null,null,null,null,null,null,null,null,null,null,null,null,null,null,null,null,null,"1900-01-11T12:00:00",11.5,null,null,null,null,null,null,null,null,null,null,null,null,null,null,null,null,null,null,null,null,"1900-01-11T12:00:00",11.5,null,null,null,null,null,null,null,null,null,null,null,null,null,null,null,null,null,null,null,null,"1900-01-11T12:00:00",11.5,null,null,null,null,null,null,null,null,null,null,null,null,null,null,null,null,null,null,null,null,"1900-01-11T12:00:00",11.5,null,null,null,null,null,null,null,null,null,null,null,null,null,null,null,null,null,null,null,null,"1900-01-11T12:00:00",11.5,null,null,null,null,null,null,null,null,null,null,null,null,null,null,null,null,null,null,null,null,"1900-01-11T12:00:00",11.5,null,null,null,null,null,null,null,null,null,null,null,null,null,null,null,null,null,null,null,null,"1900-01-11T12:00:00",11.5,null,null,null,null,null,null,null,null,null,null,null,null,null,null,null,null,null,null,null,null,"1900-01-11T12:00:00",11.5,null,null,null,null,null,null,null,null,null,null,null,null,null,null,null,null,null,null,null,null,"1900-01-11T12:00:00",11.5,null,null,null,null,null,null,null,null,null,null,null,null,null,null,null,null,null,null,null,null,"1900-01-11T12:00:00",11.5,null,null,null,null,null,null,null,null,null,null,null,null,null,null,null,null,null,null,null,null,"1900-01-11T12:00:00",11.5,null,null,null,null,null,null,null,null,null,null,null,null,null,null,null,null,null,null,null,null,"1900-01-11T12:00:00",11.5,null,null,null,null,null,null,null,null,null,null,null,null,null,null,null,null,null,null,null,null,"1900-01-11T12:00:00",11.5,null,null,null,null,null,null,null,null,null,null,null,null,null,null,null,null,null,null,null,null,"1900-01-11T12:00:00",11.5,null,null,null,null,null,null,null,null,null,null,null,null,null,null,null,null,null,null,null,null,"1900-01-11T12:00:00",11.5,null,null,null,null,null,null,null,null,null,null,null,null,null,null,null,null,null,null,null,null,"1900-01-11T12:00:00",11.5,null,null,null,null,null,null,null,null,null,null,null,null,null,null,null,null,null,null,null,null,"1900-01-11T12:00:00",11.5,null,null,null,null,null,null,null,null,null,null,null,null,null,null,null,null,null,null,null,null,"1900-01-11T12:00:00",11.5,null,null,null,null,null,null,null,null,null,null,null,null,null,null,null,null,null,null,null,null,"1900-01-11T12:00:00",11.5,null,null,null,null,null,null,null,null,null,null,null,null,null,null,null,null,null,null,null,null,"1900-01-11T12:00:00",11.5,null,null,null,null,null,null,null,null,null,null,null,null,null,null,null,null,null,null,null,null,"1900-01-11T12:00:00",11.5,null,null,null,null,null,null,null,null,null,null,null,null,null,null,null,null,null,null,null,null,"1900-01-11T12:00:00",11.5,null,null,null,null,null,null,null,null,null,null,null,null,null,null,null,null,null,null,null,null,"1900-01-11T12:00:00",11.5,null,null,null,null,null,null,null,null,null,null,null,null,null,null,null,null,null,null,null,null,"1900-01-11T12:00:00",11.5,null,null,null,null,null,null,null,null,null,null,null,null,null,null,null,null,null,null,null,null,"1900-01-11T12:00:00",11.5,null,null,null,null,null,null,null,null,null,null,null,null,null,null,null,null,null,null,null,null,"1900-01-11T12:00:00",11.5,null,null,null,null,null,null,null,null,null,null,null,null,null,null,null,null,null,null,null,null,"1900-01-11T12:00:00",11.5,null,null,null,null,null,null,null,null,null,null,null,null,null,null,null,null,null,null,null,null,"1900-01-11T12:00:00",11.5,null,null,null,null,null,null,null,null,null,null,null,null,null,null,null,null,null,null,null,null,"1900-01-11T12:00:00",11.5,null,null,null,null,null,null,null,null,null,null,null,null,null,null,null,null,null,null,null,null,"1900-01-11T12:00:00",11.5,null,null,null,null,null,null,null,null,null,null,null,null,null,null,null,null,null,null,null,null,"1900-01-11T12:00:00",11.5]
["2013-01-20",15.5,null,null,null,null,null,null,null,null,null,null,null,null,null,null,null,null,null,0.57816895646230593,2.7266201287370593,null,"2013-01-20",15.5,null,null,null,null,null,null,null,null,null,null,null,null,null,null,null,null,null,0.54611350668937886,4.3905655066093816,null,"2013-01-20",15.5,null,null,null,null,null,null,null,null,null,null,null,null,null,null,null,null,null,-0.98429423536875804,5.4093388535518088,null,"2013-01-20",15.5,null,null,null,null,null,null,null,null,null,null,null,null,null,null,null,null,null,null,null,null,"1900-01-15T12:00:00",15.5,null,null,null,null,null,null,null,null,null,null,null,null,null,null,null,null,null,null,null,null,"1900-01-15T12:00:00",15.5,null,null,null,null,null,null,null,null,null,null,null,null,null,null,null,null,null,null,null,null,"1900-01-15T12:00:00",15.5,null,null,null,null,null,null,null,null,null,null,null,null,null,null,null,null,null,null,null,null,"1900-01-15T12:00:00",15.5,null,null,null,null,null,null,null,null,null,null,null,null,null,null,null,null,null,null,null,null,"1900-01-15T12:00:00",15.5,null,null,null,null,null,null,null,null,null,null,null,null,null,null,null,null,null,null,null,null,"1900-01-15T12:00:00",15.5,null,null,null,null,null,null,null,null,null,null,null,null,null,null,null,null,null,null,null,null,"1900-01-15T12:00:00",15.5,null,null,null,null,null,null,null,null,null,null,null,null,null,null,null,null,null,null,null,null,"1900-01-15T12:00:00",15.5,null,null,null,null,null,null,null,null,null,null,null,null,null,null,null,null,null,null,null,null,"1900-01-15T12:00:00",15.5,null,null,null,null,null,null,null,null,null,null,null,null,null,null,null,null,null,null,null,null,"1900-01-15T12:00:00",15.5,null,null,null,null,null,null,null,null,null,null,null,null,null,null,null,null,null,null,null,null,"1900-01-15T12:00:00",15.5,null,null,null,null,null,null,null,null,null,null,null,null,null,null,null,null,null,null,null,null,"1900-01-15T12:00:00",15.5,null,null,null,null,null,null,null,null,null,null,null,null,null,null,null,null,null,null,null,null,"1900-01-15T12:00:00",15.5,null,null,null,null,null,null,null,null,null,null,null,null,null,null,null,null,null,null,null,null,"1900-01-15T12:00:00",15.5,null,null,null,null,null,null,null,null,null,null,null,null,null,null,null,null,null,null,null,null,"1900-01-15T12:00:00",15.5,null,null,null,null,null,null,null,null,null,null,null,null,null,null,null,null,null,null,null,null,"1900-01-15T12:00:00",15.5,null,null,null,null,null,null,null,null,null,null,null,null,null,null,null,null,null,null,null,null,"1900-01-15T12:00:00",15.5,null,null,null,null,null,null,null,null,null,null,null,null,null,null,null,null,null,null,null,null,"1900-01-15T12:00:00",15.5,null,null,null,null,null,null,null,null,null,null,null,null,null,null,null,null,null,null,null,null,"1900-01-15T12:00:00",15.5,null,null,null,null,null,null,null,null,null,null,null,null,null,null,null,null,null,null,null,null,"1900-01-15T12:00:00",15.5,null,null,null,null,null,null,null,null,null,null,null,null,null,null,null,null,null,null,null,null,"1900-01-15T12:00:00",15.5,null,null,null,null,null,null,null,null,null,null,null,null,null,null,null,null,null,null,null,null,"1900-01-15T12:00:00",15.5,null,null,null,null,null,null,null,null,null,null,null,null,null,null,null,null,null,null,null,null,"1900-01-15T12:00:00",15.5,null,null,null,null,null,null,null,null,null,null,null,null,null,null,null,null,null,null,null,null,"1900-01-15T12:00:00",15.5,null,null,null,null,null,null,null,null,null,null,null,null,null,null,null,null,null,null,null,null,"1900-01-15T12:00:00",15.5,null,null,null,null,null,null,null,null,null,null,null,null,null,null,null,null,null,null,null,null,"1900-01-15T12:00:00",15.5,null,null,null,null,null,null,null,null,null,null,null,null,null,null,null,null,null,null,null,null,"1900-01-15T12:00:00",15.5,null,null,null,null,null,null,null,null,null,null,null,null,null,null,null,null,null,null,null,null,"1900-01-15T12:00:00",15.5,null,null,null,null,null,null,null,null,null,null,null,null,null,null,null,null,null,null,null,null,"1900-01-15T12:00:00",15.5,null,null,null,null,null,null,null,null,null,null,null,null,null,null,null,null,null,null,null,null,"1900-01-15T12:00:00",15.5,null,null,null,null,null,null,null,null,null,null,null,null,null,null,null,null,null,null,null,null,"1900-01-15T12:00:00",15.5,null,null,null,null,null,null,null,null,null,null,null,null,null,null,null,null,null,null,null,null,"1900-01-15T12:00:00",15.5,null,null,null,null,null,null,null,null,null,null,null,null,null,null,null,null,null,null,null,null,"1900-01-15T12:00:00",15.5,null,null,null,null,null,null,null,null,null,null,null,null,null,null,null,null,null,null,null,null,"1900-01-15T12:00:00",15.5,null,null,null,null,null,null,null,null,null,null,null,null,null,null,null,null,null,null,null,null,"1900-01-15T12:00:00",15.5,null,null,null,null,null,null,null,null,null,null,null,null,null,null,null,null,null,null,null,null,"1900-01-15T12:00:00",15.5,null,null,null,null,null,null,null,null,null,null,null,null,null,null,null,null,null,null,null,null,"1900-01-15T12:00:00",15.5,null,null,null,null,null,null,null,null,null,null,null,null,null,null,null,null,null,null,null,null,"1900-01-15T12:00:00",15.5,null,null,null,null,null,null,null,null,null,null,null,null,null,null,null,null,null,null,null,null,"1900-01-15T12:00:00",15.5,null,null,null,null,null,null,null,null,null,null,null,null,null,null,null,null,null,null,null,null,"1900-01-15T12:00:00",15.5,null,null,null,null,null,null,null,null,null,null,null,null,null,null,null,null,null,null,null,null,"1900-01-15T12:00:00",15.5,null,null,null,null,null,null,null,null,null,null,null,null,null,null,null,null,null,null,null,null,"1900-01-15T12:00:00",15.5,null,null,null,null,null,null,null,null,null,null,null,null,null,null,null,null,null,null,null,null,"1900-01-15T12:00:00",15.5,null,null,null,null,null,null,null,null,null,null,null,null,null,null,null,null,null,null,null,null,"1900-01-15T12:00:00",15.5,null,null,null,null,null,null,null,null,null,null,null,null,null,null,null,null,null,null,null,null,"1900-01-15T12:00:00",15.5,null,null,null,null,null,null,null,null,null,null,null,null,null,null,null,null,null,null,null,null,"1900-01-15T12:00:00",15.5,null,null,null,null,null,null,null,null,null,null,null,null,null,null,null,null,null,null,null,null,"1900-01-15T12:00:00",15.5,null,null,null,null,null,null,null,null,null,null,null,null,null,null,null,null,null,null,null,null,"1900-01-15T12:00:00",15.5,null,null,null,null,null,null,null,null,null,null,null,null,null,null,null,null,null,null,null,null,"1900-01-15T12:00:00",15.5,null,null,null,null,null,null,null,null,null,null,null,null,null,null,null,null,null,null,null,null,"1900-01-15T12:00:00",15.5,null,null,null,null,null,null,null,null,null,null,null,null,null,null,null,null,null,null,null,null,"1900-01-15T12:00:00",15.5,null,null,null,null,null,null,null,null,null,null,null,null,null,null,null,null,null,null,null,null,"1900-01-15T12:00:00",15.5,null,null,null,null,null,null,null,null,null,null,null,null,null,null,null,null,null,null,null,null,"1900-01-15T12:00:00",15.5,null,null,null,null,null,null,null,null,null,null,null,null,null,null,null,null,null,null,null,null,"1900-01-15T12:00:00",15.5,null,null,null,null,null,null,null,null,null,null,null,null,null,null,null,null,null,null,null,null,"1900-01-15T12:00:00",15.5,null,null,null,null,null,null,null,null,null,null,null,null,null,null,null,null,null,null,null,null,"1900-01-15T12:00:00",15.5,null,null,null,null,null,null,null,null,null,null,null,null,null,null,null,null,null,null,null,null,"1900-01-15T12:00:00",15.5,null,null,null,null,null,null,null,null,null,null,null,null,null,null,null,null,null,null,null,null,"1900-01-15T12:00:00",15.5,null,null,null,null,null,null,null,null,null,null,null,null,null,null,null,null,null,null,null,null,"1900-01-15T12:00:00",15.5,null,null,null,null,null,null,null,null,null,null,null,null,null,null,null,null,null,null,null,null,"1900-01-15T12:00:00",15.5,null,null,null,null,null,null,null,null,null,null,null,null,null,null,null,null,null,null,null,null,"1900-01-15T12:00:00",15.5,null,null,null,null,null,null,null,null,null,null,null,null,null,null,null,null,null,null,null,null,"1900-01-15T12:00:00",15.5,null,null,null,null,null,null,null,null,null,null,null,null,null,null,null,null,null,null,null,null,"1900-01-15T12:00:00",15.5,null,null,null,null,null,null,null,null,null,null,null,null,null,null,null,null,null,null,null,null,"1900-01-15T12:00:00",15.5,null,null,null,null,null,null,null,null,null,null,null,null,null,null,null,null,null,null,null,null,"1900-01-15T12:00:00",15.5,null,null,null,null,null,null,null,null,null,null,null,null,null,null,null,null,null,null,null,null,"1900-01-15T12:00:00",15.5,null,null,null,null,null,null,null,null,null,null,null,null,null,null,null,null,null,null,null,null,"1900-01-15T12:00:00",15.5,null,null,null,null,null,null,null,null,null,null,null,null,null,null,null,null,null,null,null,null,"1900-01-15T12:00:00",15.5,null,null,null,null,null,null,null,null,null,null,null,null,null,null,null,null,null,null,null,null,"1900-01-15T12:00:00",15.5,null,null,null,null,null,null,null,null,null,null,null,null,null,null,null,null,null,null,null,null,"1900-01-15T12:00:00",15.5,null,null,null,null,null,null,null,null,null,null,null,null,null,null,null,null,null,null,null,null,"1900-01-15T12:00:00",15.5,null,null,null,null,null,null,null,null,null,null,null,null,null,null,null,null,null,null,null,null,"1900-01-15T12:00:00",15.5,null,null,null,null,null,null,null,null,null,null,null,null,null,null,null,null,null,null,null,null,"1900-01-15T12:00:00",15.5,null,null,null,null,null,null,null,null,null,null,null,null,null,null,null,null,null,null,null,null,"1900-01-15T12:00:00",15.5,null,null,null,null,null,null,null,null,null,null,null,null,null,null,null,null,null,null,null,null,"1900-01-15T12:00:00",15.5,null,null,null,null,null,null,null,null,null,null,null,null,null,null,null,null,null,null,null,null,"1900-01-15T12:00:00",15.5,null,null,null,null,null,null,null,null,null,null,null,null,null,null,null,null,null,null,null,null,"1900-01-15T12:00:00",15.5,null,null,null,null,null,null,null,null,null,null,null,null,null,null,null,null,null,null,null,null,"1900-01-15T12:00:00",15.5,null,null,null,null,null,null,null,null,null,null,null,null,null,null,null,null,null,null,null,null,"1900-01-15T12:00:00",15.5,null,null,null,null,null,null,null,null,null,null,null,null,null,null,null,null,null,null,null,null,"1900-01-15T12:00:00",15.5,null,null,null,null,null,null,null,null,null,null,null,null,null,null,null,null,null,null,null,null,"1900-01-15T12:00:00",15.5,null,null,null,null,null,null,null,null,null,null,null,null,null,null,null,null,null,null,null,null,"1900-01-15T12:00:00",15.5,null,null,null,null,null,null,null,null,null,null,null,null,null,null,null,null,null,null,null,null,"1900-01-15T12:00:00",15.5,null,null,null,null,null,null,null,null,null,null,null,null,null,null,null,null,null,null,null,null,"1900-01-15T12:00:00",15.5,null,null,null,null,null,null,null,null,null,null,null,null,null,null,null,null,null,null,null,null,"1900-01-15T12:00:00",15.5,null,null,null,null,null,null,null,null,null,null,null,null,null,null,null,null,null,null,null,null,"1900-01-15T12:00:00",15.5,null,null,null,null,null,null,null,null,null,null,null,null,null,null,null,null,null,null,null,null,"1900-01-15T12:00:00",15.5,null,null,null,null,null,null,null,null,null,null,null,null,null,null,null,null,null,null,null,null,"1900-01-15T12:00:00",15.5,null,null,null,null,null,null,null,null,null,null,null,null,null,null,null,null,null,null,null,null,"1900-01-15T12:00:00",15.5,null,null,null,null,null,null,null,null,null,null,null,null,null,null,null,null,null,null,null,null,"1900-01-15T12:00:00",15.5,null,null,null,null,null,null,null,null,null,null,null,null,null,null,null,null,null,null,null,null,"1900-01-15T12:00:00",15.5,null,null,null,null,null,null,null,null,null,null,null,null,null,null,null,null,null,null,null,null,"1900-01-15T12:00:00",15.5,null,null,null,null,null,null,null,null,null,null,null,null,null,null,null,null,null,null,null,null,"1900-01-15T12:00:00",15.5,null,null,null,null,null,null,null,null,null,null,null,null,null,null,null,null,null,null,null,null,"1900-01-15T12:00:00",15.5,null,null,null,null,null,null,null,null,null,null,null,null,null,null,null,null,null,null,null,null,"1900-01-15T12:00:00",15.5,null,null,null,null,null,null,null,null,null,null,null,null,null,null,null,null,null,null,null,null,"1900-01-15T12:00:00",15.5]
["2013-01-21T12:00:00",17,null,null,null,null,null,null,null,null,null,null,null,null,null,null,null,null,null,0.15961299363649153,3.1071111662521416,null,"2013-01-21T12:00:00",17,null,null,null,null,null,null,null,null,null,null,null,null,null,null,null,null,null,0.18002283796783661,4.6568203131916688,null,"2013-01-21T12:00:00",17,null,null,null,null,null,null,null,null,null,null,null,null,null,null,null,null,null,-1.0471934461825945,7.1680661969063895,null,"2013-01-21T12:00:00",17,null,null,null,null,null,null,null,null,null,null,null,null,null,null,null,null,null,null,null,null,"1900-01-17",17,null,null,null,null,null,null,null,null,null,null,null,null,null,null,null,null,null,null,null,null,"1900-01-17",17,null,null,null,null,null,null,null,null,null,null,null,null,null,null,null,null,null,null,null,null,"1900-01-17",17,null,null,null,null,null,null,null,null,null,null,null,null,null,null,null,null,null,null,null,null,"1900-01-17",17,null,null,null,null,null,null,null,null,null,null,null,null,null,null,null,null,null,null,null,null,"1900-01-17",17,null,null,null,null,null,null,null,null,null,null,null,null,null,null,null,null,null,null,null,null,"1900-01-17",17,null,null,null,null,null,null,null,null,null,null,null,null,null,null,null,null,null,null,null,null,"1900-01-17",17,null,null,null,null,null,null,null,null,null,null,null,null,null,null,null,null,null,null,null,null,"1900-01-17",17,null,null,null,null,null,null,null,null,null,null,null,null,null,null,null,null,null,null,null,null,"1900-01-17",17,null,null,null,null,null,null,null,null,null,null,null,null,null,null,null,null,null,null,null,null,"1900-01-17",17,null,null,null,null,null,null,null,null,null,null,null,null,null,null,null,null,null,null,null,null,"1900-01-17",17,null,null,null,null,null,null,null,null,null,null,null,null,null,null,null,null,null,null,null,null,"1900-01-17",17,null,null,null,null,null,null,null,null,null,null,null,null,null,null,null,null,null,null,null,null,"1900-01-17",17,null,null,null,null,null,null,null,null,null,null,null,null,null,null,null,null,null,null,null,null,"1900-01-17",17,null,null,null,null,null,null,null,null,null,null,null,null,null,null,null,null,null,null,null,null,"1900-01-17",17,null,null,null,null,null,null,null,null,null,null,null,null,null,null,null,null,null,null,null,null,"1900-01-17",17,null,null,null,null,null,null,null,null,null,null,null,null,null,null,null,null,null,null,null,null,"1900-01-17",17,null,null,null,null,null,null,null,null,null,null,null,null,null,null,null,null,null,null,null,null,"1900-01-17",17,null,null,null,null,null,null,null,null,null,null,null,null,null,null,null,null,null,null,null,null,"1900-01-17",17,null,null,null,null,null,null,null,null,null,null,null,null,null,null,null,null,null,null,null,null,"1900-01-17",17,null,null,null,null,null,null,null,null,null,null,null,null,null,null,null,null,null,null,null,null,"1900-01-17",17,null,null,null,null,null,null,null,null,null,null,null,null,null,null,null,null,null,null,null,null,"1900-01-17",17,null,null,null,null,null,null,null,null,null,null,null,null,null,null,null,null,null,null,null,null,"1900-01-17",17,null,null,null,null,null,null,null,null,null,null,null,null,null,null,null,null,null,null,null,null,"1900-01-17",17,null,null,null,null,null,null,null,null,null,null,null,null,null,null,null,null,null,null,null,null,"1900-01-17",17,null,null,null,null,null,null,null,null,null,null,null,null,null,null,null,null,null,null,null,null,"1900-01-17",17,null,null,null,null,null,null,null,null,null,null,null,null,null,null,null,null,null,null,null,null,"1900-01-17",17,null,null,null,null,null,null,null,null,null,null,null,null,null,null,null,null,null,null,null,null,"1900-01-17",17,null,null,null,null,null,null,null,null,null,null,null,null,null,null,null,null,null,null,null,null,"1900-01-17",17,null,null,null,null,null,null,null,null,null,null,null,null,null,null,null,null,null,null,null,null,"1900-01-17",17,null,null,null,null,null,null,null,null,null,null,null,null,null,null,null,null,null,null,null,null,"1900-01-17",17,null,null,null,null,null,null,null,null,null,null,null,null,null,null,null,null,null,null,null,null,"1900-01-17",17,null,null,null,null,null,null,null,null,null,null,null,null,null,null,null,null,null,null,null,null,"1900-01-17",17,null,null,null,null,null,null,null,null,null,null,null,null,null,null,null,null,null,null,null,null,"1900-01-17",17,null,null,null,null,null,null,null,null,null,null,null,null,null,null,null,null,null,null,null,null,"1900-01-17",17,null,null,null,null,null,null,null,null,null,null,null,null,null,null,null,null,null,null,null,null,"1900-01-17",17,null,null,null,null,null,null,null,null,null,null,null,null,null,null,null,null,null,null,null,null,"1900-01-17",17,null,null,null,null,null,null,null,null,null,null,null,null,null,null,null,null,null,null,null,null,"1900-01-17",17,null,null,null,null,null,null,null,null,null,null,null,null,null,null,null,null,null,null,null,null,"1900-01-17",17,null,null,null,null,null,null,null,null,null,null,null,null,null,null,null,null,null,null,null,null,"1900-01-17",17,null,null,null,null,null,null,null,null,null,null,null,null,null,null,null,null,null,null,null,null,"1900-01-17",17,null,null,null,null,null,null,null,null,null,null,null,null,null,null,null,null,null,null,null,null,"1900-01-17",17,null,null,null,null,null,null,null,null,null,null,null,null,null,null,null,null,null,null,null,null,"1900-01-17",17,null,null,null,null,null,null,null,null,null,null,null,null,null,null,null,null,null,null,null,null,"1900-01-17",17,null,null,null,null,null,null,null,null,null,null,null,null,null,null,null,null,null,null,null,null,"1900-01-17",17,null,null,null,null,null,null,null,null,null,null,null,null,null,null,null,null,null,null,null,null,"1900-01-17",17,null,null,null,null,null,null,null,null,null,null,null,null,null,null,null,null,null,null,null,null,"1900-01-17",17,null,null,null,null,null,null,null,null,null,null,null,null,null,null,null,null,null,null,null,null,"1900-01-17",17,null,null,null,null,null,null,null,null,null,null,null,null,null,null,null,null,null,null,null,null,"1900-01-17",17,null,null,null,null,null,null,null,null,null,null,null,null,null,null,null,null,null,null,null,null,"1900-01-17",17,null,null,null,null,null,null,null,null,null,null,null,null,null,null,null,null,null,null,null,null,"1900-01-17",17,null,null,null,null,null,null,null,null,null,null,null,null,null,null,null,null,null,null,null,null,"1900-01-17",17,null,null,null,null,null,null,null,null,null,null,null,null,null,null,null,null,null,null,null,null,"1900-01-17",17,null,null,null,null,null,null,null,null,null,null,null,null,null,null,null,null,null,null,null,null,"1900-01-17",17,null,null,null,null,null,null,null,null,null,null,null,null,null,null,null,null,null,null,null,null,"1900-01-17",17,null,null,null,null,null,null,null,null,null,null,null,null,null,null,null,null,null,null,null,null,"1900-01-17",17,null,null,null,null,null,null,null,null,null,null,null,null,null,null,null,null,null,null,null,null,"1900-01-17",17,null,null,null,null,null,null,null,null,null,null,null,null,null,null,null,null,null,null,null,null,"1900-01-17",17,null,null,null,null,null,null,null,null,null,null,null,null,null,null,null,null,null,null,null,null,"1900-01-17",17,null,null,null,null,null,null,null,null,null,null,null,null,null,null,null,null,null,null,null,null,"1900-01-17",17,null,null,null,null,null,null,null,null,null,null,null,null,null,null,null,null,null,null,null,null,"1900-01-17",17,null,null,null,null,null,null,null,null,null,null,null,null,null,null,null,null,null,null,null,null,"1900-01-17",17,null,null,null,null,null,null,null,null,null,null,null,null,null,null,null,null,null,null,null,null,"1900-01-17",17,null,null,null,null,null,null,null,null,null,null,null,null,null,null,null,null,null,null,null,null,"1900-01-17",17,null,null,null,null,null,null,null,null,null,null,null,null,null,null,null,null,null,null,null,null,"1900-01-17",17,null,null,null,null,null,null,null,null,null,null,null,null,null,null,null,null,null,null,null,null,"1900-01-17",17,null,null,null,null,null,null,null,null,null,null,null,null,null,null,null,null,null,null,null,null,"1900-01-17",17,null,null,null,null,null,null,null,null,null,null,null,null,null,null,null,null,null,null,null,null,"1900-01-17",17,null,null,null,null,null,null,null,null,null,null,null,null,null,null,null,null,null,null,null,null,"1900-01-17",17,null,null,null,null,null,null,null,null,null,null,null,null,null,null,null,null,null,null,null,null,"1900-01-17",17,null,null,null,null,null,null,null,null,null,null,null,null,null,null,null,null,null,null,null,null,"1900-01-17",17,null,null,null,null,null,null,null,null,null,null,null,null,null,null,null,null,null,null,null,null,"1900-01-17",17,null,null,null,null,null,null,null,null,null,null,null,null,null,null,null,null,null,null,null,null,"1900-01-17",17,null,null,null,null,null,null,null,null,null,null,null,null,null,null,null,null,null,null,null,null,"1900-01-17",17,null,null,null,null,null,null,null,null,null,null,null,null,null,null,null,null,null,null,null,null,"1900-01-17",17,null,null,null,null,null,null,null,null,null,null,null,null,null,null,null,null,null,null,null,null,"1900-01-17",17,null,null,null,null,null,null,null,null,null,null,null,null,null,null,null,null,null,null,null,null,"1900-01-17",17,null,null,null,null,null,null,null,null,null,null,null,null,null,null,null,null,null,null,null,null,"1900-01-17",17,null,null,null,null,null,null,null,null,null,null,null,null,null,null,null,null,null,null,null,null,"1900-01-17",17,null,null,null,null,null,null,null,null,null,null,null,null,null,null,null,null,null,null,null,null,"1900-01-17",17,null,null,null,null,null,null,null,null,null,null,null,null,null,null,null,null,null,null,null,null,"1900-01-17",17,null,null,null,null,null,null,null,null,null,null,null,null,null,null,null,null,null,null,null,null,"1900-01-17",17,null,null,null,null,null,null,null,null,null,null,null,null,null,null,null,null,null,null,null,null,"1900-01-17",17,null,null,null,null,null,null,null,null,null,null,null,null,null,null,null,null,null,null,null,null,"1900-01-17",17,null,null,null,null,null,null,null,null,null,null,null,null,null,null,null,null,null,null,null,null,"1900-01-17",17,null,null,null,null,null,null,null,null,null,null,null,null,null,null,null,null,null,null,null,null,"1900-01-17",17,null,null,null,null,null,null,null,null,null,null,null,null,null,null,null,null,null,null,null,null,"1900-01-17",17,null,null,null,null,null,null,null,null,null,null,null,null,null,null,null,null,null,null,null,null,"1900-01-17",17,null,null,null,null,null,null,null,null,null,null,null,null,null,null,null,null,null,null,null,null,"1900-01-17",17,null,null,null,null,null,null,null,null,null,null,null,null,null,null,null,null,null,null,null,null,"1900-01-17",17,null,null,null,null,null,null,null,null,null,null,null,null,null,null,null,null,null,null,null,null,"1900-01-17",17,null,null,null,null,null,null,null,null,null,null,null,null,null,null,null,null,null,null,null,null,"1900-01-17",17,null,null,null,null,null,null,null,null,null,null,null,null,null,null,null,null,null,null,null,null,"1900-01-17",17,null,null,null,null,null,null,null,null,null,null,null,null,null,null,null,null,null,null,null,null,"1900-01-17",17,null,null,null,null,null,null,null,null,null,null,null,null,null,null,null,null,null,null,null,null,"1900-01-17",17,null,null,null,null,null,null,null,null,null,null,null,null,null,null,null,null,null,null,null,null,"1900-01-17",17]
["2013-01-24",19.5,null,null,null,null,null,null,null,null,null,null,null,null,null,null,null,null,null,-0.37444392631332041,2.0996046267917459,null,"2013-01-24",19.5,null,null,null,null,null,null,null,null,null,null,null,null,null,null,null,null,null,-0.22965115744124798,2.4622358285456434,null,"2013-01-24",19.5,null,null,null,null,null,null,null,null,null,null,null,null,null,null,null,null,null,-1.1157788298974067,4.5274505531889657,null,"2013-01-24",19.5,null,null,null,null,null,null,null,null,null,null,null,null,null,null,null,null,null,null,null,null,"1900-01-19T12:00:00",19.5,null,null,null,null,null,null,null,null,null,null,null,null,null,null,null,null,null,null,null,null,"1900-01-19T12:00:00",19.5,null,null,null,null,null,null,null,null,null,null,null,null,null,null,null,null,null,null,null,null,"1900-01-19T12:00:00",19.5,null,null,null,null,null,null,null,null,null,null,null,null,null,null,null,null,null,null,null,null,"1900-01-19T12:00:00",19.5,null,null,null,null,null,null,null,null,null,null,null,null,null,null,null,null,null,null,null,null,"1900-01-19T12:00:00",19.5,null,null,null,null,null,null,null,null,null,null,null,null,null,null,null,null,null,null,null,null,"1900-01-19T12:00:00",19.5,null,null,null,null,null,null,null,null,null,null,null,null,null,null,null,null,null,null,null,null,"1900-01-19T12:00:00",19.5,null,null,null,null,null,null,null,null,null,null,null,null,null,null,null,null,null,null,null,null,"1900-01-19T12:00:00",19.5,null,null,null,null,null,null,null,null,null,null,null,null,null,null,null,null,null,null,null,null,"1900-01-19T12:00:00",19.5,null,null,null,null,null,null,null,null,null,null,null,null,null,null,null,null,null,null,null,null,"1900-01-19T12:00:00",19.5,null,null,null,null,null,null,null,null,null,null,null,null,null,null,null,null,null,null,null,null,"1900-01-19T12:00:00",19.5,null,null,null,null,null,null,null,null,null,null,null,null,null,null,null,null,null,null,null,null,"1900-01-19T12:00:00",19.5,null,null,null,null,null,null,null,null,null,null,null,null,null,null,null,null,null,null,null,null,"1900-01-19T12:00:00",19.5,null,null,null,null,null,null,null,null,null,null,null,null,null,null,null,null,null,null,null,null,"1900-01-19T12:00:00",19.5,null,null,null,null,null,null,null,null,null,null,null,null,null,null,null,null,null,null,null,null,"1900-01-19T12:00:00",19.5,null,null,null,null,null,null,null,null,null,null,null,null,null,null,null,null,null,null,null,null,"1900-01-19T12:00:00",19.5,null,null,null,null,null,null,null,null,null,null,null,null,null,null,null,null,null,null,null,null,"1900-01-19T12:00:00",19.5,null,null,null,null,null,null,null,null,null,null,null,null,null,null,null,null,null,null,null,null,"1900-01-19T12:00:00",19.5,null,null,null,null,null,null,null,null,null,null,null,null,null,null,null,null,null,null,null,null,"1900-01-19T12:00:00",19.5,null,null,null,null,null,null,null,null,null,null,null,null,null,null,null,null,null,null,null,null,"1900-01-19T12:00:00",19.5,null,null,null,null,null,null,null,null,null,null,null,null,null,null,null,null,null,null,null,null,"1900-01-19T12:00:00",19.5,null,null,null,null,null,null,null,null,null,null,null,null,null,null,null,null,null,null,null,null,"1900-01-19T12:00:00",19.5,null,null,null,null,null,null,null,null,null,null,null,null,null,null,null,null,null,null,null,null,"1900-01-19T12:00:00",19.5,null,null,null,null,null,null,null,null,null,null,null,null,null,null,null,null,null,null,null,null,"1900-01-19T12:00:00",19.5,null,null,null,null,null,null,null,null,null,null,null,null,null,null,null,null,null,null,null,null,"1900-01-19T12:00:00",19.5,null,null,null,null,null,null,null,null,null,null,null,null,null,null,null,null,null,null,null,null,"1900-01-19T12:00:00",19.5,null,null,null,null,null,null,null,null,null,null,null,null,null,null,null,null,null,null,null,null,"1900-01-19T12:00:00",19.5,null,null,null,null,null,null,null,null,null,null,null,null,null,null,null,null,null,null,null,null,"1900-01-19T12:00:00",19.5,null,null,null,null,null,null,null,null,null,null,null,null,null,null,null,null,null,null,null,null,"1900-01-19T12:00:00",19.5,null,null,null,null,null,null,null,null,null,null,null,null,null,null,null,null,null,null,null,null,"1900-01-19T12:00:00",19.5,null,null,null,null,null,null,null,null,null,null,null,null,null,null,null,null,null,null,null,null,"1900-01-19T12:00:00",19.5,null,null,null,null,null,null,null,null,null,null,null,null,null,null,null,null,null,null,null,null,"1900-01-19T12:00:00",19.5,null,null,null,null,null,null,null,null,null,null,null,null,null,null,null,null,null,null,null,null,"1900-01-19T12:00:00",19.5,null,null,null,null,null,null,null,null,null,null,null,null,null,null,null,null,null,null,null,null,"1900-01-19T12:00:00",19.5,null,null,null,null,null,null,null,null,null,null,null,null,null,null,null,null,null,null,null,null,"1900-01-19T12:00:00",19.5,null,null,null,null,null,null,null,null,null,null,null,null,null,null,null,null,null,null,null,null,"1900-01-19T12:00:00",19.5,null,null,null,null,null,null,null,null,null,null,null,null,null,null,null,null,null,null,null,null,"1900-01-19T12:00:00",19.5,null,null,null,null,null,null,null,null,null,null,null,null,null,null,null,null,null,null,null,null,"1900-01-19T12:00:00",19.5,null,null,null,null,null,null,null,null,null,null,null,null,null,null,null,null,null,null,null,null,"1900-01-19T12:00:00",19.5,null,null,null,null,null,null,null,null,null,null,null,null,null,null,null,null,null,null,null,null,"1900-01-19T12:00:00",19.5,null,null,null,null,null,null,null,null,null,null,null,null,null,null,null,null,null,null,null,null,"1900-01-19T12:00:00",19.5,null,null,null,null,null,null,null,null,null,null,null,null,null,null,null,null,null,null,null,null,"1900-01-19T12:00:00",19.5,null,null,null,null,null,null,null,null,null,null,null,null,null,null,null,null,null,null,null,null,"1900-01-19T12:00:00",19.5,null,null,null,null,null,null,null,null,null,null,null,null,null,null,null,null,null,null,null,null,"1900-01-19T12:00:00",19.5,null,null,null,null,null,null,null,null,null,null,null,null,null,null,null,null,null,null,null,null,"1900-01-19T12:00:00",19.5,null,null,null,null,null,null,null,null,null,null,null,null,null,null,null,null,null,null,null,null,"1900-01-19T12:00:00",19.5,null,null,null,null,null,null,null,null,null,null,null,null,null,null,null,null,null,null,null,null,"1900-01-19T12:00:00",19.5,null,null,null,null,null,null,null,null,null,null,null,null,null,null,null,null,null,null,null,null,"1900-01-19T12:00:00",19.5,null,null,null,null,null,null,null,null,null,null,null,null,null,null,null,null,null,null,null,null,"1900-01-19T12:00:00",19.5,null,null,null,null,null,null,null,null,null,null,null,null,null,null,null,null,null,null,null,null,"1900-01-19T12:00:00",19.5,null,null,null,null,null,null,null,null,null,null,null,null,null,null,null,null,null,null,null,null,"1900-01-19T12:00:00",19.5,null,null,null,null,null,null,null,null,null,null,null,null,null,null,null,null,null,null,null,null,"1900-01-19T12:00:00",19.5,null,null,null,null,null,null,null,null,null,null,null,null,null,null,null,null,null,null,null,null,"1900-01-19T12:00:00",19.5,null,null,null,null,null,null,null,null,null,null,null,null,null,null,null,null,null,null,null,null,"1900-01-19T12:00:00",19.5,null,null,null,null,null,null,null,null,null,null,null,null,null,null,null,null,null,null,null,null,"1900-01-19T12:00:00",19.5,null,null,null,null,null,null,null,null,null,null,null,null,null,null,null,null,null,null,null,null,"1900-01-19T12:00:00",19.5,null,null,null,null,null,null,null,null,null,null,null,null,null,null,null,null,null,null,null,null,"1900-01-19T12:00:00",19.5,null,null,null,null,null,null,null,null,null,null,null,null,null,null,null,null,null,null,null,null,"1900-01-19T12:00:00",19.5,null,null,null,null,null,null,null,null,null,null,null,null,null,null,null,null,null,null,null,null,"1900-01-19T12:00:00",19.5,null,null,null,null,null,null,null,null,null,null,null,null,null,null,null,null,null,null,null,null,"1900-01-19T12:00:00",19.5,null,null,null,null,null,null,null,null,null,null,null,null,null,null,null,null,null,null,null,null,"1900-01-19T12:00:00",19.5,null,null,null,null,null,null,null,null,null,null,null,null,null,null,null,null,null,null,null,null,"1900-01-19T12:00:00",19.5,null,null,null,null,null,null,null,null,null,null,null,null,null,null,null,null,null,null,null,null,"1900-01-19T12:00:00",19.5,null,null,null,null,null,null,null,null,null,null,null,null,null,null,null,null,null,null,null,null,"1900-01-19T12:00:00",19.5,null,null,null,null,null,null,null,null,null,null,null,null,null,null,null,null,null,null,null,null,"1900-01-19T12:00:00",19.5,null,null,null,null,null,null,null,null,null,null,null,null,null,null,null,null,null,null,null,null,"1900-01-19T12:00:00",19.5,null,null,null,null,null,null,null,null,null,null,null,null,null,null,null,null,null,null,null,null,"1900-01-19T12:00:00",19.5,null,null,null,null,null,null,null,null,null,null,null,null,null,null,null,null,null,null,null,null,"1900-01-19T12:00:00",19.5,null,null,null,null,null,null,null,null,null,null,null,null,null,null,null,null,null,null,null,null,"1900-01-19T12:00:00",19.5,null,null,null,null,null,null,null,null,null,null,null,null,null,null,null,null,null,null,null,null,"1900-01-19T12:00:00",19.5,null,null,null,null,null,null,null,null,null,null,null,null,null,null,null,null,null,null,null,null,"1900-01-19T12:00:00",19.5,null,null,null,null,null,null,null,null,null,null,null,null,null,null,null,null,null,null,null,null,"1900-01-19T12:00:00",19.5,null,null,null,null,null,null,null,null,null,null,null,null,null,null,null,null,null,null,null,null,"1900-01-19T12:00:00",19.5,null,null,null,null,null,null,null,null,null,null,null,null,null,null,null,null,null,null,null,null,"1900-01-19T12:00:00",19.5,null,null,null,null,null,null,null,null,null,null,null,null,null,null,null,null,null,null,null,null,"1900-01-19T12:00:00",19.5,null,null,null,null,null,null,null,null,null,null,null,null,null,null,null,null,null,null,null,null,"1900-01-19T12:00:00",19.5,null,null,null,null,null,null,null,null,null,null,null,null,null,null,null,null,null,null,null,null,"1900-01-19T12:00:00",19.5,null,null,null,null,null,null,null,null,null,null,null,null,null,null,null,null,null,null,null,null,"1900-01-19T12:00:00",19.5,null,null,null,null,null,null,null,null,null,null,null,null,null,null,null,null,null,null,null,null,"1900-01-19T12:00:00",19.5,null,null,null,null,null,null,null,null,null,null,null,null,null,null,null,null,null,null,null,null,"1900-01-19T12:00:00",19.5,null,null,null,null,null,null,null,null,null,null,null,null,null,null,null,null,null,null,null,null,"1900-01-19T12:00:00",19.5,null,null,null,null,null,null,null,null,null,null,null,null,null,null,null,null,null,null,null,null,"1900-01-19T12:00:00",19.5,null,null,null,null,null,null,null,null,null,null,null,null,null,null,null,null,null,null,null,null,"1900-01-19T12:00:00",19.5,null,null,null,null,null,null,null,null,null,null,null,null,null,null,null,null,null,null,null,null,"1900-01-19T12:00:00",19.5,null,null,null,null,null,null,null,null,null,null,null,null,null,null,null,null,null,null,null,null,"1900-01-19T12:00:00",19.5,null,null,null,null,null,null,null,null,null,null,null,null,null,null,null,null,null,null,null,null,"1900-01-19T12:00:00",19.5,null,null,null,null,null,null,null,null,null,null,null,null,null,null,null,null,null,null,null,null,"1900-01-19T12:00:00",19.5,null,null,null,null,null,null,null,null,null,null,null,null,null,null,null,null,null,null,null,null,"1900-01-19T12:00:00",19.5,null,null,null,null,null,null,null,null,null,null,null,null,null,null,null,null,null,null,null,null,"1900-01-19T12:00:00",19.5,null,null,null,null,null,null,null,null,null,null,null,null,null,null,null,null,null,null,null,null,"1900-01-19T12:00:00",19.5,null,null,null,null,null,null,null,null,null,null,null,null,null,null,null,null,null,null,null,null,"1900-01-19T12:00:00",19.5,null,null,null,null,null,null,null,null,null,null,null,null,null,null,null,null,null,null,null,null,"1900-01-19T12:00:00",19.5,null,null,null,null,null,null,null,null,null,null,null,null,null,null,null,null,null,null,null,null,"1900-01-19T12:00:00",19.5,null,null,null,null,null,null,null,null,null,null,null,null,null,null,null,null,null,null,null,null,"1900-01-19T12:00:00",19.5,null,null,null,null,null,null,null,null,null,null,null,null,null,null,null,null,null,null,null,null,"1900-01-19T12:00:00",19.5,null,null,null,null,null,null,null,null,null,null,null,null,null,null,null,null,null,null,null,null,"1900-01-19T12:00:00",19.5]
["2013-01-24T12:00:00",20,null,null,null,null,null,null,null,null,null,null,null,null,null,null,null,null,null,-0.46110442799213824,2.6945612135390835,null,"2013-01-24T12:00:00",20,null,null,null,null,null,null,null,null,null,null,null,null,null,null,null,null,null,-0.29045619314705595,3.5257217359244457,null,"2013-01-24T12:00:00",20,null,null,null,null,null,null,null,null,null,null,null,null,null,null,null,null,null,-1.1259628425272679,6.6855090766340064,null,"2013-01-24T12:00:00",20,null,null,null,null,null,null,null,null,null,null,null,null,null,null,null,null,null,null,null,null,"1900-01-20",20,null,null,null,null,null,null,null,null,null,null,null,null,null,null,null,null,null,null,null,null,"1900-01-20",20,null,null,null,null,null,null,null,null,null,null,null,null,null,null,null,null,null,null,null,null,"1900-01-20",20,null,null,null,null,null,null,null,null,null,null,null,null,null,null,null,null,null,null,null,null,"1900-01-20",20,null,null,null,null,null,null,null,null,null,null,null,null,null,null,null,null,null,null,null,null,"1900-01-20",20,null,null,null,null,null,null,null,null,null,null,null,null,null,null,null,null,null,null,null,null,"1900-01-20",20,null,null,null,null,null,null,null,null,null,null,null,null,null,null,null,null,null,null,null,null,"1900-01-20",20,null,null,null,null,null,null,null,null,null,null,null,null,null,null,null,null,null,null,null,null,"1900-01-20",20,null,null,null,null,null,null,null,null,null,null,null,null,null,null,null,null,null,null,null,null,"1900-01-20",20,null,null,null,null,null,null,null,null,null,null,null,null,null,null,null,null,null,null,null,null,"1900-01-20",20,null,null,null,null,null,null,null,null,null,null,null,null,null,null,null,null,null,null,null,null,"1900-01-20",20,null,null,null,null,null,null,null,null,null,null,null,null,null,null,null,null,null,null,null,null,"1900-01-20",20,null,null,null,null,null,null,null,null,null,null,null,null,null,null,null,null,null,null,null,null,"1900-01-20",20,null,null,null,null,null,null,null,null,null,null,null,null,null,null,null,null,null,null,null,null,"1900-01-20",20,null,null,null,null,null,null,null,null,null,null,null,null,null,null,null,null,null,null,null,null,"1900-01-20",20,null,null,null,null,null,null,null,null,null,null,null,null,null,null,null,null,null,null,null,null,"1900-01-20",20,null,null,null,null,null,null,null,null,null,null,null,null,null,null,null,null,null,null,null,null,"1900-01-20",20,null,null,null,null,null,null,null,null,null,null,null,null,null,null,null,null,null,null,null,null,"1900-01-20",20,null,null,null,null,null,null,null,null,null,null,null,null,null,null,null,null,null,null,null,null,"1900-01-20",20,null,null,null,null,null,null,null,null,null,null,null,null,null,null,null,null,null,null,null,null,"1900-01-20",20,null,null,null,null,null,null,null,null,null,null,null,null,null,null,null,null,null,null,null,null,"1900-01-20",20,null,null,null,null,null,null,null,null,null,null,null,null,null,null,null,null,null,null,null,null,"1900-01-20",20,null,null,null,null,null,null,null,null,null,null,null,null,null,null,null,null,null,null,null,null,"1900-01-20",20,null,null,null,null,null,null,null,null,null,null,null,null,null,null,null,null,null,null,null,null,"1900-01-20",20,null,null,null,null,null,null,null,null,null,null,null,null,null,null,null,null,null,null,null,null,"1900-01-20",20,null,null,null,null,null,null,null,null,null,null,null,null,null,null,null,null,null,null,null,null,"1900-01-20",20,null,null,null,null,null,null,null,null,null,null,null,null,null,null,null,null,null,null,null,null,"1900-01-20",20,null,null,null,null,null,null,null,null,null,null,null,null,null,null,null,null,null,null,null,null,"1900-01-20",20,null,null,null,null,null,null,null,null,null,null,null,null,null,null,null,null,null,null,null,null,"1900-01-20",20,null,null,null,null,null,null,null,null,null,null,null,null,null,null,null,null,null,null,null,null,"1900-01-20",20,null,null,null,null,null,null,null,null,null,null,null,null,null,null,null,null,null,null,null,null,"1900-01-20",20,null,null,null,null,null,null,null,null,null,null,null,null,null,null,null,null,null,null,null,null,"1900-01-20",20,null,null,null,null,null,null,null,null,null,null,null,null,null,null,null,null,null,null,null,null,"1900-01-20",20,null,null,null,null,null,null,null,null,null,null,null,null,null,null,null,null,null,null,null,null,"1900-01-20",20,null,null,null,null,null,null,null,null,null,null,null,null,null,null,null,null,null,null,null,null,"1900-01-20",20,null,null,null,null,null,null,null,null,null,null,null,null,null,null,null,null,null,null,null,null,"1900-01-20",20,null,null,null,null,null,null,null,null,null,null,null,null,null,null,null,null,null,null,null,null,"1900-01-20",20,null,null,null,null,null,null,null,null,null,null,null,null,null,null,null,null,null,null,null,null,"1900-01-20",20,null,null,null,null,null,null,null,null,null,null,null,null,null,null,null,null,null,null,null,null,"1900-01-20",20,null,null,null,null,null,null,null,null,null,null,null,null,null,null,null,null,null,null,null,null,"1900-01-20",20,null,null,null,null,null,null,null,null,null,null,null,null,null,null,null,null,null,null,null,null,"1900-01-20",20,null,null,null,null,null,null,null,null,null,null,null,null,null,null,null,null,null,null,null,null,"1900-01-20",20,null,null,null,null,null,null,null,null,null,null,null,null,null,null,null,null,null,null,null,null,"1900-01-20",20,null,null,null,null,null,null,null,null,null,null,null,null,null,null,null,null,null,null,null,null,"1900-01-20",20,null,null,null,null,null,null,null,null,null,null,null,null,null,null,null,null,null,null,null,null,"1900-01-20",20,null,null,null,null,null,null,null,null,null,null,null,null,null,null,null,null,null,null,null,null,"1900-01-20",20,null,null,null,null,null,null,null,null,null,null,null,null,null,null,null,null,null,null,null,null,"1900-01-20",20,null,null,null,null,null,null,null,null,null,null,null,null,null,null,null,null,null,null,null,null,"1900-01-20",20,null,null,null,null,null,null,null,null,null,null,null,null,null,null,null,null,null,null,null,null,"1900-01-20",20,null,null,null,null,null,null,null,null,null,null,null,null,null,null,null,null,null,null,null,null,"1900-01-20",20,null,null,null,null,null,null,null,null,null,null,null,null,null,null,null,null,null,null,null,null,"1900-01-20",20,null,null,null,null,null,null,null,null,null,null,null,null,null,null,null,null,null,null,null,null,"1900-01-20",20,null,null,null,null,null,null,null,null,null,null,null,null,null,null,null,null,null,null,null,null,"1900-01-20",20,null,null,null,null,null,null,null,null,null,null,null,null,null,null,null,null,null,null,null,null,"1900-01-20",20,null,null,null,null,null,null,null,null,null,null,null,null,null,null,null,null,null,null,null,null,"1900-01-20",20,null,null,null,null,null,null,null,null,null,null,null,null,null,null,null,null,null,null,null,null,"1900-01-20",20,null,null,null,null,null,null,null,null,null,null,null,null,null,null,null,null,null,null,null,null,"1900-01-20",20,null,null,null,null,null,null,null,null,null,null,null,null,null,null,null,null,null,null,null,null,"1900-01-20",20,null,null,null,null,null,null,null,null,null,null,null,null,null,null,null,null,null,null,null,null,"1900-01-20",20,null,null,null,null,null,null,null,null,null,null,null,null,null,null,null,null,null,null,null,null,"1900-01-20",20,null,null,null,null,null,null,null,null,null,null,null,null,null,null,null,null,null,null,null,null,"1900-01-20",20,null,null,null,null,null,null,null,null,null,null,null,null,null,null,null,null,null,null,null,null,"1900-01-20",20,null,null,null,null,null,null,null,null,null,null,null,null,null,null,null,null,null,null,null,null,"1900-01-20",20,null,null,null,null,null,null,null,null,null,null,null,null,null,null,null,null,null,null,null,null,"1900-01-20",20,null,null,null,null,null,null,null,null,null,null,null,null,null,null,null,null,null,null,null,null,"1900-01-20",20,null,null,null,null,null,null,null,null,null,null,null,null,null,null,null,null,null,null,null,null,"1900-01-20",20,null,null,null,null,null,null,null,null,null,null,null,null,null,null,null,null,null,null,null,null,"1900-01-20",20,null,null,null,null,null,null,null,null,null,null,null,null,null,null,null,null,null,null,null,null,"1900-01-20",20,null,null,null,null,null,null,null,null,null,null,null,null,null,null,null,null,null,null,null,null,"1900-01-20",20,null,null,null,null,null,null,null,null,null,null,null,null,null,null,null,null,null,null,null,null,"1900-01-20",20,null,null,null,null,null,null,null,null,null,null,null,null,null,null,null,null,null,null,null,null,"1900-01-20",20,null,null,null,null,null,null,null,null,null,null,null,null,null,null,null,null,null,null,null,null,"1900-01-20",20,null,null,null,null,null,null,null,null,null,null,null,null,null,null,null,null,null,null,null,null,"1900-01-20",20,null,null,null,null,null,null,null,null,null,null,null,null,null,null,null,null,null,null,null,null,"1900-01-20",20,null,null,null,null,null,null,null,null,null,null,null,null,null,null,null,null,null,null,null,null,"1900-01-20",20,null,null,null,null,null,null,null,null,null,null,null,null,null,null,null,null,null,null,null,null,"1900-01-20",20,null,null,null,null,null,null,null,null,null,null,null,null,null,null,null,null,null,null,null,null,"1900-01-20",20,null,null,null,null,null,null,null,null,null,null,null,null,null,null,null,null,null,null,null,null,"1900-01-20",20,null,null,null,null,null,null,null,null,null,null,null,null,null,null,null,null,null,null,null,null,"1900-01-20",20,null,null,null,null,null,null,null,null,null,null,null,null,null,null,null,null,null,null,null,null,"1900-01-20",20,null,null,null,null,null,null,null,null,null,null,null,null,null,null,null,null,null,null,null,null,"1900-01-20",20,null,null,null,null,null,null,null,null,null,null,null,null,null,null,null,null,null,null,null,null,"1900-01-20",20,null,null,null,null,null,null,null,null,null,null,null,null,null,null,null,null,null,null,null,null,"1900-01-20",20,null,null,null,null,null,null,null,null,null,null,null,null,null,null,null,null,null,null,null,null,"1900-01-20",20,null,null,null,null,null,null,null,null,null,null,null,null,null,null,null,null,null,null,null,null,"1900-01-20",20,null,null,null,null,null,null,null,null,null,null,null,null,null,null,null,null,null,null,null,null,"1900-01-20",20,null,null,null,null,null,null,null,null,null,null,null,null,null,null,null,null,null,null,null,null,"1900-01-20",20,null,null,null,null,null,null,null,null,null,null,null,null,null,null,null,null,null,null,null,null,"1900-01-20",20,null,null,null,null,null,null,null,null,null,null,null,null,null,null,null,null,null,null,null,null,"1900-01-20",20,null,null,null,null,null,null,null,null,null,null,null,null,null,null,null,null,null,null,null,null,"1900-01-20",20,null,null,null,null,null,null,null,null,null,null,null,null,null,null,null,null,null,null,null,null,"1900-01-20",20,null,null,null,null,null,null,null,null,null,null,null,null,null,null,null,null,null,null,null,null,"1900-01-20",20,null,null,null,null,null,null,null,null,null,null,null,null,null,null,null,null,null,null,null,null,"1900-01-20",20,null,null,null,null,null,null,null,null,null,null,null,null,null,null,null,null,null,null,null,null,"1900-01-20",20,null,null,null,null,null,null,null,null,null,null,null,null,null,null,null,null,null,null,null,null,"1900-01-20",20,null,null,null,null,null,null,null,null,null,null,null,null,null,null,null,null,null,null,null,null,"1900-01-20",20]
["2013-01-27T12:00:00",23,null,null,null,null,null,null,null,null,null,null,null,null,null,null,null,null,null,-0.87450159393070848,2.4240533137781761,null,"2013-01-27T12:00:00",23,null,null,null,null,null,null,null,null,null,null,null,null,null,null,null,null,null,-0.56093232118898584,2.9513766483825155,null,"2013-01-27T12:00:00",23,null,null,null,null,null,null,null,null,null,null,null,null,null,null,null,null,null,-1.1719626887993211,6.4566950380753685,null,"2013-01-27T12:00:00",23,null,null,null,null,null,null,null,null,null,null,null,null,null,null,null,null,null,null,null,null,"1900-01-23",23,null,null,null,null,null,null,null,null,null,null,null,null,null,null,null,null,null,null,null,null,"1900-01-23",23,null,null,null,null,null,null,null,null,null,null,null,null,null,null,null,null,null,null,null,null,"1900-01-23",23,null,null,null,null,null,null,null,null,null,null,null,null,null,null,null,null,null,null,null,null,"1900-01-23",23,null,null,null,null,null,null,null,null,null,null,null,null,null,null,null,null,null,null,null,null,"1900-01-23",23,null,null,null,null,null,null,null,null,null,null,null,null,null,null,null,null,null,null,null,null,"1900-01-23",23,null,null,null,null,null,null,null,null,null,null,null,null,null,null,null,null,null,null,null,null,"1900-01-23",23,null,null,null,null,null,null,null,null,null,null,null,null,null,null,null,null,null,null,null,null,"1900-01-23",23,null,null,null,null,null,null,null,null,null,null,null,null,null,null,null,null,null,null,null,null,"1900-01-23",23,null,null,null,null,null,null,null,null,null,null,null,null,null,null,null,null,null,null,null,null,"1900-01-23",23,null,null,null,null,null,null,null,null,null,null,null,null,null,null,null,null,null,null,null,null,"1900-01-23",23,null,null,null,null,null,null,null,null,null,null,null,null,null,null,null,null,null,null,null,null,"1900-01-23",23,null,null,null,null,null,null,null,null,null,null,null,null,null,null,null,null,null,null,null,null,"1900-01-23",23,null,null,null,null,null,null,null,null,null,null,null,null,null,null,null,null,null,null,null,null,"1900-01-23",23,null,null,null,null,null,null,null,null,null,null,null,null,null,null,null,null,null,null,null,null,"1900-01-23",23,null,null,null,null,null,null,null,null,null,null,null,null,null,null,null,null,null,null,null,null,"1900-01-23",23,null,null,null,null,null,null,null,null,null,null,null,null,null,null,null,null,null,null,null,null,"1900-01-23",23,null,null,null,null,null,null,null,null,null,null,null,null,null,null,null,null,null,null,null,null,"1900-01-23",23,null,null,null,null,null,null,null,null,null,null,null,null,null,null,null,null,null,null,null,null,"1900-01-23",23,null,null,null,null,null,null,null,null,null,null,null,null,null,null,null,null,null,null,null,null,"1900-01-23",23,null,null,null,null,null,null,null,null,null,null,null,null,null,null,null,null,null,null,null,null,"1900-01-23",23,null,null,null,null,null,null,null,null,null,null,null,null,null,null,null,null,null,null,null,null,"1900-01-23",23,null,null,null,null,null,null,null,null,null,null,null,null,null,null,null,null,null,null,null,null,"1900-01-23",23,null,null,null,null,null,null,null,null,null,null,null,null,null,null,null,null,null,null,null,null,"1900-01-23",23,null,null,null,null,null,null,null,null,null,null,null,null,null,null,null,null,null,null,null,null,"1900-01-23",23,null,null,null,null,null,null,null,null,null,null,null,null,null,null,null,null,null,null,null,null,"1900-01-23",23,null,null,null,null,null,null,null,null,null,null,null,null,null,null,null,null,null,null,null,null,"1900-01-23",23,null,null,null,null,null,null,null,null,null,null,null,null,null,null,null,null,null,null,null,null,"1900-01-23",23,null,null,null,null,null,null,null,null,null,null,null,null,null,null,null,null,null,null,null,null,"1900-01-23",23,null,null,null,null,null,null,null,null,null,null,null,null,null,null,null,null,null,null,null,null,"1900-01-23",23,null,null,null,null,null,null,null,null,null,null,null,null,null,null,null,null,null,null,null,null,"1900-01-23",23,null,null,null,null,null,null,null,null,null,null,null,null,null,null,null,null,null,null,null,null,"1900-01-23",23,null,null,null,null,null,null,null,null,null,null,null,null,null,null,null,null,null,null,null,null,"1900-01-23",23,null,null,null,null,null,null,null,null,null,null,null,null,null,null,null,null,null,null,null,null,"1900-01-23",23,null,null,null,null,null,null,null,null,null,null,null,null,null,null,null,null,null,null,null,null,"1900-01-23",23,null,null,null,null,null,null,null,null,null,null,null,null,null,null,null,null,null,null,null,null,"1900-01-23",23,null,null,null,null,null,null,null,null,null,null,null,null,null,null,null,null,null,null,null,null,"1900-01-23",23,null,null,null,null,null,null,null,null,null,null,null,null,null,null,null,null,null,null,null,null,"1900-01-23",23,null,null,null,null,null,null,null,null,null,null,null,null,null,null,null,null,null,null,null,null,"1900-01-23",23,null,null,null,null,null,null,null,null,null,null,null,null,null,null,null,null,null,null,null,null,"1900-01-23",23,null,null,null,null,null,null,null,null,null,null,null,null,null,null,null,null,null,null,null,null,"1900-01-23",23,null,null,null,null,null,null,null,null,null,null,null,null,null,null,null,null,null,null,null,null,"1900-01-23",23,null,null,null,null,null,null,null,null,null,null,null,null,null,null,null,null,null,null,null,null,"1900-01-23",23,null,null,null,null,null,null,null,null,null,null,null,null,null,null,null,null,null,null,null,null,"1900-01-23",23,null,null,null,null,null,null,null,null,null,null,null,null,null,null,null,null,null,null,null,null,"1900-01-23",23,null,null,null,null,null,null,null,null,null,null,null,null,null,null,null,null,null,null,null,null,"1900-01-23",23,null,null,null,null,null,null,null,null,null,null,null,null,null,null,null,null,null,null,null,null,"1900-01-23",23,null,null,null,null,null,null,null,null,null,null,null,null,null,null,null,null,null,null,null,null,"1900-01-23",23,null,null,null,null,null,null,null,null,null,null,null,null,null,null,null,null,null,null,null,null,"1900-01-23",23,null,null,null,null,null,null,null,null,null,null,null,null,null,null,null,null,null,null,null,null,"1900-01-23",23,null,null,null,null,null,null,null,null,null,null,null,null,null,null,null,null,null,null,null,null,"1900-01-23",23,null,null,null,null,null,null,null,null,null,null,null,null,null,null,null,null,null,null,null,null,"1900-01-23",23,null,null,null,null,null,null,null,null,null,null,null,null,null,null,null,null,null,null,null,null,"1900-01-23",23,null,null,null,null,null,null,null,null,null,null,null,null,null,null,null,null,null,null,null,null,"1900-01-23",23,null,null,null,null,null,null,null,null,null,null,null,null,null,null,null,null,null,null,null,null,"1900-01-23",23,null,null,null,null,null,null,null,null,null,null,null,null,null,null,null,null,null,null,null,null,"1900-01-23",23,null,null,null,null,null,null,null,null,null,null,null,null,null,null,null,null,null,null,null,null,"1900-01-23",23,null,null,null,null,null,null,null,null,null,null,null,null,null,null,null,null,null,null,null,null,"1900-01-23",23,null,null,null,null,null,null,null,null,null,null,null,null,null,null,null,null,null,null,null,null,"1900-01-23",23,null,null,null,null,null,null,null,null,null,null,null,null,null,null,null,null,null,null,null,null,"1900-01-23",23,null,null,null,null,null,null,null,null,null,null,null,null,null,null,null,null,null,null,null,null,"1900-01-23",23,null,null,null,null,null,null,null,null,null,null,null,null,null,null,null,null,null,null,null,null,"1900-01-23",23,null,null,null,null,null,null,null,null,null,null,null,null,null,null,null,null,null,null,null,null,"1900-01-23",23,null,null,null,null,null,null,null,null,null,null,null,null,null,null,null,null,null,null,null,null,"1900-01-23",23,null,null,null,null,null,null,null,null,null,null,null,null,null,null,null,null,null,null,null,null,"1900-01-23",23,null,null,null,null,null,null,null,null,null,null,null,null,null,null,null,null,null,null,null,null,"1900-01-23",23,null,null,null,null,null,null,null,null,null,null,null,null,null,null,null,null,null,null,null,null,"1900-01-23",23,null,null,null,null,null,null,null,null,null,null,null,null,null,null,null,null,null,null,null,null,"1900-01-23",23,null,null,null,null,null,null,null,null,null,null,null,null,null,null,null,null,null,null,null,null,"1900-01-23",23,null,null,null,null,null,null,null,null,null,null,null,null,null,null,null,null,null,null,null,null,"1900-01-23",23,null,null,null,null,null,null,null,null,null,null,null,null,null,null,null,null,null,null,null,null,"1900-01-23",23,null,null,null,null,null,null,null,null,null,null,null,null,null,null,null,null,null,null,null,null,"1900-01-23",23,null,null,null,null,null,null,null,null,null,null,null,null,null,null,null,null,null,null,null,null,"1900-01-23",23,null,null,null,null,null,null,null,null,null,null,null,null,null,null,null,null,null,null,null,null,"1900-01-23",23,null,null,null,null,null,null,null,null,null,null,null,null,null,null,null,null,null,null,null,null,"1900-01-23",23,null,null,null,null,null,null,null,null,null,null,null,null,null,null,null,null,null,null,null,null,"1900-01-23",23,null,null,null,null,null,null,null,null,null,null,null,null,null,null,null,null,null,null,null,null,"1900-01-23",23,null,null,null,null,null,null,null,null,null,null,null,null,null,null,null,null,null,null,null,null,"1900-01-23",23,null,null,null,null,null,null,null,null,null,null,null,null,null,null,null,null,null,null,null,null,"1900-01-23",23,null,null,null,null,null,null,null,null,null,null,null,null,null,null,null,null,null,null,null,null,"1900-01-23",23,null,null,null,null,null,null,null,null,null,null,null,null,null,null,null,null,null,null,null,null,"1900-01-23",23,null,null,null,null,null,null,null,null,null,null,null,null,null,null,null,null,null,null,null,null,"1900-01-23",23,null,null,null,null,null,null,null,null,null,null,null,null,null,null,null,null,null,null,null,null,"1900-01-23",23,null,null,null,null,null,null,null,null,null,null,null,null,null,null,null,null,null,null,null,null,"1900-01-23",23,null,null,null,null,null,null,null,null,null,null,null,null,null,null,null,null,null,null,null,null,"1900-01-23",23,null,null,null,null,null,null,null,null,null,null,null,null,null,null,null,null,null,null,null,null,"1900-01-23",23,null,null,null,null,null,null,null,null,null,null,null,null,null,null,null,null,null,null,null,null,"1900-01-23",23,null,null,null,null,null,null,null,null,null,null,null,null,null,null,null,null,null,null,null,null,"1900-01-23",23,null,null,null,null,null,null,null,null,null,null,null,null,null,null,null,null,null,null,null,null,"1900-01-23",23,null,null,null,null,null,null,null,null,null,null,null,null,null,null,null,null,null,null,null,null,"1900-01-23",23,null,null,null,null,null,null,null,null,null,null,null,null,null,null,null,null,null,null,null,null,"1900-01-23",23,null,null,null,null,null,null,null,null,null,null,null,null,null,null,null,null,null,null,null,null,"1900-01-23",23,null,null,null,null,null,null,null,null,null,null,null,null,null,null,null,null,null,null,null,null,"1900-01-23",23,null,null,null,null,null,null,null,null,null,null,null,null,null,null,null,null,null,null,null,null,"1900-01-23",23,null,null,null,null,null,null,null,null,null,null,null,null,null,null,null,null,null,null,null,null,"1900-01-23",23,null,null,null,null,null,null,null,null,null,null,null,null,null,null,null,null,null,null,null,null,"1900-01-23",23]
["2013-01-30",25.5,null,null,null,null,null,null,null,null,null,null,null,null,null,null,null,null,null,-1.1143321425718644,1.62201769855686,null,"2013-01-30",25.5,null,null,null,null,null,null,null,null,null,null,null,null,null,null,null,null,null,-0.70460126230156506,1.4812561748996969,null,"2013-01-30",25.5,null,null,null,null,null,null,null,null,null,null,null,null,null,null,null,null,null,-1.1973094136061948,4.1355214093485344,null,"2013-01-30",25.5,null,null,null,null,null,null,null,null,null,null,null,null,null,null,null,null,null,null,null,null,"1900-01-25T12:00:00",25.5,null,null,null,null,null,null,null,null,null,null,null,null,null,null,null,null,null,null,null,null,"1900-01-25T12:00:00",25.5,null,null,null,null,null,null,null,null,null,null,null,null,null,null,null,null,null,null,null,null,"1900-01-25T12:00:00",25.5,null,null,null,null,null,null,null,null,null,null,null,null,null,null,null,null,null,null,null,null,"1900-01-25T12:00:00",25.5,null,null,null,null,null,null,null,null,null,null,null,null,null,null,null,null,null,null,null,null,"1900-01-25T12:00:00",25.5,null,null,null,null,null,null,null,null,null,null,null,null,null,null,null,null,null,null,null,null,"1900-01-25T12:00:00",25.5,null,null,null,null,null,null,null,null,null,null,null,null,null,null,null,null,null,null,null,null,"1900-01-25T12:00:00",25.5,null,null,null,null,null,null,null,null,null,null,null,null,null,null,null,null,null,null,null,null,"1900-01-25T12:00:00",25.5,null,null,null,null,null,null,null,null,null,null,null,null,null,null,null,null,null,null,null,null,"1900-01-25T12:00:00",25.5,null,null,null,null,null,null,null,null,null,null,null,null,null,null,null,null,null,null,null,null,"1900-01-25T12:00:00",25.5,null,null,null,null,null,null,null,null,null,null,null,null,null,null,null,null,null,null,null,null,"1900-01-25T12:00:00",25.5,null,null,null,null,null,null,null,null,null,null,null,null,null,null,null,null,null,null,null,null,"1900-01-25T12:00:00",25.5,null,null,null,null,null,null,null,null,null,null,null,null,null,null,null,null,null,null,null,null,"1900-01-25T12:00:00",25.5,null,null,null,null,null,null,null,null,null,null,null,null,null,null,null,null,null,null,null,null,"1900-01-25T12:00:00",25.5,null,null,null,null,null,null,null,null,null,null,null,null,null,null,null,null,null,null,null,null,"1900-01-25T12:00:00",25.5,null,null,null,null,null,null,null,null,null,null,null,null,null,null,null,null,null,null,null,null,"1900-01-25T12:00:00",25.5,null,null,null,null,null,null,null,null,null,null,null,null,null,null,null,null,null,null,null,null,"1900-01-25T12:00:00",25.5,null,null,null,null,null,null,null,null,null,null,null,null,null,null,null,null,null,null,null,null,"1900-01-25T12:00:00",25.5,null,null,null,null,null,null,null,null,null,null,null,null,null,null,null,null,null,null,null,null,"1900-01-25T12:00:00",25.5,null,null,null,null,null,null,null,null,null,null,null,null,null,null,null,null,null,null,null,null,"1900-01-25T12:00:00",25.5,null,null,null,null,null,null,null,null,null,null,null,null,null,null,null,null,null,null,null,null,"1900-01-25T12:00:00",25.5,null,null,null,null,null,null,null,null,null,null,null,null,null,null,null,null,null,null,null,null,"1900-01-25T12:00:00",25.5,null,null,null,null,null,null,null,null,null,null,null,null,null,null,null,null,null,null,null,null,"1900-01-25T12:00:00",25.5,null,null,null,null,null,null,null,null,null,null,null,null,null,null,null,null,null,null,null,null,"1900-01-25T12:00:00",25.5,null,null,null,null,null,null,null,null,null,null,null,null,null,null,null,null,null,null,null,null,"1900-01-25T12:00:00",25.5,null,null,null,null,null,null,null,null,null,null,null,null,null,null,null,null,null,null,null,null,"1900-01-25T12:00:00",25.5,null,null,null,null,null,null,null,null,null,null,null,null,null,null,null,null,null,null,null,null,"1900-01-25T12:00:00",25.5,null,null,null,null,null,null,null,null,null,null,null,null,null,null,null,null,null,null,null,null,"1900-01-25T12:00:00",25.5,null,null,null,null,null,null,null,null,null,null,null,null,null,null,null,null,null,null,null,null,"1900-01-25T12:00:00",25.5,null,null,null,null,null,null,null,null,null,null,null,null,null,null,null,null,null,null,null,null,"1900-01-25T12:00:00",25.5,null,null,null,null,null,null,null,null,null,null,null,null,null,null,null,null,null,null,null,null,"1900-01-25T12:00:00",25.5,null,null,null,null,null,null,null,null,null,null,null,null,null,null,null,null,null,null,null,null,"1900-01-25T12:00:00",25.5,null,null,null,null,null,null,null,null,null,null,null,null,null,null,null,null,null,null,null,null,"1900-01-25T12:00:00",25.5,null,null,null,null,null,null,null,null,null,null,null,null,null,null,null,null,null,null,null,null,"1900-01-25T12:00:00",25.5,null,null,null,null,null,null,null,null,null,null,null,null,null,null,null,null,null,null,null,null,"1900-01-25T12:00:00",25.5,null,null,null,null,null,null,null,null,null,null,null,null,null,null,null,null,null,null,null,null,"1900-01-25T12:00:00",25.5,null,null,null,null,null,null,null,null,null,null,null,null,null,null,null,null,null,null,null,null,"1900-01-25T12:00:00",25.5,null,null,null,null,null,null,null,null,null,null,null,null,null,null,null,null,null,null,null,null,"1900-01-25T12:00:00",25.5,null,null,null,null,null,null,null,null,null,null,null,null,null,null,null,null,null,null,null,null,"1900-01-25T12:00:00",25.5,null,null,null,null,null,null,null,null,null,null,null,null,null,null,null,null,null,null,null,null,"1900-01-25T12:00:00",25.5,null,null,null,null,null,null,null,null,null,null,null,null,null,null,null,null,null,null,null,null,"1900-01-25T12:00:00",25.5,null,null,null,null,null,null,null,null,null,null,null,null,null,null,null,null,null,null,null,null,"1900-01-25T12:00:00",25.5,null,null,null,null,null,null,null,null,null,null,null,null,null,null,null,null,null,null,null,null,"1900-01-25T12:00:00",25.5,null,null,null,null,null,null,null,null,null,null,null,null,null,null,null,null,null,null,null,null,"1900-01-25T12:00:00",25.5,null,null,null,null,null,null,null,null,null,null,null,null,null,null,null,null,null,null,null,null,"1900-01-25T12:00:00",25.5,null,null,null,null,null,null,null,null,null,null,null,null,null,null,null,null,null,null,null,null,"1900-01-25T12:00:00",25.5,null,null,null,null,null,null,null,null,null,null,null,null,null,null,null,null,null,null,null,null,"1900-01-25T12:00:00",25.5,null,null,null,null,null,null,null,null,null,null,null,null,null,null,null,null,null,null,null,null,"1900-01-25T12:00:00",25.5,null,null,null,null,null,null,null,null,null,null,null,null,null,null,null,null,null,null,null,null,"1900-01-25T12:00:00",25.5,null,null,null,null,null,null,null,null,null,null,null,null,null,null,null,null,null,null,null,null,"1900-01-25T12:00:00",25.5,null,null,null,null,null,null,null,null,null,null,null,null,null,null,null,null,null,null,null,null,"1900-01-25T12:00:00",25.5,null,null,null,null,null,null,null,null,null,null,null,null,null,null,null,null,null,null,null,null,"1900-01-25T12:00:00",25.5,null,null,null,null,null,null,null,null,null,null,null,null,null,null,null,null,null,null,null,null,"1900-01-25T12:00:00",25.5,null,null,null,null,null,null,null,null,null,null,null,null,null,null,null,null,null,null,null,null,"1900-01-25T12:00:00",25.5,null,null,null,null,null,null,null,null,null,null,null,null,null,null,null,null,null,null,null,null,"1900-01-25T12:00:00",25.5,null,null,null,null,null,null,null,null,null,null,null,null,null,null,null,null,null,null,null,null,"1900-01-25T12:00:00",25.5,null,null,null,null,null,null,null,null,null,null,null,null,null,null,null,null,null,null,null,null,"1900-01-25T12:00:00",25.5,null,null,null,null,null,null,null,null,null,null,null,null,null,null,null,null,null,null,null,null,"1900-01-25T12:00:00",25.5,null,null,null,null,null,null,null,null,null,null,null,null,null,null,null,null,null,null,null,null,"1900-01-25T12:00:00",25.5,null,null,null,null,null,null,null,null,null,null,null,null,null,null,null,null,null,null,null,null,"1900-01-25T12:00:00",25.5,null,null,null,null,null,null,null,null,null,null,null,null,null,null,null,null,null,null,null,null,"1900-01-25T12:00:00",25.5,null,null,null,null,null,null,null,null,null,null,null,null,null,null,null,null,null,null,null,null,"1900-01-25T12:00:00",25.5,null,null,null,null,null,null,null,null,null,null,null,null,null,null,null,null,null,null,null,null,"1900-01-25T12:00:00",25.5,null,null,null,null,null,null,null,null,null,null,null,null,null,null,null,null,null,null,null,null,"1900-01-25T12:00:00",25.5,null,null,null,null,null,null,null,null,null,null,null,null,null,null,null,null,null,null,null,null,"1900-01-25T12:00:00",25.5,null,null,null,null,null,null,null,null,null,null,null,null,null,null,null,null,null,null,null,null,"1900-01-25T12:00:00",25.5,null,null,null,null,null,null,null,null,null,null,null,null,null,null,null,null,null,null,null,null,"1900-01-25T12:00:00",25.5,null,null,null,null,null,null,null,null,null,null,null,null,null,null,null,null,null,null,null,null,"1900-01-25T12:00:00",25.5,null,null,null,null,null,null,null,null,null,null,null,null,null,null,null,null,null,null,null,null,"1900-01-25T12:00:00",25.5,null,null,null,null,null,null,null,null,null,null,null,null,null,null,null,null,null,null,null,null,"1900-01-25T12:00:00",25.5,null,null,null,null,null,null,null,null,null,null,null,null,null,null,null,null,null,null,null,null,"1900-01-25T12:00:00",25.5,null,null,null,null,null,null,null,null,null,null,null,null,null,null,null,null,null,null,null,null,"1900-01-25T12:00:00",25.5,null,null,null,null,null,null,null,null,null,null,null,null,null,null,null,null,null,null,null,null,"1900-01-25T12:00:00",25.5,null,null,null,null,null,null,null,null,null,null,null,null,null,null,null,null,null,null,null,null,"1900-01-25T12:00:00",25.5,null,null,null,null,null,null,null,null,null,null,null,null,null,null,null,null,null,null,null,null,"1900-01-25T12:00:00",25.5,null,null,null,null,null,null,null,null,null,null,null,null,null,null,null,null,null,null,null,null,"1900-01-25T12:00:00",25.5,null,null,null,null,null,null,null,null,null,null,null,null,null,null,null,null,null,null,null,null,"1900-01-25T12:00:00",25.5,null,null,null,null,null,null,null,null,null,null,null,null,null,null,null,null,null,null,null,null,"1900-01-25T12:00:00",25.5,null,null,null,null,null,null,null,null,null,null,null,null,null,null,null,null,null,null,null,null,"1900-01-25T12:00:00",25.5,null,null,null,null,null,null,null,null,null,null,null,null,null,null,null,null,null,null,null,null,"1900-01-25T12:00:00",25.5,null,null,null,null,null,null,null,null,null,null,null,null,null,null,null,null,null,null,null,null,"1900-01-25T12:00:00",25.5,null,null,null,null,null,null,null,null,null,null,null,null,null,null,null,null,null,null,null,null,"1900-01-25T12:00:00",25.5,null,null,null,null,null,null,null,null,null,null,null,null,null,null,null,null,null,null,null,null,"1900-01-25T12:00:00",25.5,null,null,null,null,null,null,null,null,null,null,null,null,null,null,null,null,null,null,null,null,"1900-01-25T12:00:00",25.5,null,null,null,null,null,null,null,null,null,null,null,null,null,null,null,null,null,null,null,null,"1900-01-25T12:00:00",25.5,null,null,null,null,null,null,null,null,null,null,null,null,null,null,null,null,null,null,null,null,"1900-01-25T12:00:00",25.5,null,null,null,null,null,null,null,null,null,null,null,null,null,null,null,null,null,null,null,null,"1900-01-25T12:00:00",25.5,null,null,null,null,null,null,null,null,null,null,null,null,null,null,null,null,null,null,null,null,"1900-01-25T12:00:00",25.5,null,null,null,null,null,null,null,null,null,null,null,null,null,null,null,null,null,null,null,null,"1900-01-25T12:00:00",25.5,null,null,null,null,null,null,null,null,null,null,null,null,null,null,null,null,null,null,null,null,"1900-01-25T12:00:00",25.5,null,null,null,null,null,null,null,null,null,null,null,null,null,null,null,null,null,null,null,null,"1900-01-25T12:00:00",25.5,null,null,null,null,null,null,null,null,null,null,null,null,null,null,null,null,null,null,null,null,"1900-01-25T12:00:00",25.5,null,null,null,null,null,null,null,null,null,null,null,null,null,null,null,null,null,null,null,null,"1900-01-25T12:00:00",25.5,null,null,null,null,null,null,null,null,null,null,null,null,null,null,null,null,null,null,null,null,"1900-01-25T12:00:00",25.5,null,null,null,null,null,null,null,null,null,null,null,null,null,null,null,null,null,null,null,null,"1900-01-25T12:00:00",25.5,null,null,null,null,null,null,null,null,null,null,null,null,null,null,null,null,null,null,null,null,"1900-01-25T12:00:00",25.5]
["2013-01-31T12:00:00",27,null,null,null,null,null,null,null,null,null,null,null,null,null,null,null,null,null,-1.2261834332361798,2.2082840155832697,null,"2013-01-31T12:00:00",27,null,null,null,null,null,null,null,null,null,null,null,null,null,null,null,null,null,-0.76878526330501673,2.5744845198582778,null,"2013-01-31T12:00:00",27,null,null,null,null,null,null,null,null,null,null,null,null,null,null,null,null,null,-1.2089807036930473,6.3056699204946423,null,"2013-01-31T12:00:00",27,null,null,null,null,null,null,null,null,null,null,null,null,null,null,null,null,null,null,null,null,"1900-01-27",27,null,null,null,null,null,null,null,null,null,null,null,null,null,null,null,null,null,null,null,null,"1900-01-27",27,null,null,null,null,null,null,null,null,null,null,null,null,null,null,null,null,null,null,null,null,"1900-01-27",27,null,null,null,null,null,null,null,null,null,null,null,null,null,null,null,null,null,null,null,null,"1900-01-27",27,null,null,null,null,null,null,null,null,null,null,null,null,null,null,null,null,null,null,null,null,"1900-01-27",27,null,null,null,null,null,null,null,null,null,null,null,null,null,null,null,null,null,null,null,null,"1900-01-27",27,null,null,null,null,null,null,null,null,null,null,null,null,null,null,null,null,null,null,null,null,"1900-01-27",27,null,null,null,null,null,null,null,null,null,null,null,null,null,null,null,null,null,null,null,null,"1900-01-27",27,null,null,null,null,null,null,null,null,null,null,null,null,null,null,null,null,null,null,null,null,"1900-01-27",27,null,null,null,null,null,null,null,null,null,null,null,null,null,null,null,null,null,null,null,null,"1900-01-27",27,null,null,null,null,null,null,null,null,null,null,null,null,null,null,null,null,null,null,null,null,"1900-01-27",27,null,null,null,null,null,null,null,null,null,null,null,null,null,null,null,null,null,null,null,null,"1900-01-27",27,null,null,null,null,null,null,null,null,null,null,null,null,null,null,null,null,null,null,null,null,"1900-01-27",27,null,null,null,null,null,null,null,null,null,null,null,null,null,null,null,null,null,null,null,null,"1900-01-27",27,null,null,null,null,null,null,null,null,null,null,null,null,null,null,null,null,null,null,null,null,"1900-01-27",27,null,null,null,null,null,null,null,null,null,null,null,null,null,null,null,null,null,null,null,null,"1900-01-27",27,null,null,null,null,null,null,null,null,null,null,null,null,null,null,null,null,null,null,null,null,"1900-01-27",27,null,null,null,null,null,null,null,null,null,null,null,null,null,null,null,null,null,null,null,null,"1900-01-27",27,null,null,null,null,null,null,null,null,null,null,null,null,null,null,null,null,null,null,null,null,"1900-01-27",27,null,null,null,null,null,null,null,null,null,null,null,null,null,null,null,null,null,null,null,null,"1900-01-27",27,null,null,null,null,null,null,null,null,null,null,null,null,null,null,null,null,null,null,null,null,"1900-01-27",27,null,null,null,null,null,null,null,null,null,null,null,null,null,null,null,null,null,null,null,null,"1900-01-27",27,null,null,null,null,null,null,null,null,null,null,null,null,null,null,null,null,null,null,null,null,"1900-01-27",27,null,null,null,null,null,null,null,null,null,null,null,null,null,null,null,null,null,null,null,null,"1900-01-27",27,null,null,null,null,null,null,null,null,null,null,null,null,null,null,null,null,null,null,null,null,"1900-01-27",27,null,null,null,null,null,null,null,null,null,null,null,null,null,null,null,null,null,null,null,null,"1900-01-27",27,null,null,null,null,null,null,null,null,null,null,null,null,null,null,null,null,null,null,null,null,"1900-01-27",27,null,null,null,null,null,null,null,null,null,null,null,null,null,null,null,null,null,null,null,null,"1900-01-27",27,null,null,null,null,null,null,null,null,null,null,null,null,null,null,null,null,null,null,null,null,"1900-01-27",27,null,null,null,null,null,null,null,null,null,null,null,null,null,null,null,null,null,null,null,null,"1900-01-27",27,null,null,null,null,null,null,null,null,null,null,null,null,null,null,null,null,null,null,null,null,"1900-01-27",27,null,null,null,null,null,null,null,null,null,null,null,null,null,null,null,null,null,null,null,null,"1900-01-27",27,null,null,null,null,null,null,null,null,null,null,null,null,null,null,null,null,null,null,null,null,"1900-01-27",27,null,null,null,null,null,null,null,null,null,null,null,null,null,null,null,null,null,null,null,null,"1900-01-27",27,null,null,null,null,null,null,null,null,null,null,null,null,null,null,null,null,null,null,null,null,"1900-01-27",27,null,null,null,null,null,null,null,null,null,null,null,null,null,null,null,null,null,null,null,null,"1900-01-27",27,null,null,null,null,null,null,null,null,null,null,null,null,null,null,null,null,null,null,null,null,"1900-01-27",27,null,null,null,null,null,null,null,null,null,null,null,null,null,null,null,null,null,null,null,null,"1900-01-27",27,null,null,null,null,null,null,null,null,null,null,null,null,null,null,null,null,null,null,null,null,"1900-01-27",27,null,null,null,null,null,null,null,null,null,null,null,null,null,null,null,null,null,null,null,null,"1900-01-27",27,null,null,null,null,null,null,null,null,null,null,null,null,null,null,null,null,null,null,null,null,"1900-01-27",27,null,null,null,null,null,null,null,null,null,null,null,null,null,null,null,null,null,null,null,null,"1900-01-27",27,null,null,null,null,null,null,null,null,null,null,null,null,null,null,null,null,null,null,null,null,"1900-01-27",27,null,null,null,null,null,null,null,null,null,null,null,null,null,null,null,null,null,null,null,null,"1900-01-27",27,null,null,null,null,null,null,null,null,null,null,null,null,null,null,null,null,null,null,null,null,"1900-01-27",27,null,null,null,null,null,null,null,null,null,null,null,null,null,null,null,null,null,null,null,null,"1900-01-27",27,null,null,null,null,null,null,null,null,null,null,null,null,null,null,null,null,null,null,null,null,"1900-01-27",27,null,null,null,null,null,null,null,null,null,null,null,null,null,null,null,null,null,null,null,null,"1900-01-27",27,null,null,null,null,null,null,null,null,null,null,null,null,null,null,null,null,null,null,null,null,"1900-01-27",27,null,null,null,null,null,null,null,null,null,null,null,null,null,null,null,null,null,null,null,null,"1900-01-27",27,null,null,null,null,null,null,null,null,null,null,null,null,null,null,null,null,null,null,null,null,"1900-01-27",27,null,null,null,null,null,null,null,null,null,null,null,null,null,null,null,null,null,null,null,null,"1900-01-27",27,null,null,null,null,null,null,null,null,null,null,null,null,null,null,null,null,null,null,null,null,"1900-01-27",27,null,null,null,null,null,null,null,null,null,null,null,null,null,null,null,null,null,null,null,null,"1900-01-27",27,null,null,null,null,null,null,null,null,null,null,null,null,null,null,null,null,null,null,null,null,"1900-01-27",27,null,null,null,null,null,null,null,null,null,null,null,null,null,null,null,null,null,null,null,null,"1900-01-27",27,null,null,null,null,null,null,null,null,null,null,null,null,null,null,null,null,null,null,null,null,"1900-01-27",27,null,null,null,null,null,null,null,null,null,null,null,null,null,null,null,null,null,null,null,null,"1900-01-27",27,null,null,null,null,null,null,null,null,null,null,null,null,null,null,null,null,null,null,null,null,"1900-01-27",27,null,null,null,null,null,null,null,null,null,null,null,null,null,null,null,null,null,null,null,null,"1900-01-27",27,null,null,null,null,null,null,null,null,null,null,null,null,null,null,null,null,null,null,null,null,"1900-01-27",27,null,null,null,null,null,null,null,null,null,null,null,null,null,null,null,null,null,null,null,null,"1900-01-27",27,null,null,null,null,null,null,null,null,null,null,null,null,null,null,null,null,null,null,null,null,"1900-01-27",27,null,null,null,null,null,null,null,null,null,null,null,null,null,null,null,null,null,null,null,null,"1900-01-27",27,null,null,null,null,null,null,null,null,null,null,null,null,null,null,null,null,null,null,null,null,"1900-01-27",27,null,null,null,null,null,null,null,null,null,null,null,null,null,null,null,null,null,null,null,null,"1900-01-27",27,null,null,null,null,null,null,null,null,null,null,null,null,null,null,null,null,null,null,null,null,"1900-01-27",27,null,null,null,null,null,null,null,null,null,null,null,null,null,null,null,null,null,null,null,null,"1900-01-27",27,null,null,null,null,null,null,null,null,null,null,null,null,null,null,null,null,null,null,null,null,"1900-01-27",27,null,null,null,null,null,null,null,null,null,null,null,null,null,null,null,null,null,null,null,null,"1900-01-27",27,null,null,null,null,null,null,null,null,null,null,null,null,null,null,null,null,null,null,null,null,"1900-01-27",27,null,null,null,null,null,null,null,null,null,null,null,null,null,null,null,null,null,null,null,null,"1900-01-27",27,null,null,null,null,null,null,null,null,null,null,null,null,null,null,null,null,null,null,null,null,"1900-01-27",27,null,null,null,null,null,null,null,null,null,null,null,null,null,null,null,null,null,null,null,null,"1900-01-27",27,null,null,null,null,null,null,null,null,null,null,null,null,null,null,null,null,null,null,null,null,"1900-01-27",27,null,null,null,null,null,null,null,null,null,null,null,null,null,null,null,null,null,null,null,null,"1900-01-27",27,null,null,null,null,null,null,null,null,null,null,null,null,null,null,null,null,null,null,null,null,"1900-01-27",27,null,null,null,null,null,null,null,null,null,null,null,null,null,null,null,null,null,null,null,null,"1900-01-27",27,null,null,null,null,null,null,null,null,null,null,null,null,null,null,null,null,null,null,null,null,"1900-01-27",27,null,null,null,null,null,null,null,null,null,null,null,null,null,null,null,null,null,null,null,null,"1900-01-27",27,null,null,null,null,null,null,null,null,null,null,null,null,null,null,null,null,null,null,null,null,"1900-01-27",27,null,null,null,null,null,null,null,null,null,null,null,null,null,null,null,null,null,null,null,null,"1900-01-27",27,null,null,null,null,null,null,null,null,null,null,null,null,null,null,null,null,null,null,null,null,"1900-01-27",27,null,null,null,null,null,null,null,null,null,null,null,null,null,null,null,null,null,null,null,null,"1900-01-27",27,null,null,null,null,null,null,null,null,null,null,null,null,null,null,null,null,null,null,null,null,"1900-01-27",27,null,null,null,null,null,null,null,null,null,null,null,null,null,null,null,null,null,null,null,null,"1900-01-27",27,null,null,null,null,null,null,null,null,null,null,null,null,null,null,null,null,null,null,null,null,"1900-01-27",27,null,null,null,null,null,null,null,null,null,null,null,null,null,null,null,null,null,null,null,null,"1900-01-27",27,null,null,null,null,null,null,null,null,null,null,null,null,null,null,null,null,null,null,null,null,"1900-01-27",27,null,null,null,null,null,null,null,null,null,null,null,null,null,null,null,null,null,null,null,null,"1900-01-27",27,null,null,null,null,null,null,null,null,null,null,null,null,null,null,null,null,null,null,null,null,"1900-01-27",27,null,null,null,null,null,null,null,null,null,null,null,null,null,null,null,null,null,null,null,null,"1900-01-27",27,null,null,null,null,null,null,null,null,null,null,null,null,null,null,null,null,null,null,null,null,"1900-01-27",27,null,null,null,null,null,null,null,null,null,null,null,null,null,null,null,null,null,null,null,null,"1900-01-27",27,null,null,null,null,null,null,null,null,null,null,null,null,null,null,null,null,null,null,null,null,"1900-01-27",27,null,null,null,null,null,null,null,null,null,null,null,null,null,null,null,null,null,null,null,null,"1900-01-27",27]
["2013-02-02T12:00:00",29,null,null,null,null,null,null,null,null,null,null,null,null,null,null,null,null,null,-1.3475284630976723,2.1396195270486666,null,"2013-02-02T12:00:00",29,null,null,null,null,null,null,null,null,null,null,null,null,null,null,null,null,null,-0.83667309929485756,2.4678332539034615,null,"2013-02-02T12:00:00",29,null,null,null,null,null,null,null,null,null,null,null,null,null,null,null,null,null,-1.2216421572458136,6.2615515408377105,null,"2013-02-02T12:00:00",29,null,null,null,null,null,null,null,null,null,null,null,null,null,null,null,null,null,null,null,null,"1900-01-29",29,null,null,null,null,null,null,null,null,null,null,null,null,null,null,null,null,null,null,null,null,"1900-01-29",29,null,null,null,null,null,null,null,null,null,null,null,null,null,null,null,null,null,null,null,null,"1900-01-29",29,null,null,null,null,null,null,null,null,null,null,null,null,null,null,null,null,null,null,null,null,"1900-01-29",29,null,null,null,null,null,null,null,null,null,null,null,null,null,null,null,null,null,null,null,null,"1900-01-29",29,null,null,null,null,null,null,null,null,null,null,null,null,null,null,null,null,null,null,null,null,"1900-01-29",29,null,null,null,null,null,null,null,null,null,null,null,null,null,null,null,null,null,null,null,null,"1900-01-29",29,null,null,null,null,null,null,null,null,null,null,null,null,null,null,null,null,null,null,null,null,"1900-01-29",29,null,null,null,null,null,null,null,null,null,null,null,null,null,null,null,null,null,null,null,null,"1900-01-29",29,null,null,null,null,null,null,null,null,null,null,null,null,null,null,null,null,null,null,null,null,"1900-01-29",29,null,null,null,null,null,null,null,null,null,null,null,null,null,null,null,null,null,null,null,null,"1900-01-29",29,null,null,null,null,null,null,null,null,null,null,null,null,null,null,null,null,null,null,null,null,"1900-01-29",29,null,null,null,null,null,null,null,null,null,null,null,null,null,null,null,null,null,null,null,null,"1900-01-29",29,null,null,null,null,null,null,null,null,null,null,null,null,null,null,null,null,null,null,null,null,"1900-01-29",29,null,null,null,null,null,null,null,null,null,null,null,null,null,null,null,null,null,null,null,null,"1900-01-29",29,null,null,null,null,null,null,null,null,null,null,null,null,null,null,null,null,null,null,null,null,"1900-01-29",29,null,null,null,null,null,null,null,null,null,null,null,null,null,null,null,null,null,null,null,null,"1900-01-29",29,null,null,null,null,null,null,null,null,null,null,null,null,null,null,null,null,null,null,null,null,"1900-01-29",29,null,null,null,null,null,null,null,null,null,null,null,null,null,null,null,null,null,null,null,null,"1900-01-29",29,null,null,null,null,null,null,null,null,null,null,null,null,null,null,null,null,null,null,null,null,"1900-01-29",29,null,null,null,null,null,null,null,null,null,null,null,null,null,null,null,null,null,null,null,null,"1900-01-29",29,null,null,null,null,null,null,null,null,null,null,null,null,null,null,null,null,null,null,null,null,"1900-01-29",29,null,null,null,null,null,null,null,null,null,null,null,null,null,null,null,null,null,null,null,null,"1900-01-29",29,null,null,null,null,null,null,null,null,null,null,null,null,null,null,null,null,null,null,null,null,"1900-01-29",29,null,null,null,null,null,null,null,null,null,null,null,null,null,null,null,null,null,null,null,null,"1900-01-29",29,null,null,null,null,null,null,null,null,null,null,null,null,null,null,null,null,null,null,null,null,"1900-01-29",29,null,null,null,null,null,null,null,null,null,null,null,null,null,null,null,null,null,null,null,null,"1900-01-29",29,null,null,null,null,null,null,null,null,null,null,null,null,null,null,null,null,null,null,null,null,"1900-01-29",29,null,null,null,null,null,null,null,null,null,null,null,null,null,null,null,null,null,null,null,null,"1900-01-29",29,null,null,null,null,null,null,null,null,null,null,null,null,null,null,null,null,null,null,null,null,"1900-01-29",29,null,null,null,null,null,null,null,null,null,null,null,null,null,null,null,null,null,null,null,null,"1900-01-29",29,null,null,null,null,null,null,null,null,null,null,null,null,null,null,null,null,null,null,null,null,"1900-01-29",29,null,null,null,null,null,null,null,null,null,null,null,null,null,null,null,null,null,null,null,null,"1900-01-29",29,null,null,null,null,null,null,null,null,null,null,null,null,null,null,null,null,null,null,null,null,"1900-01-29",29,null,null,null,null,null,null,null,null,null,null,null,null,null,null,null,null,null,null,null,null,"1900-01-29",29,null,null,null,null,null,null,null,null,null,null,null,null,null,null,null,null,null,null,null,null,"1900-01-29",29,null,null,null,null,null,null,null,null,null,null,null,null,null,null,null,null,null,null,null,null,"1900-01-29",29,null,null,null,null,null,null,null,null,null,null,null,null,null,null,null,null,null,null,null,null,"1900-01-29",29,null,null,null,null,null,null,null,null,null,null,null,null,null,null,null,null,null,null,null,null,"1900-01-29",29,null,null,null,null,null,null,null,null,null,null,null,null,null,null,null,null,null,null,null,null,"1900-01-29",29,null,null,null,null,null,null,null,null,null,null,null,null,null,null,null,null,null,null,null,null,"1900-01-29",29,null,null,null,null,null,null,null,null,null,null,null,null,null,null,null,null,null,null,null,null,"1900-01-29",29,null,null,null,null,null,null,null,null,null,null,null,null,null,null,null,null,null,null,null,null,"1900-01-29",29,null,null,null,null,null,null,null,null,null,null,null,null,null,null,null,null,null,null,null,null,"1900-01-29",29,null,null,null,null,null,null,null,null,null,null,null,null,null,null,null,null,null,null,null,null,"1900-01-29",29,null,null,null,null,null,null,null,null,null,null,null,null,null,null,null,null,null,null,null,null,"1900-01-29",29,null,null,null,null,null,null,null,null,null,null,null,null,null,null,null,null,null,null,null,null,"1900-01-29",29,null,null,null,null,null,null,null,null,null,null,null,null,null,null,null,null,null,null,null,null,"1900-01-29",29,null,null,null,null,null,null,null,null,null,null,null,null,null,null,null,null,null,null,null,null,"1900-01-29",29,null,null,null,null,null,null,null,null,null,null,null,null,null,null,null,null,null,null,null,null,"1900-01-29",29,null,null,null,null,null,null,null,null,null,null,null,null,null,null,null,null,null,null,null,null,"1900-01-29",29,null,null,null,null,null,null,null,null,null,null,null,null,null,null,null,null,null,null,null,null,"1900-01-29",29,null,null,null,null,null,null,null,null,null,null,null,null,null,null,null,null,null,null,null,null,"1900-01-29",29,null,null,null,null,null,null,null,null,null,null,null,null,null,null,null,null,null,null,null,null,"1900-01-29",29,null,null,null,null,null,null,null,null,null,null,null,null,null,null,null,null,null,null,null,null,"1900-01-29",29,null,null,null,null,null,null,null,null,null,null,null,null,null,null,null,null,null,null,null,null,"1900-01-29",29,null,null,null,null,null,null,null,null,null,null,null,null,null,null,null,null,null,null,null,null,"1900-01-29",29,null,null,null,null,null,null,null,null,null,null,null,null,null,null,null,null,null,null,null,null,"1900-01-29",29,null,null,null,null,null,null,null,null,null,null,null,null,null,null,null,null,null,null,null,null,"1900-01-29",29,null,null,null,null,null,null,null,null,null,null,null,null,null,null,null,null,null,null,null,null,"1900-01-29",29,null,null,null,null,null,null,null,null,null,null,null,null,null,null,null,null,null,null,null,null,"1900-01-29",29,null,null,null,null,null,null,null,null,null,null,null,null,null,null,null,null,null,null,null,null,"1900-01-29",29,null,null,null,null,null,null,null,null,null,null,null,null,null,null,null,null,null,null,null,null,"1900-01-29",29,null,null,null,null,null,null,null,null,null,null,null,null,null,null,null,null,null,null,null,null,"1900-01-29",29,null,null,null,null,null,null,null,null,null,null,null,null,null,null,null,null,null,null,null,null,"1900-01-29",29,null,null,null,null,null,null,null,null,null,null,null,null,null,null,null,null,null,null,null,null,"1900-01-29",29,null,null,null,null,null,null,null,null,null,null,null,null,null,null,null,null,null,null,null,null,"1900-01-29",29,null,null,null,null,null,null,null,null,null,null,null,null,null,null,null,null,null,null,null,null,"1900-01-29",29,null,null,null,null,null,null,null,null,null,null,null,null,null,null,null,null,null,null,null,null,"1900-01-29",29,null,null,null,null,null,null,null,null,null,null,null,null,null,null,null,null,null,null,null,null,"1900-01-29",29,null,null,null,null,null,null,null,null,null,null,null,null,null,null,null,null,null,null,null,null,"1900-01-29",29,null,null,null,null,null,null,null,null,null,null,null,null,null,null,null,null,null,null,null,null,"1900-01-29",29,null,null,null,null,null,null,null,null,null,null,null,null,null,null,null,null,null,null,null,null,"1900-01-29",29,null,null,null,null,null,null,null,null,null,null,null,null,null,null,null,null,null,null,null,null,"1900-01-29",29,null,null,null,null,null,null,null,null,null,null,null,null,null,null,null,null,null,null,null,null,"1900-01-29",29,null,null,null,null,null,null,null,null,null,null,null,null,null,null,null,null,null,null,null,null,"1900-01-29",29,null,null,null,null,null,null,null,null,null,null,null,null,null,null,null,null,null,null,null,null,"1900-01-29",29,null,null,null,null,null,null,null,null,null,null,null,null,null,null,null,null,null,null,null,null,"1900-01-29",29,null,null,null,null,null,null,null,null,null,null,null,null,null,null,null,null,null,null,null,null,"1900-01-29",29,null,null,null,null,null,null,null,null,null,null,null,null,null,null,null,null,null,null,null,null,"1900-01-29",29,null,null,null,null,null,null,null,null,null,null,null,null,null,null,null,null,null,null,null,null,"1900-01-29",29,null,null,null,null,null,null,null,null,null,null,null,null,null,null,null,null,null,null,null,null,"1900-01-29",29,null,null,null,null,null,null,null,null,null,null,null,null,null,null,null,null,null,null,null,null,"1900-01-29",29,null,null,null,null,null,null,null,null,null,null,null,null,null,null,null,null,null,null,null,null,"1900-01-29",29,null,null,null,null,null,null,null,null,null,null,null,null,null,null,null,null,null,null,null,null,"1900-01-29",29,null,null,null,null,null,null,null,null,null,null,null,null,null,null,null,null,null,null,null,null,"1900-01-29",29,null,null,null,null,null,null,null,null,null,null,null,null,null,null,null,null,null,null,null,null,"1900-01-29",29,null,null,null,null,null,null,null,null,null,null,null,null,null,null,null,null,null,null,null,null,"1900-01-29",29,null,null,null,null,null,null,null,null,null,null,null,null,null,null,null,null,null,null,null,null,"1900-01-29",29,null,null,null,null,null,null,null,null,null,null,null,null,null,null,null,null,null,null,null,null,"1900-01-29",29,null,null,null,null,null,null,null,null,null,null,null,null,null,null,null,null,null,null,null,null,"1900-01-29",29,null,null,null,null,null,null,null,null,null,null,null,null,null,null,null,null,null,null,null,null,"1900-01-29",29,null,null,null,null,null,null,null,null,null,null,null,null,null,null,null,null,null,null,null,null,"1900-01-29",29,null,null,null,null,null,null,null,null,null,null,null,null,null,null,null,null,null,null,null,null,"1900-01-29",29,null,null,null,null,null,null,null,null,null,null,null,null,null,null,null,null,null,null,null,null,"1900-01-29",29,null,null,null,null,null,null,null,null,null,null,null,null,null,null,null,null,null,null,null,null,"1900-01-29",29]
["2013-02-03",29.5,null,null,null,null,null,null,null,null,null,null,null,null,null,null,null,null,null,-1.3737798029575778,1.4726905166946576,null,"2013-02-03",29.5,null,null,null,null,null,null,null,null,null,null,null,null,null,null,null,null,null,-0.85114585273725618,1.2442107853163096,null,"2013-02-03",29.5,null,null,null,null,null,null,null,null,null,null,null,null,null,null,null,null,null,-1.2243911392385423,4.0381906457691663,null,"2013-02-03",29.5,null,null,null,null,null,null,null,null,null,null,null,null,null,null,null,null,null,null,null,null,"1900-01-29T12:00:00",29.5,null,null,null,null,null,null,null,null,null,null,null,null,null,null,null,null,null,null,null,null,"1900-01-29T12:00:00",29.5,null,null,null,null,null,null,null,null,null,null,null,null,null,null,null,null,null,null,null,null,"1900-01-29T12:00:00",29.5,null,null,null,null,null,null,null,null,null,null,null,null,null,null,null,null,null,null,null,null,"1900-01-29T12:00:00",29.5,null,null,null,null,null,null,null,null,null,null,null,null,null,null,null,null,null,null,null,null,"1900-01-29T12:00:00",29.5,null,null,null,null,null,null,null,null,null,null,null,null,null,null,null,null,null,null,null,null,"1900-01-29T12:00:00",29.5,null,null,null,null,null,null,null,null,null,null,null,null,null,null,null,null,null,null,null,null,"1900-01-29T12:00:00",29.5,null,null,null,null,null,null,null,null,null,null,null,null,null,null,null,null,null,null,null,null,"1900-01-29T12:00:00",29.5,null,null,null,null,null,null,null,null,null,null,null,null,null,null,null,null,null,null,null,null,"1900-01-29T12:00:00",29.5,null,null,null,null,null,null,null,null,null,null,null,null,null,null,null,null,null,null,null,null,"1900-01-29T12:00:00",29.5,null,null,null,null,null,null,null,null,null,null,null,null,null,null,null,null,null,null,null,null,"1900-01-29T12:00:00",29.5,null,null,null,null,null,null,null,null,null,null,null,null,null,null,null,null,null,null,null,null,"1900-01-29T12:00:00",29.5,null,null,null,null,null,null,null,null,null,null,null,null,null,null,null,null,null,null,null,null,"1900-01-29T12:00:00",29.5,null,null,null,null,null,null,null,null,null,null,null,null,null,null,null,null,null,null,null,null,"1900-01-29T12:00:00",29.5,null,null,null,null,null,null,null,null,null,null,null,null,null,null,null,null,null,null,null,null,"1900-01-29T12:00:00",29.5,null,null,null,null,null,null,null,null,null,null,null,null,null,null,null,null,null,null,null,null,"1900-01-29T12:00:00",29.5,null,null,null,null,null,null,null,null,null,null,null,null,null,null,null,null,null,null,null,null,"1900-01-29T12:00:00",29.5,null,null,null,null,null,null,null,null,null,null,null,null,null,null,null,null,null,null,null,null,"1900-01-29T12:00:00",29.5,null,null,null,null,null,null,null,null,null,null,null,null,null,null,null,null,null,null,null,null,"1900-01-29T12:00:00",29.5,null,null,null,null,null,null,null,null,null,null,null,null,null,null,null,null,null,null,null,null,"1900-01-29T12:00:00",29.5,null,null,null,null,null,null,null,null,null,null,null,null,null,null,null,null,null,null,null,null,"1900-01-29T12:00:00",29.5,null,null,null,null,null,null,null,null,null,null,null,null,null,null,null,null,null,null,null,null,"1900-01-29T12:00:00",29.5,null,null,null,null,null,null,null,null,null,null,null,null,null,null,null,null,null,null,null,null,"1900-01-29T12:00:00",29.5,null,null,null,null,null,null,null,null,null,null,null,null,null,null,null,null,null,null,null,null,"1900-01-29T12:00:00",29.5,null,null,null,null,null,null,null,null,null,null,null,null,null,null,null,null,null,null,null,null,"1900-01-29T12:00:00",29.5,null,null,null,null,null,null,null,null,null,null,null,null,null,null,null,null,null,null,null,null,"1900-01-29T12:00:00",29.5,null,null,null,null,null,null,null,null,null,null,null,null,null,null,null,null,null,null,null,null,"1900-01-29T12:00:00",29.5,null,null,null,null,null,null,null,null,null,null,null,null,null,null,null,null,null,null,null,null,"1900-01-29T12:00:00",29.5,null,null,null,null,null,null,null,null,null,null,null,null,null,null,null,null,null,null,null,null,"1900-01-29T12:00:00",29.5,null,null,null,null,null,null,null,null,null,null,null,null,null,null,null,null,null,null,null,null,"1900-01-29T12:00:00",29.5,null,null,null,null,null,null,null,null,null,null,null,null,null,null,null,null,null,null,null,null,"1900-01-29T12:00:00",29.5,null,null,null,null,null,null,null,null,null,null,null,null,null,null,null,null,null,null,null,null,"1900-01-29T12:00:00",29.5,null,null,null,null,null,null,null,null,null,null,null,null,null,null,null,null,null,null,null,null,"1900-01-29T12:00:00",29.5,null,null,null,null,null,null,null,null,null,null,null,null,null,null,null,null,null,null,null,null,"1900-01-29T12:00:00",29.5,null,null,null,null,null,null,null,null,null,null,null,null,null,null,null,null,null,null,null,null,"1900-01-29T12:00:00",29.5,null,null,null,null,null,null,null,null,null,null,null,null,null,null,null,null,null,null,null,null,"1900-01-29T12:00:00",29.5,null,null,null,null,null,null,null,null,null,null,null,null,null,null,null,null,null,null,null,null,"1900-01-29T12:00:00",29.5,null,null,null,null,null,null,null,null,null,null,null,null,null,null,null,null,null,null,null,null,"1900-01-29T12:00:00",29.5,null,null,null,null,null,null,null,null,null,null,null,null,null,null,null,null,null,null,null,null,"1900-01-29T12:00:00",29.5,null,null,null,null,null,null,null,null,null,null,null,null,null,null,null,null,null,null,null,null,"1900-01-29T12:00:00",29.5,null,null,null,null,null,null,null,null,null,null,null,null,null,null,null,null,null,null,null,null,"1900-01-29T12:00:00",29.5,null,null,null,null,null,null,null,null,null,null,null,null,null,null,null,null,null,null,null,null,"1900-01-29T12:00:00",29.5,null,null,null,null,null,null,null,null,null,null,null,null,null,null,null,null,null,null,null,null,"1900-01-29T12:00:00",29.5,null,null,null,null,null,null,null,null,null,null,null,null,null,null,null,null,null,null,null,null,"1900-01-29T12:00:00",29.5,null,null,null,null,null,null,null,null,null,null,null,null,null,null,null,null,null,null,null,null,"1900-01-29T12:00:00",29.5,null,null,null,null,null,null,null,null,null,null,null,null,null,null,null,null,null,null,null,null,"1900-01-29T12:00:00",29.5,null,null,null,null,null,null,null,null,null,null,null,null,null,null,null,null,null,null,null,null,"1900-01-29T12:00:00",29.5,null,null,null,null,null,null,null,null,null,null,null,null,null,null,null,null,null,null,null,null,"1900-01-29T12:00:00",29.5,null,null,null,null,null,null,null,null,null,null,null,null,null,null,null,null,null,null,null,null,"1900-01-29T12:00:00",29.5,null,null,null,null,null,null,null,null,null,null,null,null,null,null,null,null,null,null,null,null,"1900-01-29T12:00:00",29.5,null,null,null,null,null,null,null,null,null,null,null,null,null,null,null,null,null,null,null,null,"1900-01-29T12:00:00",29.5,null,null,null,null,null,null,null,null,null,null,null,null,null,null,null,null,null,null,null,null,"1900-01-29T12:00:00",29.5,null,null,null,null,null,null,null,null,null,null,null,null,null,null,null,null,null,null,null,null,"1900-01-29T12:00:00",29.5,null,null,null,null,null,null,null,null,null,null,null,null,null,null,null,null,null,null,null,null,"1900-01-29T12:00:00",29.5,null,null,null,null,null,null,null,null,null,null,null,null,null,null,null,null,null,null,null,null,"1900-01-29T12:00:00",29.5,null,null,null,null,null,null,null,null,null,null,null,null,null,null,null,null,null,null,null,null,"1900-01-29T12:00:00",29.5,null,null,null,null,null,null,null,null,null,null,null,null,null,null,null,null,null,null,null,null,"1900-01-29T12:00:00",29.5,null,null,null,null,null,null,null,null,null,null,null,null,null,null,null,null,null,null,null,null,"1900-01-29T12:00:00",29.5,null,null,null,null,null,null,null,null,null,null,null,null,null,null,null,null,null,null,null,null,"1900-01-29T12:00:00",29.5,null,null,null,null,null,null,null,null,null,null,null,null,null,null,null,null,null,null,null,null,"1900-01-29T12:00:00",29.5,null,null,null,null,null,null,null,null,null,null,null,null,null,null,null,null,null,null,null,null,"1900-01-29T12:00:00",29.5,null,null,null,null,null,null,null,null,null,null,null,null,null,null,null,null,null,null,null,null,"1900-01-29T12:00:00",29.5,null,null,null,null,null,null,null,null,null,null,null,null,null,null,null,null,null,null,null,null,"1900-01-29T12:00:00",29.5,null,null,null,null,null,null,null,null,null,null,null,null,null,null,null,null,null,null,null,null,"1900-01-29T12:00:00",29.5,null,null,null,null,null,null,null,null,null,null,null,null,null,null,null,null,null,null,null,null,"1900-01-29T12:00:00",29.5,null,null,null,null,null,null,null,null,null,null,null,null,null,null,null,null,null,null,null,null,"1900-01-29T12:00:00",29.5,null,null,null,null,null,null,null,null,null,null,null,null,null,null,null,null,null,null,null,null,"1900-01-29T12:00:00",29.5,null,null,null,null,null,null,null,null,null,null,null,null,null,null,null,null,null,null,null,null,"1900-01-29T12:00:00",29.5,null,null,null,null,null,null,null,null,null,null,null,null,null,null,null,null,null,null,null,null,"1900-01-29T12:00:00",29.5,null,null,null,null,null,null,null,null,null,null,null,null,null,null,null,null,null,null,null,null,"1900-01-29T12:00:00",29.5,null,null,null,null,null,null,null,null,null,null,null,null,null,null,null,null,null,null,null,null,"1900-01-29T12:00:00",29.5,null,null,null,null,null,null,null,null,null,null,null,null,null,null,null,null,null,null,null,null,"1900-01-29T12:00:00",29.5,null,null,null,null,null,null,null,null,null,null,null,null,null,null,null,null,null,null,null,null,"1900-01-29T12:00:00",29.5,null,null,null,null,null,null,null,null,null,null,null,null,null,null,null,null,null,null,null,null,"1900-01-29T12:00:00",29.5,null,null,null,null,null,null,null,null,null,null,null,null,null,null,null,null,null,null,null,null,"1900-01-29T12:00:00",29.5,null,null,null,null,null,null,null,null,null,null,null,null,null,null,null,null,null,null,null,null,"1900-01-29T12:00:00",29.5,null,null,null,null,null,null,null,null,null,null,null,null,null,null,null,null,null,null,null,null,"1900-01-29T12:00:00",29.5,null,null,null,null,null,null,null,null,null,null,null,null,null,null,null,null,null,null,null,null,"1900-01-29T12:00:00",29.5,null,null,null,null,null,null,null,null,null,null,null,null,null,null,null,null,null,null,null,null,"1900-01-29T12:00:00",29.5,null,null,null,null,null,null,null,null,null,null,null,null,null,null,null,null,null,null,null,null,"1900-01-29T12:00:00",29.5,null,null,null,null,null,null,null,null,null,null,null,null,null,null,null,null,null,null,null,null,"1900-01-29T12:00:00",29.5,null,null,null,null,null,null,null,null,null,null,null,null,null,null,null,null,null,null,null,null,"1900-01-29T12:00:00",29.5,null,null,null,null,null,null,null,null,null,null,null,null,null,null,null,null,null,null,null,null,"1900-01-29T12:00:00",29.5,null,null,null,null,null,null,null,null,null,null,null,null,null,null,null,null,null,null,null,null,"1900-01-29T12:00:00",29.5,null,null,null,null,null,null,null,null,null,null,null,null,null,null,null,null,null,null,null,null,"1900-01-29T12:00:00",29.5,null,null,null,null,null,null,null,null,null,null,null,null,null,null,null,null,null,null,null,null,"1900-01-29T12:00:00",29.5,null,null,null,null,null,null,null,null,null,null,null,null,null,null,null,null,null,null,null,null,"1900-01-29T12:00:00",29.5,null,null,null,null,null,null,null,null,null,null,null,null,null,null,null,null,null,null,null,null,"1900-01-29T12:00:00",29.5,null,null,null,null,null,null,null,null,null,null,null,null,null,null,null,null,null,null,null,null,"1900-01-29T12:00:00",29.5,null,null,null,null,null,null,null,null,null,null,null,null,null,null,null,null,null,null,null,null,"1900-01-29T12:00:00",29.5,null,null,null,null,null,null,null,null,null,null,null,null,null,null,null,null,null,null,null,null,"1900-01-29T12:00:00",29.5,null,null,null,null,null,null,null,null,null,null,null,null,null,null,null,null,null,null,null,null,"1900-01-29T12:00:00",29.5,null,null,null,null,null,null,null,null,null,null,null,null,null,null,null,null,null,null,null,null,"1900-01-29T12:00:00",29.5,null,null,null,null,null,null,null,null,null,null,null,null,null,null,null,null,null,null,null,null,"1900-01-29T12:00:00",29.5,null,null,null,null,null,null,null,null,null,null,null,null,null,null,null,null,null,null,null,null,"1900-01-29T12:00:00",29.5,null,null,null,null,null,null,null,null,null,null,null,null,null,null,null,null,null,null,null,null,"1900-01-29T12:00:00",29.5]
["2013-02-03T12:00:00",30,null,null,null,null,null,null,null,null,null,null,null,null,null,null,null,null,null,-1.3986163838378007,2.1119518306964449,null,"2013-02-03T12:00:00",30,null,null,null,null,null,null,null,null,null,null,null,null,null,null,null,null,null,-0.864774581635115,2.4265022049198977,null,"2013-02-03T12:00:00",30,null,null,null,null,null,null,null,null,null,null,null,null,null,null,null,null,null,-1.2269976872295656,6.2441293896759422,null,"2013-02-03T12:00:00",30,null,null,null,null,null,null,null,null,null,null,null,null,null,null,null,null,null,null,null,null,"1900-01-30",30,null,null,null,null,null,null,null,null,null,null,null,null,null,null,null,null,null,null,null,null,"1900-01-30",30,null,null,null,null,null,null,null,null,null,null,null,null,null,null,null,null,null,null,null,null,"1900-01-30",30,null,null,null,null,null,null,null,null,null,null,null,null,null,null,null,null,null,null,null,null,"1900-01-30",30,null,null,null,null,null,null,null,null,null,null,null,null,null,null,null,null,null,null,null,null,"1900-01-30",30,null,null,null,null,null,null,null,null,null,null,null,null,null,null,null,null,null,null,null,null,"1900-01-30",30,null,null,null,null,null,null,null,null,null,null,null,null,null,null,null,null,null,null,null,null,"1900-01-30",30,null,null,null,null,null,null,null,null,null,null,null,null,null,null,null,null,null,null,null,null,"1900-01-30",30,null,null,null,null,null,null,null,null,null,null,null,null,null,null,null,null,null,null,null,null,"1900-01-30",30,null,null,null,null,null,null,null,null,null,null,null,null,null,null,null,null,null,null,null,null,"1900-01-30",30,null,null,null,null,null,null,null,null,null,null,null,null,null,null,null,null,null,null,null,null,"1900-01-30",30,null,null,null,null,null,null,null,null,null,null,null,null,null,null,null,null,null,null,null,null,"1900-01-30",30,null,null,null,null,null,null,null,null,null,null,null,null,null,null,null,null,null,null,null,null,"1900-01-30",30,null,null,null,null,null,null,null,null,null,null,null,null,null,null,null,null,null,null,null,null,"1900-01-30",30,null,null,null,null,null,null,null,null,null,null,null,null,null,null,null,null,null,null,null,null,"1900-01-30",30,null,null,null,null,null,null,null,null,null,null,null,null,null,null,null,null,null,null,null,null,"1900-01-30",30,null,null,null,null,null,null,null,null,null,null,null,null,null,null,null,null,null,null,null,null,"1900-01-30",30,null,null,null,null,null,null,null,null,null,null,null,null,null,null,null,null,null,null,null,null,"1900-01-30",30,null,null,null,null,null,null,null,null,null,null,null,null,null,null,null,null,null,null,null,null,"1900-01-30",30,null,null,null,null,null,null,null,null,null,null,null,null,null,null,null,null,null,null,null,null,"1900-01-30",30,null,null,null,null,null,null,null,null,null,null,null,null,null,null,null,null,null,null,null,null,"1900-01-30",30,null,null,null,null,null,null,null,null,null,null,null,null,null,null,null,null,null,null,null,null,"1900-01-30",30,null,null,null,null,null,null,null,null,null,null,null,null,null,null,null,null,null,null,null,null,"1900-01-30",30,null,null,null,null,null,null,null,null,null,null,null,null,null,null,null,null,null,null,null,null,"1900-01-30",30,null,null,null,null,null,null,null,null,null,null,null,null,null,null,null,null,null,null,null,null,"1900-01-30",30,null,null,null,null,null,null,null,null,null,null,null,null,null,null,null,null,null,null,null,null,"1900-01-30",30,null,null,null,null,null,null,null,null,null,null,null,null,null,null,null,null,null,null,null,null,"1900-01-30",30,null,null,null,null,null,null,null,null,null,null,null,null,null,null,null,null,null,null,null,null,"1900-01-30",30,null,null,null,null,null,null,null,null,null,null,null,null,null,null,null,null,null,null,null,null,"1900-01-30",30,null,null,null,null,null,null,null,null,null,null,null,null,null,null,null,null,null,null,null,null,"1900-01-30",30,null,null,null,null,null,null,null,null,null,null,null,null,null,null,null,null,null,null,null,null,"1900-01-30",30,null,null,null,null,null,null,null,null,null,null,null,null,null,null,null,null,null,null,null,null,"1900-01-30",30,null,null,null,null,null,null,null,null,null,null,null,null,null,null,null,null,null,null,null,null,"1900-01-30",30,null,null,null,null,null,null,null,null,null,null,null,null,null,null,null,null,null,null,null,null,"1900-01-30",30,null,null,null,null,null,null,null,null,null,null,null,null,null,null,null,null,null,null,null,null,"1900-01-30",30,null,null,null,null,null,null,null,null,null,null,null,null,null,null,null,null,null,null,null,null,"1900-01-30",30,null,null,null,null,null,null,null,null,null,null,null,null,null,null,null,null,null,null,null,null,"1900-01-30",30,null,null,null,null,null,null,null,null,null,null,null,null,null,null,null,null,null,null,null,null,"1900-01-30",30,null,null,null,null,null,null,null,null,null,null,null,null,null,null,null,null,null,null,null,null,"1900-01-30",30,null,null,null,null,null,null,null,null,null,null,null,null,null,null,null,null,null,null,null,null,"1900-01-30",30,null,null,null,null,null,null,null,null,null,null,null,null,null,null,null,null,null,null,null,null,"1900-01-30",30,null,null,null,null,null,null,null,null,null,null,null,null,null,null,null,null,null,null,null,null,"1900-01-30",30,null,null,null,null,null,null,null,null,null,null,null,null,null,null,null,null,null,null,null,null,"1900-01-30",30,null,null,null,null,null,null,null,null,null,null,null,null,null,null,null,null,null,null,null,null,"1900-01-30",30,null,null,null,null,null,null,null,null,null,null,null,null,null,null,null,null,null,null,null,null,"1900-01-30",30,null,null,null,null,null,null,null,null,null,null,null,null,null,null,null,null,null,null,null,null,"1900-01-30",30,null,null,null,null,null,null,null,null,null,null,null,null,null,null,null,null,null,null,null,null,"1900-01-30",30,null,null,null,null,null,null,null,null,null,null,null,null,null,null,null,null,null,null,null,null,"1900-01-30",30,null,null,null,null,null,null,null,null,null,null,null,null,null,null,null,null,null,null,null,null,"1900-01-30",30,null,null,null,null,null,null,null,null,null,null,null,null,null,null,null,null,null,null,null,null,"1900-01-30",30,null,null,null,null,null,null,null,null,null,null,null,null,null,null,null,null,null,null,null,null,"1900-01-30",30,null,null,null,null,null,null,null,null,null,null,null,null,null,null,null,null,null,null,null,null,"1900-01-30",30,null,null,null,null,null,null,null,null,null,null,null,null,null,null,null,null,null,null,null,null,"1900-01-30",30,null,null,null,null,null,null,null,null,null,null,null,null,null,null,null,null,null,null,null,null,"1900-01-30",30,null,null,null,null,null,null,null,null,null,null,null,null,null,null,null,null,null,null,null,null,"1900-01-30",30,null,null,null,null,null,null,null,null,null,null,null,null,null,null,null,null,null,null,null,null,"1900-01-30",30,null,null,null,null,null,null,null,null,null,null,null,null,null,null,null,null,null,null,null,null,"1900-01-30",30,null,null,null,null,null,null,null,null,null,null,null,null,null,null,null,null,null,null,null,null,"1900-01-30",30,null,null,null,null,null,null,null,null,null,null,null,null,null,null,null,null,null,null,null,null,"1900-01-30",30,null,null,null,null,null,null,null,null,null,null,null,null,null,null,null,null,null,null,null,null,"1900-01-30",30,null,null,null,null,null,null,null,null,null,null,null,null,null,null,null,null,null,null,null,null,"1900-01-30",30,null,null,null,null,null,null,null,null,null,null,null,null,null,null,null,null,null,null,null,null,"1900-01-30",30,null,null,null,null,null,null,null,null,null,null,null,null,null,null,null,null,null,null,null,null,"1900-01-30",30,null,null,null,null,null,null,null,null,null,null,null,null,null,null,null,null,null,null,null,null,"1900-01-30",30,null,null,null,null,null,null,null,null,null,null,null,null,null,null,null,null,null,null,null,null,"1900-01-30",30,null,null,null,null,null,null,null,null,null,null,null,null,null,null,null,null,null,null,null,null,"1900-01-30",30,null,null,null,null,null,null,null,null,null,null,null,null,null,null,null,null,null,null,null,null,"1900-01-30",30,null,null,null,null,null,null,null,null,null,null,null,null,null,null,null,null,null,null,null,null,"1900-01-30",30,null,null,null,null,null,null,null,null,null,null,null,null,null,null,null,null,null,null,null,null,"1900-01-30",30,null,null,null,null,null,null,null,null,null,null,null,null,null,null,null,null,null,null,null,null,"1900-01-30",30,null,null,null,null,null,null,null,null,null,null,null,null,null,null,null,null,null,null,null,null,"1900-01-30",30,null,null,null,null,null,null,null,null,null,null,null,null,null,null,null,null,null,null,null,null,"1900-01-30",30,null,null,null,null,null,null,null,null,null,null,null,null,null,null,null,null,null,null,null,null,"1900-01-30",30,null,null,null,null,null,null,null,null,null,null,null,null,null,null,null,null,null,null,null,null,"1900-01-30",30,null,null,null,null,null,null,null,null,null,null,null,null,null,null,null,null,null,null,null,null,"1900-01-30",30,null,null,null,null,null,null,null,null,null,null,null,null,null,null,null,null,null,null,null,null,"1900-01-30",30,null,null,null,null,null,null,null,null,null,null,null,null,null,null,null,null,null,null,null,null,"1900-01-30",30,null,null,null,null,null,null,null,null,null,null,null,null,null,null,null,null,null,null,null,null,"1900-01-30",30,null,null,null,null,null,null,null,null,null,null,null,null,null,null,null,null,null,null,null,null,"1900-01-30",30,null,null,null,null,null,null,null,null,null,null,null,null,null,null,null,null,null,null,null,null,"1900-01-30",30,null,null,null,null,null,null,null,null,null,null,null,null,null,null,null,null,null,null,null,null,"1900-01-30",30,null,null,null,null,null,null,null,null,null,null,null,null,null,null,null,null,null,null,null,null,"1900-01-30",30,null,null,null,null,null,null,null,null,null,null,null,null,null,null,null,null,null,null,null,null,"1900-01-30",30,null,null,null,null,null,null,null,null,null,null,null,null,null,null,null,null,null,null,null,null,"1900-01-30",30,null,null,null,null,null,null,null,null,null,null,null,null,null,null,null,null,null,null,null,null,"1900-01-30",30,null,null,null,null,null,null,null,null,null,null,null,null,null,null,null,null,null,null,null,null,"1900-01-30",30,null,null,null,null,null,null,null,null,null,null,null,null,null,null,null,null,null,null,null,null,"1900-01-30",30,null,null,null,null,null,null,null,null,null,null,null,null,null,null,null,null,null,null,null,null,"1900-01-30",30,null,null,null,null,null,null,null,null,null,null,null,null,null,null,null,null,null,null,null,null,"1900-01-30",30,null,null,null,null,null,null,null,null,null,null,null,null,null,null,null,null,null,null,null,null,"1900-01-30",30,null,null,null,null,null,null,null,null,null,null,null,null,null,null,null,null,null,null,null,null,"1900-01-30",30,null,null,null,null,null,null,null,null,null,null,null,null,null,null,null,null,null,null,null,null,"1900-01-30",30,null,null,null,null,null,null,null,null,null,null,null,null,null,null,null,null,null,null,null,null,"1900-01-30",30,null,null,null,null,null,null,null,null,null,null,null,null,null,null,null,null,null,null,null,null,"1900-01-30",30,null,null,null,null,null,null,null,null,null,null,null,null,null,null,null,null,null,null,null,null,"1900-01-30",30,null,null,null,null,null,null,null,null,null,null,null,null,null,null,null,null,null,null,null,null,"1900-01-30",30]

{"sheet":"Full Vintage Planner","index":3,"n_rows":985,"n_cols":408,"rows_kept":985,"cut":false,"hidden":false,"merged":[[14,2,14,7],[14,8,14,10],[14,12,14,14],[14,16,14,18],[14,20,14,22],[14,24,14,26],[14,52,14,54],[14,56,14,58],[14,60,14,62],[14,64,14,66],[14,68,14,70],[14,72,14,74],[14,28,14,30],[14,32,14,34],[14,36,14,38],[14,40,14,42],[14,44,14,46],[14,48,14,50],[14,100,14,102],[14,104,14,106],[14,108,14,110],[14,112,14,114],[14,116,14,118],[14,120,14,122],[14,76,14,78],[14,80,14,82],[14,84,14,86],[14,88,14,90],[14,92,14,94],[14,96,14,98],[14,148,14,150],[14,152,14,154],[14,156,14,158],[14,160,14,162],[14,164,14,166],[14,168,14,170],[14,124,14,126],[14,128,14,130],[14,132,14,134],[14,136,14,138],[14,140,14,142],[14,144,14,146],[14,196,14,198],[14,200,14,202],[14,204,14,206],[14,208,14,210],[14,212,14,214],[14,216,14,218],[14,172,14,174],[14,176,14,178],[14,180,14,182],[14,184,14,186],[14,188,14,190],[14,192,14,194],[14,244,14,246],[14,248,14,250],[14,252,14,254],[14,256,14,258],[14,260,14,262],[14,264,14,266],[14,220,14,222],[14,224,14,226],[14,228,14,230],[14,232,14,234],[14,236,14,238],[14,240,14,242],[14,292,14,294],[14,296,14,298],[14,300,14,302],[14,304,14,306],[14,308,14,310],[14,312,14,314],[14,268,14,270],[14,272,14,274],[14,276,14,278],[14,280,14,282],[14,284,14,286],[14,288,14,290],[14,340,14,342],[14,344,14,346],[14,348,14,350],[14,352,14,354],[14,356,14,358],[14,360,14,362],[14,316,14,318],[14,320,14,322],[14,324,14,326],[14,328,14,330],[14,332,14,334],[14,336,14,338],[14,388,14,390],[14,392,14,394],[14,396,14,398],[14,400,14,402],[14,404,14,406],[14,408,14,410],[14,364,14,366],[14,368,14,370],[14,372,14,374],[14,376,14,378],[14,380,14,382],[14,384,14,386],[14,429,14,431],[14,432,14,434],[14,435,14,437],[14,438,14,440],[14,441,14,443],[14,444,14,446],[14,411,14,413],[14,414,14,416],[14,417,14,419],[14,420,14,422],[14,423,14,425],[14,426,14,428],[14,465,14,467],[14,468,14,470],[14,471,14,473],[14,474,14,476],[14,477,14,479],[14,480,14,482],[14,447,14,449],[14,450,14,452],[14,453,14,455],[14,456,14,458],[14,459,14,461],[14,462,14,464],[14,501,14,503],[14,504,14,506],[14,507,14,509],[14,510,14,512],[14,513,14,515],[14,516,14,518],[14,483,14,485],[14,486,14,488],[14,489,14,491],[14,492,14,494],[14,495,14,497],[14,498,14,500],[14,537,14,539],[14,540,14,542],[14,543,14,545],[14,546,14,548],[14,549,14,551],[14,552,14,554],[14,519,14,521],[14,522,14,524],[14,525,14,527],[14,528,14,530],[14,531,14,533],[14,534,14,536],[14,591,14,593],[14,573,14,575],[14,576,14,578],[14,579,14,581],[14,582,14,584],[14,585,14,587],[14,588,14,590],[14,555,14,557],[14,558,14,560],[14,561,14,563],[14,564,14,566],[14,567,14,569],[14,570,14,572]]}
[]
[]
[]
[]
[]
[]
[]
[null,"Start Date","2013-01-01"]
[null,"Refrigeration capacity",{"$f":"'Refrigeration & Weather'!C24","v":1200},"kWr"]
[]
[]
[]
[]
[null,null,null,null,null,null,null,null,1,null,null,null,2,null,null,null,3,null,null,null,4,null,null,null,5,null,null,null,6,null,null,null,7,null,null,null,8,null,null,null,9,null,null,null,10,null,null,null,11,null,null,null,12,null,null,null,13,null,null,null,14,null,null,null,15,null,null,null,16,null,null,null,17,null,null,null,18,null,null,null,19,null,null,null,20,null,null,null,21,null,null,null,22,null,null,null,23,null,null,null,24,null,null,null,25,null,null,null,26,null,null,null,27,null,null,null,28,null,null,null,29,null,null,null,30,null,null,null,31,null,null,null,32,null,null,null,33,null,null,null,34,null,null,null,35,null,null,null,36,null,null,null,37,null,null,null,38,null,null,null,39,null,null,null,40,null,null,null,41,null,null,null,42,null,null,null,43,null,null,null,44,null,null,null,45,null,null,null,46,null,null,null,47,null,null,null,48,null,null,null,49,null,null,null,50,null,null,null,51,null,null,null,52,null,null,null,53,null,null,null,54,null,null,null,55,null,null,null,56,null,null,null,57,null,null,null,58,null,null,null,59,null,null,null,60,null,null,null,61,null,null,null,62,null,null,null,63,null,null,null,64,null,null,null,65,null,null,null,66,null,null,null,67,null,null,null,68,null,null,null,69,null,null,null,70,null,null,null,71,null,null,null,72,null,null,null,73,null,null,null,74,null,null,null,75,null,null,null,76,null,null,null,77,null,null,null,78,null,null,null,79,null,null,null,80,null,null,null,81,null,null,null,82,null,null,null,83,null,null,null,84,null,null,null,85,null,null,null,86,null,null,null,87,null,null,null,88,null,null,null,89,null,null,null,90,null,null,null,91,null,null,null,92,null,null,null,93,null,null,null,94,null,null,null,95,null,null,null,96,null,null,null,97,null,null,null,98,null,null,null,99,null,null,null,100]
[null,null,"Overall Tank Farm",null,null,null,null,null,{"$f":"\"Fermenter \"&I14","v":"Fermenter 1"},null,null,null,{"$f":"\"Fermenter \"&M14","v":"Fermenter 2"},null,null,null,{"$f":"\"Fermenter \"&Q14","v":"Fermenter 3"},null,null,null,{"$f":"\"Fermenter \"&U14","v":"Fermenter 4"},null,null,null,{"$f":"\"Fermenter \"&Y14","v":"Fermenter 5"},null,null,null,{"$f":"\"Fermenter \"&AC14","v":"Fermenter 6"},null,null,null,{"$f":"\"Fermenter \"&AG14","v":"Fermenter 7"},null,null,null,{"$f":"\"Fermenter \"&AK14","v":"Fermenter 8"},null,null,null,{"$f":"\"Fermenter \"&AO14","v":"Fermenter 9"},null,null,null,{"$f":"\"Fermenter \"&AS14","v":"Fermenter 10"},null,null,null,{"$f":"\"Fermenter \"&AW14","v":"Fermenter 11"},null,null,null,{"$f":"\"Fermenter \"&BA14","v":"Fermenter 12"},null,null,null,{"$f":"\"Fermenter \"&BE14","v":"Fermenter 13"},null,null,null,{"$f":"\"Fermenter \"&BI14","v":"Fermenter 14"},null,null,null,{"$f":"\"Fermenter \"&BM14","v":"Fermenter 15"},null,null,null,{"$f":"\"Fermenter \"&BQ14","v":"Fermenter 16"},null,null,null,{"$f":"\"Fermenter \"&BU14","v":"Fermenter 17"},null,null,null,{"$f":"\"Fermenter \"&BY14","v":"Fermenter 18"},null,null,null,{"$f":"\"Fermenter \"&CC14","v":"Fermenter 19"},null,null,null,{"$f":"\"Fermenter \"&CG14","v":"Fermenter 20"},null,null,null,{"$f":"\"Fermenter \"&CK14","v":"Fermenter 21"},null,null,null,{"$f":"\"Fermenter \"&CO14","v":"Fermenter 22"},null,null,null,{"$f":"\"Fermenter \"&CS14","v":"Fermenter 23"},null,null,null,{"$f":"\"Fermenter \"&CW14","v":"Fermenter 24"},null,null,null,{"$f":"\"Fermenter \"&DA14","v":"Fermenter 25"},null,null,null,{"$f":"\"Fermenter \"&DE14","v":"Fermenter 26"},null,null,null,{"$f":"\"Fermenter \"&DI14","v":"Fermenter 27"},null,null,null,{"$f":"\"Fermenter \"&DM14","v":"Fermenter 28"},null,null,null,{"$f":"\"Fermenter \"&DQ14","v":"Fermenter 29"},null,null,null,{"$f":"\"Fermenter \"&DU14","v":"Fermenter 30"},null,null,null,{"$f":"\"Fermenter \"&DY14","v":"Fermenter 31"},null,null,null,{"$f":"\"Fermenter \"&EC14","v":"Fermenter 32"},null,null,null,{"$f":"\"Fermenter \"&EG14","v":"Fermenter 33"},null,null,null,{"$f":"\"Fermenter \"&EK14","v":"Fermenter 34"},null,null,null,{"$f":"\"Fermenter \"&EO14","v":"Fermenter 35"},null,null,null,{"$f":"\"Fermenter \"&ES14","v":"Fermenter 36"},null,null,null,{"$f":"\"Fermenter \"&EW14","v":"Fermenter 37"},null,null,null,{"$f":"\"Fermenter \"&FA14","v":"Fermenter 38"},null,null,null,{"$f":"\"Fermenter \"&FE14","v":"Fermenter 39"},null,null,null,{"$f":"\"Fermenter \"&FI14","v":"Fermenter 40"},null,null,null,{"$f":"\"Fermenter \"&FM14","v":"Fermenter 41"},null,null,null,{"$f":"\"Fermenter \"&FQ14","v":"Fermenter 42"},null,null,null,{"$f":"\"Fermenter \"&FU14","v":"Fermenter 43"},null,null,null,{"$f":"\"Fermenter \"&FY14","v":"Fermenter 44"},null,null,null,{"$f":"\"Fermenter \"&GC14","v":"Fermenter 45"},null,null,null,{"$f":"\"Fermenter \"&GG14","v":"Fermenter 46"},null,null,null,{"$f":"\"Fermenter \"&GK14","v":"Fermenter 47"},null,null,null,{"$f":"\"Fermenter \"&GO14","v":"Fermenter 48"},null,null,null,{"$f":"\"Fermenter \"&GS14","v":"Fermenter 49"},null,null,null,{"$f":"\"Fermenter \"&GW14","v":"Fermenter 50"},null,null,null,{"$f":"\"Fermenter \"&HA14","v":"Fermenter 51"},null,null,null,{"$f":"\"Fermenter \"&HE14","v":"Fermenter 52"},null,null,null,{"$f":"\"Fermenter \"&HI14","v":"Fermenter 53"},null,null,null,{"$f":"\"Fermenter \"&HM14","v":"Fermenter 54"},null,null,null,{"$f":"\"Fermenter \"&HQ14","v":"Fermenter 55"},null,null,null,{"$f":"\"Fermenter \"&HU14","v":"Fermenter 56"},null,null,null,{"$f":"\"Fermenter \"&HY14","v":"Fermenter 57"},null,null,null,{"$f":"\"Fermenter \"&IC14","v":"Fermenter 58"},null,null,null,{"$f":"\"Fermenter \"&IG14","v":"Fermenter 59"},null,null,null,{"$f":"\"Fermenter \"&IK14","v":"Fermenter 60"},null,null,null,{"$f":"\"Fermenter \"&IO14","v":"Fermenter 61"},null,null,null,{"$f":"\"Fermenter \"&IS14","v":"Fermenter 62"},null,null,null,{"$f":"\"Fermenter \"&IW14","v":"Fermenter 63"},null,null,null,{"$f":"\"Fermenter \"&JA14","v":"Fermenter 64"},null,null,null,{"$f":"\"Fermenter \"&JE14","v":"Fermenter 65"},null,null,null,{"$f":"\"Fermenter \"&JI14","v":"Fermenter 66"},null,null,null,{"$f":"\"Fermenter \"&JM14","v":"Fermenter 67"},null,null,null,{"$f":"\"Fermenter \"&JQ14","v":"Fermenter 68"},null,null,null,{"$f":"\"Fermenter \"&JU14","v":"Fermenter 69"},null,null,null,{"$f":"\"Fermenter \"&JY14","v":"Fermenter 70"},null,null,null,{"$f":"\"Fermenter \"&KC14","v":"Fermenter 71"},null,null,null,{"$f":"\"Fermenter \"&KG14","v":"Fermenter 72"},null,null,null,{"$f":"\"Fermenter \"&KK14","v":"Fermenter 73"},null,null,null,{"$f":"\"Fermenter \"&KO14","v":"Fermenter 74"},null,null,null,{"$f":"\"Fermenter \"&KS14","v":"Fermenter 75"},null,null,null,{"$f":"\"Fermenter \"&KW14","v":"Fermenter 76"},null,null,null,{"$f":"\"Fermenter \"&LA14","v":"Fermenter 77"},null,null,null,{"$f":"\"Fermenter \"&LE14","v":"Fermenter 78"},null,null,null,{"$f":"\"Fermenter \"&LI14","v":"Fermenter 79"},null,null,null,{"$f":"\"Fermenter \"&LM14","v":"Fermenter 80"},null,null,null,{"$f":"\"Fermenter \"&LQ14","v":"Fermenter 81"},null,null,null,{"$f":"\"Fermenter \"&LU14","v":"Fermenter 82"},null,null,null,{"$f":"\"Fermenter \"&LY14","v":"Fermenter 83"},null,null,null,{"$f":"\"Fermenter \"&MC14","v":"Fermenter 84"},null,null,null,{"$f":"\"Fermenter \"&MG14","v":"Fermenter 85"},null,null,null,{"$f":"\"Fermenter \"&MK14","v":"Fermenter 86"},null,null,null,{"$f":"\"Fermenter \"&MO14","v":"Fermenter 87"},null,null,null,{"$f":"\"Fermenter \"&MS14","v":"Fermenter 88"},null,null,null,{"$f":"\"Fermenter \"&MW14","v":"Fermenter 89"},null,null,null,{"$f":"\"Fermenter \"&NA14","v":"Fermenter 90"},null,null,null,{"$f":"\"Fermenter \"&NE14","v":"Fermenter 91"},null,null,null,{"$f":"\"Fermenter \"&NI14","v":"Fermenter 92"},null,null,null,{"$f":"\"Fermenter \"&NM14","v":"Fermenter 93"},null,null,null,{"$f":"\"Fermenter \"&NQ14","v":"Fermenter 94"},null,null,null,{"$f":"\"Fermenter \"&NU14","v":"Fermenter 95"},null,null,null,{"$f":"\"Fermenter \"&NY14","v":"Fermenter 96"},null,null,null,{"$f":"\"Fermenter \"&OC14","v":"Fermenter 97"},null,null,null,{"$f":"\"Fermenter \"&OG14","v":"Fermenter 98"},null,null,null,{"$f":"\"Fermenter \"&OK14","v":"Fermenter 99"},null,null,null,{"$f":"\"Fermenter \"&OO14","v":"Fermenter 100"}]
["Time Step","Date/Time","Ferment Refrigeration","Must Chill","Cold Settle","Total Refrigeratino","Refrigeration (kWe)","Refrigeration ($)","Baume","Refrigeration","Must Chill","Cold Settle","Baume","Refrigeration","Must Chill","Cold Settle","Baume","Refrigeration","Must Chill","Cold Settle","Baume","Refrigeration","Must Chill","Cold Settle","Baume","Refrigeration","Must Chill","Cold Settle","Baume","Refrigeration","Must Chill","Cold Settle","Baume","Refrigeration","Must Chill","Cold Settle","Baume","Refrigeration","Must Chill","Cold Settle","Baume","Refrigeration","Must Chill","Cold Settle","Baume","Refrigeration","Must Chill","Cold Settle","Baume","Refrigeration","Must Chill","Cold Settle","Baume","Refrigeration","Must Chill","Cold Settle","Baume","Refrigeration","Must Chill","Cold Settle","Baume","Refrigeration","Must Chill","Cold Settle","Baume","Refrigeration","Must Chill","Cold Settle","Baume","Refrigeration","Must Chill","Cold Settle","Baume","Refrigeration","Must Chill","Cold Settle","Baume","Refrigeration","Must Chill","Cold Settle","Baume","Refrigeration","Must Chill","Cold Settle","Baume","Refrigeration","Must Chill","Cold Settle","Baume","Refrigeration","Must Chill","Cold Settle","Baume","Refrigeration","Must Chill","Cold Settle","Baume","Refrigeration","Must Chill","Cold Settle","Baume","Refrigeration","Must Chill","Cold Settle","Baume","Refrigeration","Must Chill","Cold Settle","Baume","Refrigeration","Must Chill","Cold Settle","Baume","Refrigeration","Must Chill","Cold Settle","Baume","Refrigeration","Must Chill","Cold Settle","Baume","Refrigeration","Must Chill","Cold Settle","Baume","Refrigeration","Must Chill","Cold Settle","Baume","Refrigeration","Must Chill","Cold Settle","Baume","Refrigeration","Must Chill","Cold Settle","Baume","Refrigeration","Must Chill","Cold Settle","Baume","Refrigeration","Must Chill","Cold Settle","Baume","Refrigeration","Must Chill","Cold Settle","Baume","Refrigeration","Must Chill","Cold Settle","Baume","Refrigeration","Must Chill","Cold Settle","Baume","Refrigeration","Must Chill","Cold Settle","Baume","Refrigeration","Must Chill","Cold Settle","Baume","Refrigeration","Must Chill","Cold Settle","Baume","Refrigeration","Must Chill","Cold Settle","Baume","Refrigeration","Must Chill","Cold Settle","Baume","Refrigeration","Must Chill","Cold Settle","Baume","Refrigeration","Must Chill","Cold Settle","Baume","Refrigeration","Must Chill","Cold Settle","Baume","Refrigeration","Must Chill","Cold Settle","Baume","Refrigeration","Must Chill","Cold Settle","Baume","Refrigeration","Must Chill","Cold Settle","Baume","Refrigeration","Must Chill","Cold Settle","Baume","Refrigeration","Must Chill","Cold Settle","Baume","Refrigeration","Must Chill","Cold Settle","Baume","Refrigeration","Must Chill","Cold Settle","Baume","Refrigeration","Must Chill","Cold Settle","Baume","Refrigeration","Must Chill","Cold Settle","Baume","Refrigeration","Must Chill","Cold Settle","Baume","Refrigeration","Must Chill","Cold Settle","Baume","Refrigeration","Must Chill","Cold Settle","Baume","Refrigeration","Must Chill","Cold Settle","Baume","Refrigeration","Must Chill","Cold Settle","Baume","Refrigeration","Must Chill","Cold Settle","Baume","Refrigeration","Must Chill","Cold Settle","Baume","Refrigeration","Must Chill","Cold Settle","Baume","Refrigeration","Must Chill","Cold Settle","Baume","Refrigeration","Must Chill","Cold Settle","Baume","Refrigeration","Must Chill","Cold Settle","Baume","Refrigeration","Must Chill","Cold Settle","Baume","Refrigeration","Must Chill","Cold Settle","Baume","Refrigeration","Must Chill","Cold Settle","Baume","Refrigeration","Must Chill","Cold Settle","Baume","Refrigeration","Must Chill","Cold Settle","Baume","Refrigeration","Must Chill","Cold Settle","Baume","Refrigeration","Must Chill","Cold Settle","Baume","Refrigeration","Must Chill","Cold Settle","Baume","Refrigeration","Must Chill","Cold Settle","Baume","Refrigeration","Must Chill","Cold Settle","Baume","Refrigeration","Must Chill","Cold Settle","Baume","Refrigeration","Must Chill","Cold Settle","Baume","Refrigeration","Must Chill","Cold Settle","Baume","Refrigeration","Must Chill","Cold Settle","Baume","Refrigeration","Must Chill","Cold Settle","Baume","Refrigeration","Must Chill","Cold Settle","Baume","Refrigeration","Must Chill","Cold Settle","Baume","Refrigeration","Must Chill","Cold Settle","Baume","Refrigeration","Must Chill","Cold Settle","Baume","Refrigeration","Must Chill","Cold Settle","Baume","Refrigeration","Must Chill","Cold Settle","Baume","Refrigeration","Must Chill","Cold Settle","Baume","Refrigeration","Must Chill","Cold Settle","Baume","Refrigeration","Must Chill","Cold Settle","Baume","Refrigeration","Must Chill","Cold Settle","Baume","Refrigeration","Must Chill","Cold Settle","Baume","Refrigeration","Must Chill","Cold Settle","Baume","Refrigeration","Must Chill","Cold Settle","Baume","Refrigeration","Must Chill","Cold Settle","Baume","Refrigeration","Must Chill","Cold Settle","Baume","Refrigeration","Must Chill","Cold Settle","Baume","Refrigeration","Must Chill","Cold Settle","Baume","Refrigeration","Must Chill","Cold Settle","Baume","Refrigeration","Must Chill","Cold Settle","Baume","Refrigeration","Must Chill","Cold Settle"]
[0,{"$f":"C8+0/8","v":"2013-01-01"},{"$f":"J17+N17+R17+V17+Z17+AD17+AH17+AL17+AP17+AT17+AX17+BB17+BF17+BJ17+BN17+BR17+BV17+BZ17+CD17+CH17+CL17+CP17+CT17+CX17+DB17+DF17+DJ17+DN17+DR17+DV17+DZ17+ED17+EH17+EL17+EP17+ET17+EX17+FB17+FF17+FJ17+FN17+FR17+FV17+FZ17+GD17+GH17+GL17+GP17+GT17+GX17+HB17+HF17+HJ17+HN17+HR17+HV17+HZ17+ID17+IH17+IL17+IP17+IT17+IX17+JB17+JF17+JJ17+JN17+JR17+JV17+JZ17+KD17+KH17+KL17+KP17+KT17+KX17+LB17+LF17+LJ17+LN17+LR17+LV17+LZ17+MD17+MH17+ML17+MP17+MT17+MX17+NB17+NF17+NJ17+NN17+NR17+NV17+NZ17+OD17+OH17+OL17+OP17","v":0},{"$f":"K17+O17+S17+W17+AA17+AE17+AI17+AM17+AQ17+AU17+AY17+BC17+BG17+BK17+BO17+BS17+BW17+CA17+CE17+CI17+CM17+CQ17+CU17+CY17+DC17+DG17+DK17+DO17+DS17+DW17+EA17+EE17+EI17+EM17+EQ17+EU17+EY17+FC17+FG17+FK17+FO17+FS17+FW17+GA17+GE17+GI17+GM17+GQ17+GU17+GY17+HC17+HG17+HK17+HO17+HS17+HW17+IA17+IE17+II17+IM17+IQ17+IU17+IY17+JC17+JG17+JK17+JO17+JS17+JW17+KA17+KE17+KI17+KM17+KQ17+KU17+KY17+LC17+LG17+LK17+LO17+LS17+LW17+MA17+ME17+MI17+MM17+MQ17+MU17+MY17+NC17+NG17+NK17+NO17+NS17+NW17+OA17+OE17+OI17+OM17+OQ17","v":0},{"$f":"L17+P17+T17+X17+AB17+AF17+AJ17+AN17+AR17+AV17+AZ17+BD17+BH17+BL17+BP17+BT17+BX17+CB17+CF17+CJ17+CN17+CR17+CV17+CZ17+DD17+DH17+DL17+DP17+DT17+DX17+EB17+EF17+EJ17+EN17+ER17+EV17+EZ17+FD17+FH17+FL17+FP17+FT17+FX17+GB17+GF17+GJ17+GN17+GR17+GV17+GZ17+HD17+HH17+HL17+HP17+HT17+HX17+IB17+IF17+IJ17+IN17+IR17+IV17+IZ17+JD17+JH17+JL17+JP17+JT17+JX17+KB17+KF17+KJ17+KN17+KR17+KV17+KZ17+LD17+LH17+LL17+LP17+LT17+LX17+MB17+MF17+MJ17+MN17+MR17+MV17+MZ17+ND17+NH17+NL17+NP17+NT17+NX17+OB17+OF17+OJ17+ON17+OR17","v":0},{"$f":"SUM(C17:E17)","v":0},{"$f":"F17/'Refrigeration & Weather'!$C$22","v":0},{"$f":"G17*3*'Refrigeration & Weather'!$C$23","v":0}]
[1,{"$f":"B17+1/8","v":"2013-01-01T03:00:00"},0,{"$f":"K18+O18+S18+W18+AA18+AE18+AI18+AM18+AQ18+AU18+AY18+BC18+BG18+BK18+BO18+BS18+BW18+CA18+CE18+CI18+CM18+CQ18+CU18+CY18+DC18+DG18+DK18+DO18+DS18+DW18+EA18+EE18+EI18+EM18+EQ18+EU18+EY18+FC18+FG18+FK18+FO18+FS18+FW18+GA18+GE18+GI18+GM18+GQ18+GU18+GY18+HC18+HG18+HK18+HO18+HS18+HW18+IA18+IE18+II18+IM18+IQ18+IU18+IY18+JC18+JG18+JK18+JO18+JS18+JW18+KA18+KE18+KI18+KM18+KQ18+KU18+KY18+LC18+LG18+LK18+LO18+LS18+LW18+MA18+ME18+MI18+MM18+MQ18+MU18+MY18+NC18+NG18+NK18+NO18+NS18+NW18+OA18+OE18+OI18+OM18+OQ18","v":0},{"$f":"L18+P18+T18+X18+AB18+AF18+AJ18+AN18+AR18+AV18+AZ18+BD18+BH18+BL18+BP18+BT18+BX18+CB18+CF18+CJ18+CN18+CR18+CV18+CZ18+DD18+DH18+DL18+DP18+DT18+DX18+EB18+EF18+EJ18+EN18+ER18+EV18+EZ18+FD18+FH18+FL18+FP18+FT18+FX18+GB18+GF18+GJ18+GN18+GR18+GV18+GZ18+HD18+HH18+HL18+HP18+HT18+HX18+IB18+IF18+IJ18+IN18+IR18+IV18+IZ18+JD18+JH18+JL18+JP18+JT18+JX18+KB18+KF18+KJ18+KN18+KR18+KV18+KZ18+LD18+LH18+LL18+LP18+LT18+LX18+MB18+MF18+MJ18+MN18+MR18+MV18+MZ18+ND18+NH18+NL18+NP18+NT18+NX18+OB18+OF18+OJ18+ON18+OR18","v":0},{"$f":"SUM(C18:E18)","v":0},{"$f":"F18/'Refrigeration & Weather'!$C$22","v":0},{"$f":"G18*3*'Refrigeration & Weather'!$C$23","v":0}]
[2,{"$f":"B18+1/8","v":"2013-01-01T06:00:00"},0,0,0,0,{"$f":"F19/'Refrigeration & Weather'!$C$22","v":0},{"$f":"G19*3*'Refrigeration & Weather'!$C$23","v":0}]
[3,{"$f":"B19+1/8","v":"2013-01-01T09:00:00"},0,1229.4117647058824,0,1229.4117647058824,{"$f":"F20/'Refrigeration & Weather'!$C$22","v":552.54461335095846},{"$f":"G20*3*'Refrigeration & Weather'!$C$23","v":414.40846001321881},null,null,409.80392156862752,null,null,null,409.80392156862752,null,null,null,409.80392156862752]
[4,"2013-01-01T12:00:00",0,819.60784313725503,0,819.60784313725503,{"$f":"F21/'Refrigeration & Weather'!$C$22","v":368.36307556730571},{"$f":"G21*3*'Refrigeration & Weather'!$C$23","v":276.27230667547929},null,null,null,null,null,null,409.80392156862752,null,null,null,409.80392156862752]
[5,"2013-01-01T15:00:00",0,409.80392156862752,0,409.80392156862752,{"$f":"F22/'Refrigeration & Weather'!$C$22","v":184.18153778365286},{"$f":"G22*3*'Refrigeration & Weather'!$C$23","v":138.13615333773964},null,null,null,null,null,null,null,null,null,null,409.80392156862752]
[6,"2013-01-01T18:00:00",0,409.80392156862752,0,409.80392156862752,{"$f":"F23/'Refrigeration & Weather'!$C$22","v":184.18153778365286},{"$f":"G23*3*'Refrigeration & Weather'!$C$23","v":138.13615333773964},null,null,null,null,null,null,null,null,null,null,409.80392156862752]
[7,"2013-01-01T21:00:00",0,0,0,0,{"$f":"F24/'Refrigeration & Weather'!$C$22","v":0},{"$f":"G24*3*'Refrigeration & Weather'!$C$23","v":0}]
[8,"2013-01-02",0,0,0,0,{"$f":"F25/'Refrigeration & Weather'!$C$22","v":0},{"$f":"G25*3*'Refrigeration & Weather'!$C$23","v":0}]
[9,"2013-01-02T03:00:00",0,0,0,0,{"$f":"F26/'Refrigeration & Weather'!$C$22","v":0},{"$f":"G26*3*'Refrigeration & Weather'!$C$23","v":0}]
[10,"2013-01-02T06:00:00",0,0,0,0,{"$f":"F27/'Refrigeration & Weather'!$C$22","v":0},{"$f":"G27*3*'Refrigeration & Weather'!$C$23","v":0}]
[11,"2013-01-02T09:00:00",0,0,28.48338844263084,28.48338844263084,{"$f":"F28/'Refrigeration & Weather'!$C$22","v":12.801522895564425},{"$f":"G28*3*'Refrigeration & Weather'!$C$23","v":9.6011421716733185},null,null,null,4.5682784119428472,null,null,null,8.4148407820781657,null,null,null,15.500269248609827]
[12,"2013-01-02T12:00:00",0,0,28.48338844263084,28.48338844263084,{"$f":"F29/'Refrigeration & Weather'!$C$22","v":12.801522895564425},{"$f":"G29*3*'Refrigeration & Weather'!$C$23","v":9.6011421716733185},null,null,null,4.5682784119428472,null,null,null,8.4148407820781657,null,null,null,15.500269248609827]
[13,"2013-01-02T15:00:00",0,0,28.48338844263084,28.48338844263084,{"$f":"F30/'Refrigeration & Weather'!$C$22","v":12.801522895564425},{"$f":"G30*3*'Refrigeration & Weather'!$C$23","v":9.6011421716733185},null,null,null,4.5682784119428472,null,null,null,8.4148407820781657,null,null,null,15.500269248609827]
[14,"2013-01-02T18:00:00",0,0,28.48338844263084,28.48338844263084,{"$f":"F31/'Refrigeration & Weather'!$C$22","v":12.801522895564425},{"$f":"G31*3*'Refrigeration & Weather'!$C$23","v":9.6011421716733185},null,null,null,4.5682784119428472,null,null,null,8.4148407820781657,null,null,null,15.500269248609827]
[15,"2013-01-02T21:00:00",0,0,28.48338844263084,28.48338844263084,{"$f":"F32/'Refrigeration & Weather'!$C$22","v":12.801522895564425},{"$f":"G32*3*'Refrigeration & Weather'!$C$23","v":9.6011421716733185},null,null,null,4.5682784119428472,null,null,null,8.4148407820781657,null,null,null,15.500269248609827]
[16,"2013-01-03",0,0,28.48338844263084,28.48338844263084,{"$f":"F33/'Refrigeration & Weather'!$C$22","v":12.801522895564425},{"$f":"G33*3*'Refrigeration & Weather'!$C$23","v":9.6011421716733185},null,null,null,4.5682784119428472,null,null,null,8.4148407820781657,null,null,null,15.500269248609827]
[17,"2013-01-03T03:00:00",0,0,28.48338844263084,28.48338844263084,{"$f":"F34/'Refrigeration & Weather'!$C$22","v":12.801522895564425},{"$f":"G34*3*'Refrigeration & Weather'!$C$23","v":9.6011421716733185},null,null,null,4.5682784119428472,null,null,null,8.4148407820781657,null,null,null,15.500269248609827]
[18,"2013-01-03T06:00:00",0,0,28.48338844263084,28.48338844263084,{"$f":"F35/'Refrigeration & Weather'!$C$22","v":12.801522895564425},{"$f":"G35*3*'Refrigeration & Weather'!$C$23","v":9.6011421716733185},null,null,null,4.5682784119428472,null,null,null,8.4148407820781657,null,null,null,15.500269248609827]
[19,"2013-01-03T09:00:00",0,0,28.48338844263084,28.48338844263084,{"$f":"F36/'Refrigeration & Weather'!$C$22","v":12.801522895564425},{"$f":"G36*3*'Refrigeration & Weather'!$C$23","v":9.6011421716733185},null,null,null,4.5682784119428472,null,null,null,8.4148407820781657,null,null,null,15.500269248609827]
[20,"2013-01-03T12:00:00",0,0,28.48338844263084,28.48338844263084,{"$f":"F37/'Refrigeration & Weather'!$C$22","v":12.801522895564425},{"$f":"G37*3*'Refrigeration & Weather'!$C$23","v":9.6011421716733185},null,null,null,4.5682784119428472,null,null,null,8.4148407820781657,null,null,null,15.500269248609827]
[21,"2013-01-03T15:00:00",0,0,28.48338844263084,28.48338844263084,{"$f":"F38/'Refrigeration & Weather'!$C$22","v":12.801522895564425},{"$f":"G38*3*'Refrigeration & Weather'!$C$23","v":9.6011421716733185},null,null,null,4.5682784119428472,null,null,null,8.4148407820781657,null,null,null,15.500269248609827]
[22,"2013-01-03T18:00:00",0,0,28.48338844263084,28.48338844263084,{"$f":"F39/'Refrigeration & Weather'!$C$22","v":12.801522895564425},{"$f":"G39*3*'Refrigeration & Weather'!$C$23","v":9.6011421716733185},null,null,null,4.5682784119428472,null,null,null,8.4148407820781657,null,null,null,15.500269248609827]
[23,"2013-01-03T21:00:00",0,0,28.48338844263084,28.48338844263084,{"$f":"F40/'Refrigeration & Weather'!$C$22","v":12.801522895564425},{"$f":"G40*3*'Refrigeration & Weather'!$C$23","v":9.6011421716733185},null,null,null,4.5682784119428472,null,null,null,8.4148407820781657,null,null,null,15.500269248609827]
[24,"2013-01-04",0,0,28.48338844263084,28.48338844263084,{"$f":"F41/'Refrigeration & Weather'!$C$22","v":12.801522895564425},{"$f":"G41*3*'Refrigeration & Weather'!$C$23","v":9.6011421716733185},null,null,null,4.5682784119428472,null,null,null,8.4148407820781657,null,null,null,15.500269248609827]
[25,"2013-01-04T03:00:00",0,0,28.48338844263084,28.48338844263084,{"$f":"F42/'Refrigeration & Weather'!$C$22","v":12.801522895564425},{"$f":"G42*3*'Refrigeration & Weather'!$C$23","v":9.6011421716733185},null,null,null,4.5682784119428472,null,null,null,8.4148407820781657,null,null,null,15.500269248609827]
[26,"2013-01-04T06:00:00",0,0,28.48338844263084,28.48338844263084,{"$f":"F43/'Refrigeration & Weather'!$C$22","v":12.801522895564425},{"$f":"G43*3*'Refrigeration & Weather'!$C$23","v":9.6011421716733185},null,null,null,4.5682784119428472,null,null,null,8.4148407820781657,null,null,null,15.500269248609827]
[27,"2013-01-04T09:00:00",0,0,28.48338844263084,28.48338844263084,{"$f":"F44/'Refrigeration & Weather'!$C$22","v":12.801522895564425},{"$f":"G44*3*'Refrigeration & Weather'!$C$23","v":9.6011421716733185},null,null,null,4.5682784119428472,null,null,null,8.4148407820781657,null,null,null,15.500269248609827]
[28,"2013-01-04T12:00:00",10.876484788069904,0,0,10.876484788069904,{"$f":"F45/'Refrigeration & Weather'!$C$22","v":4.8883077699190585},{"$f":"G45*3*'Refrigeration & Weather'!$C$23","v":3.6662308274392936},10.200000000000001,1.6315280042653024,null,null,13.133333333333331,3.1555652932793117,null,null,11.466666666666665,6.0893914905252897]
[29,"2013-01-04T15:00:00",12.205687143158006,0,0,12.205687143158006,{"$f":"F46/'Refrigeration & Weather'!$C$22","v":5.4857020868125881},{"$f":"G46*3*'Refrigeration & Weather'!$C$23","v":4.1142765651094413},10.08824342451501,1.6213130982862276,null,null,13.059804853484746,2.6906294444419578,null,null,11.361167895021374,7.8937446004298195]
[30,"2013-01-04T18:00:00",20.7034103858436,0,0,20.7034103858436,{"$f":"F47/'Refrigeration & Weather'!$C$22","v":9.304903544199373},{"$f":"G47*3*'Refrigeration & Weather'!$C$23","v":6.9786776581495298},10.004497256446175,2.5248354278601579,null,null,13.002017381672751,4.2199077941008802,null,null,11.253926243364601,13.958667163882563]
[31,"2013-01-04T21:00:00",28.20744959862105,0,0,28.20744959862105,{"$f":"F48/'Refrigeration & Weather'!$C$22","v":12.677505437582496},{"$f":"G48*3*'Refrigeration & Weather'!$C$23","v":9.5081290781868724},9.8576599474149873,2.5190562213878502,null,null,12.888316949664071,5.2140237525241808,null,null,11.036574857890562,20.47436962470902]
[32,"2013-01-05",59.277301909984814,0,0,59.277301909984814,{"$f":"F49/'Refrigeration & Weather'!$C$22","v":26.641484004487562},{"$f":"G49*3*'Refrigeration & Weather'!$C$23","v":19.981113003365671},9.5479511394134615,5.4666055336777264,null,null,12.684824252327005,9.1664432276750993,null,null,10.558364922653183,44.644253148631989]
[33,"2013-01-05T03:00:00",86.729566555573996,0,0,86.729566555573996,{"$f":"F50/'Refrigeration & Weather'!$C$22","v":38.979580474415286},{"$f":"G50*3*'Refrigeration & Weather'!$C$23","v":29.234685355811465},9.0461395530548074,6.356401760050991,null,null,12.346655164393056,11.589529573070767,null,null,9.5941509906694797,68.783635222452233]
[34,"2013-01-05T06:00:00",93.746308564431587,0,0,93.746308564431587,{"$f":"F51/'Refrigeration & Weather'!$C$22","v":42.133172388508584},{"$f":"G51*3*'Refrigeration & Weather'!$C$23","v":31.599879291381438},8.5607569238200476,6.5814279688418278,null,null,11.786324174141416,17.905060171631078,null,null,8.5306632534463471,69.259820423958686]
[35,"2013-01-05T09:00:00",86.928032949617347,0,0,86.928032949617347,{"$f":"F52/'Refrigeration & Weather'!$C$22","v":39.068778853760612},{"$f":"G52*3*'Refrigeration & Weather'!$C$23","v":29.301584140320458},8.0724705221152053,5.9224419346197781,null,null,11.206434374556395,14.936461894509009,null,null,7.5067327636732006,66.069129120488569]
[36,"2013-01-05T12:00:00",90.244414411445177,0,0,90.244414411445177,{"$f":"F53/'Refrigeration & Weather'!$C$22","v":40.559287375930424},{"$f":"G53*3*'Refrigeration & Weather'!$C$23","v":30.419465531947818},7.5954819523112302,6.4495286631488185,null,null,10.706605866706816,15.078558790085163,null,null,6.4743921228391867,68.716326958211198]
[37,"2013-01-05T15:00:00",86.125983990105141,0,0,86.125983990105141,{"$f":"F54/'Refrigeration & Weather'!$C$22","v":38.708307411283215},{"$f":"G54*3*'Refrigeration & Weather'!$C$23","v":29.031230558462411},7.1319222953677182,5.6651140782288829,null,null,10.160543753783294,14.977432280768545,null,null,5.4477050809701204,65.483437631107719]
[38,"2013-01-05T18:00:00",88.210624471889361,0,0,88.210624471889361,{"$f":"F55/'Refrigeration & Weather'!$C$22","v":39.645224481748031},{"$f":"G55*3*'Refrigeration & Weather'!$C$23","v":29.733918361311023},6.6821861581450523,6.1825886689748479,null,null,9.5529017134856904,17.793991073307168,null,null,4.4629141469600553,64.234044729607348]
[39,"2013-01-05T21:00:00",76.523575171564843,0,0,76.523575171564843,{"$f":"F56/'Refrigeration & Weather'!$C$22","v":34.392618054635889},{"$f":"G56*3*'Refrigeration & Weather'!$C$23","v":25.794463540976917},6.2465895724617635,5.3919206038345511,null,null,8.977258957799128,14.621838584117329,null,null,3.5574579116416647,56.509815983612967]
[40,"2013-01-06",91.3585070419917,0,0,91.3585070419917,{"$f":"F57/'Refrigeration & Weather'!$C$22","v":41.060003164940099},{"$f":"G57*3*'Refrigeration & Weather'!$C$23","v":30.795002373705074},5.8254096588941771,5.9039347182296549,null,null,7.8197527877124511,33.397306824246414,null,null,2.7561322335633425,52.05726549951563]
[41,"2013-01-06T03:00:00",68.146798457881047,0,0,68.146798457881047,{"$f":"F58/'Refrigeration & Weather'!$C$22","v":30.627774587811711},{"$f":"G58*3*'Refrigeration & Weather'!$C$23","v":22.970830940858782},5.4188823879198225,5.108596566769295,null,null,6.9777963760209705,20.170032444781462,null,null,2.069053373770815,42.868169446330292]
[42,"2013-01-06T06:00:00",61.847417108975819,0,0,61.847417108975819,{"$f":"F59/'Refrigeration & Weather'!$C$22","v":27.796591959090261},{"$f":"G59*3*'Refrigeration & Weather'!$C$23","v":20.847443969317695},5.0271993974649316,5.6167917273466044,null,null,6.3538592557176097,17.804028982521992,null,null,1.4945154610790425,38.426596399107218]
[43,"2013-01-06T09:00:00",49.870576647376794,0,0,49.870576647376794,{"$f":"F60/'Refrigeration & Weather'!$C$22","v":22.413742313427775},{"$f":"G60*3*'Refrigeration & Weather'!$C$23","v":16.810306735070832},4.6505050033529942,4.8185441221113159,null,null,5.7882500680109299,14.789107601336658,null,null,1.0229659461234411,30.262924923928818]
[44,"2013-01-06T12:00:00",47.088652048468425,0,0,47.088652048468425,{"$f":"F61/'Refrigeration & Weather'!$C$22","v":21.16343912290716},{"$f":"G61*3*'Refrigeration & Weather'!$C$23","v":15.872579342180369},4.2888935316899097,5.3247917329871592,null,null,5.2924952559168421,14.340781319660445,null,null,0.64055228821398003,27.42307899582082]
[45,"2013-01-06T15:00:00",37.421018611167767,0,0,37.421018611167767,{"$f":"F62/'Refrigeration & Weather'!$C$22","v":16.81843533086192},{"$f":"G62*3*'Refrigeration & Weather'!$C$23","v":12.613826498146441},3.9424070818736667,4.5256028049051986,null,null,4.8458297525670213,11.832696366020368,null,null,0.33215446033724977,21.062719440242205]
[46,"2013-01-06T18:00:00",38.570890468951418,0,0,38.570890468951418,{"$f":"F63/'Refrigeration & Weather'!$C$22","v":17.335231671438841},{"$f":"G63*3*'Refrigeration & Weather'!$C$23","v":13.001423753579131},3.6110338287711055,5.0319494625016086,null,null,4.3905868295094237,13.595805375114294,null,null,8.3687776741614622E-2,19.943135631335512]
[47,"2013-01-06T21:00:00",31.737914510425643,0,0,31.737914510425643,{"$f":"F64/'Refrigeration & Weather'!$C$22","v":14.26423124064074},{"$f":"G64*3*'Refrigeration & Weather'!$C$23","v":10.698173430480555},3.2947069670609657,4.2339219084055753,null,null,3.9054490975076996,12.42497082324666,null,null,-0.11695179925073232,15.079021778773406]
[48,"2013-01-07",32.602976424213878,0,0,32.602976424213878,{"$f":"F65/'Refrigeration & Weather'!$C$22","v":14.65302311200624},{"$f":"G65*3*'Refrigeration & Weather'!$C$23","v":10.98976733400468},2.9933043884591277,4.7425002566966725,null,null,3.4551390060918421,12.66060347233566,null,null,-0.27973160425697935,15.199872695181547]
[49,"2013-01-07T03:00:00",25.822679181014458,0,0,25.822679181014458,{"$f":"F66/'Refrigeration & Weather'!$C$22","v":11.605698508321106},{"$f":"G66*3*'Refrigeration & Weather'!$C$23","v":8.7042738812408302},2.706649163291043,3.9477673037239489,null,null,3.0434015659178653,10.540765532118494,null,null,-0.41263752859773428,11.334146345172016]
[50,"2013-01-07T06:00:00",27.589316245961186,0,0,27.589316245961186,{"$f":"F67/'Refrigeration & Weather'!$C$22","v":12.399692694814018},{"$f":"G67*3*'Refrigeration & Weather'!$C$23","v":9.2997695211105125},2.4345108720833233,4.4606794172152897,null,null,2.6678622631942854,10.885202456518561,null,null,-0.52195748504327877,12.243434372227334]
[51,"2013-01-07T09:00:00",21.546015220199966,0,0,21.546015220199966,{"$f":"F68/'Refrigeration & Weather'!$C$22","v":9.68360234615729},{"$f":"G68*3*'Refrigeration & Weather'!$C$23","v":7.2627017596179675},2.1766078016428727,3.6712789530351504,null,null,2.3262268274051716,8.8812720888426409,null,null,-0.61259390836837169,8.9934641783221743]
[52,"2013-01-07T12:00:00",23.908094286239919,0,0,23.908094286239919,{"$f":"F69/'Refrigeration & Weather'!$C$22","v":10.745210915164011},{"$f":"G69*3*'Refrigeration & Weather'!$C$23","v":8.0589081863730083},1.9326099852905494,4.1904654543068283,null,null,2.0162508412074494,9.3364724618010246,null,null,-0.68835285855678208,10.381156370132066]
[53,"2013-01-07T15:00:00",18.353157383611119,0,0,18.353157383611119,{"$f":"F70/'Refrigeration & Weather'!$C$22","v":8.248610060049943},{"$f":"G70*3*'Refrigeration & Weather'!$C$23","v":6.1864575450374577},1.7021430308833627,3.4082090716932365,null,null,1.7356813660268844,7.4424028075893691,null,null,-0.75218862107730722,7.5025455043285145]
[54,"2013-01-07T18:00:00",21.121897916146679,0,0,21.121897916146679,{"$f":"F71/'Refrigeration & Weather'!$C$22","v":9.4929878274816559},{"$f":"G71*3*'Refrigeration & Weather'!$C$23","v":7.1197408706112419},1.484792645687844,3.9353234377928938,null,null,1.4822564308341035,8.0074525529184761,null,null,-0.80640035116727826,9.1791219254353074]
[55,"2013-01-07T21:00:00",15.910243694363338,0,0,15.910243694363338,{"$f":"F72/'Refrigeration & Weather'!$C$22","v":7.1506713233093668},{"$f":"G72*3*'Refrigeration & Weather'!$C$23","v":5.3630034924820249},1.2801097367789702,3.1616813602259972,null,null,1.2537307110717899,6.2223774145107171,null,null,-0.85278547794533299,6.5261849196266226]
[56,"2013-01-08",18.972128833130014,0,0,18.972128833130014,{"$f":"F73/'Refrigeration & Weather'!$C$22","v":8.5267994755640526},{"$f":"G73*3*'Refrigeration & Weather'!$C$23","v":6.395099606673039},1.0876159418579456,3.6979904446361194,null,null,1.047909206580085,6.8940992339188512,null,null,-0.89275731893509525,8.3800391545750443]
[57,"2013-01-08T03:00:00",14.013119701073393,0,0,14.013119701073393,{"$f":"F74/'Refrigeration & Weather'!$C$22","v":6.2980313263251215},{"$f":"G74*3*'Refrigeration & Weather'!$C$23","v":4.7235234947438407},0.90680943003593195,2.9340118537126445,null,null,0.86267962879212257,5.2118514413624251,null,null,-0.92743443269247572,5.8672564059983232]
[58,"2013-01-08T06:00:00",17.294270877943731,0,0,17.294270877943731,{"$f":"F75/'Refrigeration & Weather'!$C$22","v":7.7727060125589817},{"$f":"G75*3*'Refrigeration & Weather'!$C$23","v":5.8295295094192365},0.73717080623082887,3.4803391334561433,null,null,0.69603909768089156,5.981253034742398,null,null,-0.95770824657787734,7.8326787097451902]
[59,"2013-01-08T09:00:00",12.52652448889825,0,0,12.52652448889825,{"$f":"F76/'Refrigeration & Weather'!$C$22","v":5.6298986466958434},{"$f":"G76*3*'Refrigeration & Weather'!$C$23","v":4.2224239850218828},0.57816895646230593,2.7266201287370593,null,null,0.54611350668937886,4.3905655066093816,null,null,-0.98429423536875804,5.4093388535518088]
[60,"2013-01-08T12:00:00",15.975103862863724,0,0,15.975103862863724,{"$f":"F77/'Refrigeration & Weather'!$C$22","v":7.1798219608376304},{"$f":"G77*3*'Refrigeration & Weather'!$C$23","v":5.3848664706282232},0.42926668370762894,3.2833387485216816,null,null,0.41116948192900199,5.2447873507308485,null,null,-1.0077707413064356,7.4469777636111942]
[61,"2013-01-08T15:00:00",11.354277902382256,0,0,11.354277902382256,{"$f":"F78/'Refrigeration & Weather'!$C$22","v":5.1030462482616885},{"$f":"G78*3*'Refrigeration & Weather'!$C$23","v":3.8272846861962666},0.28992600355694437,2.5400394598565912,null,null,0.28961971390593266,3.731882141639784,null,null,-1.0286085361553781,5.0823563008858805]
[62,"2013-01-08T18:00:00",14.9319976763502,0,0,14.9319976763502,{"$f":"F79/'Refrigeration & Weather'!$C$22","v":6.711010191618068},{"$f":"G79*3*'Refrigeration & Weather'!$C$23","v":5.0332576437135508},0.15961299363649153,3.1071111662521416,null,null,0.18002283796783661,4.6568203131916688,null,null,-1.0471934461825945,7.1680661969063895]
[63,"2013-01-08T21:00:00",10.424820316779758,0,0,10.424820316779758,{"$f":"F80/'Refrigeration & Weather'!$C$22","v":4.6853125019234874},{"$f":"G80*3*'Refrigeration & Weather'!$C$23","v":3.5139843764426155},3.7802118380438739E-2,2.3740132881194076,null,null,8.107914834780959E-2,3.2077465620002266,null,null,-1.0638437666359866,4.8430604666601234]
[64,"2013-01-09",{"$f":"J81+N81+R81+V81+Z81+AD81+AH81+AL81+AP81+AT81+AX81+BB81+BF81+BJ81+BN81+BR81+BV81+BZ81+CD81+CH81+CL81+CP81+CT81+CX81+DB81+DF81+DJ81+DN81+DR81+DV81+DZ81+ED81+EH81+EL81+EP81+ET81+EX81+FB81+FF81+FJ81+FN81+FR81+FV81+FZ81+GD81+GH81+GL81+GP81+GT81+GX81+HB81+HF81+HJ81+HN81+HR81+HV81+HZ81+ID81+IH81+IL81+IP81+IT81+IX81+JB81+JF81+JJ81+JN81+JR81+JV81+JZ81+KD81+KH81+KL81+KP81+KT81+KX81+LB81+LF81+LJ81+LN81+LR81+LV81+LZ81+MD81+MH81+ML81+MP81+MT81+MX81+NB81+NF81+NJ81+NN81+NR81+NV81+NZ81+OD81+OH81+OL81+OP81","v":14.102650020096643},0,0,14.102650020096643,{"$f":"F81/'Refrigeration & Weather'!$C$22","v":6.3382696719535483},{"$f":"G81*3*'Refrigeration & Weather'!$C$23","v":4.7537022539651614},-7.6020020999319232E-2,2.9510606825779755,null,null,-8.3766358471717567E-3,4.1899626341680394,null,null,-1.0788237475216216,6.9616267033506292]
[65,"2013-01-09T03:00:00",9.6837310316736414,{"$f":"K82+O82+S82+W82+AA82+AE82+AI82+AM82+AQ82+AU82+AY82+BC82+BG82+BK82+BO82+BS82+BW82+CA82+CE82+CI82+CM82+CQ82+CU82+CY82+DC82+DG82+DK82+DO82+DS82+DW82+EA82+EE82+EI82+EM82+EQ82+EU82+EY82+FC82+FG82+FK82+FO82+FS82+FW82+GA82+GE82+GI82+GM82+GQ82+GU82+GY82+HC82+HG82+HK82+HO82+HS82+HW82+IA82+IE82+II82+IM82+IQ82+IU82+IY82+JC82+JG82+JK82+JO82+JS82+JW82+KA82+KE82+KI82+KM82+KQ82+KU82+KY82+LC82+LG82+LK82+LO82+LS82+LW82+MA82+ME82+MI82+MM82+MQ82+MU82+MY82+NC82+NG82+NK82+NO82+NS82+NW82+OA82+OE82+OI82+OM82+OQ82","v":0},{"$f":"L82+P82+T82+X82+AB82+AF82+AJ82+AN82+AR82+AV82+AZ82+BD82+BH82+BL82+BP82+BT82+BX82+CB82+CF82+CJ82+CN82+CR82+CV82+CZ82+DD82+DH82+DL82+DP82+DT82+DX82+EB82+EF82+EJ82+EN82+ER82+EV82+EZ82+FD82+FH82+FL82+FP82+FT82+FX82+GB82+GF82+GJ82+GN82+GR82+GV82+GZ82+HD82+HH82+HL82+HP82+HT82+HX82+IB82+IF82+IJ82+IN82+IR82+IV82+IZ82+JD82+JH82+JL82+JP82+JT82+JX82+KB82+KF82+KJ82+KN82+KR82+KV82+KZ82+LD82+LH82+LL82+LP82+LT82+LX82+MB82+MF82+MJ82+MN82+MR82+MV82+MZ82+ND82+NH82+NL82+NP82+NT82+NX82+OB82+OF82+OJ82+ON82+OR82","v":0},{"$f":"SUM(C82:E82)","v":9.6837310316736414},{"$f":"F82/'Refrigeration & Weather'!$C$22","v":4.3522386659207388},{"$f":"G82*3*'Refrigeration & Weather'!$C$23","v":3.2641789994405541},-0.18235153452635045,2.2276502404313918,null,null,-8.9384494891159363E-2,2.7920426969237679,null,null,-1.0923541029344237,4.6640380943184816]
[66,"2013-01-09T06:00:00",13.43943569669398,0,0,13.43943569669398,{"$f":"F83/'Refrigeration & Weather'!$C$22","v":6.0401958187388685},{"$f":"G83*3*'Refrigeration & Weather'!$C$23","v":4.5301468640541511},-0.28167268849762317,2.8140458484441329,null,null,-0.16286926351195327,3.8197733477427818,null,null,-1.1046202531758187,6.8056165005070648]
[67,{"$f":"B83+1/8","v":"2013-01-09T09:00:00"},9.0892910085263559,0,0,9.0892910085263559,{"$f":"F84/'Refrigeration & Weather'!$C$22","v":4.0850746105736437},{"$f":"G84*3*'Refrigeration & Weather'!$C$23","v":3.0638059579302328},-0.37444392631332041,2.0996046267917459,null,null,-0.22965115744124798,2.4622358285456434,null,null,-1.1157788298974067,4.5274505531889657]
[68,"2013-01-09T12:00:00",12.905792026097537,0,0,12.905792026097537,{"$f":"F85/'Refrigeration & Weather'!$C$22","v":5.8003559667854105},{"$f":"G85*3*'Refrigeration & Weather'!$C$23","v":4.3502669750890579},-0.46110442799213824,2.6945612135390835,null,null,-0.29045619314705595,3.5257217359244457,null,null,-1.1259628425272679,6.6855090766340064]
[69,"2013-01-09T15:00:00",8.6094487333769294,0,0,8.6094487333769294,{"$f":"F86/'Refrigeration & Weather'!$C$22","v":3.8694151610682836},{"$f":"G86*3*'Refrigeration & Weather'!$C$23","v":2.9020613708012126},-0.54207115988821253,1.9882530927138593,null,null,-0.34592617479100296,2.1997984816000251,null,null,-1.1352858066552214,4.4213971590630452]
[70,"2013-01-09T18:00:00",12.473616508144461,0,0,12.473616508144461,{"$f":"F87/'Refrigeration & Weather'!$C$22","v":5.6061197789413315},{"$f":"G87*3*'Refrigeration & Weather'!$C$23","v":4.2045898342059989},-0.61773835898981044,2.5909038205061736,null,null,-0.39662804369207855,3.2912143114807915,null,null,-1.1438450626355665,6.5914983761574959]
[71,"2013-01-09T21:00:00",8.2195577644755282,0,0,8.2195577644755282,{"$f":"F88/'Refrigeration & Weather'!$C$22","v":3.6941832649328221},{"$f":"G88*3*'Refrigeration & Weather'!$C$23","v":2.7706374486996168},-0.68847739278685638,1.8918472198316727,null,null,-0.44306247760075296,1.9899577149954204,null,null,-1.1517244586797599,4.3377528296484362]
[72,"2013-01-10",12.121285471382327,0,0,12.121285471382327,{"$f":"F89/'Refrigeration & Weather'!$C$22","v":5.4477687511830695},{"$f":"G89*3*'Refrigeration & Weather'!$C$23","v":4.0858265633873021},-0.75463693540555321,2.5013094594739376,null,null,-0.48567169388941817,3.1031597884497626,null,null,-1.1589965322651132,6.5168162234586271]
[73,"2013-01-10T03:00:00",7.9006364038871926,0,0,7.9006364038871926,{"$f":"F90/'Refrigeration & Weather'!$C$22","v":3.5508478219717725},{"$f":"G90*3*'Refrigeration & Weather'!$C$23","v":2.6631358664788296},-0.81654340283398208,1.8086321365245959,null,null,-0.52484645704589294,1.8211533613571271,null,null,-1.1657242932227798,4.27085090600547]
[74,"2013-01-10T06:00:00",11.83212500023606,0,0,11.83212500023606,{"$f":"F91/'Refrigeration & Weather'!$C$22","v":5.3178089888701399},{"$f":"G91*3*'Refrigeration & Weather'!$C$23","v":3.9883567416526047},-0.87450159393070848,2.4240533137781761,null,null,-0.56093232118898584,2.9513766483825155,null,null,-1.1719626887993211,6.4566950380753685]
[75,"2013-01-10T09:00:00",7.6380257987983624,0,0,7.6380257987983624,{"$f":"F92/'Refrigeration & Weather'!$C$22","v":3.4328205837296015},{"$f":"G92*3*'Refrigeration & Weather'!$C$23","v":2.5746154377972013},-0.92879548891201569,1.7369296543340691,null,null,-0.59423515673639926,1.6844346329324542,null,null,-1.1777598134194214,4.2166615115318393]
[76,"2013-01-10T12:00:00",11.593235424798575,0,0,11.593235424798575,{"$f":"F93/'Refrigeration & Weather'!$C$22","v":5.210442887549922},{"$f":"G93*3*'Refrigeration & Weather'!$C$23","v":3.9078321656624415},-0.97968916263742301,2.3575166183969829,null,null,-0.62502602017204612,2.8280055075249115,null,null,-1.18315791242611,6.4077132988766801]
[77,"2013-01-10T15:00:00",7.4203621905156494,0,0,7.4203621905156494,{"$f":"F94/'Refrigeration & Weather'!$C$22","v":3.3349942429283823},{"$f":"G94*3*'Refrigeration & Weather'!$C$23","v":2.501245682196287},-1.0274277758452282,1.6751898696201089,null,null,-0.65354542970440554,1.572905070884995,null,null,-1.1881942187180112,4.1722672500105453]
[78,"2013-01-10T18:00:00",11.394594367646402,0,0,11.394594367646402,{"$f":"F95/'Refrigeration & Weather'!$C$22","v":5.1211660079309675},{"$f":"G95*3*'Refrigeration & Weather'!$C$23","v":3.8408745059482259},-1.0722386132188637,2.3002248547934467,null,null,-0.68000710947189513,2.7269962012939755,null,null,-1.1929016531853553,6.3673733115589801]
[79,"2013-01-10T21:00:00",7.238795282805091,0,0,7.238795282805091,{"$f":"F96/'Refrigeration & Weather'!$C$22","v":3.2533911383393672},{"$f":"G96*3*'Refrigeration & Weather'!$C$23","v":2.4400433537545254},-1.1143321425718644,1.62201769855686,null,null,-0.70460126230156506,1.4812561748996969,null,null,-1.1973094136061948,4.1355214093485344]
[80,"2013-01-11",11.22837637962439,0,0,11.22837637962439,{"$f":"F97/'Refrigeration & Weather'!$C$22","v":5.0464612942132092},{"$f":"G97*3*'Refrigeration & Weather'!$C$23","v":3.7848459706599069},-1.1539030743837186,2.2508643683535463,null,null,-0.72749742691165986,2.643688870715128,null,null,-1.2014434717819578,6.3338231405557162]
[81,"2013-01-11T03:00:00",7.0863964789942289,0,0,7.0863964789942289,{"$f":"F98/'Refrigeration & Weather'!$C$22","v":3.1848972939299909},{"$f":"G98*3*'Refrigeration & Weather'!$C$23","v":2.3886729704474932},-1.1911314053236761,1.5761812410596621,null,null,-0.74884697059381577,1.4053945904919221,null,null,-1.2053269948520688,4.1048206474426445]
[82,"2013-01-11T06:00:00",11.08843845593619,0,0,11.08843845593619,{"$f":"F99/'Refrigeration & Weather'!$C$22","v":4.9835678453645809},{"$f":"G99*3*'Refrigeration & Weather'!$C$23","v":3.7376758840234356},-1.2261834332361798,2.2082840155832697,null,null,-0.76878526330501673,2.5744845198582778,null,null,-1.2089807036930473,6.3056699204946423]
[83,"2013-01-11T09:00:00",6.957711633310188,0,0,6.957711633310188,{"$f":"F100/'Refrigeration & Weather'!$C$22","v":3.1270614082292987},{"$f":"G100*3*'Refrigeration & Weather'!$C$23","v":2.345296056171974},-1.2592127343365795,1.5366080919824678,null,null,-0.78743357405751413,1.3421525599303823,null,null,-1.2124231788978186,4.0789509813973375]
[84,"2013-01-11T12:00:00",10.969931172769522,0,0,10.969931172769522,{"$f":"F101/'Refrigeration & Weather'!$C$22","v":4.9303061450649546},{"$f":"G101*3*'Refrigeration & Weather'!$C$23","v":3.6977296087987161},-1.2903610961096204,2.1714873510370483,null,null,-0.80490072570838411,2.5165915668876528,null,null,-1.2156711229083712,6.2818522548448215]
[85,"2013-01-11T15:00:00",6.8484228183442841,0,0,6.8484228183442841,{"$f":"F102/'Refrigeration & Weather'!$C$22","v":3.0779428397052966},{"$f":"G102*3*'Refrigeration & Weather'!$C$23","v":2.3084571297789722},-1.319759401661077,1.502374445300712,null,null,-0.82128453982571958,1.2890667455339941,null,null,-1.2187395853338787,4.056981627509578]
[86,"2013-01-11T18:00:00",10.869004321789838,0,0,10.869004321789838,{"$f":"F103/'Refrigeration & Weather'!$C$22","v":4.8849457626021753},{"$f":"G103*3*'Refrigeration & Weather'!$C$23","v":3.6637093219516315},-1.3475284630976723,2.1396195270486666,null,null,-0.83667309929485756,2.4678332539034615,null,null,-1.2216421572458136,6.2615515408377105]
[87,"2013-01-11T21:00:00",6.7550919477801337,0,0,6.7550919477801337,{"$f":"F104/'Refrigeration & Weather'!$C$22","v":3.0359963810247796},{"$f":"G104*3*'Refrigeration & Weather'!$C$23","v":2.2769972857685845},-1.3737798029575778,1.4726905166946576,null,null,-0.85114585273725618,1.2442107853163096,null,null,-1.2243911392385423,4.0381906457691663]
[88,"2013-01-12",10.782583425292284,0,0,10.782583425292284,{"$f":"F105/'Refrigeration & Weather'!$C$22","v":4.8461049102437235},{"$f":"G105*3*'Refrigeration & Weather'!$C$23","v":3.6345786826827924},-1.3986163838378007,2.1119518306964449,null,null,-0.864774581635115,2.4265022049198977,null,null,-1.2269976872295656,6.2441293896759422]
[89,"2013-01-12T03:00:00",0,0,0,0,{"$f":"F106/'Refrigeration & Weather'!$C$22","v":0},{"$f":"G106*3*'Refrigeration & Weather'!$C$23","v":0}]
[90,"2013-01-12T06:00:00",0,0,0,0,{"$f":"F107/'Refrigeration & Weather'!$C$22","v":0},{"$f":"G107*3*'Refrigeration & Weather'!$C$23","v":0}]
[91,"2013-01-12T09:00:00",0,0,0,0,{"$f":"F108/'Refrigeration & Weather'!$C$22","v":0},{"$f":"G108*3*'Refrigeration & Weather'!$C$23","v":0}]
[92,"2013-01-12T12:00:00",0,0,0,0,{"$f":"F109/'Refrigeration & Weather'!$C$22","v":0},{"$f":"G109*3*'Refrigeration & Weather'!$C$23","v":0}]
[93,"2013-01-12T15:00:00",0,0,0,0,{"$f":"F110/'Refrigeration & Weather'!$C$22","v":0},{"$f":"G110*3*'Refrigeration & Weather'!$C$23","v":0}]
[94,"2013-01-12T18:00:00",0,0,0,0,{"$f":"F111/'Refrigeration & Weather'!$C$22","v":0},{"$f":"G111*3*'Refrigeration & Weather'!$C$23","v":0}]
[95,"2013-01-12T21:00:00",0,0,0,0,{"$f":"F112/'Refrigeration & Weather'!$C$22","v":0},{"$f":"G112*3*'Refrigeration & Weather'!$C$23","v":0}]
[96,"2013-01-13",0,0,0,0,{"$f":"F113/'Refrigeration & Weather'!$C$22","v":0},{"$f":"G113*3*'Refrigeration & Weather'!$C$23","v":0}]
[97,"2013-01-13T03:00:00",0,0,0,0,{"$f":"F114/'Refrigeration & Weather'!$C$22","v":0},{"$f":"G114*3*'Refrigeration & Weather'!$C$23","v":0}]
[98,"2013-01-13T06:00:00",0,0,0,0,{"$f":"F115/'Refrigeration & Weather'!$C$22","v":0},{"$f":"G115*3*'Refrigeration & Weather'!$C$23","v":0}]
[99,"2013-01-13T09:00:00",0,0,0,0,{"$f":"F116/'Refrigeration & Weather'!$C$22","v":0},{"$f":"G116*3*'Refrigeration & Weather'!$C$23","v":0}]
[100,"2013-01-13T12:00:00",0,0,0,0,{"$f":"F117/'Refrigeration & Weather'!$C$22","v":0},{"$f":"G117*3*'Refrigeration & Weather'!$C$23","v":0}]
[101,"2013-01-13T15:00:00",0,0,0,0,{"$f":"F118/'Refrigeration & Weather'!$C$22","v":0},{"$f":"G118*3*'Refrigeration & Weather'!$C$23","v":0}]
[102,"2013-01-13T18:00:00",0,0,0,0,{"$f":"F119/'Refrigeration & Weather'!$C$22","v":0},{"$f":"G119*3*'Refrigeration & Weather'!$C$23","v":0}]
[103,"2013-01-13T21:00:00",0,0,0,0,{"$f":"F120/'Refrigeration & Weather'!$C$22","v":0},{"$f":"G120*3*'Refrigeration & Weather'!$C$23","v":0}]
[104,"2013-01-14",0,0,0,0,{"$f":"F121/'Refrigeration & Weather'!$C$22","v":0},{"$f":"G121*3*'Refrigeration & Weather'!$C$23","v":0}]
[105,"2013-01-14T03:00:00",0,0,0,0,{"$f":"F122/'Refrigeration & Weather'!$C$22","v":0},{"$f":"G122*3*'Refrigeration & Weather'!$C$23","v":0}]
[106,"2013-01-14T06:00:00",0,0,0,0,{"$f":"F123/'Refrigeration & Weather'!$C$22","v":0},{"$f":"G123*3*'Refrigeration & Weather'!$C$23","v":0}]
[107,"2013-01-14T09:00:00",0,0,0,0,{"$f":"F124/'Refrigeration & Weather'!$C$22","v":0},{"$f":"G124*3*'Refrigeration & Weather'!$C$23","v":0}]
[108,"2013-01-14T12:00:00",0,0,0,0,{"$f":"F125/'Refrigeration & Weather'!$C$22","v":0},{"$f":"G125*3*'Refrigeration & Weather'!$C$23","v":0}]
[109,"2013-01-14T15:00:00",0,0,0,0,{"$f":"F126/'Refrigeration & Weather'!$C$22","v":0},{"$f":"G126*3*'Refrigeration & Weather'!$C$23","v":0}]
[110,"2013-01-14T18:00:00",0,0,0,0,{"$f":"F127/'Refrigeration & Weather'!$C$22","v":0},{"$f":"G127*3*'Refrigeration & Weather'!$C$23","v":0}]
[111,"2013-01-14T21:00:00",0,0,0,0,{"$f":"F128/'Refrigeration & Weather'!$C$22","v":0},{"$f":"G128*3*'Refrigeration & Weather'!$C$23","v":0}]
[112,"2013-01-15",0,0,0,0,{"$f":"F129/'Refrigeration & Weather'!$C$22","v":0},{"$f":"G129*3*'Refrigeration & Weather'!$C$23","v":0}]
[113,"2013-01-15T03:00:00",0,0,0,0,{"$f":"F130/'Refrigeration & Weather'!$C$22","v":0},{"$f":"G130*3*'Refrigeration & Weather'!$C$23","v":0}]
[114,"2013-01-15T06:00:00",0,0,0,0,{"$f":"F131/'Refrigeration & Weather'!$C$22","v":0},{"$f":"G131*3*'Refrigeration & Weather'!$C$23","v":0}]
[115,"2013-01-15T09:00:00",0,0,0,0,{"$f":"F132/'Refrigeration & Weather'!$C$22","v":0},{"$f":"G132*3*'Refrigeration & Weather'!$C$23","v":0}]
[116,"2013-01-15T12:00:00",0,0,0,0,{"$f":"F133/'Refrigeration & Weather'!$C$22","v":0},{"$f":"G133*3*'Refrigeration & Weather'!$C$23","v":0}]
[117,"2013-01-15T15:00:00",0,0,0,0,{"$f":"F134/'Refrigeration & Weather'!$C$22","v":0},{"$f":"G134*3*'Refrigeration & Weather'!$C$23","v":0}]
[118,"2013-01-15T18:00:00",0,0,0,0,{"$f":"F135/'Refrigeration & Weather'!$C$22","v":0},{"$f":"G135*3*'Refrigeration & Weather'!$C$23","v":0}]
[119,"2013-01-15T21:00:00",0,0,0,0,{"$f":"F136/'Refrigeration & Weather'!$C$22","v":0},{"$f":"G136*3*'Refrigeration & Weather'!$C$23","v":0}]
[120,"2013-01-16",0,0,0,0,{"$f":"F137/'Refrigeration & Weather'!$C$22","v":0},{"$f":"G137*3*'Refrigeration & Weather'!$C$23","v":0}]
[121,"2013-01-16T03:00:00",0,0,0,0,{"$f":"F138/'Refrigeration & Weather'!$C$22","v":0},{"$f":"G138*3*'Refrigeration & Weather'!$C$23","v":0}]
[122,"2013-01-16T06:00:00",0,0,0,0,{"$f":"F139/'Refrigeration & Weather'!$C$22","v":0},{"$f":"G139*3*'Refrigeration & Weather'!$C$23","v":0}]
[123,"2013-01-16T09:00:00",0,0,0,0,{"$f":"F140/'Refrigeration & Weather'!$C$22","v":0},{"$f":"G140*3*'Refrigeration & Weather'!$C$23","v":0}]
[124,"2013-01-16T12:00:00",0,0,0,0,{"$f":"F141/'Refrigeration & Weather'!$C$22","v":0},{"$f":"G141*3*'Refrigeration & Weather'!$C$23","v":0}]
[125,"2013-01-16T15:00:00",0,0,0,0,{"$f":"F142/'Refrigeration & Weather'!$C$22","v":0},{"$f":"G142*3*'Refrigeration & Weather'!$C$23","v":0}]
[126,"2013-01-16T18:00:00",0,0,0,0,{"$f":"F143/'Refrigeration & Weather'!$C$22","v":0},{"$f":"G143*3*'Refrigeration & Weather'!$C$23","v":0}]
[127,"2013-01-16T21:00:00",0,0,0,0,{"$f":"F144/'Refrigeration & Weather'!$C$22","v":0},{"$f":"G144*3*'Refrigeration & Weather'!$C$23","v":0}]
[128,"2013-01-17",{"$f":"J145+N145+R145+V145+Z145+AD145+AH145+AL145+AP145+AT145+AX145+BB145+BF145+BJ145+BN145+BR145+BV145+BZ145+CD145+CH145+CL145+CP145+CT145+CX145+DB145+DF145+DJ145+DN145+DR145+DV145+DZ145+ED145+EH145+EL145+EP145+ET145+EX145+FB145+FF145+FJ145+FN145+FR145+FV145+FZ145+GD145+GH145+GL145+GP145+GT145+GX145+HB145+HF145+HJ145+HN145+HR145+HV145+HZ145+ID145+IH145+IL145+IP145+IT145+IX145+JB145+JF145+JJ145+JN145+JR145+JV145+JZ145+KD145+KH145+KL145+KP145+KT145+KX145+LB145+LF145+LJ145+LN145+LR145+LV145+LZ145+MD145+MH145+ML145+MP145+MT145+MX145+NB145+NF145+NJ145+NN145+NR145+NV145+NZ145+OD145+OH145+OL145+OP145","v":0},0,0,0,{"$f":"F145/'Refrigeration & Weather'!$C$22","v":0},{"$f":"G145*3*'Refrigeration & Weather'!$C$23","v":0}]
[129,"2013-01-17T03:00:00",0,{"$f":"K146+O146+S146+W146+AA146+AE146+AI146+AM146+AQ146+AU146+AY146+BC146+BG146+BK146+BO146+BS146+BW146+CA146+CE146+CI146+CM146+CQ146+CU146+CY146+DC146+DG146+DK146+DO146+DS146+DW146+EA146+EE146+EI146+EM146+EQ146+EU146+EY146+FC146+FG146+FK146+FO146+FS146+FW146+GA146+GE146+GI146+GM146+GQ146+GU146+GY146+HC146+HG146+HK146+HO146+HS146+HW146+IA146+IE146+II146+IM146+IQ146+IU146+IY146+JC146+JG146+JK146+JO146+JS146+JW146+KA146+KE146+KI146+KM146+KQ146+KU146+KY146+LC146+LG146+LK146+LO146+LS146+LW146+MA146+ME146+MI146+MM146+MQ146+MU146+MY146+NC146+NG146+NK146+NO146+NS146+NW146+OA146+OE146+OI146+OM146+OQ146","v":0},{"$f":"L146+P146+T146+X146+AB146+AF146+AJ146+AN146+AR146+AV146+AZ146+BD146+BH146+BL146+BP146+BT146+BX146+CB146+CF146+CJ146+CN146+CR146+CV146+CZ146+DD146+DH146+DL146+DP146+DT146+DX146+EB146+EF146+EJ146+EN146+ER146+EV146+EZ146+FD146+FH146+FL146+FP146+FT146+FX146+GB146+GF146+GJ146+GN146+GR146+GV146+GZ146+HD146+HH146+HL146+HP146+HT146+HX146+IB146+IF146+IJ146+IN146+IR146+IV146+IZ146+JD146+JH146+JL146+JP146+JT146+JX146+KB146+KF146+KJ146+KN146+KR146+KV146+KZ146+LD146+LH146+LL146+LP146+LT146+LX146+MB146+MF146+MJ146+MN146+MR146+MV146+MZ146+ND146+NH146+NL146+NP146+NT146+NX146+OB146+OF146+OJ146+ON146+OR146","v":0},{"$f":"SUM(C146:E146)","v":0},{"$f":"F146/'Refrigeration & Weather'!$C$22","v":0},{"$f":"G146*3*'Refrigeration & Weather'!$C$23","v":0}]
[130,"2013-01-17T06:00:00",0,0,0,0,{"$f":"F147/'Refrigeration & Weather'!$C$22","v":0},{"$f":"G147*3*'Refrigeration & Weather'!$C$23","v":0}]
[131,{"$f":"B147+1/8","v":"2013-01-17T09:00:00"},0,0,0,0,{"$f":"F148/'Refrigeration & Weather'!$C$22","v":0},{"$f":"G148*3*'Refrigeration & Weather'!$C$23","v":0}]
[132,"2013-01-17T12:00:00",0,0,0,0,{"$f":"F149/'Refrigeration & Weather'!$C$22","v":0},{"$f":"G149*3*'Refrigeration & Weather'!$C$23","v":0}]
[133,"2013-01-17T15:00:00",0,0,0,0,{"$f":"F150/'Refrigeration & Weather'!$C$22","v":0},{"$f":"G150*3*'Refrigeration & Weather'!$C$23","v":0}]
[134,"2013-01-17T18:00:00",0,0,0,0,{"$f":"F151/'Refrigeration & Weather'!$C$22","v":0},{"$f":"G151*3*'Refrigeration & Weather'!$C$23","v":0}]
[135,"2013-01-17T21:00:00",0,0,0,0,{"$f":"F152/'Refrigeration & Weather'!$C$22","v":0},{"$f":"G152*3*'Refrigeration & Weather'!$C$23","v":0}]
[136,"2013-01-18",0,0,0,0,{"$f":"F153/'Refrigeration & Weather'!$C$22","v":0},{"$f":"G153*3*'Refrigeration & Weather'!$C$23","v":0}]
[137,"2013-01-18T03:00:00",0,0,0,0,{"$f":"F154/'Refrigeration & Weather'!$C$22","v":0},{"$f":"G154*3*'Refrigeration & Weather'!$C$23","v":0}]
[138,"2013-01-18T06:00:00",0,0,0,0,{"$f":"F155/'Refrigeration & Weather'!$C$22","v":0},{"$f":"G155*3*'Refrigeration & Weather'!$C$23","v":0}]
[139,"2013-01-18T09:00:00",0,0,0,0,{"$f":"F156/'Refrigeration & Weather'!$C$22","v":0},{"$f":"G156*3*'Refrigeration & Weather'!$C$23","v":0}]
[140,"2013-01-18T12:00:00",0,0,0,0,{"$f":"F157/'Refrigeration & Weather'!$C$22","v":0},{"$f":"G157*3*'Refrigeration & Weather'!$C$23","v":0}]
[141,"2013-01-18T15:00:00",0,0,0,0,{"$f":"F158/'Refrigeration & Weather'!$C$22","v":0},{"$f":"G158*3*'Refrigeration & Weather'!$C$23","v":0}]
[142,"2013-01-18T18:00:00",0,0,0,0,{"$f":"F159/'Refrigeration & Weather'!$C$22","v":0},{"$f":"G159*3*'Refrigeration & Weather'!$C$23","v":0}]
[143,"2013-01-18T21:00:00",0,0,0,0,{"$f":"F160/'Refrigeration & Weather'!$C$22","v":0},{"$f":"G160*3*'Refrigeration & Weather'!$C$23","v":0}]
[144,"2013-01-19",0,0,0,0,{"$f":"F161/'Refrigeration & Weather'!$C$22","v":0},{"$f":"G161*3*'Refrigeration & Weather'!$C$23","v":0}]
[145,"2013-01-19T03:00:00",0,0,0,0,{"$f":"F162/'Refrigeration & Weather'!$C$22","v":0},{"$f":"G162*3*'Refrigeration & Weather'!$C$23","v":0}]
[146,"2013-01-19T06:00:00",0,0,0,0,{"$f":"F163/'Refrigeration & Weather'!$C$22","v":0},{"$f":"G163*3*'Refrigeration & Weather'!$C$23","v":0}]
[147,"2013-01-19T09:00:00",0,0,0,0,{"$f":"F164/'Refrigeration & Weather'!$C$22","v":0},{"$f":"G164*3*'Refrigeration & Weather'!$C$23","v":0}]
[148,"2013-01-19T12:00:00",0,0,0,0,{"$f":"F165/'Refrigeration & Weather'!$C$22","v":0},{"$f":"G165*3*'Refrigeration & Weather'!$C$23","v":0}]
[149,"2013-01-19T15:00:00",0,0,0,0,{"$f":"F166/'Refrigeration & Weather'!$C$22","v":0},{"$f":"G166*3*'Refrigeration & Weather'!$C$23","v":0}]
[150,"2013-01-19T18:00:00",0,0,0,0,{"$f":"F167/'Refrigeration & Weather'!$C$22","v":0},{"$f":"G167*3*'Refrigeration & Weather'!$C$23","v":0}]
[151,"2013-01-19T21:00:00",0,0,0,0,{"$f":"F168/'Refrigeration & Weather'!$C$22","v":0},{"$f":"G168*3*'Refrigeration & Weather'!$C$23","v":0}]
[152,"2013-01-20",0,0,0,0,{"$f":"F169/'Refrigeration & Weather'!$C$22","v":0},{"$f":"G169*3*'Refrigeration & Weather'!$C$23","v":0}]
[153,"2013-01-20T03:00:00",0,0,0,0,{"$f":"F170/'Refrigeration & Weather'!$C$22","v":0},{"$f":"G170*3*'Refrigeration & Weather'!$C$23","v":0}]
[154,"2013-01-20T06:00:00",0,0,0,0,{"$f":"F171/'Refrigeration & Weather'!$C$22","v":0},{"$f":"G171*3*'Refrigeration & Weather'!$C$23","v":0}]
[155,"2013-01-20T09:00:00",0,0,0,0,{"$f":"F172/'Refrigeration & Weather'!$C$22","v":0},{"$f":"G172*3*'Refrigeration & Weather'!$C$23","v":0}]
[156,"2013-01-20T12:00:00",0,0,0,0,{"$f":"F173/'Refrigeration & Weather'!$C$22","v":0},{"$f":"G173*3*'Refrigeration & Weather'!$C$23","v":0}]
[157,"2013-01-20T15:00:00",0,0,0,0,{"$f":"F174/'Refrigeration & Weather'!$C$22","v":0},{"$f":"G174*3*'Refrigeration & Weather'!$C$23","v":0}]
[158,"2013-01-20T18:00:00",0,0,0,0,{"$f":"F175/'Refrigeration & Weather'!$C$22","v":0},{"$f":"G175*3*'Refrigeration & Weather'!$C$23","v":0}]
[159,"2013-01-20T21:00:00",0,0,0,0,{"$f":"F176/'Refrigeration & Weather'!$C$22","v":0},{"$f":"G176*3*'Refrigeration & Weather'!$C$23","v":0}]
[160,"2013-01-21",0,0,0,0,{"$f":"F177/'Refrigeration & Weather'!$C$22","v":0},{"$f":"G177*3*'Refrigeration & Weather'!$C$23","v":0}]
[161,"2013-01-21T03:00:00",0,0,0,0,{"$f":"F178/'Refrigeration & Weather'!$C$22","v":0},{"$f":"G178*3*'Refrigeration & Weather'!$C$23","v":0}]
[162,"2013-01-21T06:00:00",0,0,0,0,{"$f":"F179/'Refrigeration & Weather'!$C$22","v":0},{"$f":"G179*3*'Refrigeration & Weather'!$C$23","v":0}]
[163,"2013-01-21T09:00:00",0,0,0,0,{"$f":"F180/'Refrigeration & Weather'!$C$22","v":0},{"$f":"G180*3*'Refrigeration & Weather'!$C$23","v":0}]
[164,"2013-01-21T12:00:00",0,0,0,0,{"$f":"F181/'Refrigeration & Weather'!$C$22","v":0},{"$f":"G181*3*'Refrigeration & Weather'!$C$23","v":0}]
[165,"2013-01-21T15:00:00",0,0,0,0,{"$f":"F182/'Refrigeration & Weather'!$C$22","v":0},{"$f":"G182*3*'Refrigeration & Weather'!$C$23","v":0}]
[166,"2013-01-21T18:00:00",0,0,0,0,{"$f":"F183/'Refrigeration & Weather'!$C$22","v":0},{"$f":"G183*3*'Refrigeration & Weather'!$C$23","v":0}]
[167,"2013-01-21T21:00:00",0,0,0,0,{"$f":"F184/'Refrigeration & Weather'!$C$22","v":0},{"$f":"G184*3*'Refrigeration & Weather'!$C$23","v":0}]
[168,"2013-01-22",0,0,0,0,{"$f":"F185/'Refrigeration & Weather'!$C$22","v":0},{"$f":"G185*3*'Refrigeration & Weather'!$C$23","v":0}]
[169,"2013-01-22T03:00:00",0,0,0,0,{"$f":"F186/'Refrigeration & Weather'!$C$22","v":0},{"$f":"G186*3*'Refrigeration & Weather'!$C$23","v":0}]
[170,"2013-01-22T06:00:00",0,0,0,0,{"$f":"F187/'Refrigeration & Weather'!$C$22","v":0},{"$f":"G187*3*'Refrigeration & Weather'!$C$23","v":0}]
[171,"2013-01-22T09:00:00",0,0,0,0,{"$f":"F188/'Refrigeration & Weather'!$C$22","v":0},{"$f":"G188*3*'Refrigeration & Weather'!$C$23","v":0}]
[172,"2013-01-22T12:00:00",0,0,0,0,{"$f":"F189/'Refrigeration & Weather'!$C$22","v":0},{"$f":"G189*3*'Refrigeration & Weather'!$C$23","v":0}]
[173,"2013-01-22T15:00:00",0,0,0,0,{"$f":"F190/'Refrigeration & Weather'!$C$22","v":0},{"$f":"G190*3*'Refrigeration & Weather'!$C$23","v":0}]
[174,"2013-01-22T18:00:00",0,0,0,0,{"$f":"F191/'Refrigeration & Weather'!$C$22","v":0},{"$f":"G191*3*'Refrigeration & Weather'!$C$23","v":0}]
[175,"2013-01-22T21:00:00",0,0,0,0,{"$f":"F192/'Refrigeration & Weather'!$C$22","v":0},{"$f":"G192*3*'Refrigeration & Weather'!$C$23","v":0}]
[176,"2013-01-23",0,0,0,0,{"$f":"F193/'Refrigeration & Weather'!$C$22","v":0},{"$f":"G193*3*'Refrigeration & Weather'!$C$23","v":0}]
[177,"2013-01-23T03:00:00",0,0,0,0,{"$f":"F194/'Refrigeration & Weather'!$C$22","v":0},{"$f":"G194*3*'Refrigeration & Weather'!$C$23","v":0}]
[178,"2013-01-23T06:00:00",0,0,0,0,{"$f":"F195/'Refrigeration & Weather'!$C$22","v":0},{"$f":"G195*3*'Refrigeration & Weather'!$C$23","v":0}]
[179,"2013-01-23T09:00:00",0,0,0,0,{"$f":"F196/'Refrigeration & Weather'!$C$22","v":0},{"$f":"G196*3*'Refrigeration & Weather'!$C$23","v":0}]
[180,"2013-01-23T12:00:00",0,0,0,0,{"$f":"F197/'Refrigeration & Weather'!$C$22","v":0},{"$f":"G197*3*'Refrigeration & Weather'!$C$23","v":0}]
[181,"2013-01-23T15:00:00",0,0,0,0,{"$f":"F198/'Refrigeration & Weather'!$C$22","v":0},{"$f":"G198*3*'Refrigeration & Weather'!$C$23","v":0}]
[182,"2013-01-23T18:00:00",0,0,0,0,{"$f":"F199/'Refrigeration & Weather'!$C$22","v":0},{"$f":"G199*3*'Refrigeration & Weather'!$C$23","v":0}]
[183,"2013-01-23T21:00:00",0,0,0,0,{"$f":"F200/'Refrigeration & Weather'!$C$22","v":0},{"$f":"G200*3*'Refrigeration & Weather'!$C$23","v":0}]
[184,"2013-01-24",0,0,0,0,{"$f":"F201/'Refrigeration & Weather'!$C$22","v":0},{"$f":"G201*3*'Refrigeration & Weather'!$C$23","v":0}]
[185,"2013-01-24T03:00:00",0,0,0,0,{"$f":"F202/'Refrigeration & Weather'!$C$22","v":0},{"$f":"G202*3*'Refrigeration & Weather'!$C$23","v":0}]
[186,"2013-01-24T06:00:00",0,0,0,0,{"$f":"F203/'Refrigeration & Weather'!$C$22","v":0},{"$f":"G203*3*'Refrigeration & Weather'!$C$23","v":0}]
[187,"2013-01-24T09:00:00",0,0,0,0,{"$f":"F204/'Refrigeration & Weather'!$C$22","v":0},{"$f":"G204*3*'Refrigeration & Weather'!$C$23","v":0}]
[188,"2013-01-24T12:00:00",0,0,0,0,{"$f":"F205/'Refrigeration & Weather'!$C$22","v":0},{"$f":"G205*3*'Refrigeration & Weather'!$C$23","v":0}]
[189,"2013-01-24T15:00:00",0,0,0,0,{"$f":"F206/'Refrigeration & Weather'!$C$22","v":0},{"$f":"G206*3*'Refrigeration & Weather'!$C$23","v":0}]
[190,"2013-01-24T18:00:00",0,0,0,0,{"$f":"F207/'Refrigeration & Weather'!$C$22","v":0},{"$f":"G207*3*'Refrigeration & Weather'!$C$23","v":0}]
[191,"2013-01-24T21:00:00",0,0,0,0,{"$f":"F208/'Refrigeration & Weather'!$C$22","v":0},{"$f":"G208*3*'Refrigeration & Weather'!$C$23","v":0}]
[192,"2013-01-25",{"$f":"J209+N209+R209+V209+Z209+AD209+AH209+AL209+AP209+AT209+AX209+BB209+BF209+BJ209+BN209+BR209+BV209+BZ209+CD209+CH209+CL209+CP209+CT209+CX209+DB209+DF209+DJ209+DN209+DR209+DV209+DZ209+ED209+EH209+EL209+EP209+ET209+EX209+FB209+FF209+FJ209+FN209+FR209+FV209+FZ209+GD209+GH209+GL209+GP209+GT209+GX209+HB209+HF209+HJ209+HN209+HR209+HV209+HZ209+ID209+IH209+IL209+IP209+IT209+IX209+JB209+JF209+JJ209+JN209+JR209+JV209+JZ209+KD209+KH209+KL209+KP209+KT209+KX209+LB209+LF209+LJ209+LN209+LR209+LV209+LZ209+MD209+MH209+ML209+MP209+MT209+MX209+NB209+NF209+NJ209+NN209+NR209+NV209+NZ209+OD209+OH209+OL209+OP209","v":0},0,0,0,{"$f":"F209/'Refrigeration & Weather'!$C$22","v":0},{"$f":"G209*3*'Refrigeration & Weather'!$C$23","v":0}]
[193,"2013-01-25T03:00:00",0,{"$f":"K210+O210+S210+W210+AA210+AE210+AI210+AM210+AQ210+AU210+AY210+BC210+BG210+BK210+BO210+BS210+BW210+CA210+CE210+CI210+CM210+CQ210+CU210+CY210+DC210+DG210+DK210+DO210+DS210+DW210+EA210+EE210+EI210+EM210+EQ210+EU210+EY210+FC210+FG210+FK210+FO210+FS210+FW210+GA210+GE210+GI210+GM210+GQ210+GU210+GY210+HC210+HG210+HK210+HO210+HS210+HW210+IA210+IE210+II210+IM210+IQ210+IU210+IY210+JC210+JG210+JK210+JO210+JS210+JW210+KA210+KE210+KI210+KM210+KQ210+KU210+KY210+LC210+LG210+LK210+LO210+LS210+LW210+MA210+ME210+MI210+MM210+MQ210+MU210+MY210+NC210+NG210+NK210+NO210+NS210+NW210+OA210+OE210+OI210+OM210+OQ210","v":0},{"$f":"L210+P210+T210+X210+AB210+AF210+AJ210+AN210+AR210+AV210+AZ210+BD210+BH210+BL210+BP210+BT210+BX210+CB210+CF210+CJ210+CN210+CR210+CV210+CZ210+DD210+DH210+DL210+DP210+DT210+DX210+EB210+EF210+EJ210+EN210+ER210+EV210+EZ210+FD210+FH210+FL210+FP210+FT210+FX210+GB210+GF210+GJ210+GN210+GR210+GV210+GZ210+HD210+HH210+HL210+HP210+HT210+HX210+IB210+IF210+IJ210+IN210+IR210+IV210+IZ210+JD210+JH210+JL210+JP210+JT210+JX210+KB210+KF210+KJ210+KN210+KR210+KV210+KZ210+LD210+LH210+LL210+LP210+LT210+LX210+MB210+MF210+MJ210+MN210+MR210+MV210+MZ210+ND210+NH210+NL210+NP210+NT210+NX210+OB210+OF210+OJ210+ON210+OR210","v":0},{"$f":"SUM(C210:E210)","v":0},{"$f":"F210/'Refrigeration & Weather'!$C$22","v":0},{"$f":"G210*3*'Refrigeration & Weather'!$C$23","v":0}]
[194,"2013-01-25T06:00:00",0,0,0,0,{"$f":"F211/'Refrigeration & Weather'!$C$22","v":0},{"$f":"G211*3*'Refrigeration & Weather'!$C$23","v":0}]
[195,{"$f":"B211+1/8","v":"2013-01-25T09:00:00"},0,0,0,0,{"$f":"F212/'Refrigeration & Weather'!$C$22","v":0},{"$f":"G212*3*'Refrigeration & Weather'!$C$23","v":0}]
[196,"2013-01-25T12:00:00",0,0,0,0,{"$f":"F213/'Refrigeration & Weather'!$C$22","v":0},{"$f":"G213*3*'Refrigeration & Weather'!$C$23","v":0}]
[197,"2013-01-25T15:00:00",0,0,0,0,{"$f":"F214/'Refrigeration & Weather'!$C$22","v":0},{"$f":"G214*3*'Refrigeration & Weather'!$C$23","v":0}]
[198,"2013-01-25T18:00:00",0,0,0,0,{"$f":"F215/'Refrigeration & Weather'!$C$22","v":0},{"$f":"G215*3*'Refrigeration & Weather'!$C$23","v":0}]
[199,"2013-01-25T21:00:00",0,0,0,0,{"$f":"F216/'Refrigeration & Weather'!$C$22","v":0},{"$f":"G216*3*'Refrigeration & Weather'!$C$23","v":0}]
[200,"2013-01-26",0,0,0,0,{"$f":"F217/'Refrigeration & Weather'!$C$22","v":0},{"$f":"G217*3*'Refrigeration & Weather'!$C$23","v":0}]
[201,"2013-01-26T03:00:00",0,0,0,0,{"$f":"F218/'Refrigeration & Weather'!$C$22","v":0},{"$f":"G218*3*'Refrigeration & Weather'!$C$23","v":0}]
[202,"2013-01-26T06:00:00",0,0,0,0,{"$f":"F219/'Refrigeration & Weather'!$C$22","v":0},{"$f":"G219*3*'Refrigeration & Weather'!$C$23","v":0}]
[203,"2013-01-26T09:00:00",0,0,0,0,{"$f":"F220/'Refrigeration & Weather'!$C$22","v":0},{"$f":"G220*3*'Refrigeration & Weather'!$C$23","v":0}]
[204,"2013-01-26T12:00:00",0,0,0,0,{"$f":"F221/'Refrigeration & Weather'!$C$22","v":0},{"$f":"G221*3*'Refrigeration & Weather'!$C$23","v":0}]
[205,"2013-01-26T15:00:00",0,0,0,0,{"$f":"F222/'Refrigeration & Weather'!$C$22","v":0},{"$f":"G222*3*'Refrigeration & Weather'!$C$23","v":0}]
[206,"2013-01-26T18:00:00",0,0,0,0,{"$f":"F223/'Refrigeration & Weather'!$C$22","v":0},{"$f":"G223*3*'Refrigeration & Weather'!$C$23","v":0}]
[207,"2013-01-26T21:00:00",0,0,0,0,{"$f":"F224/'Refrigeration & Weather'!$C$22","v":0},{"$f":"G224*3*'Refrigeration & Weather'!$C$23","v":0}]
[208,"2013-01-27",0,0,0,0,{"$f":"F225/'Refrigeration & Weather'!$C$22","v":0},{"$f":"G225*3*'Refrigeration & Weather'!$C$23","v":0}]
[209,"2013-01-27T03:00:00",0,0,0,0,{"$f":"F226/'Refrigeration & Weather'!$C$22","v":0},{"$f":"G226*3*'Refrigeration & Weather'!$C$23","v":0}]
[210,"2013-01-27T06:00:00",0,0,0,0,{"$f":"F227/'Refrigeration & Weather'!$C$22","v":0},{"$f":"G227*3*'Refrigeration & Weather'!$C$23","v":0}]
[211,"2013-01-27T09:00:00",0,0,0,0,{"$f":"F228/'Refrigeration & Weather'!$C$22","v":0},{"$f":"G228*3*'Refrigeration & Weather'!$C$23","v":0}]
[212,"2013-01-27T12:00:00",0,0,0,0,{"$f":"F229/'Refrigeration & Weather'!$C$22","v":0},{"$f":"G229*3*'Refrigeration & Weather'!$C$23","v":0}]
[213,"2013-01-27T15:00:00",0,0,0,0,{"$f":"F230/'Refrigeration & Weather'!$C$22","v":0},{"$f":"G230*3*'Refrigeration & Weather'!$C$23","v":0}]
[214,"2013-01-27T18:00:00",0,0,0,0,{"$f":"F231/'Refrigeration & Weather'!$C$22","v":0},{"$f":"G231*3*'Refrigeration & Weather'!$C$23","v":0}]
[215,"2013-01-27T21:00:00",0,0,0,0,{"$f":"F232/'Refrigeration & Weather'!$C$22","v":0},{"$f":"G232*3*'Refrigeration & Weather'!$C$23","v":0}]
[216,"2013-01-28",0,0,0,0,{"$f":"F233/'Refrigeration & Weather'!$C$22","v":0},{"$f":"G233*3*'Refrigeration & Weather'!$C$23","v":0}]
[217,"2013-01-28T03:00:00",0,0,0,0,{"$f":"F234/'Refrigeration & Weather'!$C$22","v":0},{"$f":"G234*3*'Refrigeration & Weather'!$C$23","v":0}]
[218,"2013-01-28T06:00:00",0,0,0,0,{"$f":"F235/'Refrigeration & Weather'!$C$22","v":0},{"$f":"G235*3*'Refrigeration & Weather'!$C$23","v":0}]
[219,"2013-01-28T09:00:00",0,0,0,0,{"$f":"F236/'Refrigeration & Weather'!$C$22","v":0},{"$f":"G236*3*'Refrigeration & Weather'!$C$23","v":0}]
[220,"2013-01-28T12:00:00",0,0,0,0,{"$f":"F237/'Refrigeration & Weather'!$C$22","v":0},{"$f":"G237*3*'Refrigeration & Weather'!$C$23","v":0}]
[221,"2013-01-28T15:00:00",0,0,0,0,{"$f":"F238/'Refrigeration & Weather'!$C$22","v":0},{"$f":"G238*3*'Refrigeration & Weather'!$C$23","v":0}]
[222,"2013-01-28T18:00:00",0,0,0,0,{"$f":"F239/'Refrigeration & Weather'!$C$22","v":0},{"$f":"G239*3*'Refrigeration & Weather'!$C$23","v":0}]
[223,"2013-01-28T21:00:00",0,0,0,0,{"$f":"F240/'Refrigeration & Weather'!$C$22","v":0},{"$f":"G240*3*'Refrigeration & Weather'!$C$23","v":0}]
[224,"2013-01-29",0,0,0,0,{"$f":"F241/'Refrigeration & Weather'!$C$22","v":0},{"$f":"G241*3*'Refrigeration & Weather'!$C$23","v":0}]
[225,"2013-01-29T03:00:00",0,0,0,0,{"$f":"F242/'Refrigeration & Weather'!$C$22","v":0},{"$f":"G242*3*'Refrigeration & Weather'!$C$23","v":0}]
[226,"2013-01-29T06:00:00",0,0,0,0,{"$f":"F243/'Refrigeration & Weather'!$C$22","v":0},{"$f":"G243*3*'Refrigeration & Weather'!$C$23","v":0}]
[227,"2013-01-29T09:00:00",0,0,0,0,{"$f":"F244/'Refrigeration & Weather'!$C$22","v":0},{"$f":"G244*3*'Refrigeration & Weather'!$C$23","v":0}]
[228,"2013-01-29T12:00:00",0,0,0,0,{"$f":"F245/'Refrigeration & Weather'!$C$22","v":0},{"$f":"G245*3*'Refrigeration & Weather'!$C$23","v":0}]
[229,"2013-01-29T15:00:00",0,0,0,0,{"$f":"F246/'Refrigeration & Weather'!$C$22","v":0},{"$f":"G246*3*'Refrigeration & Weather'!$C$23","v":0}]
[230,"2013-01-29T18:00:00",0,0,0,0,{"$f":"F247/'Refrigeration & Weather'!$C$22","v":0},{"$f":"G247*3*'Refrigeration & Weather'!$C$23","v":0}]
[231,"2013-01-29T21:00:00",0,0,0,0,{"$f":"F248/'Refrigeration & Weather'!$C$22","v":0},{"$f":"G248*3*'Refrigeration & Weather'!$C$23","v":0}]
[232,"2013-01-30",0,0,0,0,{"$f":"F249/'Refrigeration & Weather'!$C$22","v":0},{"$f":"G249*3*'Refrigeration & Weather'!$C$23","v":0}]
[233,"2013-01-30T03:00:00",0,0,0,0,{"$f":"F250/'Refrigeration & Weather'!$C$22","v":0},{"$f":"G250*3*'Refrigeration & Weather'!$C$23","v":0}]
[234,"2013-01-30T06:00:00",0,0,0,0,{"$f":"F251/'Refrigeration & Weather'!$C$22","v":0},{"$f":"G251*3*'Refrigeration & Weather'!$C$23","v":0}]
[235,"2013-01-30T09:00:00",0,0,0,0,{"$f":"F252/'Refrigeration & Weather'!$C$22","v":0},{"$f":"G252*3*'Refrigeration & Weather'!$C$23","v":0}]
[236,"2013-01-30T12:00:00",0,0,0,0,{"$f":"F253/'Refrigeration & Weather'!$C$22","v":0},{"$f":"G253*3*'Refrigeration & Weather'!$C$23","v":0}]
[237,"2013-01-30T15:00:00",0,0,0,0,{"$f":"F254/'Refrigeration & Weather'!$C$22","v":0},{"$f":"G254*3*'Refrigeration & Weather'!$C$23","v":0}]
[238,"2013-01-30T18:00:00",0,0,0,0,{"$f":"F255/'Refrigeration & Weather'!$C$22","v":0},{"$f":"G255*3*'Refrigeration & Weather'!$C$23","v":0}]
[239,"2013-01-30T21:00:00",0,0,0,0,{"$f":"F256/'Refrigeration & Weather'!$C$22","v":0},{"$f":"G256*3*'Refrigeration & Weather'!$C$23","v":0}]
[240,"2013-01-31",0,0,0,0,{"$f":"F257/'Refrigeration & Weather'!$C$22","v":0},{"$f":"G257*3*'Refrigeration & Weather'!$C$23","v":0}]
[241,"2013-01-31T03:00:00",0,0,0,0,{"$f":"F258/'Refrigeration & Weather'!$C$22","v":0},{"$f":"G258*3*'Refrigeration & Weather'!$C$23","v":0}]
[242,"2013-01-31T06:00:00",0,0,0,0,{"$f":"F259/'Refrigeration & Weather'!$C$22","v":0},{"$f":"G259*3*'Refrigeration & Weather'!$C$23","v":0}]
[243,"2013-01-31T09:00:00",0,0,0,0,{"$f":"F260/'Refrigeration & Weather'!$C$22","v":0},{"$f":"G260*3*'Refrigeration & Weather'!$C$23","v":0}]
[244,"2013-01-31T12:00:00",0,0,0,0,{"$f":"F261/'Refrigeration & Weather'!$C$22","v":0},{"$f":"G261*3*'Refrigeration & Weather'!$C$23","v":0}]
[245,"2013-01-31T15:00:00",0,0,0,0,{"$f":"F262/'Refrigeration & Weather'!$C$22","v":0},{"$f":"G262*3*'Refrigeration & Weather'!$C$23","v":0}]
[246,"2013-01-31T18:00:00",0,0,0,0,{"$f":"F263/'Refrigeration & Weather'!$C$22","v":0},{"$f":"G263*3*'Refrigeration & Weather'!$C$23","v":0}]
[247,"2013-01-31T21:00:00",0,0,0,0,{"$f":"F264/'Refrigeration & Weather'!$C$22","v":0},{"$f":"G264*3*'Refrigeration & Weather'!$C$23","v":0}]
[248,"2013-02-01",0,0,0,0,{"$f":"F265/'Refrigeration & Weather'!$C$22","v":0},{"$f":"G265*3*'Refrigeration & Weather'!$C$23","v":0}]
[249,"2013-02-01T03:00:00",0,0,0,0,{"$f":"F266/'Refrigeration & Weather'!$C$22","v":0},{"$f":"G266*3*'Refrigeration & Weather'!$C$23","v":0}]
[250,"2013-02-01T06:00:00",0,0,0,0,{"$f":"F267/'Refrigeration & Weather'!$C$22","v":0},{"$f":"G267*3*'Refrigeration & Weather'!$C$23","v":0}]
[251,"2013-02-01T09:00:00",0,0,0,0,{"$f":"F268/'Refrigeration & Weather'!$C$22","v":0},{"$f":"G268*3*'Refrigeration & Weather'!$C$23","v":0}]
[252,"2013-02-01T12:00:00",0,0,0,0,{"$f":"F269/'Refrigeration & Weather'!$C$22","v":0},{"$f":"G269*3*'Refrigeration & Weather'!$C$23","v":0}]
[253,"2013-02-01T15:00:00",0,0,0,0,{"$f":"F270/'Refrigeration & Weather'!$C$22","v":0},{"$f":"G270*3*'Refrigeration & Weather'!$C$23","v":0}]
[254,"2013-02-01T18:00:00",0,0,0,0,{"$f":"F271/'Refrigeration & Weather'!$C$22","v":0},{"$f":"G271*3*'Refrigeration & Weather'!$C$23","v":0}]
[255,"2013-02-01T21:00:00",0,0,0,0,{"$f":"F272/'Refrigeration & Weather'!$C$22","v":0},{"$f":"G272*3*'Refrigeration & Weather'!$C$23","v":0}]
[256,"2013-02-02",{"$f":"J273+N273+R273+V273+Z273+AD273+AH273+AL273+AP273+AT273+AX273+BB273+BF273+BJ273+BN273+BR273+BV273+BZ273+CD273+CH273+CL273+CP273+CT273+CX273+DB273+DF273+DJ273+DN273+DR273+DV273+DZ273+ED273+EH273+EL273+EP273+ET273+EX273+FB273+FF273+FJ273+FN273+FR273+FV273+FZ273+GD273+GH273+GL273+GP273+GT273+GX273+HB273+HF273+HJ273+HN273+HR273+HV273+HZ273+ID273+IH273+IL273+IP273+IT273+IX273+JB273+JF273+JJ273+JN273+JR273+JV273+JZ273+KD273+KH273+KL273+KP273+KT273+KX273+LB273+LF273+LJ273+LN273+LR273+LV273+LZ273+MD273+MH273+ML273+MP273+MT273+MX273+NB273+NF273+NJ273+NN273+NR273+NV273+NZ273+OD273+OH273+OL273+OP273","v":0},0,0,0,{"$f":"F273/'Refrigeration & Weather'!$C$22","v":0},{"$f":"G273*3*'Refrigeration & Weather'!$C$23","v":0}]
[257,"2013-02-02T03:00:00",0,{"$f":"K274+O274+S274+W274+AA274+AE274+AI274+AM274+AQ274+AU274+AY274+BC274+BG274+BK274+BO274+BS274+BW274+CA274+CE274+CI274+CM274+CQ274+CU274+CY274+DC274+DG274+DK274+DO274+DS274+DW274+EA274+EE274+EI274+EM274+EQ274+EU274+EY274+FC274+FG274+FK274+FO274+FS274+FW274+GA274+GE274+GI274+GM274+GQ274+GU274+GY274+HC274+HG274+HK274+HO274+HS274+HW274+IA274+IE274+II274+IM274+IQ274+IU274+IY274+JC274+JG274+JK274+JO274+JS274+JW274+KA274+KE274+KI274+KM274+KQ274+KU274+KY274+LC274+LG274+LK274+LO274+LS274+LW274+MA274+ME274+MI274+MM274+MQ274+MU274+MY274+NC274+NG274+NK274+NO274+NS274+NW274+OA274+OE274+OI274+OM274+OQ274","v":0},{"$f":"L274+P274+T274+X274+AB274+AF274+AJ274+AN274+AR274+AV274+AZ274+BD274+BH274+BL274+BP274+BT274+BX274+CB274+CF274+CJ274+CN274+CR274+CV274+CZ274+DD274+DH274+DL274+DP274+DT274+DX274+EB274+EF274+EJ274+EN274+ER274+EV274+EZ274+FD274+FH274+FL274+FP274+FT274+FX274+GB274+GF274+GJ274+GN274+GR274+GV274+GZ274+HD274+HH274+HL274+HP274+HT274+HX274+IB274+IF274+IJ274+IN274+IR274+IV274+IZ274+JD274+JH274+JL274+JP274+JT274+JX274+KB274+KF274+KJ274+KN274+KR274+KV274+KZ274+LD274+LH274+LL274+LP274+LT274+LX274+MB274+MF274+MJ274+MN274+MR274+MV274+MZ274+ND274+NH274+NL274+NP274+NT274+NX274+OB274+OF274+OJ274+ON274+OR274","v":0},{"$f":"SUM(C274:E274)","v":0},{"$f":"F274/'Refrigeration & Weather'!$C$22","v":0},{"$f":"G274*3*'Refrigeration & Weather'!$C$23","v":0}]
[258,"2013-02-02T06:00:00",0,0,0,0,{"$f":"F275/'Refrigeration & Weather'!$C$22","v":0},{"$f":"G275*3*'Refrigeration & Weather'!$C$23","v":0}]
[259,{"$f":"B275+1/8","v":"2013-02-02T09:00:00"},0,0,0,0,{"$f":"F276/'Refrigeration & Weather'!$C$22","v":0},{"$f":"G276*3*'Refrigeration & Weather'!$C$23","v":0}]
[260,"2013-02-02T12:00:00",0,0,0,0,{"$f":"F277/'Refrigeration & Weather'!$C$22","v":0},{"$f":"G277*3*'Refrigeration & Weather'!$C$23","v":0}]
[261,"2013-02-02T15:00:00",0,0,0,0,{"$f":"F278/'Refrigeration & Weather'!$C$22","v":0},{"$f":"G278*3*'Refrigeration & Weather'!$C$23","v":0}]
[262,"2013-02-02T18:00:00",0,0,0,0,{"$f":"F279/'Refrigeration & Weather'!$C$22","v":0},{"$f":"G279*3*'Refrigeration & Weather'!$C$23","v":0}]
[263,"2013-02-02T21:00:00",0,0,0,0,{"$f":"F280/'Refrigeration & Weather'!$C$22","v":0},{"$f":"G280*3*'Refrigeration & Weather'!$C$23","v":0}]
[264,"2013-02-03",0,0,0,0,{"$f":"F281/'Refrigeration & Weather'!$C$22","v":0},{"$f":"G281*3*'Refrigeration & Weather'!$C$23","v":0}]
[265,"2013-02-03T03:00:00",0,0,0,0,{"$f":"F282/'Refrigeration & Weather'!$C$22","v":0},{"$f":"G282*3*'Refrigeration & Weather'!$C$23","v":0}]
[266,"2013-02-03T06:00:00",0,0,0,0,{"$f":"F283/'Refrigeration & Weather'!$C$22","v":0},{"$f":"G283*3*'Refrigeration & Weather'!$C$23","v":0}]
[267,"2013-02-03T09:00:00",0,0,0,0,{"$f":"F284/'Refrigeration & Weather'!$C$22","v":0},{"$f":"G284*3*'Refrigeration & Weather'!$C$23","v":0}]
[268,"2013-02-03T12:00:00",0,0,0,0,{"$f":"F285/'Refrigeration & Weather'!$C$22","v":0},{"$f":"G285*3*'Refrigeration & Weather'!$C$23","v":0}]
[269,"2013-02-03T15:00:00",0,0,0,0,{"$f":"F286/'Refrigeration & Weather'!$C$22","v":0},{"$f":"G286*3*'Refrigeration & Weather'!$C$23","v":0}]
[270,"2013-02-03T18:00:00",0,0,0,0,{"$f":"F287/'Refrigeration & Weather'!$C$22","v":0},{"$f":"G287*3*'Refrigeration & Weather'!$C$23","v":0}]
[271,"2013-02-03T21:00:00",0,0,0,0,{"$f":"F288/'Refrigeration & Weather'!$C$22","v":0},{"$f":"G288*3*'Refrigeration & Weather'!$C$23","v":0}]
[272,"2013-02-04",0,0,0,0,{"$f":"F289/'Refrigeration & Weather'!$C$22","v":0},{"$f":"G289*3*'Refrigeration & Weather'!$C$23","v":0}]
[273,"2013-02-04T03:00:00",0,0,0,0,{"$f":"F290/'Refrigeration & Weather'!$C$22","v":0},{"$f":"G290*3*'Refrigeration & Weather'!$C$23","v":0}]
[274,"2013-02-04T06:00:00",0,0,0,0,{"$f":"F291/'Refrigeration & Weather'!$C$22","v":0},{"$f":"G291*3*'Refrigeration & Weather'!$C$23","v":0}]
[275,"2013-02-04T09:00:00",0,0,0,0,{"$f":"F292/'Refrigeration & Weather'!$C$22","v":0},{"$f":"G292*3*'Refrigeration & Weather'!$C$23","v":0}]
[276,"2013-02-04T12:00:00",0,0,0,0,{"$f":"F293/'Refrigeration & Weather'!$C$22","v":0},{"$f":"G293*3*'Refrigeration & Weather'!$C$23","v":0}]
[277,"2013-02-04T15:00:00",0,0,0,0,{"$f":"F294/'Refrigeration & Weather'!$C$22","v":0},{"$f":"G294*3*'Refrigeration & Weather'!$C$23","v":0}]
[278,"2013-02-04T18:00:00",0,0,0,0,{"$f":"F295/'Refrigeration & Weather'!$C$22","v":0},{"$f":"G295*3*'Refrigeration & Weather'!$C$23","v":0}]
[279,"2013-02-04T21:00:00",0,0,0,0,{"$f":"F296/'Refrigeration & Weather'!$C$22","v":0},{"$f":"G296*3*'Refrigeration & Weather'!$C$23","v":0}]
[280,"2013-02-05",0,0,0,0,{"$f":"F297/'Refrigeration & Weather'!$C$22","v":0},{"$f":"G297*3*'Refrigeration & Weather'!$C$23","v":0}]
[281,"2013-02-05T03:00:00",0,0,0,0,{"$f":"F298/'Refrigeration & Weather'!$C$22","v":0},{"$f":"G298*3*'Refrigeration & Weather'!$C$23","v":0}]
[282,"2013-02-05T06:00:00",0,0,0,0,{"$f":"F299/'Refrigeration & Weather'!$C$22","v":0},{"$f":"G299*3*'Refrigeration & Weather'!$C$23","v":0}]
[283,"2013-02-05T09:00:00",0,0,0,0,{"$f":"F300/'Refrigeration & Weather'!$C$22","v":0},{"$f":"G300*3*'Refrigeration & Weather'!$C$23","v":0}]
[284,"2013-02-05T12:00:00",0,0,0,0,{"$f":"F301/'Refrigeration & Weather'!$C$22","v":0},{"$f":"G301*3*'Refrigeration & Weather'!$C$23","v":0}]
[285,"2013-02-05T15:00:00",0,0,0,0,{"$f":"F302/'Refrigeration & Weather'!$C$22","v":0},{"$f":"G302*3*'Refrigeration & Weather'!$C$23","v":0}]
[286,"2013-02-05T18:00:00",0,0,0,0,{"$f":"F303/'Refrigeration & Weather'!$C$22","v":0},{"$f":"G303*3*'Refrigeration & Weather'!$C$23","v":0}]
[287,"2013-02-05T21:00:00",0,0,0,0,{"$f":"F304/'Refrigeration & Weather'!$C$22","v":0},{"$f":"G304*3*'Refrigeration & Weather'!$C$23","v":0}]
[288,"2013-02-06",0,0,0,0,{"$f":"F305/'Refrigeration & Weather'!$C$22","v":0},{"$f":"G305*3*'Refrigeration & Weather'!$C$23","v":0}]
[289,"2013-02-06T03:00:00",0,0,0,0,{"$f":"F306/'Refrigeration & Weather'!$C$22","v":0},{"$f":"G306*3*'Refrigeration & Weather'!$C$23","v":0}]
[290,"2013-02-06T06:00:00",0,0,0,0,{"$f":"F307/'Refrigeration & Weather'!$C$22","v":0},{"$f":"G307*3*'Refrigeration & Weather'!$C$23","v":0}]
[291,"2013-02-06T09:00:00",0,0,0,0,{"$f":"F308/'Refrigeration & Weather'!$C$22","v":0},{"$f":"G308*3*'Refrigeration & Weather'!$C$23","v":0}]
[292,"2013-02-06T12:00:00",0,0,0,0,{"$f":"F309/'Refrigeration & Weather'!$C$22","v":0},{"$f":"G309*3*'Refrigeration & Weather'!$C$23","v":0}]
[293,"2013-02-06T15:00:00",0,0,0,0,{"$f":"F310/'Refrigeration & Weather'!$C$22","v":0},{"$f":"G310*3*'Refrigeration & Weather'!$C$23","v":0}]
[294,"2013-02-06T18:00:00",0,0,0,0,{"$f":"F311/'Refrigeration & Weather'!$C$22","v":0},{"$f":"G311*3*'Refrigeration & Weather'!$C$23","v":0}]
[295,"2013-02-06T21:00:00",0,0,0,0,{"$f":"F312/'Refrigeration & Weather'!$C$22","v":0},{"$f":"G312*3*'Refrigeration & Weather'!$C$23","v":0}]
[296,"2013-02-07",0,0,0,0,{"$f":"F313/'Refrigeration & Weather'!$C$22","v":0},{"$f":"G313*3*'Refrigeration & Weather'!$C$23","v":0}]
[297,"2013-02-07T03:00:00",0,0,0,0,{"$f":"F314/'Refrigeration & Weather'!$C$22","v":0},{"$f":"G314*3*'Refrigeration & Weather'!$C$23","v":0}]
[298,"2013-02-07T06:00:00",0,0,0,0,{"$f":"F315/'Refrigeration & Weather'!$C$22","v":0},{"$f":"G315*3*'Refrigeration & Weather'!$C$23","v":0}]
[299,"2013-02-07T09:00:00",0,0,0,0,{"$f":"F316/'Refrigeration & Weather'!$C$22","v":0},{"$f":"G316*3*'Refrigeration & Weather'!$C$23","v":0}]
[300,"2013-02-07T12:00:00",0,0,0,0,{"$f":"F317/'Refrigeration & Weather'!$C$22","v":0},{"$f":"G317*3*'Refrigeration & Weather'!$C$23","v":0}]
[301,"2013-02-07T15:00:00",0,0,0,0,{"$f":"F318/'Refrigeration & Weather'!$C$22","v":0},{"$f":"G318*3*'Refrigeration & Weather'!$C$23","v":0}]
[302,"2013-02-07T18:00:00",0,0,0,0,{"$f":"F319/'Refrigeration & Weather'!$C$22","v":0},{"$f":"G319*3*'Refrigeration & Weather'!$C$23","v":0}]
[303,"2013-02-07T21:00:00",0,0,0,0,{"$f":"F320/'Refrigeration & Weather'!$C$22","v":0},{"$f":"G320*3*'Refrigeration & Weather'!$C$23","v":0}]
[304,"2013-02-08",0,0,0,0,{"$f":"F321/'Refrigeration & Weather'!$C$22","v":0},{"$f":"G321*3*'Refrigeration & Weather'!$C$23","v":0}]
[305,"2013-02-08T03:00:00",0,0,0,0,{"$f":"F322/'Refrigeration & Weather'!$C$22","v":0},{"$f":"G322*3*'Refrigeration & Weather'!$C$23","v":0}]
[306,"2013-02-08T06:00:00",0,0,0,0,{"$f":"F323/'Refrigeration & Weather'!$C$22","v":0},{"$f":"G323*3*'Refrigeration & Weather'!$C$23","v":0}]
[307,"2013-02-08T09:00:00",0,0,0,0,{"$f":"F324/'Refrigeration & Weather'!$C$22","v":0},{"$f":"G324*3*'Refrigeration & Weather'!$C$23","v":0}]
[308,"2013-02-08T12:00:00",0,0,0,0,{"$f":"F325/'Refrigeration & Weather'!$C$22","v":0},{"$f":"G325*3*'Refrigeration & Weather'!$C$23","v":0}]
[309,"2013-02-08T15:00:00",0,0,0,0,{"$f":"F326/'Refrigeration & Weather'!$C$22","v":0},{"$f":"G326*3*'Refrigeration & Weather'!$C$23","v":0}]
[310,"2013-02-08T18:00:00",0,0,0,0,{"$f":"F327/'Refrigeration & Weather'!$C$22","v":0},{"$f":"G327*3*'Refrigeration & Weather'!$C$23","v":0}]
[311,"2013-02-08T21:00:00",0,0,0,0,{"$f":"F328/'Refrigeration & Weather'!$C$22","v":0},{"$f":"G328*3*'Refrigeration & Weather'!$C$23","v":0}]
[312,"2013-02-09",0,0,0,0,{"$f":"F329/'Refrigeration & Weather'!$C$22","v":0},{"$f":"G329*3*'Refrigeration & Weather'!$C$23","v":0}]
[313,"2013-02-09T03:00:00",0,0,0,0,{"$f":"F330/'Refrigeration & Weather'!$C$22","v":0},{"$f":"G330*3*'Refrigeration & Weather'!$C$23","v":0}]
[314,"2013-02-09T06:00:00",0,0,0,0,{"$f":"F331/'Refrigeration & Weather'!$C$22","v":0},{"$f":"G331*3*'Refrigeration & Weather'!$C$23","v":0}]
[315,"2013-02-09T09:00:00",0,0,0,0,{"$f":"F332/'Refrigeration & Weather'!$C$22","v":0},{"$f":"G332*3*'Refrigeration & Weather'!$C$23","v":0}]
[316,"2013-02-09T12:00:00",0,0,0,0,{"$f":"F333/'Refrigeration & Weather'!$C$22","v":0},{"$f":"G333*3*'Refrigeration & Weather'!$C$23","v":0}]
[317,"2013-02-09T15:00:00",0,0,0,0,{"$f":"F334/'Refrigeration & Weather'!$C$22","v":0},{"$f":"G334*3*'Refrigeration & Weather'!$C$23","v":0}]
[318,"2013-02-09T18:00:00",0,0,0,0,{"$f":"F335/'Refrigeration & Weather'!$C$22","v":0},{"$f":"G335*3*'Refrigeration & Weather'!$C$23","v":0}]
[319,"2013-02-09T21:00:00",0,0,0,0,{"$f":"F336/'Refrigeration & Weather'!$C$22","v":0},{"$f":"G336*3*'Refrigeration & Weather'!$C$23","v":0}]
[320,"2013-02-10",{"$f":"J337+N337+R337+V337+Z337+AD337+AH337+AL337+AP337+AT337+AX337+BB337+BF337+BJ337+BN337+BR337+BV337+BZ337+CD337+CH337+CL337+CP337+CT337+CX337+DB337+DF337+DJ337+DN337+DR337+DV337+DZ337+ED337+EH337+EL337+EP337+ET337+EX337+FB337+FF337+FJ337+FN337+FR337+FV337+FZ337+GD337+GH337+GL337+GP337+GT337+GX337+HB337+HF337+HJ337+HN337+HR337+HV337+HZ337+ID337+IH337+IL337+IP337+IT337+IX337+JB337+JF337+JJ337+JN337+JR337+JV337+JZ337+KD337+KH337+KL337+KP337+KT337+KX337+LB337+LF337+LJ337+LN337+LR337+LV337+LZ337+MD337+MH337+ML337+MP337+MT337+MX337+NB337+NF337+NJ337+NN337+NR337+NV337+NZ337+OD337+OH337+OL337+OP337","v":0},0,0,0,{"$f":"F337/'Refrigeration & Weather'!$C$22","v":0},{"$f":"G337*3*'Refrigeration & Weather'!$C$23","v":0}]
[321,"2013-02-10T03:00:00",0,{"$f":"K338+O338+S338+W338+AA338+AE338+AI338+AM338+AQ338+AU338+AY338+BC338+BG338+BK338+BO338+BS338+BW338+CA338+CE338+CI338+CM338+CQ338+CU338+CY338+DC338+DG338+DK338+DO338+DS338+DW338+EA338+EE338+EI338+EM338+EQ338+EU338+EY338+FC338+FG338+FK338+FO338+FS338+FW338+GA338+GE338+GI338+GM338+GQ338+GU338+GY338+HC338+HG338+HK338+HO338+HS338+HW338+IA338+IE338+II338+IM338+IQ338+IU338+IY338+JC338+JG338+JK338+JO338+JS338+JW338+KA338+KE338+KI338+KM338+KQ338+KU338+KY338+LC338+LG338+LK338+LO338+LS338+LW338+MA338+ME338+MI338+MM338+MQ338+MU338+MY338+NC338+NG338+NK338+NO338+NS338+NW338+OA338+OE338+OI338+OM338+OQ338","v":0},{"$f":"L338+P338+T338+X338+AB338+AF338+AJ338+AN338+AR338+AV338+AZ338+BD338+BH338+BL338+BP338+BT338+BX338+CB338+CF338+CJ338+CN338+CR338+CV338+CZ338+DD338+DH338+DL338+DP338+DT338+DX338+EB338+EF338+EJ338+EN338+ER338+EV338+EZ338+FD338+FH338+FL338+FP338+FT338+FX338+GB338+GF338+GJ338+GN338+GR338+GV338+GZ338+HD338+HH338+HL338+HP338+HT338+HX338+IB338+IF338+IJ338+IN338+IR338+IV338+IZ338+JD338+JH338+JL338+JP338+JT338+JX338+KB338+KF338+KJ338+KN338+KR338+KV338+KZ338+LD338+LH338+LL338+LP338+LT338+LX338+MB338+MF338+MJ338+MN338+MR338+MV338+MZ338+ND338+NH338+NL338+NP338+NT338+NX338+OB338+OF338+OJ338+ON338+OR338","v":0},{"$f":"SUM(C338:E338)","v":0},{"$f":"F338/'Refrigeration & Weather'!$C$22","v":0},{"$f":"G338*3*'Refrigeration & Weather'!$C$23","v":0}]
[322,"2013-02-10T06:00:00",0,0,0,0,{"$f":"F339/'Refrigeration & Weather'!$C$22","v":0},{"$f":"G339*3*'Refrigeration & Weather'!$C$23","v":0}]
[323,{"$f":"B339+1/8","v":"2013-02-10T09:00:00"},0,0,0,0,{"$f":"F340/'Refrigeration & Weather'!$C$22","v":0},{"$f":"G340*3*'Refrigeration & Weather'!$C$23","v":0}]
[324,"2013-02-10T12:00:00",0,0,0,0,{"$f":"F341/'Refrigeration & Weather'!$C$22","v":0},{"$f":"G341*3*'Refrigeration & Weather'!$C$23","v":0}]
[325,"2013-02-10T15:00:00",0,0,0,0,{"$f":"F342/'Refrigeration & Weather'!$C$22","v":0},{"$f":"G342*3*'Refrigeration & Weather'!$C$23","v":0}]
[326,"2013-02-10T18:00:00",0,0,0,0,{"$f":"F343/'Refrigeration & Weather'!$C$22","v":0},{"$f":"G343*3*'Refrigeration & Weather'!$C$23","v":0}]
[327,"2013-02-10T21:00:00",0,0,0,0,{"$f":"F344/'Refrigeration & Weather'!$C$22","v":0},{"$f":"G344*3*'Refrigeration & Weather'!$C$23","v":0}]
[328,"2013-02-11",0,0,0,0,{"$f":"F345/'Refrigeration & Weather'!$C$22","v":0},{"$f":"G345*3*'Refrigeration & Weather'!$C$23","v":0}]
[329,"2013-02-11T03:00:00",0,0,0,0,{"$f":"F346/'Refrigeration & Weather'!$C$22","v":0},{"$f":"G346*3*'Refrigeration & Weather'!$C$23","v":0}]
[330,"2013-02-11T06:00:00",0,0,0,0,{"$f":"F347/'Refrigeration & Weather'!$C$22","v":0},{"$f":"G347*3*'Refrigeration & Weather'!$C$23","v":0}]
[331,"2013-02-11T09:00:00",0,0,0,0,{"$f":"F348/'Refrigeration & Weather'!$C$22","v":0},{"$f":"G348*3*'Refrigeration & Weather'!$C$23","v":0}]
[332,"2013-02-11T12:00:00",0,0,0,0,{"$f":"F349/'Refrigeration & Weather'!$C$22","v":0},{"$f":"G349*3*'Refrigeration & Weather'!$C$23","v":0}]
[333,"2013-02-11T15:00:00",0,0,0,0,{"$f":"F350/'Refrigeration & Weather'!$C$22","v":0},{"$f":"G350*3*'Refrigeration & Weather'!$C$23","v":0}]
[334,"2013-02-11T18:00:00",0,0,0,0,{"$f":"F351/'Refrigeration & Weather'!$C$22","v":0},{"$f":"G351*3*'Refrigeration & Weather'!$C$23","v":0}]
[335,"2013-02-11T21:00:00",0,0,0,0,{"$f":"F352/'Refrigeration & Weather'!$C$22","v":0},{"$f":"G352*3*'Refrigeration & Weather'!$C$23","v":0}]
[336,"2013-02-12",0,0,0,0,{"$f":"F353/'Refrigeration & Weather'!$C$22","v":0},{"$f":"G353*3*'Refrigeration & Weather'!$C$23","v":0}]
[337,"2013-02-12T03:00:00",0,0,0,0,{"$f":"F354/'Refrigeration & Weather'!$C$22","v":0},{"$f":"G354*3*'Refrigeration & Weather'!$C$23","v":0}]
[338,"2013-02-12T06:00:00",0,0,0,0,{"$f":"F355/'Refrigeration & Weather'!$C$22","v":0},{"$f":"G355*3*'Refrigeration & Weather'!$C$23","v":0}]
[339,"2013-02-12T09:00:00",0,0,0,0,{"$f":"F356/'Refrigeration & Weather'!$C$22","v":0},{"$f":"G356*3*'Refrigeration & Weather'!$C$23","v":0}]
[340,"2013-02-12T12:00:00",0,0,0,0,{"$f":"F357/'Refrigeration & Weather'!$C$22","v":0},{"$f":"G357*3*'Refrigeration & Weather'!$C$23","v":0}]
[341,"2013-02-12T15:00:00",0,0,0,0,{"$f":"F358/'Refrigeration & Weather'!$C$22","v":0},{"$f":"G358*3*'Refrigeration & Weather'!$C$23","v":0}]
[342,"2013-02-12T18:00:00",0,0,0,0,{"$f":"F359/'Refrigeration & Weather'!$C$22","v":0},{"$f":"G359*3*'Refrigeration & Weather'!$C$23","v":0}]
[343,"2013-02-12T21:00:00",0,0,0,0,{"$f":"F360/'Refrigeration & Weather'!$C$22","v":0},{"$f":"G360*3*'Refrigeration & Weather'!$C$23","v":0}]
[344,"2013-02-13",0,0,0,0,{"$f":"F361/'Refrigeration & Weather'!$C$22","v":0},{"$f":"G361*3*'Refrigeration & Weather'!$C$23","v":0}]
[345,"2013-02-13T03:00:00",0,0,0,0,{"$f":"F362/'Refrigeration & Weather'!$C$22","v":0},{"$f":"G362*3*'Refrigeration & Weather'!$C$23","v":0}]
[346,"2013-02-13T06:00:00",0,0,0,0,{"$f":"F363/'Refrigeration & Weather'!$C$22","v":0},{"$f":"G363*3*'Refrigeration & Weather'!$C$23","v":0}]
[347,"2013-02-13T09:00:00",0,0,0,0,{"$f":"F364/'Refrigeration & Weather'!$C$22","v":0},{"$f":"G364*3*'Refrigeration & Weather'!$C$23","v":0}]
[348,"2013-02-13T12:00:00",0,0,0,0,{"$f":"F365/'Refrigeration & Weather'!$C$22","v":0},{"$f":"G365*3*'Refrigeration & Weather'!$C$23","v":0}]
[349,"2013-02-13T15:00:00",0,0,0,0,{"$f":"F366/'Refrigeration & Weather'!$C$22","v":0},{"$f":"G366*3*'Refrigeration & Weather'!$C$23","v":0}]
[350,"2013-02-13T18:00:00",0,0,0,0,{"$f":"F367/'Refrigeration & Weather'!$C$22","v":0},{"$f":"G367*3*'Refrigeration & Weather'!$C$23","v":0}]
[351,"2013-02-13T21:00:00",0,0,0,0,{"$f":"F368/'Refrigeration & Weather'!$C$22","v":0},{"$f":"G368*3*'Refrigeration & Weather'!$C$23","v":0}]
[352,"2013-02-14",0,0,0,0,{"$f":"F369/'Refrigeration & Weather'!$C$22","v":0},{"$f":"G369*3*'Refrigeration & Weather'!$C$23","v":0}]
[353,"2013-02-14T03:00:00",0,0,0,0,{"$f":"F370/'Refrigeration & Weather'!$C$22","v":0},{"$f":"G370*3*'Refrigeration & Weather'!$C$23","v":0}]
[354,"2013-02-14T06:00:00",0,0,0,0,{"$f":"F371/'Refrigeration & Weather'!$C$22","v":0},{"$f":"G371*3*'Refrigeration & Weather'!$C$23","v":0}]
[355,"2013-02-14T09:00:00",0,0,0,0,{"$f":"F372/'Refrigeration & Weather'!$C$22","v":0},{"$f":"G372*3*'Refrigeration & Weather'!$C$23","v":0}]
[356,"2013-02-14T12:00:00",0,0,0,0,{"$f":"F373/'Refrigeration & Weather'!$C$22","v":0},{"$f":"G373*3*'Refrigeration & Weather'!$C$23","v":0}]
[357,"2013-02-14T15:00:00",0,0,0,0,{"$f":"F374/'Refrigeration & Weather'!$C$22","v":0},{"$f":"G374*3*'Refrigeration & Weather'!$C$23","v":0}]
[358,"2013-02-14T18:00:00",0,0,0,0,{"$f":"F375/'Refrigeration & Weather'!$C$22","v":0},{"$f":"G375*3*'Refrigeration & Weather'!$C$23","v":0}]
[359,"2013-02-14T21:00:00",0,0,0,0,{"$f":"F376/'Refrigeration & Weather'!$C$22","v":0},{"$f":"G376*3*'Refrigeration & Weather'!$C$23","v":0}]
[360,"2013-02-15",0,0,0,0,{"$f":"F377/'Refrigeration & Weather'!$C$22","v":0},{"$f":"G377*3*'Refrigeration & Weather'!$C$23","v":0}]
[361,"2013-02-15T03:00:00",0,0,0,0,{"$f":"F378/'Refrigeration & Weather'!$C$22","v":0},{"$f":"G378*3*'Refrigeration & Weather'!$C$23","v":0}]
[362,"2013-02-15T06:00:00",0,0,0,0,{"$f":"F379/'Refrigeration & Weather'!$C$22","v":0},{"$f":"G379*3*'Refrigeration & Weather'!$C$23","v":0}]
[363,"2013-02-15T09:00:00",0,0,0,0,{"$f":"F380/'Refrigeration & Weather'!$C$22","v":0},{"$f":"G380*3*'Refrigeration & Weather'!$C$23","v":0}]
[364,"2013-02-15T12:00:00",0,0,0,0,{"$f":"F381/'Refrigeration & Weather'!$C$22","v":0},{"$f":"G381*3*'Refrigeration & Weather'!$C$23","v":0}]
[365,"2013-02-15T15:00:00",0,0,0,0,{"$f":"F382/'Refrigeration & Weather'!$C$22","v":0},{"$f":"G382*3*'Refrigeration & Weather'!$C$23","v":0}]
[366,"2013-02-15T18:00:00",0,0,0,0,{"$f":"F383/'Refrigeration & Weather'!$C$22","v":0},{"$f":"G383*3*'Refrigeration & Weather'!$C$23","v":0}]
[367,"2013-02-15T21:00:00",0,0,0,0,{"$f":"F384/'Refrigeration & Weather'!$C$22","v":0},{"$f":"G384*3*'Refrigeration & Weather'!$C$23","v":0}]
[368,"2013-02-16",0,0,0,0,{"$f":"F385/'Refrigeration & Weather'!$C$22","v":0},{"$f":"G385*3*'Refrigeration & Weather'!$C$23","v":0}]
[369,"2013-02-16T03:00:00",0,0,0,0,{"$f":"F386/'Refrigeration & Weather'!$C$22","v":0},{"$f":"G386*3*'Refrigeration & Weather'!$C$23","v":0}]
[370,"2013-02-16T06:00:00",0,0,0,0,{"$f":"F387/'Refrigeration & Weather'!$C$22","v":0},{"$f":"G387*3*'Refrigeration & Weather'!$C$23","v":0}]
[371,"2013-02-16T09:00:00",0,0,0,0,{"$f":"F388/'Refrigeration & Weather'!$C$22","v":0},{"$f":"G388*3*'Refrigeration & Weather'!$C$23","v":0}]
[372,"2013-02-16T12:00:00",0,0,0,0,{"$f":"F389/'Refrigeration & Weather'!$C$22","v":0},{"$f":"G389*3*'Refrigeration & Weather'!$C$23","v":0}]
[373,"2013-02-16T15:00:00",0,0,0,0,{"$f":"F390/'Refrigeration & Weather'!$C$22","v":0},{"$f":"G390*3*'Refrigeration & Weather'!$C$23","v":0}]
[374,"2013-02-16T18:00:00",0,0,0,0,{"$f":"F391/'Refrigeration & Weather'!$C$22","v":0},{"$f":"G391*3*'Refrigeration & Weather'!$C$23","v":0}]
[375,"2013-02-16T21:00:00",0,0,0,0,{"$f":"F392/'Refrigeration & Weather'!$C$22","v":0},{"$f":"G392*3*'Refrigeration & Weather'!$C$23","v":0}]
[376,"2013-02-17",0,0,0,0,{"$f":"F393/'Refrigeration & Weather'!$C$22","v":0},{"$f":"G393*3*'Refrigeration & Weather'!$C$23","v":0}]
[377,"2013-02-17T03:00:00",0,0,0,0,{"$f":"F394/'Refrigeration & Weather'!$C$22","v":0},{"$f":"G394*3*'Refrigeration & Weather'!$C$23","v":0}]
[378,"2013-02-17T06:00:00",0,0,0,0,{"$f":"F395/'Refrigeration & Weather'!$C$22","v":0},{"$f":"G395*3*'Refrigeration & Weather'!$C$23","v":0}]
[379,"2013-02-17T09:00:00",0,0,0,0,{"$f":"F396/'Refrigeration & Weather'!$C$22","v":0},{"$f":"G396*3*'Refrigeration & Weather'!$C$23","v":0}]
[380,"2013-02-17T12:00:00",0,0,0,0,{"$f":"F397/'Refrigeration & Weather'!$C$22","v":0},{"$f":"G397*3*'Refrigeration & Weather'!$C$23","v":0}]
[381,"2013-02-17T15:00:00",0,0,0,0,{"$f":"F398/'Refrigeration & Weather'!$C$22","v":0},{"$f":"G398*3*'Refrigeration & Weather'!$C$23","v":0}]
[382,"2013-02-17T18:00:00",0,0,0,0,{"$f":"F399/'Refrigeration & Weather'!$C$22","v":0},{"$f":"G399*3*'Refrigeration & Weather'!$C$23","v":0}]
[383,"2013-02-17T21:00:00",0,0,0,0,{"$f":"F400/'Refrigeration & Weather'!$C$22","v":0},{"$f":"G400*3*'Refrigeration & Weather'!$C$23","v":0}]
[384,"2013-02-18",{"$f":"J401+N401+R401+V401+Z401+AD401+AH401+AL401+AP401+AT401+AX401+BB401+BF401+BJ401+BN401+BR401+BV401+BZ401+CD401+CH401+CL401+CP401+CT401+CX401+DB401+DF401+DJ401+DN401+DR401+DV401+DZ401+ED401+EH401+EL401+EP401+ET401+EX401+FB401+FF401+FJ401+FN401+FR401+FV401+FZ401+GD401+GH401+GL401+GP401+GT401+GX401+HB401+HF401+HJ401+HN401+HR401+HV401+HZ401+ID401+IH401+IL401+IP401+IT401+IX401+JB401+JF401+JJ401+JN401+JR401+JV401+JZ401+KD401+KH401+KL401+KP401+KT401+KX401+LB401+LF401+LJ401+LN401+LR401+LV401+LZ401+MD401+MH401+ML401+MP401+MT401+MX401+NB401+NF401+NJ401+NN401+NR401+NV401+NZ401+OD401+OH401+OL401+OP401","v":0},0,0,0,{"$f":"F401/'Refrigeration & Weather'!$C$22","v":0},{"$f":"G401*3*'Refrigeration & Weather'!$C$23","v":0}]
[385,"2013-02-18T03:00:00",0,{"$f":"K402+O402+S402+W402+AA402+AE402+AI402+AM402+AQ402+AU402+AY402+BC402+BG402+BK402+BO402+BS402+BW402+CA402+CE402+CI402+CM402+CQ402+CU402+CY402+DC402+DG402+DK402+DO402+DS402+DW402+EA402+EE402+EI402+EM402+EQ402+EU402+EY402+FC402+FG402+FK402+FO402+FS402+FW402+GA402+GE402+GI402+GM402+GQ402+GU402+GY402+HC402+HG402+HK402+HO402+HS402+HW402+IA402+IE402+II402+IM402+IQ402+IU402+IY402+JC402+JG402+JK402+JO402+JS402+JW402+KA402+KE402+KI402+KM402+KQ402+KU402+KY402+LC402+LG402+LK402+LO402+LS402+LW402+MA402+ME402+MI402+MM402+MQ402+MU402+MY402+NC402+NG402+NK402+NO402+NS402+NW402+OA402+OE402+OI402+OM402+OQ402","v":0},{"$f":"L402+P402+T402+X402+AB402+AF402+AJ402+AN402+AR402+AV402+AZ402+BD402+BH402+BL402+BP402+BT402+BX402+CB402+CF402+CJ402+CN402+CR402+CV402+CZ402+DD402+DH402+DL402+DP402+DT402+DX402+EB402+EF402+EJ402+EN402+ER402+EV402+EZ402+FD402+FH402+FL402+FP402+FT402+FX402+GB402+GF402+GJ402+GN402+GR402+GV402+GZ402+HD402+HH402+HL402+HP402+HT402+HX402+IB402+IF402+IJ402+IN402+IR402+IV402+IZ402+JD402+JH402+JL402+JP402+JT402+JX402+KB402+KF402+KJ402+KN402+KR402+KV402+KZ402+LD402+LH402+LL402+LP402+LT402+LX402+MB402+MF402+MJ402+MN402+MR402+MV402+MZ402+ND402+NH402+NL402+NP402+NT402+NX402+OB402+OF402+OJ402+ON402+OR402","v":0},{"$f":"SUM(C402:E402)","v":0},{"$f":"F402/'Refrigeration & Weather'!$C$22","v":0},{"$f":"G402*3*'Refrigeration & Weather'!$C$23","v":0}]
[386,"2013-02-18T06:00:00",0,0,0,0,{"$f":"F403/'Refrigeration & Weather'!$C$22","v":0},{"$f":"G403*3*'Refrigeration & Weather'!$C$23","v":0}]
[387,{"$f":"B403+1/8","v":"2013-02-18T09:00:00"},0,0,0,0,{"$f":"F404/'Refrigeration & Weather'!$C$22","v":0},{"$f":"G404*3*'Refrigeration & Weather'!$C$23","v":0}]
[388,"2013-02-18T12:00:00",0,0,0,0,{"$f":"F405/'Refrigeration & Weather'!$C$22","v":0},{"$f":"G405*3*'Refrigeration & Weather'!$C$23","v":0}]
[389,"2013-02-18T15:00:00",0,0,0,0,{"$f":"F406/'Refrigeration & Weather'!$C$22","v":0},{"$f":"G406*3*'Refrigeration & Weather'!$C$23","v":0}]
[390,"2013-02-18T18:00:00",0,0,0,0,{"$f":"F407/'Refrigeration & Weather'!$C$22","v":0},{"$f":"G407*3*'Refrigeration & Weather'!$C$23","v":0}]
[391,"2013-02-18T21:00:00",0,0,0,0,{"$f":"F408/'Refrigeration & Weather'!$C$22","v":0},{"$f":"G408*3*'Refrigeration & Weather'!$C$23","v":0}]
[392,"2013-02-19",0,0,0,0,{"$f":"F409/'Refrigeration & Weather'!$C$22","v":0},{"$f":"G409*3*'Refrigeration & Weather'!$C$23","v":0}]
[393,"2013-02-19T03:00:00",0,0,0,0,{"$f":"F410/'Refrigeration & Weather'!$C$22","v":0},{"$f":"G410*3*'Refrigeration & Weather'!$C$23","v":0}]
[394,"2013-02-19T06:00:00",0,0,0,0,{"$f":"F411/'Refrigeration & Weather'!$C$22","v":0},{"$f":"G411*3*'Refrigeration & Weather'!$C$23","v":0}]
[395,"2013-02-19T09:00:00",0,0,0,0,{"$f":"F412/'Refrigeration & Weather'!$C$22","v":0},{"$f":"G412*3*'Refrigeration & Weather'!$C$23","v":0}]
[396,"2013-02-19T12:00:00",0,0,0,0,{"$f":"F413/'Refrigeration & Weather'!$C$22","v":0},{"$f":"G413*3*'Refrigeration & Weather'!$C$23","v":0}]
[397,"2013-02-19T15:00:00",0,0,0,0,{"$f":"F414/'Refrigeration & Weather'!$C$22","v":0},{"$f":"G414*3*'Refrigeration & Weather'!$C$23","v":0}]
[398,"2013-02-19T18:00:00",0,0,0,0,{"$f":"F415/'Refrigeration & Weather'!$C$22","v":0},{"$f":"G415*3*'Refrigeration & Weather'!$C$23","v":0}]
[399,"2013-02-19T21:00:00",0,0,0,0,{"$f":"F416/'Refrigeration & Weather'!$C$22","v":0},{"$f":"G416*3*'Refrigeration & Weather'!$C$23","v":0}]
[400,"2013-02-20",0,0,0,0,{"$f":"F417/'Refrigeration & Weather'!$C$22","v":0},{"$f":"G417*3*'Refrigeration & Weather'!$C$23","v":0}]
[401,"2013-02-20T03:00:00",0,0,0,0,{"$f":"F418/'Refrigeration & Weather'!$C$22","v":0},{"$f":"G418*3*'Refrigeration & Weather'!$C$23","v":0}]
[402,"2013-02-20T06:00:00",0,0,0,0,{"$f":"F419/'Refrigeration & Weather'!$C$22","v":0},{"$f":"G419*3*'Refrigeration & Weather'!$C$23","v":0}]
[403,"2013-02-20T09:00:00",0,0,0,0,{"$f":"F420/'Refrigeration & Weather'!$C$22","v":0},{"$f":"G420*3*'Refrigeration & Weather'!$C$23","v":0}]
[404,"2013-02-20T12:00:00",0,0,0,0,{"$f":"F421/'Refrigeration & Weather'!$C$22","v":0},{"$f":"G421*3*'Refrigeration & Weather'!$C$23","v":0}]
[405,"2013-02-20T15:00:00",0,0,0,0,{"$f":"F422/'Refrigeration & Weather'!$C$22","v":0},{"$f":"G422*3*'Refrigeration & Weather'!$C$23","v":0}]
[406,"2013-02-20T18:00:00",0,0,0,0,{"$f":"F423/'Refrigeration & Weather'!$C$22","v":0},{"$f":"G423*3*'Refrigeration & Weather'!$C$23","v":0}]
[407,"2013-02-20T21:00:00",0,0,0,0,{"$f":"F424/'Refrigeration & Weather'!$C$22","v":0},{"$f":"G424*3*'Refrigeration & Weather'!$C$23","v":0}]
[408,"2013-02-21",0,0,0,0,{"$f":"F425/'Refrigeration & Weather'!$C$22","v":0},{"$f":"G425*3*'Refrigeration & Weather'!$C$23","v":0}]
[409,"2013-02-21T03:00:00",0,0,0,0,{"$f":"F426/'Refrigeration & Weather'!$C$22","v":0},{"$f":"G426*3*'Refrigeration & Weather'!$C$23","v":0}]
[410,"2013-02-21T06:00:00",0,0,0,0,{"$f":"F427/'Refrigeration & Weather'!$C$22","v":0},{"$f":"G427*3*'Refrigeration & Weather'!$C$23","v":0}]
[411,"2013-02-21T09:00:00",0,0,0,0,{"$f":"F428/'Refrigeration & Weather'!$C$22","v":0},{"$f":"G428*3*'Refrigeration & Weather'!$C$23","v":0}]
[412,"2013-02-21T12:00:00",0,0,0,0,{"$f":"F429/'Refrigeration & Weather'!$C$22","v":0},{"$f":"G429*3*'Refrigeration & Weather'!$C$23","v":0}]
[413,"2013-02-21T15:00:00",0,0,0,0,{"$f":"F430/'Refrigeration & Weather'!$C$22","v":0},{"$f":"G430*3*'Refrigeration & Weather'!$C$23","v":0}]
[414,"2013-02-21T18:00:00",0,0,0,0,{"$f":"F431/'Refrigeration & Weather'!$C$22","v":0},{"$f":"G431*3*'Refrigeration & Weather'!$C$23","v":0}]
[415,"2013-02-21T21:00:00",0,0,0,0,{"$f":"F432/'Refrigeration & Weather'!$C$22","v":0},{"$f":"G432*3*'Refrigeration & Weather'!$C$23","v":0}]
[416,"2013-02-22",0,0,0,0,{"$f":"F433/'Refrigeration & Weather'!$C$22","v":0},{"$f":"G433*3*'Refrigeration & Weather'!$C$23","v":0}]
[417,"2013-02-22T03:00:00",0,0,0,0,{"$f":"F434/'Refrigeration & Weather'!$C$22","v":0},{"$f":"G434*3*'Refrigeration & Weather'!$C$23","v":0}]
[418,"2013-02-22T06:00:00",0,0,0,0,{"$f":"F435/'Refrigeration & Weather'!$C$22","v":0},{"$f":"G435*3*'Refrigeration & Weather'!$C$23","v":0}]
[419,"2013-02-22T09:00:00",0,0,0,0,{"$f":"F436/'Refrigeration & Weather'!$C$22","v":0},{"$f":"G436*3*'Refrigeration & Weather'!$C$23","v":0}]
[420,"2013-02-22T12:00:00",0,0,0,0,{"$f":"F437/'Refrigeration & Weather'!$C$22","v":0},{"$f":"G437*3*'Refrigeration & Weather'!$C$23","v":0}]
[421,"2013-02-22T15:00:00",0,0,0,0,{"$f":"F438/'Refrigeration & Weather'!$C$22","v":0},{"$f":"G438*3*'Refrigeration & Weather'!$C$23","v":0}]
[422,"2013-02-22T18:00:00",0,0,0,0,{"$f":"F439/'Refrigeration & Weather'!$C$22","v":0},{"$f":"G439*3*'Refrigeration & Weather'!$C$23","v":0}]
[423,"2013-02-22T21:00:00",0,0,0,0,{"$f":"F440/'Refrigeration & Weather'!$C$22","v":0},{"$f":"G440*3*'Refrigeration & Weather'!$C$23","v":0}]
[424,"2013-02-23",0,0,0,0,{"$f":"F441/'Refrigeration & Weather'!$C$22","v":0},{"$f":"G441*3*'Refrigeration & Weather'!$C$23","v":0}]
[425,"2013-02-23T03:00:00",0,0,0,0,{"$f":"F442/'Refrigeration & Weather'!$C$22","v":0},{"$f":"G442*3*'Refrigeration & Weather'!$C$23","v":0}]
[426,"2013-02-23T06:00:00",0,0,0,0,{"$f":"F443/'Refrigeration & Weather'!$C$22","v":0},{"$f":"G443*3*'Refrigeration & Weather'!$C$23","v":0}]
[427,"2013-02-23T09:00:00",0,0,0,0,{"$f":"F444/'Refrigeration & Weather'!$C$22","v":0},{"$f":"G444*3*'Refrigeration & Weather'!$C$23","v":0}]
[428,"2013-02-23T12:00:00",0,0,0,0,{"$f":"F445/'Refrigeration & Weather'!$C$22","v":0},{"$f":"G445*3*'Refrigeration & Weather'!$C$23","v":0}]
[429,"2013-02-23T15:00:00",0,0,0,0,{"$f":"F446/'Refrigeration & Weather'!$C$22","v":0},{"$f":"G446*3*'Refrigeration & Weather'!$C$23","v":0}]
[430,"2013-02-23T18:00:00",0,0,0,0,{"$f":"F447/'Refrigeration & Weather'!$C$22","v":0},{"$f":"G447*3*'Refrigeration & Weather'!$C$23","v":0}]
[431,"2013-02-23T21:00:00",0,0,0,0,{"$f":"F448/'Refrigeration & Weather'!$C$22","v":0},{"$f":"G448*3*'Refrigeration & Weather'!$C$23","v":0}]
[432,"2013-02-24",0,0,0,0,{"$f":"F449/'Refrigeration & Weather'!$C$22","v":0},{"$f":"G449*3*'Refrigeration & Weather'!$C$23","v":0}]
[433,"2013-02-24T03:00:00",0,0,0,0,{"$f":"F450/'Refrigeration & Weather'!$C$22","v":0},{"$f":"G450*3*'Refrigeration & Weather'!$C$23","v":0}]
[434,"2013-02-24T06:00:00",0,0,0,0,{"$f":"F451/'Refrigeration & Weather'!$C$22","v":0},{"$f":"G451*3*'Refrigeration & Weather'!$C$23","v":0}]
[435,"2013-02-24T09:00:00",0,0,0,0,{"$f":"F452/'Refrigeration & Weather'!$C$22","v":0},{"$f":"G452*3*'Refrigeration & Weather'!$C$23","v":0}]
[436,"2013-02-24T12:00:00",0,0,0,0,{"$f":"F453/'Refrigeration & Weather'!$C$22","v":0},{"$f":"G453*3*'Refrigeration & Weather'!$C$23","v":0}]
[437,"2013-02-24T15:00:00",0,0,0,0,{"$f":"F454/'Refrigeration & Weather'!$C$22","v":0},{"$f":"G454*3*'Refrigeration & Weather'!$C$23","v":0}]
[438,"2013-02-24T18:00:00",0,0,0,0,{"$f":"F455/'Refrigeration & Weather'!$C$22","v":0},{"$f":"G455*3*'Refrigeration & Weather'!$C$23","v":0}]
[439,"2013-02-24T21:00:00",0,0,0,0,{"$f":"F456/'Refrigeration & Weather'!$C$22","v":0},{"$f":"G456*3*'Refrigeration & Weather'!$C$23","v":0}]
[440,"2013-02-25",0,0,0,0,{"$f":"F457/'Refrigeration & Weather'!$C$22","v":0},{"$f":"G457*3*'Refrigeration & Weather'!$C$23","v":0}]
[441,"2013-02-25T03:00:00",0,0,0,0,{"$f":"F458/'Refrigeration & Weather'!$C$22","v":0},{"$f":"G458*3*'Refrigeration & Weather'!$C$23","v":0}]
[442,"2013-02-25T06:00:00",0,0,0,0,{"$f":"F459/'Refrigeration & Weather'!$C$22","v":0},{"$f":"G459*3*'Refrigeration & Weather'!$C$23","v":0}]
[443,"2013-02-25T09:00:00",0,0,0,0,{"$f":"F460/'Refrigeration & Weather'!$C$22","v":0},{"$f":"G460*3*'Refrigeration & Weather'!$C$23","v":0}]
[444,"2013-02-25T12:00:00",0,0,0,0,{"$f":"F461/'Refrigeration & Weather'!$C$22","v":0},{"$f":"G461*3*'Refrigeration & Weather'!$C$23","v":0}]
[445,"2013-02-25T15:00:00",0,0,0,0,{"$f":"F462/'Refrigeration & Weather'!$C$22","v":0},{"$f":"G462*3*'Refrigeration & Weather'!$C$23","v":0}]
[446,"2013-02-25T18:00:00",0,0,0,0,{"$f":"F463/'Refrigeration & Weather'!$C$22","v":0},{"$f":"G463*3*'Refrigeration & Weather'!$C$23","v":0}]
[447,"2013-02-25T21:00:00",0,0,0,0,{"$f":"F464/'Refrigeration & Weather'!$C$22","v":0},{"$f":"G464*3*'Refrigeration & Weather'!$C$23","v":0}]
[448,"2013-02-26",{"$f":"J465+N465+R465+V465+Z465+AD465+AH465+AL465+AP465+AT465+AX465+BB465+BF465+BJ465+BN465+BR465+BV465+BZ465+CD465+CH465+CL465+CP465+CT465+CX465+DB465+DF465+DJ465+DN465+DR465+DV465+DZ465+ED465+EH465+EL465+EP465+ET465+EX465+FB465+FF465+FJ465+FN465+FR465+FV465+FZ465+GD465+GH465+GL465+GP465+GT465+GX465+HB465+HF465+HJ465+HN465+HR465+HV465+HZ465+ID465+IH465+IL465+IP465+IT465+IX465+JB465+JF465+JJ465+JN465+JR465+JV465+JZ465+KD465+KH465+KL465+KP465+KT465+KX465+LB465+LF465+LJ465+LN465+LR465+LV465+LZ465+MD465+MH465+ML465+MP465+MT465+MX465+NB465+NF465+NJ465+NN465+NR465+NV465+NZ465+OD465+OH465+OL465+OP465","v":0},0,0,0,{"$f":"F465/'Refrigeration & Weather'!$C$22","v":0},{"$f":"G465*3*'Refrigeration & Weather'!$C$23","v":0}]
[449,"2013-02-26T03:00:00",0,{"$f":"K466+O466+S466+W466+AA466+AE466+AI466+AM466+AQ466+AU466+AY466+BC466+BG466+BK466+BO466+BS466+BW466+CA466+CE466+CI466+CM466+CQ466+CU466+CY466+DC466+DG466+DK466+DO466+DS466+DW466+EA466+EE466+EI466+EM466+EQ466+EU466+EY466+FC466+FG466+FK466+FO466+FS466+FW466+GA466+GE466+GI466+GM466+GQ466+GU466+GY466+HC466+HG466+HK466+HO466+HS466+HW466+IA466+IE466+II466+IM466+IQ466+IU466+IY466+JC466+JG466+JK466+JO466+JS466+JW466+KA466+KE466+KI466+KM466+KQ466+KU466+KY466+LC466+LG466+LK466+LO466+LS466+LW466+MA466+ME466+MI466+MM466+MQ466+MU466+MY466+NC466+NG466+NK466+NO466+NS466+NW466+OA466+OE466+OI466+OM466+OQ466","v":0},{"$f":"L466+P466+T466+X466+AB466+AF466+AJ466+AN466+AR466+AV466+AZ466+BD466+BH466+BL466+BP466+BT466+BX466+CB466+CF466+CJ466+CN466+CR466+CV466+CZ466+DD466+DH466+DL466+DP466+DT466+DX466+EB466+EF466+EJ466+EN466+ER466+EV466+EZ466+FD466+FH466+FL466+FP466+FT466+FX466+GB466+GF466+GJ466+GN466+GR466+GV466+GZ466+HD466+HH466+HL466+HP466+HT466+HX466+IB466+IF466+IJ466+IN466+IR466+IV466+IZ466+JD466+JH466+JL466+JP466+JT466+JX466+KB466+KF466+KJ466+KN466+KR466+KV466+KZ466+LD466+LH466+LL466+LP466+LT466+LX466+MB466+MF466+MJ466+MN466+MR466+MV466+MZ466+ND466+NH466+NL466+NP466+NT466+NX466+OB466+OF466+OJ466+ON466+OR466","v":0},{"$f":"SUM(C466:E466)","v":0},{"$f":"F466/'Refrigeration & Weather'!$C$22","v":0},{"$f":"G466*3*'Refrigeration & Weather'!$C$23","v":0}]
[450,"2013-02-26T06:00:00",0,0,0,0,{"$f":"F467/'Refrigeration & Weather'!$C$22","v":0},{"$f":"G467*3*'Refrigeration & Weather'!$C$23","v":0}]
[451,{"$f":"B467+1/8","v":"2013-02-26T09:00:00"},0,0,0,0,{"$f":"F468/'Refrigeration & Weather'!$C$22","v":0},{"$f":"G468*3*'Refrigeration & Weather'!$C$23","v":0}]
[452,"2013-02-26T12:00:00",0,0,0,0,{"$f":"F469/'Refrigeration & Weather'!$C$22","v":0},{"$f":"G469*3*'Refrigeration & Weather'!$C$23","v":0}]
[453,"2013-02-26T15:00:00",0,0,0,0,{"$f":"F470/'Refrigeration & Weather'!$C$22","v":0},{"$f":"G470*3*'Refrigeration & Weather'!$C$23","v":0}]
[454,"2013-02-26T18:00:00",0,0,0,0,{"$f":"F471/'Refrigeration & Weather'!$C$22","v":0},{"$f":"G471*3*'Refrigeration & Weather'!$C$23","v":0}]
[455,"2013-02-26T21:00:00",0,0,0,0,{"$f":"F472/'Refrigeration & Weather'!$C$22","v":0},{"$f":"G472*3*'Refrigeration & Weather'!$C$23","v":0}]
[456,"2013-02-27",0,0,0,0,{"$f":"F473/'Refrigeration & Weather'!$C$22","v":0},{"$f":"G473*3*'Refrigeration & Weather'!$C$23","v":0}]
[457,"2013-02-27T03:00:00",0,0,0,0,{"$f":"F474/'Refrigeration & Weather'!$C$22","v":0},{"$f":"G474*3*'Refrigeration & Weather'!$C$23","v":0}]
[458,"2013-02-27T06:00:00",0,0,0,0,{"$f":"F475/'Refrigeration & Weather'!$C$22","v":0},{"$f":"G475*3*'Refrigeration & Weather'!$C$23","v":0}]
[459,"2013-02-27T09:00:00",0,0,0,0,{"$f":"F476/'Refrigeration & Weather'!$C$22","v":0},{"$f":"G476*3*'Refrigeration & Weather'!$C$23","v":0}]
[460,"2013-02-27T12:00:00",0,0,0,0,{"$f":"F477/'Refrigeration & Weather'!$C$22","v":0},{"$f":"G477*3*'Refrigeration & Weather'!$C$23","v":0}]
[461,"2013-02-27T15:00:00",0,0,0,0,{"$f":"F478/'Refrigeration & Weather'!$C$22","v":0},{"$f":"G478*3*'Refrigeration & Weather'!$C$23","v":0}]
[462,"2013-02-27T18:00:00",0,0,0,0,{"$f":"F479/'Refrigeration & Weather'!$C$22","v":0},{"$f":"G479*3*'Refrigeration & Weather'!$C$23","v":0}]
[463,"2013-02-27T21:00:00",0,0,0,0,{"$f":"F480/'Refrigeration & Weather'!$C$22","v":0},{"$f":"G480*3*'Refrigeration & Weather'!$C$23","v":0}]
[464,"2013-02-28",0,0,0,0,{"$f":"F481/'Refrigeration & Weather'!$C$22","v":0},{"$f":"G481*3*'Refrigeration & Weather'!$C$23","v":0}]
[465,"2013-02-28T03:00:00",0,0,0,0,{"$f":"F482/'Refrigeration & Weather'!$C$22","v":0},{"$f":"G482*3*'Refrigeration & Weather'!$C$23","v":0}]
[466,"2013-02-28T06:00:00",0,0,0,0,{"$f":"F483/'Refrigeration & Weather'!$C$22","v":0},{"$f":"G483*3*'Refrigeration & Weather'!$C$23","v":0}]
[467,"2013-02-28T09:00:00",0,0,0,0,{"$f":"F484/'Refrigeration & Weather'!$C$22","v":0},{"$f":"G484*3*'Refrigeration & Weather'!$C$23","v":0}]
[468,"2013-02-28T12:00:00",0,0,0,0,{"$f":"F485/'Refrigeration & Weather'!$C$22","v":0},{"$f":"G485*3*'Refrigeration & Weather'!$C$23","v":0}]
[469,"2013-02-28T15:00:00",0,0,0,0,{"$f":"F486/'Refrigeration & Weather'!$C$22","v":0},{"$f":"G486*3*'Refrigeration & Weather'!$C$23","v":0}]
[470,"2013-02-28T18:00:00",0,0,0,0,{"$f":"F487/'Refrigeration & Weather'!$C$22","v":0},{"$f":"G487*3*'Refrigeration & Weather'!$C$23","v":0}]
[471,"2013-02-28T21:00:00",0,0,0,0,{"$f":"F488/'Refrigeration & Weather'!$C$22","v":0},{"$f":"G488*3*'Refrigeration & Weather'!$C$23","v":0}]
[472,"2013-03-01",0,0,0,0,{"$f":"F489/'Refrigeration & Weather'!$C$22","v":0},{"$f":"G489*3*'Refrigeration & Weather'!$C$23","v":0}]
[473,"2013-03-01T03:00:00",0,0,0,0,{"$f":"F490/'Refrigeration & Weather'!$C$22","v":0},{"$f":"G490*3*'Refrigeration & Weather'!$C$23","v":0}]
[474,"2013-03-01T06:00:00",0,0,0,0,{"$f":"F491/'Refrigeration & Weather'!$C$22","v":0},{"$f":"G491*3*'Refrigeration & Weather'!$C$23","v":0}]
[475,"2013-03-01T09:00:00",0,0,0,0,{"$f":"F492/'Refrigeration & Weather'!$C$22","v":0},{"$f":"G492*3*'Refrigeration & Weather'!$C$23","v":0}]
[476,"2013-03-01T12:00:00",0,0,0,0,{"$f":"F493/'Refrigeration & Weather'!$C$22","v":0},{"$f":"G493*3*'Refrigeration & Weather'!$C$23","v":0}]
[477,"2013-03-01T15:00:00",0,0,0,0,{"$f":"F494/'Refrigeration & Weather'!$C$22","v":0},{"$f":"G494*3*'Refrigeration & Weather'!$C$23","v":0}]
[478,"2013-03-01T18:00:00",0,0,0,0,{"$f":"F495/'Refrigeration & Weather'!$C$22","v":0},{"$f":"G495*3*'Refrigeration & Weather'!$C$23","v":0}]
[479,"2013-03-01T21:00:00",0,0,0,0,{"$f":"F496/'Refrigeration & Weather'!$C$22","v":0},{"$f":"G496*3*'Refrigeration & Weather'!$C$23","v":0}]
[480,"2013-03-02",0,0,0,0,{"$f":"F497/'Refrigeration & Weather'!$C$22","v":0},{"$f":"G497*3*'Refrigeration & Weather'!$C$23","v":0}]
[481,"2013-03-02T03:00:00",0,0,0,0,{"$f":"F498/'Refrigeration & Weather'!$C$22","v":0},{"$f":"G498*3*'Refrigeration & Weather'!$C$23","v":0}]
[482,"2013-03-02T06:00:00",0,0,0,0,{"$f":"F499/'Refrigeration & Weather'!$C$22","v":0},{"$f":"G499*3*'Refrigeration & Weather'!$C$23","v":0}]
[483,"2013-03-02T09:00:00",0,0,0,0,{"$f":"F500/'Refrigeration & Weather'!$C$22","v":0},{"$f":"G500*3*'Refrigeration & Weather'!$C$23","v":0}]
[484,"2013-03-02T12:00:00",0,0,0,0,{"$f":"F501/'Refrigeration & Weather'!$C$22","v":0},{"$f":"G501*3*'Refrigeration & Weather'!$C$23","v":0}]
[485,"2013-03-02T15:00:00",0,0,0,0,{"$f":"F502/'Refrigeration & Weather'!$C$22","v":0},{"$f":"G502*3*'Refrigeration & Weather'!$C$23","v":0}]
[486,"2013-03-02T18:00:00",0,0,0,0,{"$f":"F503/'Refrigeration & Weather'!$C$22","v":0},{"$f":"G503*3*'Refrigeration & Weather'!$C$23","v":0}]
[487,"2013-03-02T21:00:00",0,0,0,0,{"$f":"F504/'Refrigeration & Weather'!$C$22","v":0},{"$f":"G504*3*'Refrigeration & Weather'!$C$23","v":0}]
[488,"2013-03-03",0,0,0,0,{"$f":"F505/'Refrigeration & Weather'!$C$22","v":0},{"$f":"G505*3*'Refrigeration & Weather'!$C$23","v":0}]
[489,"2013-03-03T03:00:00",0,0,0,0,{"$f":"F506/'Refrigeration & Weather'!$C$22","v":0},{"$f":"G506*3*'Refrigeration & Weather'!$C$23","v":0}]
[490,"2013-03-03T06:00:00",0,0,0,0,{"$f":"F507/'Refrigeration & Weather'!$C$22","v":0},{"$f":"G507*3*'Refrigeration & Weather'!$C$23","v":0}]
[491,"2013-03-03T09:00:00",0,0,0,0,{"$f":"F508/'Refrigeration & Weather'!$C$22","v":0},{"$f":"G508*3*'Refrigeration & Weather'!$C$23","v":0}]
[492,"2013-03-03T12:00:00",0,0,0,0,{"$f":"F509/'Refrigeration & Weather'!$C$22","v":0},{"$f":"G509*3*'Refrigeration & Weather'!$C$23","v":0}]
[493,"2013-03-03T15:00:00",0,0,0,0,{"$f":"F510/'Refrigeration & Weather'!$C$22","v":0},{"$f":"G510*3*'Refrigeration & Weather'!$C$23","v":0}]
[494,"2013-03-03T18:00:00",0,0,0,0,{"$f":"F511/'Refrigeration & Weather'!$C$22","v":0},{"$f":"G511*3*'Refrigeration & Weather'!$C$23","v":0}]
[495,"2013-03-03T21:00:00",0,0,0,0,{"$f":"F512/'Refrigeration & Weather'!$C$22","v":0},{"$f":"G512*3*'Refrigeration & Weather'!$C$23","v":0}]
[496,"2013-03-04",0,0,0,0,{"$f":"F513/'Refrigeration & Weather'!$C$22","v":0},{"$f":"G513*3*'Refrigeration & Weather'!$C$23","v":0}]
[497,"2013-03-04T03:00:00",0,0,0,0,{"$f":"F514/'Refrigeration & Weather'!$C$22","v":0},{"$f":"G514*3*'Refrigeration & Weather'!$C$23","v":0}]
[498,"2013-03-04T06:00:00",0,0,0,0,{"$f":"F515/'Refrigeration & Weather'!$C$22","v":0},{"$f":"G515*3*'Refrigeration & Weather'!$C$23","v":0}]
[499,"2013-03-04T09:00:00",0,0,0,0,{"$f":"F516/'Refrigeration & Weather'!$C$22","v":0},{"$f":"G516*3*'Refrigeration & Weather'!$C$23","v":0}]
[500,"2013-03-04T12:00:00",0,0,0,0,{"$f":"F517/'Refrigeration & Weather'!$C$22","v":0},{"$f":"G517*3*'Refrigeration & Weather'!$C$23","v":0}]
[501,"2013-03-04T15:00:00",0,0,0,0,{"$f":"F518/'Refrigeration & Weather'!$C$22","v":0},{"$f":"G518*3*'Refrigeration & Weather'!$C$23","v":0}]
[502,"2013-03-04T18:00:00",0,0,0,0,{"$f":"F519/'Refrigeration & Weather'!$C$22","v":0},{"$f":"G519*3*'Refrigeration & Weather'!$C$23","v":0}]
[503,"2013-03-04T21:00:00",0,0,0,0,{"$f":"F520/'Refrigeration & Weather'!$C$22","v":0},{"$f":"G520*3*'Refrigeration & Weather'!$C$23","v":0}]
[504,"2013-03-05",0,0,0,0,{"$f":"F521/'Refrigeration & Weather'!$C$22","v":0},{"$f":"G521*3*'Refrigeration & Weather'!$C$23","v":0}]
[505,"2013-03-05T03:00:00",0,0,0,0,{"$f":"F522/'Refrigeration & Weather'!$C$22","v":0},{"$f":"G522*3*'Refrigeration & Weather'!$C$23","v":0}]
[506,"2013-03-05T06:00:00",0,0,0,0,{"$f":"F523/'Refrigeration & Weather'!$C$22","v":0},{"$f":"G523*3*'Refrigeration & Weather'!$C$23","v":0}]
[507,"2013-03-05T09:00:00",0,0,0,0,{"$f":"F524/'Refrigeration & Weather'!$C$22","v":0},{"$f":"G524*3*'Refrigeration & Weather'!$C$23","v":0}]
[508,"2013-03-05T12:00:00",0,0,0,0,{"$f":"F525/'Refrigeration & Weather'!$C$22","v":0},{"$f":"G525*3*'Refrigeration & Weather'!$C$23","v":0}]
[509,"2013-03-05T15:00:00",0,0,0,0,{"$f":"F526/'Refrigeration & Weather'!$C$22","v":0},{"$f":"G526*3*'Refrigeration & Weather'!$C$23","v":0}]
[510,"2013-03-05T18:00:00",0,0,0,0,{"$f":"F527/'Refrigeration & Weather'!$C$22","v":0},{"$f":"G527*3*'Refrigeration & Weather'!$C$23","v":0}]
[511,"2013-03-05T21:00:00",0,0,0,0,{"$f":"F528/'Refrigeration & Weather'!$C$22","v":0},{"$f":"G528*3*'Refrigeration & Weather'!$C$23","v":0}]
[512,"2013-03-06",{"$f":"J529+N529+R529+V529+Z529+AD529+AH529+AL529+AP529+AT529+AX529+BB529+BF529+BJ529+BN529+BR529+BV529+BZ529+CD529+CH529+CL529+CP529+CT529+CX529+DB529+DF529+DJ529+DN529+DR529+DV529+DZ529+ED529+EH529+EL529+EP529+ET529+EX529+FB529+FF529+FJ529+FN529+FR529+FV529+FZ529+GD529+GH529+GL529+GP529+GT529+GX529+HB529+HF529+HJ529+HN529+HR529+HV529+HZ529+ID529+IH529+IL529+IP529+IT529+IX529+JB529+JF529+JJ529+JN529+JR529+JV529+JZ529+KD529+KH529+KL529+KP529+KT529+KX529+LB529+LF529+LJ529+LN529+LR529+LV529+LZ529+MD529+MH529+ML529+MP529+MT529+MX529+NB529+NF529+NJ529+NN529+NR529+NV529+NZ529+OD529+OH529+OL529+OP529","v":0},0,0,0,{"$f":"F529/'Refrigeration & Weather'!$C$22","v":0},{"$f":"G529*3*'Refrigeration & Weather'!$C$23","v":0}]
[513,"2013-03-06T03:00:00",0,{"$f":"K530+O530+S530+W530+AA530+AE530+AI530+AM530+AQ530+AU530+AY530+BC530+BG530+BK530+BO530+BS530+BW530+CA530+CE530+CI530+CM530+CQ530+CU530+CY530+DC530+DG530+DK530+DO530+DS530+DW530+EA530+EE530+EI530+EM530+EQ530+EU530+EY530+FC530+FG530+FK530+FO530+FS530+FW530+GA530+GE530+GI530+GM530+GQ530+GU530+GY530+HC530+HG530+HK530+HO530+HS530+HW530+IA530+IE530+II530+IM530+IQ530+IU530+IY530+JC530+JG530+JK530+JO530+JS530+JW530+KA530+KE530+KI530+KM530+KQ530+KU530+KY530+LC530+LG530+LK530+LO530+LS530+LW530+MA530+ME530+MI530+MM530+MQ530+MU530+MY530+NC530+NG530+NK530+NO530+NS530+NW530+OA530+OE530+OI530+OM530+OQ530","v":0},{"$f":"L530+P530+T530+X530+AB530+AF530+AJ530+AN530+AR530+AV530+AZ530+BD530+BH530+BL530+BP530+BT530+BX530+CB530+CF530+CJ530+CN530+CR530+CV530+CZ530+DD530+DH530+DL530+DP530+DT530+DX530+EB530+EF530+EJ530+EN530+ER530+EV530+EZ530+FD530+FH530+FL530+FP530+FT530+FX530+GB530+GF530+GJ530+GN530+GR530+GV530+GZ530+HD530+HH530+HL530+HP530+HT530+HX530+IB530+IF530+IJ530+IN530+IR530+IV530+IZ530+JD530+JH530+JL530+JP530+JT530+JX530+KB530+KF530+KJ530+KN530+KR530+KV530+KZ530+LD530+LH530+LL530+LP530+LT530+LX530+MB530+MF530+MJ530+MN530+MR530+MV530+MZ530+ND530+NH530+NL530+NP530+NT530+NX530+OB530+OF530+OJ530+ON530+OR530","v":0},{"$f":"SUM(C530:E530)","v":0},{"$f":"F530/'Refrigeration & Weather'!$C$22","v":0},{"$f":"G530*3*'Refrigeration & Weather'!$C$23","v":0}]
[514,"2013-03-06T06:00:00",0,0,0,0,{"$f":"F531/'Refrigeration & Weather'!$C$22","v":0},{"$f":"G531*3*'Refrigeration & Weather'!$C$23","v":0}]
[515,{"$f":"B531+1/8","v":"2013-03-06T09:00:00"},0,0,0,0,{"$f":"F532/'Refrigeration & Weather'!$C$22","v":0},{"$f":"G532*3*'Refrigeration & Weather'!$C$23","v":0}]
[516,"2013-03-06T12:00:00",0,0,0,0,{"$f":"F533/'Refrigeration & Weather'!$C$22","v":0},{"$f":"G533*3*'Refrigeration & Weather'!$C$23","v":0}]
[517,"2013-03-06T15:00:00",0,0,0,0,{"$f":"F534/'Refrigeration & Weather'!$C$22","v":0},{"$f":"G534*3*'Refrigeration & Weather'!$C$23","v":0}]
[518,"2013-03-06T18:00:00",0,0,0,0,{"$f":"F535/'Refrigeration & Weather'!$C$22","v":0},{"$f":"G535*3*'Refrigeration & Weather'!$C$23","v":0}]
[519,"2013-03-06T21:00:00",0,0,0,0,{"$f":"F536/'Refrigeration & Weather'!$C$22","v":0},{"$f":"G536*3*'Refrigeration & Weather'!$C$23","v":0}]
[520,"2013-03-07",0,0,0,0,{"$f":"F537/'Refrigeration & Weather'!$C$22","v":0},{"$f":"G537*3*'Refrigeration & Weather'!$C$23","v":0}]
[521,"2013-03-07T03:00:00",0,0,0,0,{"$f":"F538/'Refrigeration & Weather'!$C$22","v":0},{"$f":"G538*3*'Refrigeration & Weather'!$C$23","v":0}]
[522,"2013-03-07T06:00:00",0,0,0,0,{"$f":"F539/'Refrigeration & Weather'!$C$22","v":0},{"$f":"G539*3*'Refrigeration & Weather'!$C$23","v":0}]
[523,"2013-03-07T09:00:00",0,0,0,0,{"$f":"F540/'Refrigeration & Weather'!$C$22","v":0},{"$f":"G540*3*'Refrigeration & Weather'!$C$23","v":0}]
[524,"2013-03-07T12:00:00",0,0,0,0,{"$f":"F541/'Refrigeration & Weather'!$C$22","v":0},{"$f":"G541*3*'Refrigeration & Weather'!$C$23","v":0}]
[525,"2013-03-07T15:00:00",0,0,0,0,{"$f":"F542/'Refrigeration & Weather'!$C$22","v":0},{"$f":"G542*3*'Refrigeration & Weather'!$C$23","v":0}]
[526,"2013-03-07T18:00:00",0,0,0,0,{"$f":"F543/'Refrigeration & Weather'!$C$22","v":0},{"$f":"G543*3*'Refrigeration & Weather'!$C$23","v":0}]
[527,"2013-03-07T21:00:00",0,0,0,0,{"$f":"F544/'Refrigeration & Weather'!$C$22","v":0},{"$f":"G544*3*'Refrigeration & Weather'!$C$23","v":0}]
[528,"2013-03-08",0,0,0,0,{"$f":"F545/'Refrigeration & Weather'!$C$22","v":0},{"$f":"G545*3*'Refrigeration & Weather'!$C$23","v":0}]
[529,"2013-03-08T03:00:00",0,0,0,0,{"$f":"F546/'Refrigeration & Weather'!$C$22","v":0},{"$f":"G546*3*'Refrigeration & Weather'!$C$23","v":0}]
[530,"2013-03-08T06:00:00",0,0,0,0,{"$f":"F547/'Refrigeration & Weather'!$C$22","v":0},{"$f":"G547*3*'Refrigeration & Weather'!$C$23","v":0}]
[531,"2013-03-08T09:00:00",0,0,0,0,{"$f":"F548/'Refrigeration & Weather'!$C$22","v":0},{"$f":"G548*3*'Refrigeration & Weather'!$C$23","v":0}]
[532,"2013-03-08T12:00:00",0,0,0,0,{"$f":"F549/'Refrigeration & Weather'!$C$22","v":0},{"$f":"G549*3*'Refrigeration & Weather'!$C$23","v":0}]
[533,"2013-03-08T15:00:00",0,0,0,0,{"$f":"F550/'Refrigeration & Weather'!$C$22","v":0},{"$f":"G550*3*'Refrigeration & Weather'!$C$23","v":0}]
[534,"2013-03-08T18:00:00",0,0,0,0,{"$f":"F551/'Refrigeration & Weather'!$C$22","v":0},{"$f":"G551*3*'Refrigeration & Weather'!$C$23","v":0}]
[535,"2013-03-08T21:00:00",0,0,0,0,{"$f":"F552/'Refrigeration & Weather'!$C$22","v":0},{"$f":"G552*3*'Refrigeration & Weather'!$C$23","v":0}]
[536,"2013-03-09",0,0,0,0,{"$f":"F553/'Refrigeration & Weather'!$C$22","v":0},{"$f":"G553*3*'Refrigeration & Weather'!$C$23","v":0}]
[537,"2013-03-09T03:00:00",0,0,0,0,{"$f":"F554/'Refrigeration & Weather'!$C$22","v":0},{"$f":"G554*3*'Refrigeration & Weather'!$C$23","v":0}]
[538,"2013-03-09T06:00:00",0,0,0,0,{"$f":"F555/'Refrigeration & Weather'!$C$22","v":0},{"$f":"G555*3*'Refrigeration & Weather'!$C$23","v":0}]
[539,"2013-03-09T09:00:00",0,0,0,0,{"$f":"F556/'Refrigeration & Weather'!$C$22","v":0},{"$f":"G556*3*'Refrigeration & Weather'!$C$23","v":0}]
[540,"2013-03-09T12:00:00",0,0,0,0,{"$f":"F557/'Refrigeration & Weather'!$C$22","v":0},{"$f":"G557*3*'Refrigeration & Weather'!$C$23","v":0}]
[541,"2013-03-09T15:00:00",0,0,0,0,{"$f":"F558/'Refrigeration & Weather'!$C$22","v":0},{"$f":"G558*3*'Refrigeration & Weather'!$C$23","v":0}]
[542,"2013-03-09T18:00:00",0,0,0,0,{"$f":"F559/'Refrigeration & Weather'!$C$22","v":0},{"$f":"G559*3*'Refrigeration & Weather'!$C$23","v":0}]
[543,"2013-03-09T21:00:00",0,0,0,0,{"$f":"F560/'Refrigeration & Weather'!$C$22","v":0},{"$f":"G560*3*'Refrigeration & Weather'!$C$23","v":0}]
[544,"2013-03-10",0,0,0,0,{"$f":"F561/'Refrigeration & Weather'!$C$22","v":0},{"$f":"G561*3*'Refrigeration & Weather'!$C$23","v":0}]
[545,"2013-03-10T03:00:00",0,0,0,0,{"$f":"F562/'Refrigeration & Weather'!$C$22","v":0},{"$f":"G562*3*'Refrigeration & Weather'!$C$23","v":0}]
[546,"2013-03-10T06:00:00",0,0,0,0,{"$f":"F563/'Refrigeration & Weather'!$C$22","v":0},{"$f":"G563*3*'Refrigeration & Weather'!$C$23","v":0}]
[547,"2013-03-10T09:00:00",0,0,0,0,{"$f":"F564/'Refrigeration & Weather'!$C$22","v":0},{"$f":"G564*3*'Refrigeration & Weather'!$C$23","v":0}]
[548,"2013-03-10T12:00:00",0,0,0,0,{"$f":"F565/'Refrigeration & Weather'!$C$22","v":0},{"$f":"G565*3*'Refrigeration & Weather'!$C$23","v":0}]
[549,"2013-03-10T15:00:00",0,0,0,0,{"$f":"F566/'Refrigeration & Weather'!$C$22","v":0},{"$f":"G566*3*'Refrigeration & Weather'!$C$23","v":0}]
[550,"2013-03-10T18:00:00",0,0,0,0,{"$f":"F567/'Refrigeration & Weather'!$C$22","v":0},{"$f":"G567*3*'Refrigeration & Weather'!$C$23","v":0}]
[551,"2013-03-10T21:00:00",0,0,0,0,{"$f":"F568/'Refrigeration & Weather'!$C$22","v":0},{"$f":"G568*3*'Refrigeration & Weather'!$C$23","v":0}]
[552,"2013-03-11",0,0,0,0,{"$f":"F569/'Refrigeration & Weather'!$C$22","v":0},{"$f":"G569*3*'Refrigeration & Weather'!$C$23","v":0}]
[553,"2013-03-11T03:00:00",0,0,0,0,{"$f":"F570/'Refrigeration & Weather'!$C$22","v":0},{"$f":"G570*3*'Refrigeration & Weather'!$C$23","v":0}]
[554,"2013-03-11T06:00:00",0,0,0,0,{"$f":"F571/'Refrigeration & Weather'!$C$22","v":0},{"$f":"G571*3*'Refrigeration & Weather'!$C$23","v":0}]
[555,"2013-03-11T09:00:00",0,0,0,0,{"$f":"F572/'Refrigeration & Weather'!$C$22","v":0},{"$f":"G572*3*'Refrigeration & Weather'!$C$23","v":0}]
[556,"2013-03-11T12:00:00",0,0,0,0,{"$f":"F573/'Refrigeration & Weather'!$C$22","v":0},{"$f":"G573*3*'Refrigeration & Weather'!$C$23","v":0}]
[557,"2013-03-11T15:00:00",0,0,0,0,{"$f":"F574/'Refrigeration & Weather'!$C$22","v":0},{"$f":"G574*3*'Refrigeration & Weather'!$C$23","v":0}]
[558,"2013-03-11T18:00:00",0,0,0,0,{"$f":"F575/'Refrigeration & Weather'!$C$22","v":0},{"$f":"G575*3*'Refrigeration & Weather'!$C$23","v":0}]
[559,"2013-03-11T21:00:00",0,0,0,0,{"$f":"F576/'Refrigeration & Weather'!$C$22","v":0},{"$f":"G576*3*'Refrigeration & Weather'!$C$23","v":0}]
[560,"2013-03-12",0,0,0,0,{"$f":"F577/'Refrigeration & Weather'!$C$22","v":0},{"$f":"G577*3*'Refrigeration & Weather'!$C$23","v":0}]
[561,"2013-03-12T03:00:00",0,0,0,0,{"$f":"F578/'Refrigeration & Weather'!$C$22","v":0},{"$f":"G578*3*'Refrigeration & Weather'!$C$23","v":0}]
[562,"2013-03-12T06:00:00",0,0,0,0,{"$f":"F579/'Refrigeration & Weather'!$C$22","v":0},{"$f":"G579*3*'Refrigeration & Weather'!$C$23","v":0}]
[563,"2013-03-12T09:00:00",0,0,0,0,{"$f":"F580/'Refrigeration & Weather'!$C$22","v":0},{"$f":"G580*3*'Refrigeration & Weather'!$C$23","v":0}]
[564,"2013-03-12T12:00:00",0,0,0,0,{"$f":"F581/'Refrigeration & Weather'!$C$22","v":0},{"$f":"G581*3*'Refrigeration & Weather'!$C$23","v":0}]
[565,"2013-03-12T15:00:00",0,0,0,0,{"$f":"F582/'Refrigeration & Weather'!$C$22","v":0},{"$f":"G582*3*'Refrigeration & Weather'!$C$23","v":0}]
[566,"2013-03-12T18:00:00",0,0,0,0,{"$f":"F583/'Refrigeration & Weather'!$C$22","v":0},{"$f":"G583*3*'Refrigeration & Weather'!$C$23","v":0}]
[567,"2013-03-12T21:00:00",0,0,0,0,{"$f":"F584/'Refrigeration & Weather'!$C$22","v":0},{"$f":"G584*3*'Refrigeration & Weather'!$C$23","v":0}]
[568,"2013-03-13",0,0,0,0,{"$f":"F585/'Refrigeration & Weather'!$C$22","v":0},{"$f":"G585*3*'Refrigeration & Weather'!$C$23","v":0}]
[569,"2013-03-13T03:00:00",0,0,0,0,{"$f":"F586/'Refrigeration & Weather'!$C$22","v":0},{"$f":"G586*3*'Refrigeration & Weather'!$C$23","v":0}]
[570,"2013-03-13T06:00:00",0,0,0,0,{"$f":"F587/'Refrigeration & Weather'!$C$22","v":0},{"$f":"G587*3*'Refrigeration & Weather'!$C$23","v":0}]
[571,"2013-03-13T09:00:00",0,0,0,0,{"$f":"F588/'Refrigeration & Weather'!$C$22","v":0},{"$f":"G588*3*'Refrigeration & Weather'!$C$23","v":0}]
[572,"2013-03-13T12:00:00",0,0,0,0,{"$f":"F589/'Refrigeration & Weather'!$C$22","v":0},{"$f":"G589*3*'Refrigeration & Weather'!$C$23","v":0}]
[573,"2013-03-13T15:00:00",0,0,0,0,{"$f":"F590/'Refrigeration & Weather'!$C$22","v":0},{"$f":"G590*3*'Refrigeration & Weather'!$C$23","v":0}]
[574,"2013-03-13T18:00:00",0,0,0,0,{"$f":"F591/'Refrigeration & Weather'!$C$22","v":0},{"$f":"G591*3*'Refrigeration & Weather'!$C$23","v":0}]
[575,"2013-03-13T21:00:00",0,0,0,0,{"$f":"F592/'Refrigeration & Weather'!$C$22","v":0},{"$f":"G592*3*'Refrigeration & Weather'!$C$23","v":0}]
[576,"2013-03-14",{"$f":"J593+N593+R593+V593+Z593+AD593+AH593+AL593+AP593+AT593+AX593+BB593+BF593+BJ593+BN593+BR593+BV593+BZ593+CD593+CH593+CL593+CP593+CT593+CX593+DB593+DF593+DJ593+DN593+DR593+DV593+DZ593+ED593+EH593+EL593+EP593+ET593+EX593+FB593+FF593+FJ593+FN593+FR593+FV593+FZ593+GD593+GH593+GL593+GP593+GT593+GX593+HB593+HF593+HJ593+HN593+HR593+HV593+HZ593+ID593+IH593+IL593+IP593+IT593+IX593+JB593+JF593+JJ593+JN593+JR593+JV593+JZ593+KD593+KH593+KL593+KP593+KT593+KX593+LB593+LF593+LJ593+LN593+LR593+LV593+LZ593+MD593+MH593+ML593+MP593+MT593+MX593+NB593+NF593+NJ593+NN593+NR593+NV593+NZ593+OD593+OH593+OL593+OP593","v":0},0,0,0,{"$f":"F593/'Refrigeration & Weather'!$C$22","v":0},{"$f":"G593*3*'Refrigeration & Weather'!$C$23","v":0}]
[577,"2013-03-14T03:00:00",0,{"$f":"K594+O594+S594+W594+AA594+AE594+AI594+AM594+AQ594+AU594+AY594+BC594+BG594+BK594+BO594+BS594+BW594+CA594+CE594+CI594+CM594+CQ594+CU594+CY594+DC594+DG594+DK594+DO594+DS594+DW594+EA594+EE594+EI594+EM594+EQ594+EU594+EY594+FC594+FG594+FK594+FO594+FS594+FW594+GA594+GE594+GI594+GM594+GQ594+GU594+GY594+HC594+HG594+HK594+HO594+HS594+HW594+IA594+IE594+II594+IM594+IQ594+IU594+IY594+JC594+JG594+JK594+JO594+JS594+JW594+KA594+KE594+KI594+KM594+KQ594+KU594+KY594+LC594+LG594+LK594+LO594+LS594+LW594+MA594+ME594+MI594+MM594+MQ594+MU594+MY594+NC594+NG594+NK594+NO594+NS594+NW594+OA594+OE594+OI594+OM594+OQ594","v":0},{"$f":"L594+P594+T594+X594+AB594+AF594+AJ594+AN594+AR594+AV594+AZ594+BD594+BH594+BL594+BP594+BT594+BX594+CB594+CF594+CJ594+CN594+CR594+CV594+CZ594+DD594+DH594+DL594+DP594+DT594+DX594+EB594+EF594+EJ594+EN594+ER594+EV594+EZ594+FD594+FH594+FL594+FP594+FT594+FX594+GB594+GF594+GJ594+GN594+GR594+GV594+GZ594+HD594+HH594+HL594+HP594+HT594+HX594+IB594+IF594+IJ594+IN594+IR594+IV594+IZ594+JD594+JH594+JL594+JP594+JT594+JX594+KB594+KF594+KJ594+KN594+KR594+KV594+KZ594+LD594+LH594+LL594+LP594+LT594+LX594+MB594+MF594+MJ594+MN594+MR594+MV594+MZ594+ND594+NH594+NL594+NP594+NT594+NX594+OB594+OF594+OJ594+ON594+OR594","v":0},{"$f":"SUM(C594:E594)","v":0},{"$f":"F594/'Refrigeration & Weather'!$C$22","v":0},{"$f":"G594*3*'Refrigeration & Weather'!$C$23","v":0}]
[578,"2013-03-14T06:00:00",0,0,0,0,{"$f":"F595/'Refrigeration & Weather'!$C$22","v":0},{"$f":"G595*3*'Refrigeration & Weather'!$C$23","v":0}]
[579,{"$f":"B595+1/8","v":"2013-03-14T09:00:00"},0,0,0,0,{"$f":"F596/'Refrigeration & Weather'!$C$22","v":0},{"$f":"G596*3*'Refrigeration & Weather'!$C$23","v":0}]
[580,"2013-03-14T12:00:00",0,0,0,0,{"$f":"F597/'Refrigeration & Weather'!$C$22","v":0},{"$f":"G597*3*'Refrigeration & Weather'!$C$23","v":0}]
[581,"2013-03-14T15:00:00",0,0,0,0,{"$f":"F598/'Refrigeration & Weather'!$C$22","v":0},{"$f":"G598*3*'Refrigeration & Weather'!$C$23","v":0}]
[582,"2013-03-14T18:00:00",0,0,0,0,{"$f":"F599/'Refrigeration & Weather'!$C$22","v":0},{"$f":"G599*3*'Refrigeration & Weather'!$C$23","v":0}]
[583,"2013-03-14T21:00:00",0,0,0,0,{"$f":"F600/'Refrigeration & Weather'!$C$22","v":0},{"$f":"G600*3*'Refrigeration & Weather'!$C$23","v":0}]
[584,"2013-03-15",0,0,0,0,{"$f":"F601/'Refrigeration & Weather'!$C$22","v":0},{"$f":"G601*3*'Refrigeration & Weather'!$C$23","v":0}]
[585,"2013-03-15T03:00:00",0,0,0,0,{"$f":"F602/'Refrigeration & Weather'!$C$22","v":0},{"$f":"G602*3*'Refrigeration & Weather'!$C$23","v":0}]
[586,"2013-03-15T06:00:00",0,0,0,0,{"$f":"F603/'Refrigeration & Weather'!$C$22","v":0},{"$f":"G603*3*'Refrigeration & Weather'!$C$23","v":0}]
[587,"2013-03-15T09:00:00",0,0,0,0,{"$f":"F604/'Refrigeration & Weather'!$C$22","v":0},{"$f":"G604*3*'Refrigeration & Weather'!$C$23","v":0}]
[588,"2013-03-15T12:00:00",0,0,0,0,{"$f":"F605/'Refrigeration & Weather'!$C$22","v":0},{"$f":"G605*3*'Refrigeration & Weather'!$C$23","v":0}]
[589,"2013-03-15T15:00:00",0,0,0,0,{"$f":"F606/'Refrigeration & Weather'!$C$22","v":0},{"$f":"G606*3*'Refrigeration & Weather'!$C$23","v":0}]
[590,"2013-03-15T18:00:00",0,0,0,0,{"$f":"F607/'Refrigeration & Weather'!$C$22","v":0},{"$f":"G607*3*'Refrigeration & Weather'!$C$23","v":0}]
[591,"2013-03-15T21:00:00",0,0,0,0,{"$f":"F608/'Refrigeration & Weather'!$C$22","v":0},{"$f":"G608*3*'Refrigeration & Weather'!$C$23","v":0}]
[592,"2013-03-16",0,0,0,0,{"$f":"F609/'Refrigeration & Weather'!$C$22","v":0},{"$f":"G609*3*'Refrigeration & Weather'!$C$23","v":0}]
[593,"2013-03-16T03:00:00",0,0,0,0,{"$f":"F610/'Refrigeration & Weather'!$C$22","v":0},{"$f":"G610*3*'Refrigeration & Weather'!$C$23","v":0}]
[594,"2013-03-16T06:00:00",0,0,0,0,{"$f":"F611/'Refrigeration & Weather'!$C$22","v":0},{"$f":"G611*3*'Refrigeration & Weather'!$C$23","v":0}]
[595,"2013-03-16T09:00:00",0,0,0,0,{"$f":"F612/'Refrigeration & Weather'!$C$22","v":0},{"$f":"G612*3*'Refrigeration & Weather'!$C$23","v":0}]
[596,"2013-03-16T12:00:00",0,0,0,0,{"$f":"F613/'Refrigeration & Weather'!$C$22","v":0},{"$f":"G613*3*'Refrigeration & Weather'!$C$23","v":0}]
[597,"2013-03-16T15:00:00",0,0,0,0,{"$f":"F614/'Refrigeration & Weather'!$C$22","v":0},{"$f":"G614*3*'Refrigeration & Weather'!$C$23","v":0}]
[598,"2013-03-16T18:00:00",0,0,0,0,{"$f":"F615/'Refrigeration & Weather'!$C$22","v":0},{"$f":"G615*3*'Refrigeration & Weather'!$C$23","v":0}]
[599,"2013-03-16T21:00:00",0,0,0,0,{"$f":"F616/'Refrigeration & Weather'!$C$22","v":0},{"$f":"G616*3*'Refrigeration & Weather'!$C$23","v":0}]
[600,"2013-03-17",0,0,0,0,{"$f":"F617/'Refrigeration & Weather'!$C$22","v":0},{"$f":"G617*3*'Refrigeration & Weather'!$C$23","v":0}]
[601,"2013-03-17T03:00:00",0,0,0,0,{"$f":"F618/'Refrigeration & Weather'!$C$22","v":0},{"$f":"G618*3*'Refrigeration & Weather'!$C$23","v":0}]
[602,"2013-03-17T06:00:00",0,0,0,0,{"$f":"F619/'Refrigeration & Weather'!$C$22","v":0},{"$f":"G619*3*'Refrigeration & Weather'!$C$23","v":0}]
[603,"2013-03-17T09:00:00",0,0,0,0,{"$f":"F620/'Refrigeration & Weather'!$C$22","v":0},{"$f":"G620*3*'Refrigeration & Weather'!$C$23","v":0}]
[604,"2013-03-17T12:00:00",0,0,0,0,{"$f":"F621/'Refrigeration & Weather'!$C$22","v":0},{"$f":"G621*3*'Refrigeration & Weather'!$C$23","v":0}]
[605,"2013-03-17T15:00:00",0,0,0,0,{"$f":"F622/'Refrigeration & Weather'!$C$22","v":0},{"$f":"G622*3*'Refrigeration & Weather'!$C$23","v":0}]
[606,"2013-03-17T18:00:00",0,0,0,0,{"$f":"F623/'Refrigeration & Weather'!$C$22","v":0},{"$f":"G623*3*'Refrigeration & Weather'!$C$23","v":0}]
[607,"2013-03-17T21:00:00",0,0,0,0,{"$f":"F624/'Refrigeration & Weather'!$C$22","v":0},{"$f":"G624*3*'Refrigeration & Weather'!$C$23","v":0}]
[608,"2013-03-18",0,0,0,0,{"$f":"F625/'Refrigeration & Weather'!$C$22","v":0},{"$f":"G625*3*'Refrigeration & Weather'!$C$23","v":0}]
[609,"2013-03-18T03:00:00",0,0,0,0,{"$f":"F626/'Refrigeration & Weather'!$C$22","v":0},{"$f":"G626*3*'Refrigeration & Weather'!$C$23","v":0}]
[610,"2013-03-18T06:00:00",0,0,0,0,{"$f":"F627/'Refrigeration & Weather'!$C$22","v":0},{"$f":"G627*3*'Refrigeration & Weather'!$C$23","v":0}]
[611,"2013-03-18T09:00:00",0,0,0,0,{"$f":"F628/'Refrigeration & Weather'!$C$22","v":0},{"$f":"G628*3*'Refrigeration & Weather'!$C$23","v":0}]
[612,"2013-03-18T12:00:00",0,0,0,0,{"$f":"F629/'Refrigeration & Weather'!$C$22","v":0},{"$f":"G629*3*'Refrigeration & Weather'!$C$23","v":0}]
[613,"2013-03-18T15:00:00",0,0,0,0,{"$f":"F630/'Refrigeration & Weather'!$C$22","v":0},{"$f":"G630*3*'Refrigeration & Weather'!$C$23","v":0}]
[614,"2013-03-18T18:00:00",0,0,0,0,{"$f":"F631/'Refrigeration & Weather'!$C$22","v":0},{"$f":"G631*3*'Refrigeration & Weather'!$C$23","v":0}]
[615,"2013-03-18T21:00:00",0,0,0,0,{"$f":"F632/'Refrigeration & Weather'!$C$22","v":0},{"$f":"G632*3*'Refrigeration & Weather'!$C$23","v":0}]
[616,"2013-03-19",0,0,0,0,{"$f":"F633/'Refrigeration & Weather'!$C$22","v":0},{"$f":"G633*3*'Refrigeration & Weather'!$C$23","v":0}]
[617,"2013-03-19T03:00:00",0,0,0,0,{"$f":"F634/'Refrigeration & Weather'!$C$22","v":0},{"$f":"G634*3*'Refrigeration & Weather'!$C$23","v":0}]
[618,"2013-03-19T06:00:00",0,0,0,0,{"$f":"F635/'Refrigeration & Weather'!$C$22","v":0},{"$f":"G635*3*'Refrigeration & Weather'!$C$23","v":0}]
[619,"2013-03-19T09:00:00",0,0,0,0,{"$f":"F636/'Refrigeration & Weather'!$C$22","v":0},{"$f":"G636*3*'Refrigeration & Weather'!$C$23","v":0}]
[620,"2013-03-19T12:00:00",0,0,0,0,{"$f":"F637/'Refrigeration & Weather'!$C$22","v":0},{"$f":"G637*3*'Refrigeration & Weather'!$C$23","v":0}]
[621,"2013-03-19T15:00:00",0,0,0,0,{"$f":"F638/'Refrigeration & Weather'!$C$22","v":0},{"$f":"G638*3*'Refrigeration & Weather'!$C$23","v":0}]
[622,"2013-03-19T18:00:00",0,0,0,0,{"$f":"F639/'Refrigeration & Weather'!$C$22","v":0},{"$f":"G639*3*'Refrigeration & Weather'!$C$23","v":0}]
[623,"2013-03-19T21:00:00",0,0,0,0,{"$f":"F640/'Refrigeration & Weather'!$C$22","v":0},{"$f":"G640*3*'Refrigeration & Weather'!$C$23","v":0}]
[624,"2013-03-20",0,0,0,0,{"$f":"F641/'Refrigeration & Weather'!$C$22","v":0},{"$f":"G641*3*'Refrigeration & Weather'!$C$23","v":0}]
[625,"2013-03-20T03:00:00",0,0,0,0,{"$f":"F642/'Refrigeration & Weather'!$C$22","v":0},{"$f":"G642*3*'Refrigeration & Weather'!$C$23","v":0}]
[626,"2013-03-20T06:00:00",0,0,0,0,{"$f":"F643/'Refrigeration & Weather'!$C$22","v":0},{"$f":"G643*3*'Refrigeration & Weather'!$C$23","v":0}]
[627,"2013-03-20T09:00:00",0,0,0,0,{"$f":"F644/'Refrigeration & Weather'!$C$22","v":0},{"$f":"G644*3*'Refrigeration & Weather'!$C$23","v":0}]
[628,"2013-03-20T12:00:00",0,0,0,0,{"$f":"F645/'Refrigeration & Weather'!$C$22","v":0},{"$f":"G645*3*'Refrigeration & Weather'!$C$23","v":0}]
[629,"2013-03-20T15:00:00",0,0,0,0,{"$f":"F646/'Refrigeration & Weather'!$C$22","v":0},{"$f":"G646*3*'Refrigeration & Weather'!$C$23","v":0}]
[630,"2013-03-20T18:00:00",0,0,0,0,{"$f":"F647/'Refrigeration & Weather'!$C$22","v":0},{"$f":"G647*3*'Refrigeration & Weather'!$C$23","v":0}]
[631,"2013-03-20T21:00:00",0,0,0,0,{"$f":"F648/'Refrigeration & Weather'!$C$22","v":0},{"$f":"G648*3*'Refrigeration & Weather'!$C$23","v":0}]
[632,"2013-03-21",0,0,0,0,{"$f":"F649/'Refrigeration & Weather'!$C$22","v":0},{"$f":"G649*3*'Refrigeration & Weather'!$C$23","v":0}]
[633,"2013-03-21T03:00:00",0,0,0,0,{"$f":"F650/'Refrigeration & Weather'!$C$22","v":0},{"$f":"G650*3*'Refrigeration & Weather'!$C$23","v":0}]
[634,"2013-03-21T06:00:00",0,0,0,0,{"$f":"F651/'Refrigeration & Weather'!$C$22","v":0},{"$f":"G651*3*'Refrigeration & Weather'!$C$23","v":0}]
[635,"2013-03-21T09:00:00",0,0,0,0,{"$f":"F652/'Refrigeration & Weather'!$C$22","v":0},{"$f":"G652*3*'Refrigeration & Weather'!$C$23","v":0}]
[636,"2013-03-21T12:00:00",0,0,0,0,{"$f":"F653/'Refrigeration & Weather'!$C$22","v":0},{"$f":"G653*3*'Refrigeration & Weather'!$C$23","v":0}]
[637,"2013-03-21T15:00:00",0,0,0,0,{"$f":"F654/'Refrigeration & Weather'!$C$22","v":0},{"$f":"G654*3*'Refrigeration & Weather'!$C$23","v":0}]
[638,"2013-03-21T18:00:00",0,0,0,0,{"$f":"F655/'Refrigeration & Weather'!$C$22","v":0},{"$f":"G655*3*'Refrigeration & Weather'!$C$23","v":0}]
[639,"2013-03-21T21:00:00",0,0,0,0,{"$f":"F656/'Refrigeration & Weather'!$C$22","v":0},{"$f":"G656*3*'Refrigeration & Weather'!$C$23","v":0}]
[640,"2013-03-22",{"$f":"J657+N657+R657+V657+Z657+AD657+AH657+AL657+AP657+AT657+AX657+BB657+BF657+BJ657+BN657+BR657+BV657+BZ657+CD657+CH657+CL657+CP657+CT657+CX657+DB657+DF657+DJ657+DN657+DR657+DV657+DZ657+ED657+EH657+EL657+EP657+ET657+EX657+FB657+FF657+FJ657+FN657+FR657+FV657+FZ657+GD657+GH657+GL657+GP657+GT657+GX657+HB657+HF657+HJ657+HN657+HR657+HV657+HZ657+ID657+IH657+IL657+IP657+IT657+IX657+JB657+JF657+JJ657+JN657+JR657+JV657+JZ657+KD657+KH657+KL657+KP657+KT657+KX657+LB657+LF657+LJ657+LN657+LR657+LV657+LZ657+MD657+MH657+ML657+MP657+MT657+MX657+NB657+NF657+NJ657+NN657+NR657+NV657+NZ657+OD657+OH657+OL657+OP657","v":0},0,0,0,{"$f":"F657/'Refrigeration & Weather'!$C$22","v":0},{"$f":"G657*3*'Refrigeration & Weather'!$C$23","v":0}]
[641,"2013-03-22T03:00:00",0,{"$f":"K658+O658+S658+W658+AA658+AE658+AI658+AM658+AQ658+AU658+AY658+BC658+BG658+BK658+BO658+BS658+BW658+CA658+CE658+CI658+CM658+CQ658+CU658+CY658+DC658+DG658+DK658+DO658+DS658+DW658+EA658+EE658+EI658+EM658+EQ658+EU658+EY658+FC658+FG658+FK658+FO658+FS658+FW658+GA658+GE658+GI658+GM658+GQ658+GU658+GY658+HC658+HG658+HK658+HO658+HS658+HW658+IA658+IE658+II658+IM658+IQ658+IU658+IY658+JC658+JG658+JK658+JO658+JS658+JW658+KA658+KE658+KI658+KM658+KQ658+KU658+KY658+LC658+LG658+LK658+LO658+LS658+LW658+MA658+ME658+MI658+MM658+MQ658+MU658+MY658+NC658+NG658+NK658+NO658+NS658+NW658+OA658+OE658+OI658+OM658+OQ658","v":0},{"$f":"L658+P658+T658+X658+AB658+AF658+AJ658+AN658+AR658+AV658+AZ658+BD658+BH658+BL658+BP658+BT658+BX658+CB658+CF658+CJ658+CN658+CR658+CV658+CZ658+DD658+DH658+DL658+DP658+DT658+DX658+EB658+EF658+EJ658+EN658+ER658+EV658+EZ658+FD658+FH658+FL658+FP658+FT658+FX658+GB658+GF658+GJ658+GN658+GR658+GV658+GZ658+HD658+HH658+HL658+HP658+HT658+HX658+IB658+IF658+IJ658+IN658+IR658+IV658+IZ658+JD658+JH658+JL658+JP658+JT658+JX658+KB658+KF658+KJ658+KN658+KR658+KV658+KZ658+LD658+LH658+LL658+LP658+LT658+LX658+MB658+MF658+MJ658+MN658+MR658+MV658+MZ658+ND658+NH658+NL658+NP658+NT658+NX658+OB658+OF658+OJ658+ON658+OR658","v":0},{"$f":"SUM(C658:E658)","v":0},{"$f":"F658/'Refrigeration & Weather'!$C$22","v":0},{"$f":"G658*3*'Refrigeration & Weather'!$C$23","v":0}]
[642,"2013-03-22T06:00:00",0,0,0,0,{"$f":"F659/'Refrigeration & Weather'!$C$22","v":0},{"$f":"G659*3*'Refrigeration & Weather'!$C$23","v":0}]
[643,{"$f":"B659+1/8","v":"2013-03-22T09:00:00"},0,0,0,0,{"$f":"F660/'Refrigeration & Weather'!$C$22","v":0},{"$f":"G660*3*'Refrigeration & Weather'!$C$23","v":0}]
[644,"2013-03-22T12:00:00",0,0,0,0,{"$f":"F661/'Refrigeration & Weather'!$C$22","v":0},{"$f":"G661*3*'Refrigeration & Weather'!$C$23","v":0}]
[645,"2013-03-22T15:00:00",0,0,0,0,{"$f":"F662/'Refrigeration & Weather'!$C$22","v":0},{"$f":"G662*3*'Refrigeration & Weather'!$C$23","v":0}]
[646,"2013-03-22T18:00:00",0,0,0,0,{"$f":"F663/'Refrigeration & Weather'!$C$22","v":0},{"$f":"G663*3*'Refrigeration & Weather'!$C$23","v":0}]
[647,"2013-03-22T21:00:00",0,0,0,0,{"$f":"F664/'Refrigeration & Weather'!$C$22","v":0},{"$f":"G664*3*'Refrigeration & Weather'!$C$23","v":0}]
[648,"2013-03-23",0,0,0,0,{"$f":"F665/'Refrigeration & Weather'!$C$22","v":0},{"$f":"G665*3*'Refrigeration & Weather'!$C$23","v":0}]
[649,"2013-03-23T03:00:00",0,0,0,0,{"$f":"F666/'Refrigeration & Weather'!$C$22","v":0},{"$f":"G666*3*'Refrigeration & Weather'!$C$23","v":0}]
[650,"2013-03-23T06:00:00",0,0,0,0,{"$f":"F667/'Refrigeration & Weather'!$C$22","v":0},{"$f":"G667*3*'Refrigeration & Weather'!$C$23","v":0}]
[651,"2013-03-23T09:00:00",0,0,0,0,{"$f":"F668/'Refrigeration & Weather'!$C$22","v":0},{"$f":"G668*3*'Refrigeration & Weather'!$C$23","v":0}]
[652,"2013-03-23T12:00:00",0,0,0,0,{"$f":"F669/'Refrigeration & Weather'!$C$22","v":0},{"$f":"G669*3*'Refrigeration & Weather'!$C$23","v":0}]
[653,"2013-03-23T15:00:00",0,0,0,0,{"$f":"F670/'Refrigeration & Weather'!$C$22","v":0},{"$f":"G670*3*'Refrigeration & Weather'!$C$23","v":0}]
[654,"2013-03-23T18:00:00",0,0,0,0,{"$f":"F671/'Refrigeration & Weather'!$C$22","v":0},{"$f":"G671*3*'Refrigeration & Weather'!$C$23","v":0}]
[655,"2013-03-23T21:00:00",0,0,0,0,{"$f":"F672/'Refrigeration & Weather'!$C$22","v":0},{"$f":"G672*3*'Refrigeration & Weather'!$C$23","v":0}]
[656,"2013-03-24",0,0,0,0,{"$f":"F673/'Refrigeration & Weather'!$C$22","v":0},{"$f":"G673*3*'Refrigeration & Weather'!$C$23","v":0}]
[657,"2013-03-24T03:00:00",0,0,0,0,{"$f":"F674/'Refrigeration & Weather'!$C$22","v":0},{"$f":"G674*3*'Refrigeration & Weather'!$C$23","v":0}]
[658,"2013-03-24T06:00:00",0,0,0,0,{"$f":"F675/'Refrigeration & Weather'!$C$22","v":0},{"$f":"G675*3*'Refrigeration & Weather'!$C$23","v":0}]
[659,"2013-03-24T09:00:00",0,0,0,0,{"$f":"F676/'Refrigeration & Weather'!$C$22","v":0},{"$f":"G676*3*'Refrigeration & Weather'!$C$23","v":0}]
[660,"2013-03-24T12:00:00",0,0,0,0,{"$f":"F677/'Refrigeration & Weather'!$C$22","v":0},{"$f":"G677*3*'Refrigeration & Weather'!$C$23","v":0}]
[661,"2013-03-24T15:00:00",0,0,0,0,{"$f":"F678/'Refrigeration & Weather'!$C$22","v":0},{"$f":"G678*3*'Refrigeration & Weather'!$C$23","v":0}]
[662,"2013-03-24T18:00:00",0,0,0,0,{"$f":"F679/'Refrigeration & Weather'!$C$22","v":0},{"$f":"G679*3*'Refrigeration & Weather'!$C$23","v":0}]
[663,"2013-03-24T21:00:00",0,0,0,0,{"$f":"F680/'Refrigeration & Weather'!$C$22","v":0},{"$f":"G680*3*'Refrigeration & Weather'!$C$23","v":0}]
[664,"2013-03-25",0,0,0,0,{"$f":"F681/'Refrigeration & Weather'!$C$22","v":0},{"$f":"G681*3*'Refrigeration & Weather'!$C$23","v":0}]
[665,"2013-03-25T03:00:00",0,0,0,0,{"$f":"F682/'Refrigeration & Weather'!$C$22","v":0},{"$f":"G682*3*'Refrigeration & Weather'!$C$23","v":0}]
[666,"2013-03-25T06:00:00",0,0,0,0,{"$f":"F683/'Refrigeration & Weather'!$C$22","v":0},{"$f":"G683*3*'Refrigeration & Weather'!$C$23","v":0}]
[667,"2013-03-25T09:00:00",0,0,0,0,{"$f":"F684/'Refrigeration & Weather'!$C$22","v":0},{"$f":"G684*3*'Refrigeration & Weather'!$C$23","v":0}]
[668,"2013-03-25T12:00:00",0,0,0,0,{"$f":"F685/'Refrigeration & Weather'!$C$22","v":0},{"$f":"G685*3*'Refrigeration & Weather'!$C$23","v":0}]
[669,"2013-03-25T15:00:00",0,0,0,0,{"$f":"F686/'Refrigeration & Weather'!$C$22","v":0},{"$f":"G686*3*'Refrigeration & Weather'!$C$23","v":0}]
[670,"2013-03-25T18:00:00",0,0,0,0,{"$f":"F687/'Refrigeration & Weather'!$C$22","v":0},{"$f":"G687*3*'Refrigeration & Weather'!$C$23","v":0}]
[671,"2013-03-25T21:00:00",0,0,0,0,{"$f":"F688/'Refrigeration & Weather'!$C$22","v":0},{"$f":"G688*3*'Refrigeration & Weather'!$C$23","v":0}]
[672,"2013-03-26",0,0,0,0,{"$f":"F689/'Refrigeration & Weather'!$C$22","v":0},{"$f":"G689*3*'Refrigeration & Weather'!$C$23","v":0}]
[673,"2013-03-26T03:00:00",0,0,0,0,{"$f":"F690/'Refrigeration & Weather'!$C$22","v":0},{"$f":"G690*3*'Refrigeration & Weather'!$C$23","v":0}]
[674,"2013-03-26T06:00:00",0,0,0,0,{"$f":"F691/'Refrigeration & Weather'!$C$22","v":0},{"$f":"G691*3*'Refrigeration & Weather'!$C$23","v":0}]
[675,"2013-03-26T09:00:00",0,0,0,0,{"$f":"F692/'Refrigeration & Weather'!$C$22","v":0},{"$f":"G692*3*'Refrigeration & Weather'!$C$23","v":0}]
[676,"2013-03-26T12:00:00",0,0,0,0,{"$f":"F693/'Refrigeration & Weather'!$C$22","v":0},{"$f":"G693*3*'Refrigeration & Weather'!$C$23","v":0}]
[677,"2013-03-26T15:00:00",0,0,0,0,{"$f":"F694/'Refrigeration & Weather'!$C$22","v":0},{"$f":"G694*3*'Refrigeration & Weather'!$C$23","v":0}]
[678,"2013-03-26T18:00:00",0,0,0,0,{"$f":"F695/'Refrigeration & Weather'!$C$22","v":0},{"$f":"G695*3*'Refrigeration & Weather'!$C$23","v":0}]
[679,"2013-03-26T21:00:00",0,0,0,0,{"$f":"F696/'Refrigeration & Weather'!$C$22","v":0},{"$f":"G696*3*'Refrigeration & Weather'!$C$23","v":0}]
[680,"2013-03-27",0,0,0,0,{"$f":"F697/'Refrigeration & Weather'!$C$22","v":0},{"$f":"G697*3*'Refrigeration & Weather'!$C$23","v":0}]
[681,"2013-03-27T03:00:00",0,0,0,0,{"$f":"F698/'Refrigeration & Weather'!$C$22","v":0},{"$f":"G698*3*'Refrigeration & Weather'!$C$23","v":0}]
[682,"2013-03-27T06:00:00",0,0,0,0,{"$f":"F699/'Refrigeration & Weather'!$C$22","v":0},{"$f":"G699*3*'Refrigeration & Weather'!$C$23","v":0}]
[683,"2013-03-27T09:00:00",0,0,0,0,{"$f":"F700/'Refrigeration & Weather'!$C$22","v":0},{"$f":"G700*3*'Refrigeration & Weather'!$C$23","v":0}]
[684,"2013-03-27T12:00:00",0,0,0,0,{"$f":"F701/'Refrigeration & Weather'!$C$22","v":0},{"$f":"G701*3*'Refrigeration & Weather'!$C$23","v":0}]
[685,"2013-03-27T15:00:00",0,0,0,0,{"$f":"F702/'Refrigeration & Weather'!$C$22","v":0},{"$f":"G702*3*'Refrigeration & Weather'!$C$23","v":0}]
[686,"2013-03-27T18:00:00",0,0,0,0,{"$f":"F703/'Refrigeration & Weather'!$C$22","v":0},{"$f":"G703*3*'Refrigeration & Weather'!$C$23","v":0}]
[687,"2013-03-27T21:00:00",0,0,0,0,{"$f":"F704/'Refrigeration & Weather'!$C$22","v":0},{"$f":"G704*3*'Refrigeration & Weather'!$C$23","v":0}]
[688,"2013-03-28",0,0,0,0,{"$f":"F705/'Refrigeration & Weather'!$C$22","v":0},{"$f":"G705*3*'Refrigeration & Weather'!$C$23","v":0}]
[689,"2013-03-28T03:00:00",0,0,0,0,{"$f":"F706/'Refrigeration & Weather'!$C$22","v":0},{"$f":"G706*3*'Refrigeration & Weather'!$C$23","v":0}]
[690,"2013-03-28T06:00:00",0,0,0,0,{"$f":"F707/'Refrigeration & Weather'!$C$22","v":0},{"$f":"G707*3*'Refrigeration & Weather'!$C$23","v":0}]
[691,"2013-03-28T09:00:00",0,0,0,0,{"$f":"F708/'Refrigeration & Weather'!$C$22","v":0},{"$f":"G708*3*'Refrigeration & Weather'!$C$23","v":0}]
[692,"2013-03-28T12:00:00",0,0,0,0,{"$f":"F709/'Refrigeration & Weather'!$C$22","v":0},{"$f":"G709*3*'Refrigeration & Weather'!$C$23","v":0}]
[693,"2013-03-28T15:00:00",0,0,0,0,{"$f":"F710/'Refrigeration & Weather'!$C$22","v":0},{"$f":"G710*3*'Refrigeration & Weather'!$C$23","v":0}]
[694,"2013-03-28T18:00:00",0,0,0,0,{"$f":"F711/'Refrigeration & Weather'!$C$22","v":0},{"$f":"G711*3*'Refrigeration & Weather'!$C$23","v":0}]
[695,"2013-03-28T21:00:00",0,0,0,0,{"$f":"F712/'Refrigeration & Weather'!$C$22","v":0},{"$f":"G712*3*'Refrigeration & Weather'!$C$23","v":0}]
[696,"2013-03-29",0,0,0,0,{"$f":"F713/'Refrigeration & Weather'!$C$22","v":0},{"$f":"G713*3*'Refrigeration & Weather'!$C$23","v":0}]
[697,"2013-03-29T03:00:00",0,0,0,0,{"$f":"F714/'Refrigeration & Weather'!$C$22","v":0},{"$f":"G714*3*'Refrigeration & Weather'!$C$23","v":0}]
[698,"2013-03-29T06:00:00",0,0,0,0,{"$f":"F715/'Refrigeration & Weather'!$C$22","v":0},{"$f":"G715*3*'Refrigeration & Weather'!$C$23","v":0}]
[699,"2013-03-29T09:00:00",0,0,0,0,{"$f":"F716/'Refrigeration & Weather'!$C$22","v":0},{"$f":"G716*3*'Refrigeration & Weather'!$C$23","v":0}]
[700,"2013-03-29T12:00:00",0,0,0,0,{"$f":"F717/'Refrigeration & Weather'!$C$22","v":0},{"$f":"G717*3*'Refrigeration & Weather'!$C$23","v":0}]
[701,"2013-03-29T15:00:00",0,0,0,0,{"$f":"F718/'Refrigeration & Weather'!$C$22","v":0},{"$f":"G718*3*'Refrigeration & Weather'!$C$23","v":0}]
[702,"2013-03-29T18:00:00",0,0,0,0,{"$f":"F719/'Refrigeration & Weather'!$C$22","v":0},{"$f":"G719*3*'Refrigeration & Weather'!$C$23","v":0}]
[703,"2013-03-29T21:00:00",0,0,0,0,{"$f":"F720/'Refrigeration & Weather'!$C$22","v":0},{"$f":"G720*3*'Refrigeration & Weather'!$C$23","v":0}]
[704,"2013-03-30",{"$f":"J721+N721+R721+V721+Z721+AD721+AH721+AL721+AP721+AT721+AX721+BB721+BF721+BJ721+BN721+BR721+BV721+BZ721+CD721+CH721+CL721+CP721+CT721+CX721+DB721+DF721+DJ721+DN721+DR721+DV721+DZ721+ED721+EH721+EL721+EP721+ET721+EX721+FB721+FF721+FJ721+FN721+FR721+FV721+FZ721+GD721+GH721+GL721+GP721+GT721+GX721+HB721+HF721+HJ721+HN721+HR721+HV721+HZ721+ID721+IH721+IL721+IP721+IT721+IX721+JB721+JF721+JJ721+JN721+JR721+JV721+JZ721+KD721+KH721+KL721+KP721+KT721+KX721+LB721+LF721+LJ721+LN721+LR721+LV721+LZ721+MD721+MH721+ML721+MP721+MT721+MX721+NB721+NF721+NJ721+NN721+NR721+NV721+NZ721+OD721+OH721+OL721+OP721","v":0},0,0,0,{"$f":"F721/'Refrigeration & Weather'!$C$22","v":0},{"$f":"G721*3*'Refrigeration & Weather'!$C$23","v":0}]
[705,"2013-03-30T03:00:00",0,{"$f":"K722+O722+S722+W722+AA722+AE722+AI722+AM722+AQ722+AU722+AY722+BC722+BG722+BK722+BO722+BS722+BW722+CA722+CE722+CI722+CM722+CQ722+CU722+CY722+DC722+DG722+DK722+DO722+DS722+DW722+EA722+EE722+EI722+EM722+EQ722+EU722+EY722+FC722+FG722+FK722+FO722+FS722+FW722+GA722+GE722+GI722+GM722+GQ722+GU722+GY722+HC722+HG722+HK722+HO722+HS722+HW722+IA722+IE722+II722+IM722+IQ722+IU722+IY722+JC722+JG722+JK722+JO722+JS722+JW722+KA722+KE722+KI722+KM722+KQ722+KU722+KY722+LC722+LG722+LK722+LO722+LS722+LW722+MA722+ME722+MI722+MM722+MQ722+MU722+MY722+NC722+NG722+NK722+NO722+NS722+NW722+OA722+OE722+OI722+OM722+OQ722","v":0},{"$f":"L722+P722+T722+X722+AB722+AF722+AJ722+AN722+AR722+AV722+AZ722+BD722+BH722+BL722+BP722+BT722+BX722+CB722+CF722+CJ722+CN722+CR722+CV722+CZ722+DD722+DH722+DL722+DP722+DT722+DX722+EB722+EF722+EJ722+EN722+ER722+EV722+EZ722+FD722+FH722+FL722+FP722+FT722+FX722+GB722+GF722+GJ722+GN722+GR722+GV722+GZ722+HD722+HH722+HL722+HP722+HT722+HX722+IB722+IF722+IJ722+IN722+IR722+IV722+IZ722+JD722+JH722+JL722+JP722+JT722+JX722+KB722+KF722+KJ722+KN722+KR722+KV722+KZ722+LD722+LH722+LL722+LP722+LT722+LX722+MB722+MF722+MJ722+MN722+MR722+MV722+MZ722+ND722+NH722+NL722+NP722+NT722+NX722+OB722+OF722+OJ722+ON722+OR722","v":0},{"$f":"SUM(C722:E722)","v":0},{"$f":"F722/'Refrigeration & Weather'!$C$22","v":0},{"$f":"G722*3*'Refrigeration & Weather'!$C$23","v":0}]
[706,"2013-03-30T06:00:00",0,0,0,0,{"$f":"F723/'Refrigeration & Weather'!$C$22","v":0},{"$f":"G723*3*'Refrigeration & Weather'!$C$23","v":0}]
[707,{"$f":"B723+1/8","v":"2013-03-30T09:00:00"},0,0,0,0,{"$f":"F724/'Refrigeration & Weather'!$C$22","v":0},{"$f":"G724*3*'Refrigeration & Weather'!$C$23","v":0}]
[708,"2013-03-30T12:00:00",0,0,0,0,{"$f":"F725/'Refrigeration & Weather'!$C$22","v":0},{"$f":"G725*3*'Refrigeration & Weather'!$C$23","v":0}]
[709,"2013-03-30T15:00:00",0,0,0,0,{"$f":"F726/'Refrigeration & Weather'!$C$22","v":0},{"$f":"G726*3*'Refrigeration & Weather'!$C$23","v":0}]
[710,"2013-03-30T18:00:00",0,0,0,0,{"$f":"F727/'Refrigeration & Weather'!$C$22","v":0},{"$f":"G727*3*'Refrigeration & Weather'!$C$23","v":0}]
[711,"2013-03-30T21:00:00",0,0,0,0,{"$f":"F728/'Refrigeration & Weather'!$C$22","v":0},{"$f":"G728*3*'Refrigeration & Weather'!$C$23","v":0}]
[712,"2013-03-31",0,0,0,0,{"$f":"F729/'Refrigeration & Weather'!$C$22","v":0},{"$f":"G729*3*'Refrigeration & Weather'!$C$23","v":0}]
[713,"2013-03-31T03:00:00",0,0,0,0,{"$f":"F730/'Refrigeration & Weather'!$C$22","v":0},{"$f":"G730*3*'Refrigeration & Weather'!$C$23","v":0}]
[714,"2013-03-31T06:00:00",0,0,0,0,{"$f":"F731/'Refrigeration & Weather'!$C$22","v":0},{"$f":"G731*3*'Refrigeration & Weather'!$C$23","v":0}]
[715,"2013-03-31T09:00:00",0,0,0,0,{"$f":"F732/'Refrigeration & Weather'!$C$22","v":0},{"$f":"G732*3*'Refrigeration & Weather'!$C$23","v":0}]
[716,"2013-03-31T12:00:00",0,0,0,0,{"$f":"F733/'Refrigeration & Weather'!$C$22","v":0},{"$f":"G733*3*'Refrigeration & Weather'!$C$23","v":0}]
[717,"2013-03-31T15:00:00",0,0,0,0,{"$f":"F734/'Refrigeration & Weather'!$C$22","v":0},{"$f":"G734*3*'Refrigeration & Weather'!$C$23","v":0}]
[718,"2013-03-31T18:00:00",0,0,0,0,{"$f":"F735/'Refrigeration & Weather'!$C$22","v":0},{"$f":"G735*3*'Refrigeration & Weather'!$C$23","v":0}]
[719,"2013-03-31T21:00:00",0,0,0,0,{"$f":"F736/'Refrigeration & Weather'!$C$22","v":0},{"$f":"G736*3*'Refrigeration & Weather'!$C$23","v":0}]
[720,"2013-04-01",0,0,0,0,{"$f":"F737/'Refrigeration & Weather'!$C$22","v":0},{"$f":"G737*3*'Refrigeration & Weather'!$C$23","v":0}]
[721,"2013-04-01T03:00:00",0,0,0,0,{"$f":"F738/'Refrigeration & Weather'!$C$22","v":0},{"$f":"G738*3*'Refrigeration & Weather'!$C$23","v":0}]
[722,"2013-04-01T06:00:00",0,0,0,0,{"$f":"F739/'Refrigeration & Weather'!$C$22","v":0},{"$f":"G739*3*'Refrigeration & Weather'!$C$23","v":0}]
[723,"2013-04-01T09:00:00",0,0,0,0,{"$f":"F740/'Refrigeration & Weather'!$C$22","v":0},{"$f":"G740*3*'Refrigeration & Weather'!$C$23","v":0}]
[724,"2013-04-01T12:00:00",0,0,0,0,{"$f":"F741/'Refrigeration & Weather'!$C$22","v":0},{"$f":"G741*3*'Refrigeration & Weather'!$C$23","v":0}]
[725,"2013-04-01T15:00:00",0,0,0,0,{"$f":"F742/'Refrigeration & Weather'!$C$22","v":0},{"$f":"G742*3*'Refrigeration & Weather'!$C$23","v":0}]
[726,"2013-04-01T18:00:00",0,0,0,0,{"$f":"F743/'Refrigeration & Weather'!$C$22","v":0},{"$f":"G743*3*'Refrigeration & Weather'!$C$23","v":0}]
[727,"2013-04-01T21:00:00",0,0,0,0,{"$f":"F744/'Refrigeration & Weather'!$C$22","v":0},{"$f":"G744*3*'Refrigeration & Weather'!$C$23","v":0}]
[728,"2013-04-02",0,0,0,0,{"$f":"F745/'Refrigeration & Weather'!$C$22","v":0},{"$f":"G745*3*'Refrigeration & Weather'!$C$23","v":0}]
[729,"2013-04-02T03:00:00",0,0,0,0,{"$f":"F746/'Refrigeration & Weather'!$C$22","v":0},{"$f":"G746*3*'Refrigeration & Weather'!$C$23","v":0}]
[730,"2013-04-02T06:00:00",0,0,0,0,{"$f":"F747/'Refrigeration & Weather'!$C$22","v":0},{"$f":"G747*3*'Refrigeration & Weather'!$C$23","v":0}]
[731,"2013-04-02T09:00:00",0,0,0,0,{"$f":"F748/'Refrigeration & Weather'!$C$22","v":0},{"$f":"G748*3*'Refrigeration & Weather'!$C$23","v":0}]
[732,"2013-04-02T12:00:00",0,0,0,0,{"$f":"F749/'Refrigeration & Weather'!$C$22","v":0},{"$f":"G749*3*'Refrigeration & Weather'!$C$23","v":0}]
[733,"2013-04-02T15:00:00",0,0,0,0,{"$f":"F750/'Refrigeration & Weather'!$C$22","v":0},{"$f":"G750*3*'Refrigeration & Weather'!$C$23","v":0}]
[734,"2013-04-02T18:00:00",0,0,0,0,{"$f":"F751/'Refrigeration & Weather'!$C$22","v":0},{"$f":"G751*3*'Refrigeration & Weather'!$C$23","v":0}]
[735,"2013-04-02T21:00:00",0,0,0,0,{"$f":"F752/'Refrigeration & Weather'!$C$22","v":0},{"$f":"G752*3*'Refrigeration & Weather'!$C$23","v":0}]
[736,"2013-04-03",0,0,0,0,{"$f":"F753/'Refrigeration & Weather'!$C$22","v":0},{"$f":"G753*3*'Refrigeration & Weather'!$C$23","v":0}]
[737,"2013-04-03T03:00:00",0,0,0,0,{"$f":"F754/'Refrigeration & Weather'!$C$22","v":0},{"$f":"G754*3*'Refrigeration & Weather'!$C$23","v":0}]
[738,"2013-04-03T06:00:00",0,0,0,0,{"$f":"F755/'Refrigeration & Weather'!$C$22","v":0},{"$f":"G755*3*'Refrigeration & Weather'!$C$23","v":0}]
[739,"2013-04-03T09:00:00",0,0,0,0,{"$f":"F756/'Refrigeration & Weather'!$C$22","v":0},{"$f":"G756*3*'Refrigeration & Weather'!$C$23","v":0}]
[740,"2013-04-03T12:00:00",0,0,0,0,{"$f":"F757/'Refrigeration & Weather'!$C$22","v":0},{"$f":"G757*3*'Refrigeration & Weather'!$C$23","v":0}]
[741,"2013-04-03T15:00:00",0,0,0,0,{"$f":"F758/'Refrigeration & Weather'!$C$22","v":0},{"$f":"G758*3*'Refrigeration & Weather'!$C$23","v":0}]
[742,"2013-04-03T18:00:00",0,0,0,0,{"$f":"F759/'Refrigeration & Weather'!$C$22","v":0},{"$f":"G759*3*'Refrigeration & Weather'!$C$23","v":0}]
[743,"2013-04-03T21:00:00",0,0,0,0,{"$f":"F760/'Refrigeration & Weather'!$C$22","v":0},{"$f":"G760*3*'Refrigeration & Weather'!$C$23","v":0}]
[744,"2013-04-04",0,0,0,0,{"$f":"F761/'Refrigeration & Weather'!$C$22","v":0},{"$f":"G761*3*'Refrigeration & Weather'!$C$23","v":0}]
[745,"2013-04-04T03:00:00",0,0,0,0,{"$f":"F762/'Refrigeration & Weather'!$C$22","v":0},{"$f":"G762*3*'Refrigeration & Weather'!$C$23","v":0}]
[746,"2013-04-04T06:00:00",0,0,0,0,{"$f":"F763/'Refrigeration & Weather'!$C$22","v":0},{"$f":"G763*3*'Refrigeration & Weather'!$C$23","v":0}]
[747,"2013-04-04T09:00:00",0,0,0,0,{"$f":"F764/'Refrigeration & Weather'!$C$22","v":0},{"$f":"G764*3*'Refrigeration & Weather'!$C$23","v":0}]
[748,"2013-04-04T12:00:00",0,0,0,0,{"$f":"F765/'Refrigeration & Weather'!$C$22","v":0},{"$f":"G765*3*'Refrigeration & Weather'!$C$23","v":0}]
[749,"2013-04-04T15:00:00",0,0,0,0,{"$f":"F766/'Refrigeration & Weather'!$C$22","v":0},{"$f":"G766*3*'Refrigeration & Weather'!$C$23","v":0}]
[750,"2013-04-04T18:00:00",0,0,0,0,{"$f":"F767/'Refrigeration & Weather'!$C$22","v":0},{"$f":"G767*3*'Refrigeration & Weather'!$C$23","v":0}]
[751,"2013-04-04T21:00:00",0,0,0,0,{"$f":"F768/'Refrigeration & Weather'!$C$22","v":0},{"$f":"G768*3*'Refrigeration & Weather'!$C$23","v":0}]
[752,"2013-04-05",0,0,0,0,{"$f":"F769/'Refrigeration & Weather'!$C$22","v":0},{"$f":"G769*3*'Refrigeration & Weather'!$C$23","v":0}]
[753,"2013-04-05T03:00:00",0,0,0,0,{"$f":"F770/'Refrigeration & Weather'!$C$22","v":0},{"$f":"G770*3*'Refrigeration & Weather'!$C$23","v":0}]
[754,"2013-04-05T06:00:00",0,0,0,0,{"$f":"F771/'Refrigeration & Weather'!$C$22","v":0},{"$f":"G771*3*'Refrigeration & Weather'!$C$23","v":0}]
[755,"2013-04-05T09:00:00",0,0,0,0,{"$f":"F772/'Refrigeration & Weather'!$C$22","v":0},{"$f":"G772*3*'Refrigeration & Weather'!$C$23","v":0}]
[756,"2013-04-05T12:00:00",0,0,0,0,{"$f":"F773/'Refrigeration & Weather'!$C$22","v":0},{"$f":"G773*3*'Refrigeration & Weather'!$C$23","v":0}]
[757,"2013-04-05T15:00:00",0,0,0,0,{"$f":"F774/'Refrigeration & Weather'!$C$22","v":0},{"$f":"G774*3*'Refrigeration & Weather'!$C$23","v":0}]
[758,"2013-04-05T18:00:00",0,0,0,0,{"$f":"F775/'Refrigeration & Weather'!$C$22","v":0},{"$f":"G775*3*'Refrigeration & Weather'!$C$23","v":0}]
[759,"2013-04-05T21:00:00",0,0,0,0,{"$f":"F776/'Refrigeration & Weather'!$C$22","v":0},{"$f":"G776*3*'Refrigeration & Weather'!$C$23","v":0}]
[760,"2013-04-06",0,0,0,0,{"$f":"F777/'Refrigeration & Weather'!$C$22","v":0},{"$f":"G777*3*'Refrigeration & Weather'!$C$23","v":0}]
[761,"2013-04-06T03:00:00",0,0,0,0,{"$f":"F778/'Refrigeration & Weather'!$C$22","v":0},{"$f":"G778*3*'Refrigeration & Weather'!$C$23","v":0}]
[762,"2013-04-06T06:00:00",0,0,0,0,{"$f":"F779/'Refrigeration & Weather'!$C$22","v":0},{"$f":"G779*3*'Refrigeration & Weather'!$C$23","v":0}]
[763,"2013-04-06T09:00:00",0,0,0,0,{"$f":"F780/'Refrigeration & Weather'!$C$22","v":0},{"$f":"G780*3*'Refrigeration & Weather'!$C$23","v":0}]
[764,"2013-04-06T12:00:00",0,0,0,0,{"$f":"F781/'Refrigeration & Weather'!$C$22","v":0},{"$f":"G781*3*'Refrigeration & Weather'!$C$23","v":0}]
[765,"2013-04-06T15:00:00",0,0,0,0,{"$f":"F782/'Refrigeration & Weather'!$C$22","v":0},{"$f":"G782*3*'Refrigeration & Weather'!$C$23","v":0}]
[766,"2013-04-06T18:00:00",0,0,0,0,{"$f":"F783/'Refrigeration & Weather'!$C$22","v":0},{"$f":"G783*3*'Refrigeration & Weather'!$C$23","v":0}]
[767,"2013-04-06T21:00:00",0,0,0,0,{"$f":"F784/'Refrigeration & Weather'!$C$22","v":0},{"$f":"G784*3*'Refrigeration & Weather'!$C$23","v":0}]
[768,"2013-04-07",{"$f":"J785+N785+R785+V785+Z785+AD785+AH785+AL785+AP785+AT785+AX785+BB785+BF785+BJ785+BN785+BR785+BV785+BZ785+CD785+CH785+CL785+CP785+CT785+CX785+DB785+DF785+DJ785+DN785+DR785+DV785+DZ785+ED785+EH785+EL785+EP785+ET785+EX785+FB785+FF785+FJ785+FN785+FR785+FV785+FZ785+GD785+GH785+GL785+GP785+GT785+GX785+HB785+HF785+HJ785+HN785+HR785+HV785+HZ785+ID785+IH785+IL785+IP785+IT785+IX785+JB785+JF785+JJ785+JN785+JR785+JV785+JZ785+KD785+KH785+KL785+KP785+KT785+KX785+LB785+LF785+LJ785+LN785+LR785+LV785+LZ785+MD785+MH785+ML785+MP785+MT785+MX785+NB785+NF785+NJ785+NN785+NR785+NV785+NZ785+OD785+OH785+OL785+OP785","v":0},0,0,0,{"$f":"F785/'Refrigeration & Weather'!$C$22","v":0},{"$f":"G785*3*'Refrigeration & Weather'!$C$23","v":0}]
[769,"2013-04-07T03:00:00",0,{"$f":"K786+O786+S786+W786+AA786+AE786+AI786+AM786+AQ786+AU786+AY786+BC786+BG786+BK786+BO786+BS786+BW786+CA786+CE786+CI786+CM786+CQ786+CU786+CY786+DC786+DG786+DK786+DO786+DS786+DW786+EA786+EE786+EI786+EM786+EQ786+EU786+EY786+FC786+FG786+FK786+FO786+FS786+FW786+GA786+GE786+GI786+GM786+GQ786+GU786+GY786+HC786+HG786+HK786+HO786+HS786+HW786+IA786+IE786+II786+IM786+IQ786+IU786+IY786+JC786+JG786+JK786+JO786+JS786+JW786+KA786+KE786+KI786+KM786+KQ786+KU786+KY786+LC786+LG786+LK786+LO786+LS786+LW786+MA786+ME786+MI786+MM786+MQ786+MU786+MY786+NC786+NG786+NK786+NO786+NS786+NW786+OA786+OE786+OI786+OM786+OQ786","v":0},{"$f":"L786+P786+T786+X786+AB786+AF786+AJ786+AN786+AR786+AV786+AZ786+BD786+BH786+BL786+BP786+BT786+BX786+CB786+CF786+CJ786+CN786+CR786+CV786+CZ786+DD786+DH786+DL786+DP786+DT786+DX786+EB786+EF786+EJ786+EN786+ER786+EV786+EZ786+FD786+FH786+FL786+FP786+FT786+FX786+GB786+GF786+GJ786+GN786+GR786+GV786+GZ786+HD786+HH786+HL786+HP786+HT786+HX786+IB786+IF786+IJ786+IN786+IR786+IV786+IZ786+JD786+JH786+JL786+JP786+JT786+JX786+KB786+KF786+KJ786+KN786+KR786+KV786+KZ786+LD786+LH786+LL786+LP786+LT786+LX786+MB786+MF786+MJ786+MN786+MR786+MV786+MZ786+ND786+NH786+NL786+NP786+NT786+NX786+OB786+OF786+OJ786+ON786+OR786","v":0},{"$f":"SUM(C786:E786)","v":0},{"$f":"F786/'Refrigeration & Weather'!$C$22","v":0},{"$f":"G786*3*'Refrigeration & Weather'!$C$23","v":0}]
[770,"2013-04-07T06:00:00",0,0,0,0,{"$f":"F787/'Refrigeration & Weather'!$C$22","v":0},{"$f":"G787*3*'Refrigeration & Weather'!$C$23","v":0}]
[771,{"$f":"B787+1/8","v":"2013-04-07T09:00:00"},0,0,0,0,{"$f":"F788/'Refrigeration & Weather'!$C$22","v":0},{"$f":"G788*3*'Refrigeration & Weather'!$C$23","v":0}]
[772,"2013-04-07T12:00:00",0,0,0,0,{"$f":"F789/'Refrigeration & Weather'!$C$22","v":0},{"$f":"G789*3*'Refrigeration & Weather'!$C$23","v":0}]
[773,"2013-04-07T15:00:00",0,0,0,0,{"$f":"F790/'Refrigeration & Weather'!$C$22","v":0},{"$f":"G790*3*'Refrigeration & Weather'!$C$23","v":0}]
[774,"2013-04-07T18:00:00",0,0,0,0,{"$f":"F791/'Refrigeration & Weather'!$C$22","v":0},{"$f":"G791*3*'Refrigeration & Weather'!$C$23","v":0}]
[775,"2013-04-07T21:00:00",0,0,0,0,{"$f":"F792/'Refrigeration & Weather'!$C$22","v":0},{"$f":"G792*3*'Refrigeration & Weather'!$C$23","v":0}]
[776,"2013-04-08",0,0,0,0,{"$f":"F793/'Refrigeration & Weather'!$C$22","v":0},{"$f":"G793*3*'Refrigeration & Weather'!$C$23","v":0}]
[777,"2013-04-08T03:00:00",0,0,0,0,{"$f":"F794/'Refrigeration & Weather'!$C$22","v":0},{"$f":"G794*3*'Refrigeration & Weather'!$C$23","v":0}]
[778,"2013-04-08T06:00:00",0,0,0,0,{"$f":"F795/'Refrigeration & Weather'!$C$22","v":0},{"$f":"G795*3*'Refrigeration & Weather'!$C$23","v":0}]
[779,"2013-04-08T09:00:00",0,0,0,0,{"$f":"F796/'Refrigeration & Weather'!$C$22","v":0},{"$f":"G796*3*'Refrigeration & Weather'!$C$23","v":0}]
[780,"2013-04-08T12:00:00",0,0,0,0,{"$f":"F797/'Refrigeration & Weather'!$C$22","v":0},{"$f":"G797*3*'Refrigeration & Weather'!$C$23","v":0}]
[781,"2013-04-08T15:00:00",0,0,0,0,{"$f":"F798/'Refrigeration & Weather'!$C$22","v":0},{"$f":"G798*3*'Refrigeration & Weather'!$C$23","v":0}]
[782,"2013-04-08T18:00:00",0,0,0,0,{"$f":"F799/'Refrigeration & Weather'!$C$22","v":0},{"$f":"G799*3*'Refrigeration & Weather'!$C$23","v":0}]
[783,"2013-04-08T21:00:00",0,0,0,0,{"$f":"F800/'Refrigeration & Weather'!$C$22","v":0},{"$f":"G800*3*'Refrigeration & Weather'!$C$23","v":0}]
[784,"2013-04-09",0,0,0,0,{"$f":"F801/'Refrigeration & Weather'!$C$22","v":0},{"$f":"G801*3*'Refrigeration & Weather'!$C$23","v":0}]
[785,"2013-04-09T03:00:00",0,0,0,0,{"$f":"F802/'Refrigeration & Weather'!$C$22","v":0},{"$f":"G802*3*'Refrigeration & Weather'!$C$23","v":0}]
[786,"2013-04-09T06:00:00",0,0,0,0,{"$f":"F803/'Refrigeration & Weather'!$C$22","v":0},{"$f":"G803*3*'Refrigeration & Weather'!$C$23","v":0}]
[787,"2013-04-09T09:00:00",0,0,0,0,{"$f":"F804/'Refrigeration & Weather'!$C$22","v":0},{"$f":"G804*3*'Refrigeration & Weather'!$C$23","v":0}]
[788,"2013-04-09T12:00:00",0,0,0,0,{"$f":"F805/'Refrigeration & Weather'!$C$22","v":0},{"$f":"G805*3*'Refrigeration & Weather'!$C$23","v":0}]
[789,"2013-04-09T15:00:00",0,0,0,0,{"$f":"F806/'Refrigeration & Weather'!$C$22","v":0},{"$f":"G806*3*'Refrigeration & Weather'!$C$23","v":0}]
[790,"2013-04-09T18:00:00",0,0,0,0,{"$f":"F807/'Refrigeration & Weather'!$C$22","v":0},{"$f":"G807*3*'Refrigeration & Weather'!$C$23","v":0}]
[791,"2013-04-09T21:00:00",0,0,0,0,{"$f":"F808/'Refrigeration & Weather'!$C$22","v":0},{"$f":"G808*3*'Refrigeration & Weather'!$C$23","v":0}]
[792,"2013-04-10",0,0,0,0,{"$f":"F809/'Refrigeration & Weather'!$C$22","v":0},{"$f":"G809*3*'Refrigeration & Weather'!$C$23","v":0}]
[793,"2013-04-10T03:00:00",0,0,0,0,{"$f":"F810/'Refrigeration & Weather'!$C$22","v":0},{"$f":"G810*3*'Refrigeration & Weather'!$C$23","v":0}]
[794,"2013-04-10T06:00:00",0,0,0,0,{"$f":"F811/'Refrigeration & Weather'!$C$22","v":0},{"$f":"G811*3*'Refrigeration & Weather'!$C$23","v":0}]
[795,"2013-04-10T09:00:00",0,0,0,0,{"$f":"F812/'Refrigeration & Weather'!$C$22","v":0},{"$f":"G812*3*'Refrigeration & Weather'!$C$23","v":0}]
[796,"2013-04-10T12:00:00",0,0,0,0,{"$f":"F813/'Refrigeration & Weather'!$C$22","v":0},{"$f":"G813*3*'Refrigeration & Weather'!$C$23","v":0}]
[797,"2013-04-10T15:00:00",0,0,0,0,{"$f":"F814/'Refrigeration & Weather'!$C$22","v":0},{"$f":"G814*3*'Refrigeration & Weather'!$C$23","v":0}]
[798,"2013-04-10T18:00:00",0,0,0,0,{"$f":"F815/'Refrigeration & Weather'!$C$22","v":0},{"$f":"G815*3*'Refrigeration & Weather'!$C$23","v":0}]
[799,"2013-04-10T21:00:00",0,0,0,0,{"$f":"F816/'Refrigeration & Weather'!$C$22","v":0},{"$f":"G816*3*'Refrigeration & Weather'!$C$23","v":0}]
[800,"2013-04-11",0,0,0,0,{"$f":"F817/'Refrigeration & Weather'!$C$22","v":0},{"$f":"G817*3*'Refrigeration & Weather'!$C$23","v":0}]
[801,"2013-04-11T03:00:00",0,0,0,0,{"$f":"F818/'Refrigeration & Weather'!$C$22","v":0},{"$f":"G818*3*'Refrigeration & Weather'!$C$23","v":0}]
[802,"2013-04-11T06:00:00",0,0,0,0,{"$f":"F819/'Refrigeration & Weather'!$C$22","v":0},{"$f":"G819*3*'Refrigeration & Weather'!$C$23","v":0}]
[803,"2013-04-11T09:00:00",0,0,0,0,{"$f":"F820/'Refrigeration & Weather'!$C$22","v":0},{"$f":"G820*3*'Refrigeration & Weather'!$C$23","v":0}]
[804,"2013-04-11T12:00:00",0,0,0,0,{"$f":"F821/'Refrigeration & Weather'!$C$22","v":0},{"$f":"G821*3*'Refrigeration & Weather'!$C$23","v":0}]
[805,"2013-04-11T15:00:00",0,0,0,0,{"$f":"F822/'Refrigeration & Weather'!$C$22","v":0},{"$f":"G822*3*'Refrigeration & Weather'!$C$23","v":0}]
[806,"2013-04-11T18:00:00",0,0,0,0,{"$f":"F823/'Refrigeration & Weather'!$C$22","v":0},{"$f":"G823*3*'Refrigeration & Weather'!$C$23","v":0}]
[807,"2013-04-11T21:00:00",0,0,0,0,{"$f":"F824/'Refrigeration & Weather'!$C$22","v":0},{"$f":"G824*3*'Refrigeration & Weather'!$C$23","v":0}]
[808,"2013-04-12",0,0,0,0,{"$f":"F825/'Refrigeration & Weather'!$C$22","v":0},{"$f":"G825*3*'Refrigeration & Weather'!$C$23","v":0}]
[809,"2013-04-12T03:00:00",0,0,0,0,{"$f":"F826/'Refrigeration & Weather'!$C$22","v":0},{"$f":"G826*3*'Refrigeration & Weather'!$C$23","v":0}]
[810,"2013-04-12T06:00:00",0,0,0,0,{"$f":"F827/'Refrigeration & Weather'!$C$22","v":0},{"$f":"G827*3*'Refrigeration & Weather'!$C$23","v":0}]
[811,"2013-04-12T09:00:00",0,0,0,0,{"$f":"F828/'Refrigeration & Weather'!$C$22","v":0},{"$f":"G828*3*'Refrigeration & Weather'!$C$23","v":0}]
[812,"2013-04-12T12:00:00",0,0,0,0,{"$f":"F829/'Refrigeration & Weather'!$C$22","v":0},{"$f":"G829*3*'Refrigeration & Weather'!$C$23","v":0}]
[813,"2013-04-12T15:00:00",0,0,0,0,{"$f":"F830/'Refrigeration & Weather'!$C$22","v":0},{"$f":"G830*3*'Refrigeration & Weather'!$C$23","v":0}]
[814,"2013-04-12T18:00:00",0,0,0,0,{"$f":"F831/'Refrigeration & Weather'!$C$22","v":0},{"$f":"G831*3*'Refrigeration & Weather'!$C$23","v":0}]
[815,"2013-04-12T21:00:00",0,0,0,0,{"$f":"F832/'Refrigeration & Weather'!$C$22","v":0},{"$f":"G832*3*'Refrigeration & Weather'!$C$23","v":0}]
[816,"2013-04-13",0,0,0,0,{"$f":"F833/'Refrigeration & Weather'!$C$22","v":0},{"$f":"G833*3*'Refrigeration & Weather'!$C$23","v":0}]
[817,"2013-04-13T03:00:00",0,0,0,0,{"$f":"F834/'Refrigeration & Weather'!$C$22","v":0},{"$f":"G834*3*'Refrigeration & Weather'!$C$23","v":0}]
[818,"2013-04-13T06:00:00",0,0,0,0,{"$f":"F835/'Refrigeration & Weather'!$C$22","v":0},{"$f":"G835*3*'Refrigeration & Weather'!$C$23","v":0}]
[819,"2013-04-13T09:00:00",0,0,0,0,{"$f":"F836/'Refrigeration & Weather'!$C$22","v":0},{"$f":"G836*3*'Refrigeration & Weather'!$C$23","v":0}]
[820,"2013-04-13T12:00:00",0,0,0,0,{"$f":"F837/'Refrigeration & Weather'!$C$22","v":0},{"$f":"G837*3*'Refrigeration & Weather'!$C$23","v":0}]
[821,"2013-04-13T15:00:00",0,0,0,0,{"$f":"F838/'Refrigeration & Weather'!$C$22","v":0},{"$f":"G838*3*'Refrigeration & Weather'!$C$23","v":0}]
[822,"2013-04-13T18:00:00",0,0,0,0,{"$f":"F839/'Refrigeration & Weather'!$C$22","v":0},{"$f":"G839*3*'Refrigeration & Weather'!$C$23","v":0}]
[823,"2013-04-13T21:00:00",0,0,0,0,{"$f":"F840/'Refrigeration & Weather'!$C$22","v":0},{"$f":"G840*3*'Refrigeration & Weather'!$C$23","v":0}]
[824,"2013-04-14",0,0,0,0,{"$f":"F841/'Refrigeration & Weather'!$C$22","v":0},{"$f":"G841*3*'Refrigeration & Weather'!$C$23","v":0}]
[825,"2013-04-14T03:00:00",0,0,0,0,{"$f":"F842/'Refrigeration & Weather'!$C$22","v":0},{"$f":"G842*3*'Refrigeration & Weather'!$C$23","v":0}]
[826,"2013-04-14T06:00:00",0,0,0,0,{"$f":"F843/'Refrigeration & Weather'!$C$22","v":0},{"$f":"G843*3*'Refrigeration & Weather'!$C$23","v":0}]
[827,"2013-04-14T09:00:00",0,0,0,0,{"$f":"F844/'Refrigeration & Weather'!$C$22","v":0},{"$f":"G844*3*'Refrigeration & Weather'!$C$23","v":0}]
[828,"2013-04-14T12:00:00",0,0,0,0,{"$f":"F845/'Refrigeration & Weather'!$C$22","v":0},{"$f":"G845*3*'Refrigeration & Weather'!$C$23","v":0}]
[829,"2013-04-14T15:00:00",0,0,0,0,{"$f":"F846/'Refrigeration & Weather'!$C$22","v":0},{"$f":"G846*3*'Refrigeration & Weather'!$C$23","v":0}]
[830,"2013-04-14T18:00:00",0,0,0,0,{"$f":"F847/'Refrigeration & Weather'!$C$22","v":0},{"$f":"G847*3*'Refrigeration & Weather'!$C$23","v":0}]
[831,"2013-04-14T21:00:00",0,0,0,0,{"$f":"F848/'Refrigeration & Weather'!$C$22","v":0},{"$f":"G848*3*'Refrigeration & Weather'!$C$23","v":0}]
[832,"2013-04-15",{"$f":"J849+N849+R849+V849+Z849+AD849+AH849+AL849+AP849+AT849+AX849+BB849+BF849+BJ849+BN849+BR849+BV849+BZ849+CD849+CH849+CL849+CP849+CT849+CX849+DB849+DF849+DJ849+DN849+DR849+DV849+DZ849+ED849+EH849+EL849+EP849+ET849+EX849+FB849+FF849+FJ849+FN849+FR849+FV849+FZ849+GD849+GH849+GL849+GP849+GT849+GX849+HB849+HF849+HJ849+HN849+HR849+HV849+HZ849+ID849+IH849+IL849+IP849+IT849+IX849+JB849+JF849+JJ849+JN849+JR849+JV849+JZ849+KD849+KH849+KL849+KP849+KT849+KX849+LB849+LF849+LJ849+LN849+LR849+LV849+LZ849+MD849+MH849+ML849+MP849+MT849+MX849+NB849+NF849+NJ849+NN849+NR849+NV849+NZ849+OD849+OH849+OL849+OP849","v":0},0,0,0,{"$f":"F849/'Refrigeration & Weather'!$C$22","v":0},{"$f":"G849*3*'Refrigeration & Weather'!$C$23","v":0}]
[833,"2013-04-15T03:00:00",0,{"$f":"K850+O850+S850+W850+AA850+AE850+AI850+AM850+AQ850+AU850+AY850+BC850+BG850+BK850+BO850+BS850+BW850+CA850+CE850+CI850+CM850+CQ850+CU850+CY850+DC850+DG850+DK850+DO850+DS850+DW850+EA850+EE850+EI850+EM850+EQ850+EU850+EY850+FC850+FG850+FK850+FO850+FS850+FW850+GA850+GE850+GI850+GM850+GQ850+GU850+GY850+HC850+HG850+HK850+HO850+HS850+HW850+IA850+IE850+II850+IM850+IQ850+IU850+IY850+JC850+JG850+JK850+JO850+JS850+JW850+KA850+KE850+KI850+KM850+KQ850+KU850+KY850+LC850+LG850+LK850+LO850+LS850+LW850+MA850+ME850+MI850+MM850+MQ850+MU850+MY850+NC850+NG850+NK850+NO850+NS850+NW850+OA850+OE850+OI850+OM850+OQ850","v":0},{"$f":"L850+P850+T850+X850+AB850+AF850+AJ850+AN850+AR850+AV850+AZ850+BD850+BH850+BL850+BP850+BT850+BX850+CB850+CF850+CJ850+CN850+CR850+CV850+CZ850+DD850+DH850+DL850+DP850+DT850+DX850+EB850+EF850+EJ850+EN850+ER850+EV850+EZ850+FD850+FH850+FL850+FP850+FT850+FX850+GB850+GF850+GJ850+GN850+GR850+GV850+GZ850+HD850+HH850+HL850+HP850+HT850+HX850+IB850+IF850+IJ850+IN850+IR850+IV850+IZ850+JD850+JH850+JL850+JP850+JT850+JX850+KB850+KF850+KJ850+KN850+KR850+KV850+KZ850+LD850+LH850+LL850+LP850+LT850+LX850+MB850+MF850+MJ850+MN850+MR850+MV850+MZ850+ND850+NH850+NL850+NP850+NT850+NX850+OB850+OF850+OJ850+ON850+OR850","v":0},{"$f":"SUM(C850:E850)","v":0},{"$f":"F850/'Refrigeration & Weather'!$C$22","v":0},{"$f":"G850*3*'Refrigeration & Weather'!$C$23","v":0}]
[834,"2013-04-15T06:00:00",0,0,0,0,{"$f":"F851/'Refrigeration & Weather'!$C$22","v":0},{"$f":"G851*3*'Refrigeration & Weather'!$C$23","v":0}]
[835,{"$f":"B851+1/8","v":"2013-04-15T09:00:00"},0,0,0,0,{"$f":"F852/'Refrigeration & Weather'!$C$22","v":0},{"$f":"G852*3*'Refrigeration & Weather'!$C$23","v":0}]
[836,"2013-04-15T12:00:00",0,0,0,0,{"$f":"F853/'Refrigeration & Weather'!$C$22","v":0},{"$f":"G853*3*'Refrigeration & Weather'!$C$23","v":0}]
[837,"2013-04-15T15:00:00",0,0,0,0,{"$f":"F854/'Refrigeration & Weather'!$C$22","v":0},{"$f":"G854*3*'Refrigeration & Weather'!$C$23","v":0}]
[838,"2013-04-15T18:00:00",0,0,0,0,{"$f":"F855/'Refrigeration & Weather'!$C$22","v":0},{"$f":"G855*3*'Refrigeration & Weather'!$C$23","v":0}]
[839,"2013-04-15T21:00:00",0,0,0,0,{"$f":"F856/'Refrigeration & Weather'!$C$22","v":0},{"$f":"G856*3*'Refrigeration & Weather'!$C$23","v":0}]
[840,"2013-04-16",0,0,0,0,{"$f":"F857/'Refrigeration & Weather'!$C$22","v":0},{"$f":"G857*3*'Refrigeration & Weather'!$C$23","v":0}]
[841,"2013-04-16T03:00:00",0,0,0,0,{"$f":"F858/'Refrigeration & Weather'!$C$22","v":0},{"$f":"G858*3*'Refrigeration & Weather'!$C$23","v":0}]
[842,"2013-04-16T06:00:00",0,0,0,0,{"$f":"F859/'Refrigeration & Weather'!$C$22","v":0},{"$f":"G859*3*'Refrigeration & Weather'!$C$23","v":0}]
[843,"2013-04-16T09:00:00",0,0,0,0,{"$f":"F860/'Refrigeration & Weather'!$C$22","v":0},{"$f":"G860*3*'Refrigeration & Weather'!$C$23","v":0}]
[844,"2013-04-16T12:00:00",0,0,0,0,{"$f":"F861/'Refrigeration & Weather'!$C$22","v":0},{"$f":"G861*3*'Refrigeration & Weather'!$C$23","v":0}]
[845,"2013-04-16T15:00:00",0,0,0,0,{"$f":"F862/'Refrigeration & Weather'!$C$22","v":0},{"$f":"G862*3*'Refrigeration & Weather'!$C$23","v":0}]
[846,"2013-04-16T18:00:00",0,0,0,0,{"$f":"F863/'Refrigeration & Weather'!$C$22","v":0},{"$f":"G863*3*'Refrigeration & Weather'!$C$23","v":0}]
[847,"2013-04-16T21:00:00",0,0,0,0,{"$f":"F864/'Refrigeration & Weather'!$C$22","v":0},{"$f":"G864*3*'Refrigeration & Weather'!$C$23","v":0}]
[848,"2013-04-17",0,0,0,0,{"$f":"F865/'Refrigeration & Weather'!$C$22","v":0},{"$f":"G865*3*'Refrigeration & Weather'!$C$23","v":0}]
[849,"2013-04-17T03:00:00",0,0,0,0,{"$f":"F866/'Refrigeration & Weather'!$C$22","v":0},{"$f":"G866*3*'Refrigeration & Weather'!$C$23","v":0}]
[850,"2013-04-17T06:00:00",0,0,0,0,{"$f":"F867/'Refrigeration & Weather'!$C$22","v":0},{"$f":"G867*3*'Refrigeration & Weather'!$C$23","v":0}]
[851,"2013-04-17T09:00:00",0,0,0,0,{"$f":"F868/'Refrigeration & Weather'!$C$22","v":0},{"$f":"G868*3*'Refrigeration & Weather'!$C$23","v":0}]
[852,"2013-04-17T12:00:00",0,0,0,0,{"$f":"F869/'Refrigeration & Weather'!$C$22","v":0},{"$f":"G869*3*'Refrigeration & Weather'!$C$23","v":0}]
[853,"2013-04-17T15:00:00",0,0,0,0,{"$f":"F870/'Refrigeration & Weather'!$C$22","v":0},{"$f":"G870*3*'Refrigeration & Weather'!$C$23","v":0}]
[854,"2013-04-17T18:00:00",0,0,0,0,{"$f":"F871/'Refrigeration & Weather'!$C$22","v":0},{"$f":"G871*3*'Refrigeration & Weather'!$C$23","v":0}]
[855,"2013-04-17T21:00:00",0,0,0,0,{"$f":"F872/'Refrigeration & Weather'!$C$22","v":0},{"$f":"G872*3*'Refrigeration & Weather'!$C$23","v":0}]
[856,"2013-04-18",0,0,0,0,{"$f":"F873/'Refrigeration & Weather'!$C$22","v":0},{"$f":"G873*3*'Refrigeration & Weather'!$C$23","v":0}]
[857,"2013-04-18T03:00:00",0,0,0,0,{"$f":"F874/'Refrigeration & Weather'!$C$22","v":0},{"$f":"G874*3*'Refrigeration & Weather'!$C$23","v":0}]
[858,"2013-04-18T06:00:00",0,0,0,0,{"$f":"F875/'Refrigeration & Weather'!$C$22","v":0},{"$f":"G875*3*'Refrigeration & Weather'!$C$23","v":0}]
[859,"2013-04-18T09:00:00",0,0,0,0,{"$f":"F876/'Refrigeration & Weather'!$C$22","v":0},{"$f":"G876*3*'Refrigeration & Weather'!$C$23","v":0}]
[860,"2013-04-18T12:00:00",0,0,0,0,{"$f":"F877/'Refrigeration & Weather'!$C$22","v":0},{"$f":"G877*3*'Refrigeration & Weather'!$C$23","v":0}]
[861,"2013-04-18T15:00:00",0,0,0,0,{"$f":"F878/'Refrigeration & Weather'!$C$22","v":0},{"$f":"G878*3*'Refrigeration & Weather'!$C$23","v":0}]
[862,"2013-04-18T18:00:00",0,0,0,0,{"$f":"F879/'Refrigeration & Weather'!$C$22","v":0},{"$f":"G879*3*'Refrigeration & Weather'!$C$23","v":0}]
[863,"2013-04-18T21:00:00",0,0,0,0,{"$f":"F880/'Refrigeration & Weather'!$C$22","v":0},{"$f":"G880*3*'Refrigeration & Weather'!$C$23","v":0}]
[864,"2013-04-19",0,0,0,0,{"$f":"F881/'Refrigeration & Weather'!$C$22","v":0},{"$f":"G881*3*'Refrigeration & Weather'!$C$23","v":0}]
[865,"2013-04-19T03:00:00",0,0,0,0,{"$f":"F882/'Refrigeration & Weather'!$C$22","v":0},{"$f":"G882*3*'Refrigeration & Weather'!$C$23","v":0}]
[866,"2013-04-19T06:00:00",0,0,0,0,{"$f":"F883/'Refrigeration & Weather'!$C$22","v":0},{"$f":"G883*3*'Refrigeration & Weather'!$C$23","v":0}]
[867,"2013-04-19T09:00:00",0,0,0,0,{"$f":"F884/'Refrigeration & Weather'!$C$22","v":0},{"$f":"G884*3*'Refrigeration & Weather'!$C$23","v":0}]
[868,"2013-04-19T12:00:00",0,0,0,0,{"$f":"F885/'Refrigeration & Weather'!$C$22","v":0},{"$f":"G885*3*'Refrigeration & Weather'!$C$23","v":0}]
[869,"2013-04-19T15:00:00",0,0,0,0,{"$f":"F886/'Refrigeration & Weather'!$C$22","v":0},{"$f":"G886*3*'Refrigeration & Weather'!$C$23","v":0}]
[870,"2013-04-19T18:00:00",0,0,0,0,{"$f":"F887/'Refrigeration & Weather'!$C$22","v":0},{"$f":"G887*3*'Refrigeration & Weather'!$C$23","v":0}]
[871,"2013-04-19T21:00:00",0,0,0,0,{"$f":"F888/'Refrigeration & Weather'!$C$22","v":0},{"$f":"G888*3*'Refrigeration & Weather'!$C$23","v":0}]
[872,"2013-04-20",0,0,0,0,{"$f":"F889/'Refrigeration & Weather'!$C$22","v":0},{"$f":"G889*3*'Refrigeration & Weather'!$C$23","v":0}]
[873,"2013-04-20T03:00:00",0,0,0,0,{"$f":"F890/'Refrigeration & Weather'!$C$22","v":0},{"$f":"G890*3*'Refrigeration & Weather'!$C$23","v":0}]
[874,"2013-04-20T06:00:00",0,0,0,0,{"$f":"F891/'Refrigeration & Weather'!$C$22","v":0},{"$f":"G891*3*'Refrigeration & Weather'!$C$23","v":0}]
[875,"2013-04-20T09:00:00",0,0,0,0,{"$f":"F892/'Refrigeration & Weather'!$C$22","v":0},{"$f":"G892*3*'Refrigeration & Weather'!$C$23","v":0}]
[876,"2013-04-20T12:00:00",0,0,0,0,{"$f":"F893/'Refrigeration & Weather'!$C$22","v":0},{"$f":"G893*3*'Refrigeration & Weather'!$C$23","v":0}]
[877,"2013-04-20T15:00:00",0,0,0,0,{"$f":"F894/'Refrigeration & Weather'!$C$22","v":0},{"$f":"G894*3*'Refrigeration & Weather'!$C$23","v":0}]
[878,"2013-04-20T18:00:00",0,0,0,0,{"$f":"F895/'Refrigeration & Weather'!$C$22","v":0},{"$f":"G895*3*'Refrigeration & Weather'!$C$23","v":0}]
[879,"2013-04-20T21:00:00",0,0,0,0,{"$f":"F896/'Refrigeration & Weather'!$C$22","v":0},{"$f":"G896*3*'Refrigeration & Weather'!$C$23","v":0}]
[880,"2013-04-21",0,0,0,0,{"$f":"F897/'Refrigeration & Weather'!$C$22","v":0},{"$f":"G897*3*'Refrigeration & Weather'!$C$23","v":0}]
[881,"2013-04-21T03:00:00",0,0,0,0,{"$f":"F898/'Refrigeration & Weather'!$C$22","v":0},{"$f":"G898*3*'Refrigeration & Weather'!$C$23","v":0}]
[882,"2013-04-21T06:00:00",0,0,0,0,{"$f":"F899/'Refrigeration & Weather'!$C$22","v":0},{"$f":"G899*3*'Refrigeration & Weather'!$C$23","v":0}]
[883,"2013-04-21T09:00:00",0,0,0,0,{"$f":"F900/'Refrigeration & Weather'!$C$22","v":0},{"$f":"G900*3*'Refrigeration & Weather'!$C$23","v":0}]
[884,"2013-04-21T12:00:00",0,0,0,0,{"$f":"F901/'Refrigeration & Weather'!$C$22","v":0},{"$f":"G901*3*'Refrigeration & Weather'!$C$23","v":0}]
[885,"2013-04-21T15:00:00",0,0,0,0,{"$f":"F902/'Refrigeration & Weather'!$C$22","v":0},{"$f":"G902*3*'Refrigeration & Weather'!$C$23","v":0}]
[886,"2013-04-21T18:00:00",0,0,0,0,{"$f":"F903/'Refrigeration & Weather'!$C$22","v":0},{"$f":"G903*3*'Refrigeration & Weather'!$C$23","v":0}]
[887,"2013-04-21T21:00:00",0,0,0,0,{"$f":"F904/'Refrigeration & Weather'!$C$22","v":0},{"$f":"G904*3*'Refrigeration & Weather'!$C$23","v":0}]
[888,"2013-04-22",0,0,0,0,{"$f":"F905/'Refrigeration & Weather'!$C$22","v":0},{"$f":"G905*3*'Refrigeration & Weather'!$C$23","v":0}]
[889,"2013-04-22T03:00:00",0,0,0,0,{"$f":"F906/'Refrigeration & Weather'!$C$22","v":0},{"$f":"G906*3*'Refrigeration & Weather'!$C$23","v":0}]
[890,"2013-04-22T06:00:00",0,0,0,0,{"$f":"F907/'Refrigeration & Weather'!$C$22","v":0},{"$f":"G907*3*'Refrigeration & Weather'!$C$23","v":0}]
[891,"2013-04-22T09:00:00",0,0,0,0,{"$f":"F908/'Refrigeration & Weather'!$C$22","v":0},{"$f":"G908*3*'Refrigeration & Weather'!$C$23","v":0}]
[892,"2013-04-22T12:00:00",0,0,0,0,{"$f":"F909/'Refrigeration & Weather'!$C$22","v":0},{"$f":"G909*3*'Refrigeration & Weather'!$C$23","v":0}]
[893,"2013-04-22T15:00:00",0,0,0,0,{"$f":"F910/'Refrigeration & Weather'!$C$22","v":0},{"$f":"G910*3*'Refrigeration & Weather'!$C$23","v":0}]
[894,"2013-04-22T18:00:00",0,0,0,0,{"$f":"F911/'Refrigeration & Weather'!$C$22","v":0},{"$f":"G911*3*'Refrigeration & Weather'!$C$23","v":0}]
[895,"2013-04-22T21:00:00",0,0,0,0,{"$f":"F912/'Refrigeration & Weather'!$C$22","v":0},{"$f":"G912*3*'Refrigeration & Weather'!$C$23","v":0}]
[896,"2013-04-23",{"$f":"J913+N913+R913+V913+Z913+AD913+AH913+AL913+AP913+AT913+AX913+BB913+BF913+BJ913+BN913+BR913+BV913+BZ913+CD913+CH913+CL913+CP913+CT913+CX913+DB913+DF913+DJ913+DN913+DR913+DV913+DZ913+ED913+EH913+EL913+EP913+ET913+EX913+FB913+FF913+FJ913+FN913+FR913+FV913+FZ913+GD913+GH913+GL913+GP913+GT913+GX913+HB913+HF913+HJ913+HN913+HR913+HV913+HZ913+ID913+IH913+IL913+IP913+IT913+IX913+JB913+JF913+JJ913+JN913+JR913+JV913+JZ913+KD913+KH913+KL913+KP913+KT913+KX913+LB913+LF913+LJ913+LN913+LR913+LV913+LZ913+MD913+MH913+ML913+MP913+MT913+MX913+NB913+NF913+NJ913+NN913+NR913+NV913+NZ913+OD913+OH913+OL913+OP913","v":0},0,0,0,{"$f":"F913/'Refrigeration & Weather'!$C$22","v":0},{"$f":"G913*3*'Refrigeration & Weather'!$C$23","v":0}]
[897,"2013-04-23T03:00:00",0,{"$f":"K914+O914+S914+W914+AA914+AE914+AI914+AM914+AQ914+AU914+AY914+BC914+BG914+BK914+BO914+BS914+BW914+CA914+CE914+CI914+CM914+CQ914+CU914+CY914+DC914+DG914+DK914+DO914+DS914+DW914+EA914+EE914+EI914+EM914+EQ914+EU914+EY914+FC914+FG914+FK914+FO914+FS914+FW914+GA914+GE914+GI914+GM914+GQ914+GU914+GY914+HC914+HG914+HK914+HO914+HS914+HW914+IA914+IE914+II914+IM914+IQ914+IU914+IY914+JC914+JG914+JK914+JO914+JS914+JW914+KA914+KE914+KI914+KM914+KQ914+KU914+KY914+LC914+LG914+LK914+LO914+LS914+LW914+MA914+ME914+MI914+MM914+MQ914+MU914+MY914+NC914+NG914+NK914+NO914+NS914+NW914+OA914+OE914+OI914+OM914+OQ914","v":0},{"$f":"L914+P914+T914+X914+AB914+AF914+AJ914+AN914+AR914+AV914+AZ914+BD914+BH914+BL914+BP914+BT914+BX914+CB914+CF914+CJ914+CN914+CR914+CV914+CZ914+DD914+DH914+DL914+DP914+DT914+DX914+EB914+EF914+EJ914+EN914+ER914+EV914+EZ914+FD914+FH914+FL914+FP914+FT914+FX914+GB914+GF914+GJ914+GN914+GR914+GV914+GZ914+HD914+HH914+HL914+HP914+HT914+HX914+IB914+IF914+IJ914+IN914+IR914+IV914+IZ914+JD914+JH914+JL914+JP914+JT914+JX914+KB914+KF914+KJ914+KN914+KR914+KV914+KZ914+LD914+LH914+LL914+LP914+LT914+LX914+MB914+MF914+MJ914+MN914+MR914+MV914+MZ914+ND914+NH914+NL914+NP914+NT914+NX914+OB914+OF914+OJ914+ON914+OR914","v":0},{"$f":"SUM(C914:E914)","v":0},{"$f":"F914/'Refrigeration & Weather'!$C$22","v":0},{"$f":"G914*3*'Refrigeration & Weather'!$C$23","v":0}]
[898,"2013-04-23T06:00:00",0,0,0,0,{"$f":"F915/'Refrigeration & Weather'!$C$22","v":0},{"$f":"G915*3*'Refrigeration & Weather'!$C$23","v":0}]
[899,{"$f":"B915+1/8","v":"2013-04-23T09:00:00"},0,0,0,0,{"$f":"F916/'Refrigeration & Weather'!$C$22","v":0},{"$f":"G916*3*'Refrigeration & Weather'!$C$23","v":0}]
[900,"2013-04-23T12:00:00",0,0,0,0,{"$f":"F917/'Refrigeration & Weather'!$C$22","v":0},{"$f":"G917*3*'Refrigeration & Weather'!$C$23","v":0}]
[901,"2013-04-23T15:00:00",0,0,0,0,{"$f":"F918/'Refrigeration & Weather'!$C$22","v":0},{"$f":"G918*3*'Refrigeration & Weather'!$C$23","v":0}]
[902,"2013-04-23T18:00:00",0,0,0,0,{"$f":"F919/'Refrigeration & Weather'!$C$22","v":0},{"$f":"G919*3*'Refrigeration & Weather'!$C$23","v":0}]
[903,"2013-04-23T21:00:00",0,0,0,0,{"$f":"F920/'Refrigeration & Weather'!$C$22","v":0},{"$f":"G920*3*'Refrigeration & Weather'!$C$23","v":0}]
[904,"2013-04-24",0,0,0,0,{"$f":"F921/'Refrigeration & Weather'!$C$22","v":0},{"$f":"G921*3*'Refrigeration & Weather'!$C$23","v":0}]
[905,"2013-04-24T03:00:00",0,0,0,0,{"$f":"F922/'Refrigeration & Weather'!$C$22","v":0},{"$f":"G922*3*'Refrigeration & Weather'!$C$23","v":0}]
[906,"2013-04-24T06:00:00",0,0,0,0,{"$f":"F923/'Refrigeration & Weather'!$C$22","v":0},{"$f":"G923*3*'Refrigeration & Weather'!$C$23","v":0}]
[907,"2013-04-24T09:00:00",0,0,0,0,{"$f":"F924/'Refrigeration & Weather'!$C$22","v":0},{"$f":"G924*3*'Refrigeration & Weather'!$C$23","v":0}]
[908,"2013-04-24T12:00:00",0,0,0,0,{"$f":"F925/'Refrigeration & Weather'!$C$22","v":0},{"$f":"G925*3*'Refrigeration & Weather'!$C$23","v":0}]
[909,"2013-04-24T15:00:00",0,0,0,0,{"$f":"F926/'Refrigeration & Weather'!$C$22","v":0},{"$f":"G926*3*'Refrigeration & Weather'!$C$23","v":0}]
[910,"2013-04-24T18:00:00",0,0,0,0,{"$f":"F927/'Refrigeration & Weather'!$C$22","v":0},{"$f":"G927*3*'Refrigeration & Weather'!$C$23","v":0}]
[911,"2013-04-24T21:00:00",0,0,0,0,{"$f":"F928/'Refrigeration & Weather'!$C$22","v":0},{"$f":"G928*3*'Refrigeration & Weather'!$C$23","v":0}]
[912,"2013-04-25",0,0,0,0,{"$f":"F929/'Refrigeration & Weather'!$C$22","v":0},{"$f":"G929*3*'Refrigeration & Weather'!$C$23","v":0}]
[913,"2013-04-25T03:00:00",0,0,0,0,{"$f":"F930/'Refrigeration & Weather'!$C$22","v":0},{"$f":"G930*3*'Refrigeration & Weather'!$C$23","v":0}]
[914,"2013-04-25T06:00:00",0,0,0,0,{"$f":"F931/'Refrigeration & Weather'!$C$22","v":0},{"$f":"G931*3*'Refrigeration & Weather'!$C$23","v":0}]
[915,"2013-04-25T09:00:00",0,0,0,0,{"$f":"F932/'Refrigeration & Weather'!$C$22","v":0},{"$f":"G932*3*'Refrigeration & Weather'!$C$23","v":0}]
[916,"2013-04-25T12:00:00",0,0,0,0,{"$f":"F933/'Refrigeration & Weather'!$C$22","v":0},{"$f":"G933*3*'Refrigeration & Weather'!$C$23","v":0}]
[917,"2013-04-25T15:00:00",0,0,0,0,{"$f":"F934/'Refrigeration & Weather'!$C$22","v":0},{"$f":"G934*3*'Refrigeration & Weather'!$C$23","v":0}]
[918,"2013-04-25T18:00:00",0,0,0,0,{"$f":"F935/'Refrigeration & Weather'!$C$22","v":0},{"$f":"G935*3*'Refrigeration & Weather'!$C$23","v":0}]
[919,"2013-04-25T21:00:00",0,0,0,0,{"$f":"F936/'Refrigeration & Weather'!$C$22","v":0},{"$f":"G936*3*'Refrigeration & Weather'!$C$23","v":0}]
[920,"2013-04-26",0,0,0,0,{"$f":"F937/'Refrigeration & Weather'!$C$22","v":0},{"$f":"G937*3*'Refrigeration & Weather'!$C$23","v":0}]
[921,"2013-04-26T03:00:00",0,0,0,0,{"$f":"F938/'Refrigeration & Weather'!$C$22","v":0},{"$f":"G938*3*'Refrigeration & Weather'!$C$23","v":0}]
[922,"2013-04-26T06:00:00",0,0,0,0,{"$f":"F939/'Refrigeration & Weather'!$C$22","v":0},{"$f":"G939*3*'Refrigeration & Weather'!$C$23","v":0}]
[923,"2013-04-26T09:00:00",0,0,0,0,{"$f":"F940/'Refrigeration & Weather'!$C$22","v":0},{"$f":"G940*3*'Refrigeration & Weather'!$C$23","v":0}]
[924,"2013-04-26T12:00:00",0,0,0,0,{"$f":"F941/'Refrigeration & Weather'!$C$22","v":0},{"$f":"G941*3*'Refrigeration & Weather'!$C$23","v":0}]
[925,"2013-04-26T15:00:00",0,0,0,0,{"$f":"F942/'Refrigeration & Weather'!$C$22","v":0},{"$f":"G942*3*'Refrigeration & Weather'!$C$23","v":0}]
[926,"2013-04-26T18:00:00",0,0,0,0,{"$f":"F943/'Refrigeration & Weather'!$C$22","v":0},{"$f":"G943*3*'Refrigeration & Weather'!$C$23","v":0}]
[927,"2013-04-26T21:00:00",0,0,0,0,{"$f":"F944/'Refrigeration & Weather'!$C$22","v":0},{"$f":"G944*3*'Refrigeration & Weather'!$C$23","v":0}]
[928,"2013-04-27",0,0,0,0,{"$f":"F945/'Refrigeration & Weather'!$C$22","v":0},{"$f":"G945*3*'Refrigeration & Weather'!$C$23","v":0}]
[929,"2013-04-27T03:00:00",0,0,0,0,{"$f":"F946/'Refrigeration & Weather'!$C$22","v":0},{"$f":"G946*3*'Refrigeration & Weather'!$C$23","v":0}]
[930,"2013-04-27T06:00:00",0,0,0,0,{"$f":"F947/'Refrigeration & Weather'!$C$22","v":0},{"$f":"G947*3*'Refrigeration & Weather'!$C$23","v":0}]
[931,"2013-04-27T09:00:00",0,0,0,0,{"$f":"F948/'Refrigeration & Weather'!$C$22","v":0},{"$f":"G948*3*'Refrigeration & Weather'!$C$23","v":0}]
[932,"2013-04-27T12:00:00",0,0,0,0,{"$f":"F949/'Refrigeration & Weather'!$C$22","v":0},{"$f":"G949*3*'Refrigeration & Weather'!$C$23","v":0}]
[933,"2013-04-27T15:00:00",0,0,0,0,{"$f":"F950/'Refrigeration & Weather'!$C$22","v":0},{"$f":"G950*3*'Refrigeration & Weather'!$C$23","v":0}]
[934,"2013-04-27T18:00:00",0,0,0,0,{"$f":"F951/'Refrigeration & Weather'!$C$22","v":0},{"$f":"G951*3*'Refrigeration & Weather'!$C$23","v":0}]
[935,"2013-04-27T21:00:00",0,0,0,0,{"$f":"F952/'Refrigeration & Weather'!$C$22","v":0},{"$f":"G952*3*'Refrigeration & Weather'!$C$23","v":0}]
[936,"2013-04-28",0,0,0,0,{"$f":"F953/'Refrigeration & Weather'!$C$22","v":0},{"$f":"G953*3*'Refrigeration & Weather'!$C$23","v":0}]
[937,"2013-04-28T03:00:00",0,0,0,0,{"$f":"F954/'Refrigeration & Weather'!$C$22","v":0},{"$f":"G954*3*'Refrigeration & Weather'!$C$23","v":0}]
[938,"2013-04-28T06:00:00",0,0,0,0,{"$f":"F955/'Refrigeration & Weather'!$C$22","v":0},{"$f":"G955*3*'Refrigeration & Weather'!$C$23","v":0}]
[939,"2013-04-28T09:00:00",0,0,0,0,{"$f":"F956/'Refrigeration & Weather'!$C$22","v":0},{"$f":"G956*3*'Refrigeration & Weather'!$C$23","v":0}]
[940,"2013-04-28T12:00:00",0,0,0,0,{"$f":"F957/'Refrigeration & Weather'!$C$22","v":0},{"$f":"G957*3*'Refrigeration & Weather'!$C$23","v":0}]
[941,"2013-04-28T15:00:00",0,0,0,0,{"$f":"F958/'Refrigeration & Weather'!$C$22","v":0},{"$f":"G958*3*'Refrigeration & Weather'!$C$23","v":0}]
[942,"2013-04-28T18:00:00",0,0,0,0,{"$f":"F959/'Refrigeration & Weather'!$C$22","v":0},{"$f":"G959*3*'Refrigeration & Weather'!$C$23","v":0}]
[943,"2013-04-28T21:00:00",0,0,0,0,{"$f":"F960/'Refrigeration & Weather'!$C$22","v":0},{"$f":"G960*3*'Refrigeration & Weather'!$C$23","v":0}]
[944,"2013-04-29",0,0,0,0,{"$f":"F961/'Refrigeration & Weather'!$C$22","v":0},{"$f":"G961*3*'Refrigeration & Weather'!$C$23","v":0}]
[945,"2013-04-29T03:00:00",0,0,0,0,{"$f":"F962/'Refrigeration & Weather'!$C$22","v":0},{"$f":"G962*3*'Refrigeration & Weather'!$C$23","v":0}]
[946,"2013-04-29T06:00:00",0,0,0,0,{"$f":"F963/'Refrigeration & Weather'!$C$22","v":0},{"$f":"G963*3*'Refrigeration & Weather'!$C$23","v":0}]
[947,"2013-04-29T09:00:00",0,0,0,0,{"$f":"F964/'Refrigeration & Weather'!$C$22","v":0},{"$f":"G964*3*'Refrigeration & Weather'!$C$23","v":0}]
[948,"2013-04-29T12:00:00",0,0,0,0,{"$f":"F965/'Refrigeration & Weather'!$C$22","v":0},{"$f":"G965*3*'Refrigeration & Weather'!$C$23","v":0}]
[949,"2013-04-29T15:00:00",0,0,0,0,{"$f":"F966/'Refrigeration & Weather'!$C$22","v":0},{"$f":"G966*3*'Refrigeration & Weather'!$C$23","v":0}]
[950,"2013-04-29T18:00:00",0,0,0,0,{"$f":"F967/'Refrigeration & Weather'!$C$22","v":0},{"$f":"G967*3*'Refrigeration & Weather'!$C$23","v":0}]
[951,"2013-04-29T21:00:00",0,0,0,0,{"$f":"F968/'Refrigeration & Weather'!$C$22","v":0},{"$f":"G968*3*'Refrigeration & Weather'!$C$23","v":0}]
[952,"2013-04-30",0,0,0,0,{"$f":"F969/'Refrigeration & Weather'!$C$22","v":0},{"$f":"G969*3*'Refrigeration & Weather'!$C$23","v":0}]
[953,"2013-04-30T03:00:00",0,0,0,0,{"$f":"F970/'Refrigeration & Weather'!$C$22","v":0},{"$f":"G970*3*'Refrigeration & Weather'!$C$23","v":0}]
[954,"2013-04-30T06:00:00",0,0,0,0,{"$f":"F971/'Refrigeration & Weather'!$C$22","v":0},{"$f":"G971*3*'Refrigeration & Weather'!$C$23","v":0}]
[955,"2013-04-30T09:00:00",0,0,0,0,{"$f":"F972/'Refrigeration & Weather'!$C$22","v":0},{"$f":"G972*3*'Refrigeration & Weather'!$C$23","v":0}]
[956,"2013-04-30T12:00:00",0,0,0,0,{"$f":"F973/'Refrigeration & Weather'!$C$22","v":0},{"$f":"G973*3*'Refrigeration & Weather'!$C$23","v":0}]
[957,"2013-04-30T15:00:00",0,0,0,0,{"$f":"F974/'Refrigeration & Weather'!$C$22","v":0},{"$f":"G974*3*'Refrigeration & Weather'!$C$23","v":0}]
[958,"2013-04-30T18:00:00",0,0,0,0,{"$f":"F975/'Refrigeration & Weather'!$C$22","v":0},{"$f":"G975*3*'Refrigeration & Weather'!$C$23","v":0}]
[959,"2013-04-30T21:00:00",0,0,0,0,{"$f":"F976/'Refrigeration & Weather'!$C$22","v":0},{"$f":"G976*3*'Refrigeration & Weather'!$C$23","v":0}]
[960,"2013-05-01",{"$f":"J977+N977+R977+V977+Z977+AD977+AH977+AL977+AP977+AT977+AX977+BB977+BF977+BJ977+BN977+BR977+BV977+BZ977+CD977+CH977+CL977+CP977+CT977+CX977+DB977+DF977+DJ977+DN977+DR977+DV977+DZ977+ED977+EH977+EL977+EP977+ET977+EX977+FB977+FF977+FJ977+FN977+FR977+FV977+FZ977+GD977+GH977+GL977+GP977+GT977+GX977+HB977+HF977+HJ977+HN977+HR977+HV977+HZ977+ID977+IH977+IL977+IP977+IT977+IX977+JB977+JF977+JJ977+JN977+JR977+JV977+JZ977+KD977+KH977+KL977+KP977+KT977+KX977+LB977+LF977+LJ977+LN977+LR977+LV977+LZ977+MD977+MH977+ML977+MP977+MT977+MX977+NB977+NF977+NJ977+NN977+NR977+NV977+NZ977+OD977+OH977+OL977+OP977","v":0},0,0,0,{"$f":"F977/'Refrigeration & Weather'!$C$22","v":0},{"$f":"G977*3*'Refrigeration & Weather'!$C$23","v":0}]
[961,"2013-05-01T03:00:00",0,{"$f":"K978+O978+S978+W978+AA978+AE978+AI978+AM978+AQ978+AU978+AY978+BC978+BG978+BK978+BO978+BS978+BW978+CA978+CE978+CI978+CM978+CQ978+CU978+CY978+DC978+DG978+DK978+DO978+DS978+DW978+EA978+EE978+EI978+EM978+EQ978+EU978+EY978+FC978+FG978+FK978+FO978+FS978+FW978+GA978+GE978+GI978+GM978+GQ978+GU978+GY978+HC978+HG978+HK978+HO978+HS978+HW978+IA978+IE978+II978+IM978+IQ978+IU978+IY978+JC978+JG978+JK978+JO978+JS978+JW978+KA978+KE978+KI978+KM978+KQ978+KU978+KY978+LC978+LG978+LK978+LO978+LS978+LW978+MA978+ME978+MI978+MM978+MQ978+MU978+MY978+NC978+NG978+NK978+NO978+NS978+NW978+OA978+OE978+OI978+OM978+OQ978","v":0},{"$f":"L978+P978+T978+X978+AB978+AF978+AJ978+AN978+AR978+AV978+AZ978+BD978+BH978+BL978+BP978+BT978+BX978+CB978+CF978+CJ978+CN978+CR978+CV978+CZ978+DD978+DH978+DL978+DP978+DT978+DX978+EB978+EF978+EJ978+EN978+ER978+EV978+EZ978+FD978+FH978+FL978+FP978+FT978+FX978+GB978+GF978+GJ978+GN978+GR978+GV978+GZ978+HD978+HH978+HL978+HP978+HT978+HX978+IB978+IF978+IJ978+IN978+IR978+IV978+IZ978+JD978+JH978+JL978+JP978+JT978+JX978+KB978+KF978+KJ978+KN978+KR978+KV978+KZ978+LD978+LH978+LL978+LP978+LT978+LX978+MB978+MF978+MJ978+MN978+MR978+MV978+MZ978+ND978+NH978+NL978+NP978+NT978+NX978+OB978+OF978+OJ978+ON978+OR978","v":0},{"$f":"SUM(C978:E978)","v":0},{"$f":"F978/'Refrigeration & Weather'!$C$22","v":0},{"$f":"G978*3*'Refrigeration & Weather'!$C$23","v":0}]
[962,"2013-05-01T06:00:00",0,0,0,0,{"$f":"F979/'Refrigeration & Weather'!$C$22","v":0},{"$f":"G979*3*'Refrigeration & Weather'!$C$23","v":0}]
[963,{"$f":"B979+1/8","v":"2013-05-01T09:00:00"},0,0,0,0,{"$f":"F980/'Refrigeration & Weather'!$C$22","v":0},{"$f":"G980*3*'Refrigeration & Weather'!$C$23","v":0}]
[964,"2013-05-01T12:00:00",0,0,0,0,{"$f":"F981/'Refrigeration & Weather'!$C$22","v":0},{"$f":"G981*3*'Refrigeration & Weather'!$C$23","v":0}]
[965,"2013-05-01T15:00:00",0,0,0,0,{"$f":"F982/'Refrigeration & Weather'!$C$22","v":0},{"$f":"G982*3*'Refrigeration & Weather'!$C$23","v":0}]
[966,"2013-05-01T18:00:00",0,0,0,0,{"$f":"F983/'Refrigeration & Weather'!$C$22","v":0},{"$f":"G983*3*'Refrigeration & Weather'!$C$23","v":0}]
[967,"2013-05-01T21:00:00",0,0,0,0,{"$f":"F984/'Refrigeration & Weather'!$C$22","v":0},{"$f":"G984*3*'Refrigeration & Weather'!$C$23","v":0}]
[968,"2013-05-02",0,0,0,0,{"$f":"F985/'Refrigeration & Weather'!$C$22","v":0},{"$f":"G985*3*'Refrigeration & Weather'!$C$23","v":0}]

{"sheet":"Refrigeration & Weather","index":4,"n_rows":37,"n_cols":8,"rows_kept":37,"cut":false,"hidden":false,"merged":[]}
[]
[null,null,null,null,null,"Peak Refrigeration demand in coming week"]
[null,null,null,null,null,"Today",{"$f":"TODAY()","v":"2014-05-02"}]
[null,null,null,null,null,"Time Step",{"$f":"(G3-'Full Vintage Planner'!C8)*8","v":3888}]
[]
[null,"Weather forecast",null,null,null,"Day","Demand (kWe)","Plant Capacity (kWe)"]
[null,"Day ","Low","High",null,0,{"$f":"LOOKUP($G$4+F7*8,'Full Vintage Planner'!A17:A985,'Full Vintage Planner'!G17:G985)","v":0},{"$f":"C25","v":539.32584269662925}]
[null,0,16,28,null,0.5,{"$f":"LOOKUP($G$4+F8*8,'Full Vintage Planner'!A18:A986,'Full Vintage Planner'!G18:G986)","v":0},{"$f":"H7","v":539.32584269662925}]
[null,1,18,32,null,1,{"$f":"LOOKUP($G$4+F9*8,'Full Vintage Planner'!A19:A987,'Full Vintage Planner'!G19:G987)","v":0},539.32584269662925]
[null,2,17,31,null,1.5,{"$f":"LOOKUP($G$4+F10*8,'Full Vintage Planner'!A20:A988,'Full Vintage Planner'!G20:G988)","v":0},539.32584269662925]
[null,3,22,30,null,2,{"$f":"LOOKUP($G$4+F11*8,'Full Vintage Planner'!A21:A989,'Full Vintage Planner'!G21:G989)","v":0},539.32584269662925]
[null,4,20,26,null,2.5,{"$f":"LOOKUP($G$4+F12*8,'Full Vintage Planner'!A22:A990,'Full Vintage Planner'!G22:G990)","v":0},539.32584269662925]
[null,5,16,27,null,3,{"$f":"LOOKUP($G$4+F13*8,'Full Vintage Planner'!A23:A991,'Full Vintage Planner'!G23:G991)","v":0},539.32584269662925]
[null,6,24,35,null,3.5,{"$f":"LOOKUP($G$4+F14*8,'Full Vintage Planner'!A24:A992,'Full Vintage Planner'!G24:G992)","v":0},539.32584269662925]
[null,7,18,38,null,4,{"$f":"LOOKUP($G$4+F15*8,'Full Vintage Planner'!A25:A993,'Full Vintage Planner'!G25:G993)","v":0},539.32584269662925]
[null,8,17,39,null,4.5,{"$f":"LOOKUP($G$4+F16*8,'Full Vintage Planner'!A26:A994,'Full Vintage Planner'!G26:G994)","v":0},539.32584269662925]
[null,9,18,31,null,5,{"$f":"LOOKUP($G$4+F17*8,'Full Vintage Planner'!A27:A995,'Full Vintage Planner'!G27:G995)","v":0},539.32584269662925]
[null,10,22,32,null,5.5,{"$f":"LOOKUP($G$4+F18*8,'Full Vintage Planner'!A28:A996,'Full Vintage Planner'!G28:G996)","v":0},539.32584269662925]
[null,null,null,null,null,6,{"$f":"LOOKUP($G$4+F19*8,'Full Vintage Planner'!A29:A997,'Full Vintage Planner'!G29:G997)","v":0},539.32584269662925]
[null,"Refrigeration Plant Specs",null,null,null,6.5,{"$f":"LOOKUP($G$4+F20*8,'Full Vintage Planner'!A30:A998,'Full Vintage Planner'!G30:G998)","v":0},539.32584269662925]
[null,"Brine Temperature",-5,null,null,7,{"$f":"LOOKUP($G$4+F21*8,'Full Vintage Planner'!A31:A999,'Full Vintage Planner'!G31:G999)","v":0},539.32584269662925]
[null,"COP",{"$f":"C36*C21+C37","v":2.2249999999999996},null,null,7.5,{"$f":"LOOKUP($G$4+F22*8,'Full Vintage Planner'!A32:A1000,'Full Vintage Planner'!G32:G1000)","v":0},539.32584269662925]
[null,"$/kWh",0.25,null,null,8,{"$f":"LOOKUP($G$4+F23*8,'Full Vintage Planner'!A33:A1001,'Full Vintage Planner'!G33:G1001)","v":0},539.32584269662925]
[null,"Refrigeration capacity",1200,"kWr",null,8.5,{"$f":"LOOKUP($G$4+F24*8,'Full Vintage Planner'!A34:A1002,'Full Vintage Planner'!G34:G1002)","v":0},539.32584269662925]
[null,"Refrigeration capacity",{"$f":"C24/C22","v":539.32584269662925},"kWe",null,9,{"$f":"LOOKUP($G$4+F25*8,'Full Vintage Planner'!A35:A1003,'Full Vintage Planner'!G35:G1003)","v":0},539.32584269662925]
[null,null,null,null,null,9.5,{"$f":"LOOKUP($G$4+F26*8,'Full Vintage Planner'!A36:A1004,'Full Vintage Planner'!G36:G1004)","v":0},539.32584269662925]
[null,"Must chiller efficiency",0.85,null,null,10,{"$f":"LOOKUP($G$4+F27*8,'Full Vintage Planner'!A37:A1005,'Full Vintage Planner'!G37:G1005)","v":0},539.32584269662925]
[]
[]
[]
[null,"Refrigeration COP Calculation "]
[null,"Temp","COP"]
[null,-8,2.0499999999999998]
[null,4,2.75]
[]
[null,"slope",{"$f":"SLOPE(C33:C34,B33:B34)","v":5.8333333333333348E-2}]
[null,"intercept",{"$f":"INTERCEPT(C33:C34,B33:B34)","v":2.5166666666666666}]

{"sheet":"What-if Analysis","index":5,"n_rows":76,"n_cols":28,"rows_kept":76,"cut":false,"hidden":false,"merged":[[40,21,40,23],[41,21,41,23],[11,1,11,5],[11,12,11,19],[27,22,27,23],[28,22,28,23],[35,21,35,23],[36,22,36,23],[37,22,37,23],[38,22,38,23],[11,77,11,79],[29,22,29,23],[30,22,30,23],[31,22,31,23],[32,22,32,23]]}
[]
[null,null,null,null," = user adjustable field",null,null,null,null,null,null,null,null,null,null,null,null,null,null,null,null,null,null,null,null,"Weather forecast"]
[null,null,null,null,null,null,null,null,null,null,null,null,null,null,null,null,null,null,null,null,null,null,null,null,null,"Day "]
[null,"Ferment start time",null,"12:00:00",null,null,null,"Cool Climate",1,"(1=Yes, 0=No)",null,null,null,null,null,null,null,null,null,null,null,null,null,null,null,0,15,30]
[null,"Volume",null,250,"kL",null,null,"Warm Climate",0,"(1=Yes, 0=No)",null,null,null,null,null,null,null,null,null,null,null,null,null,null,null,1,15,30]
[null,"Initial Cell mass",null,null,"g/L",null,null,"Wild Ferment",0,"(1=Yes, 0=No)",null,null,null,null,null,null,null,null,null,null,null,null,null,null,null,2,15,30]
[null,"Initial N",null,0.3,"g/L",null,null,null,null,null,null,null,null,null,null,null,null,null,null,null,null,null,null,null,null,3,15,30]
[null,"Desired ferment time",null,6,"days",null,null,null,null,null,null,null,null,"Refrigeration COP",null,null,2.2249999999999996,null,null,null,null,null,null,null,null,4,15,30]
[null,"Prediction score",null,5.1175052617281809,null,null,null,null,null,null,null,null,null,"Electricity Cost ($/kWe)",null,null,0.25,null,null,null,null,null,null,null,null,5,15,30]
[null,"Refrigeration cost",null,1414.7256401612681,null,null,null,null,null,null,null,null,null,"Overall Tank U value (W/m2/C)",null,null,3,null,null,null,null,null,null,null,null,6,15,30]
[null,null,null,null,null,null,null,null,null,null,null,null,null,null,null,null,null,null,null,null,null,null,null,null,null,7,15,30]
[null,"Commercial Ferment",null,null,null,null,null,null,null,null,null,null,"Simulation model",null,null,null,null,null,null,null,null,null,null,null,null,8,15,30]
[null,"Day","Baume – actual","Temp C","DAP addition","Mixing (0 to 3) ","Nutrient Addition","Pump over","Aeration","Yeast Innoc.",null,"dBe/dt","Baume – Model","Required Refrigeration (kWr)","Active Cell Mass","Ethanol","Nitrogen","Corrected Temperature","Low range","High range",null,null,null,null,null,9,15,30]
[null,0,11.5,14,null,null,null,null,null,null,null,7.1965535797117068,11.466666666666665,6.0893914905252897,0.36993102535578792,0,0.3,14,11.466666666666665,11.466666666666665,null,null,null,null,null,10,15,30]
[null,0.5,11.5,15,null,null,null,null,null,null,null,4.5970672126131031,11.361167895021374,7.8937446004298195,0.88444180097340508,0.91220155766214395,0.26329725613845334,14.25,11.361167895021374,11.361167895021374,null,null,null,null,null,11,15,30]
[null,1,11.4,14,null,null,null,null,null,null,null,5.8842985287755205,11.253926243364601,13.958667163882563,1.3211338016518883,1.8394321808774983,0.22658135658603004,14.8,11.253926243364601,11.253926243364601,null,null,null,null,null,12,15,30]
[null,1.5,11.3,15,null,null,null,null,null,null,null,3.7938747280019811,11.036574857890562,20.47436962470902,2.1336133535492454,3.7193045598512207,0.15489722776741047,14.2,11.036574857890562,11.036574857890562,null,null,null,null,null,13,15,30]
[null,2,10.3,15,null,null,null,null,null,null,null,6.2570936833127861,10.558364922653183,44.644253148631989,3.4722316414867218,7.8589145112728405,2.9115326721474287E-2,15,10.558364922653183,10.558364922653183,null,null,null,null,null,14,15,30]
[null,2.5,9.5,14,null,null,null,null,null,null,null,4.9581676547674904,9.5941509906694797,68.783635222452233,3.9913996665262421,16.219702682180191,3.9647747651834347E-3,14.8,9.5941509906694797,9.5941509906694797,null,null,null,null,null,15,15,30]
[null,3,8.6999999999999993,14,null,null,null,null,null,null,null,6.8331864336961914,8.5306632534463471,69.259820423958686,4.2298877834254096,25.449244994085781,8.1152888850887714E-3,14,8.5306632534463471,8.5306632534463471,null,null,null,null,null,16,15,30]
[null,3.5,null,null,null,null,null,null,null,null,null,8.253082762349127,7.5067327636732006,66.069129120488569,4.456486018858806,34.340868466977064,1.2020387742679377E-2,14,7.3776383350574219,7.6358271922889793,null,null,null,null,null,17,15,30]
[null,4,null,null,null,null,null,null,null,null,null,15.533090497056895,6.4743921228391867,68.716326958211198,4.6855879404693885,43.314748724218681,2.0356365465366077E-2,14,6.3337147307116108,6.6150695149667627,null,null,null,null,null,18,15,30]
[null,4.5,null,null,null,null,null,null,null,null,null,23.356449922234649,5.4477050809701204,65.483437631107719,4.8805576545477045,52.251186977184418,2.4642911981381334E-2,14,5.2940519772229173,5.6013581847173235,null,null,null,null,null,19,15,30]
[null,5,null,null,null,null,null,null,null,null,null,33.223178388652393,4.4629141469600553,64.234044729607348,5.0133957552198005,60.835716489127087,2.5220259732045607E-2,14,4.295215564957604,4.6306127289625065,null,null,null,null,null,20,15,30]
[null,5.5,null,null,null,null,null,null,null,null,null,40.90139776213185,3.5574579116416647,56.509815983612967,5.0914938500650315,68.740910232979346,2.2635804153143545E-2,14,3.3748908198664251,3.7400250034169042,null,null,null,null,null,21,15,30]
[null,6,null,null,null,null,null,null,null,null,null,38.735807336032472,2.7561322335633425,52.05726549951563,5.1297437797243051,75.747524105216598,1.7711114704646352E-2,14,2.5580588580883536,2.9542056090383313,null,null,null,null,null,22,15,30]
[null,6.5,null,null,null,null,null,null,null,null,null,43.153989670112317,2.069053373770815,42.868169446330292,5.1408349940782898,81.76336349354375,1.1226729684618434E-2,14,1.8549744826488865,2.2831322648927435,null,"Model Parameters",null,null,null,23,15,30]
[null,7,null,null,null,null,null,null,null,null,null,39.458181925793369,1.4945154610790425,38.426596399107218,5.1335005370242666,86.79944860255911,4.4526788657317552E-3,14,1.2640358054582381,1.724995116699847,null,"fPos(1)",81.567817226261184,null,"mumaxcor",24,15,30]
[null,7.5,null,null,null,null,null,null,null,null,null,41.124767292747293,1.0229659461234411,30.262924923928818,5.1147560595879868,90.936109071698297,6.1889592879345735E-4,14,0.77576893528931701,1.2701629569575652,null,"fPos(2)",70.010519079901059,null,"betamaxcorr",25,15,30]
[null,8,null,null,null,null,null,null,null,null,null,42.953467597094992,0.64055228821398003,27.42307899582082,5.0918449993301271,94.292397141220832,2.4113057529230482E-5,14,0.37638142843811651,0.90472314798984355,null,"fPos(3)",0.18000601028705338,null,"mixingcoeff",26,15,30]
[null,8.5,null,null,null,null,null,null,null,null,null,42.882676778819565,0.33215446033724977,21.062719440242205,5.0679581617548646,96.999525980066153,3.5651129718716575E-7,14,5.0799676082097497E-2,0.61350924459240208,null,"fPos(4)",89.996942441963881,null,"Ks",27,15,30]
[null,9,null,null,null,null,null,null,null,null,null,42.749364139348479,8.3687776741614622E-2,19.943135631335512,5.0435530201529959,99.180382810766247,2.780265817624592E-9,14,-0.21502475491877462,0.3824003084020039,null,"fPos(5)",0.36993102535578792,null,"initialcellcount",28,15,30]
[null,9.5,null,null,null,null,null,null,null,null,null,43.702937975696784,-0.11695179925073232,15.079021778773406,5.0187662440184733,100.94094082833588,1.584781962220083E-11,14,-0.43316727799553739,0.19926367949407275,null,"fPos(6)",3.1993944385546556,null,"kdcorr",29,15,30]
[null,10,null,null,null,null,null,null,null,null,null,47.090510764514704,-0.27973160425697935,15.199872695181547,4.993699820730213,102.36867280346786,8.6090579077825337E-14,14,-0.61357239251360451,5.4109183999645871E-2,null,null,null,null,null,30,15,30]
[null,10.5,null,null,null,null,null,null,null,null,null,36.544443337693366,-0.41263752859773428,11.334146345172016,4.9684339801462887,103.53377052433895,5.3156106751885793E-16,14,-0.76420758603857342,-6.1067471156895134E-2]
[null,11,null,null,null,null,null,null,null,null,null,31.441909591324038,-0.52195748504327877,12.243434372227334,4.9430317497287097,104.49155175312004,4.1104136259997285E-18,14,-0.89134580260794738,-6.1067471156895134E-2,null,"Estimated Ferment Completion"]
[null,11.5,null,null,null,null,null,null,null,null,null,28.88828314559218,-0.61259390836837169,8.9934641783221743,4.9175426966350866,105.28516456936198,4.1525145017891621E-20,14,-0.99987719421570775,-6.1067471156895134E-2,null,"Model",9.5]
[null,12,null,null,null,null,null,null,null,null,null,26.830264287722983,-0.68835285855678208,10.381156370132066,4.8920059351908121,105.94811091102066,5.5344858368187951E-22,14,-1.0935976590407781,-6.1067471156895134E-2,null,"Low range",9]
[null,12.5,null,null,null,null,null,null,null,null,null,27.889427010685854,-0.75218862107730722,7.5025455043285145,4.866452483274248,106.50639167655649,9.6587734097390006E-24,14,-1.175453010816238,-6.1067471156895134E-2,null,"High range",10.5]
[null,13,null,null,null,null,null,null,null,null,null,25.289694433484115,-0.80640035116727826,9.1791219254353074,4.8409070811774955,106.98023592261862,2.1727999655321691E-25,14,-1.2477352913226853,-6.1067471156895134E-2]
[null,13.5,null,null,null,null,null,null,null,null,null,27.814981233804506,-0.85278547794533299,6.5261849196266226,4.8153895848823254,107.38545192591648,6.1825485285828119E-27,14,-1.3122359166893127,-6.1067471156895134E-2,null,"Fermenter Status"]
[null,14,null,null,null,null,null,null,null,null,null,29.640503449071318,-0.89275731893509525,8.3800391545750443,4.7899160305704758,107.73446391142235,2.182384872152521E-28,14,-1.3703630898395573,-6.1067471156895134E-2,null,{"$f":"IF(ABS(W37-D8)<2.1,\"Good\",IF(ABS(W38-D8)<2.1,\"Low range on spec\",IF(ABS(W39-D8)<2.1,\"High range on spec\",IF(D8<W38,\"Warning -  Sluggish Ferment\",\"Warning - Rapid ferment\"))))","v":"Warning -  Sluggish Ferment"}]
[null,14.5,null,null,null,null,null,null,null,null,null,24.49765955506291,-0.92743443269247572,5.8672564059983232,4.7644994486514314,108.03709996276611,9.3802026720054904E-30,14,-1.4232309934102838,-6.1067471156895134E-2]
[null,15,null,null,null,null,null,null,null,null,null,22.752706398544891,-0.95770824657787734,7.8326787097451902,4.7391504882466506,108.30118840859441,4.8250110106304849E-31,14,-1.4717272903078933,-6.1067471156895134E-2]
[null,15.5,null,null,null,null,null,null,null,null,null,16.657882718750955,-0.98429423536875804,5.4093388535518088,4.7138778985498266,108.53300909195288,2.9238259141861868E-32,14,-1.5165642002303725,-6.1067471156895134E-2]
[null,16,null,null,null,null,null,null,null,null,null,15.366947402539596,-1.0077707413064356,7.4469777636111942,4.6886889020057803,108.73763557759479,2.0578325315821095E-33,14,-1.5583172372080989,-6.1067471156895134E-2]
[null,16.5,null,null,null,null,null,null,null,null,null,10.122412535940272,-1.0286085361553781,5.0823563008858805,4.663589485464577,108.91919565638001,1.6609268910984592E-34,14,-1.597454704538859,-6.1067471156895134E-2]
[null,17,null,null,null,null,null,null,null,null,null,10.410233143060458,-1.0471934461825945,7.1680661969063895,4.6385846288618664,109.08107063778151,1.5199637893762358E-35,14,-1.6343602648114115,-6.1067471156895134E-2]
[null,17.5,null,null,null,null,null,null,null,null,null,6.9560524906888102,-1.0638437666359866,4.8430604666601234,4.6136784860578315,109.22604867759446,1.561142077583682E-36,14,-1.6693503091208355,-6.1067471156895134E-2]
[null,18,null,null,null,null,null,null,null,null,null,8.1636188503464115,-1.0788237475216216,6.9616267033506292,4.5888745288203046,109.35644346008722,1.7833144985445807E-37,14,-1.7026874053543068,-6.1067471156895134E-2]
[null,18.5,null,null,null,null,null,null,null,null,null,5.1275945646052454,-1.0923541029344237,4.6640380943184816,4.5641756622357006,109.47418664235447,2.2472487105264267E-38,14,-1.7345907763002093,-6.1067471156895134E-2]
[null,19,null,null,null,null,null,null,null,null,null,6.6712000412364638,-1.1046202531758187,6.8056165005070648,4.5395843178265007,109.58090032128132,3.1012449733121295E-39,14,-1.7652445156326824,-6.1067471156895134E-2]
[null,19.5,null,null,null,null,null,null,null,null,null,3.908418246678937,-1.1157788298974067,4.5274505531889657,4.5151025291613536,109.67795420199666,4.656141293391527E-40,14,-1.7948040710751931,-6.1067471156895134E-2]
[null,20,null,null,null,null,null,null,null,null,null,5.6728227638944313,-1.1259628425272679,6.6855090766340064,4.4907319936279944,109.7665109807523,7.5604228857544985E-41,14,-1.8234013922544667,-6.1067471156895134E-2]
[null,20.5,null,null,null,null,null,null,null,null,null,3.0878586735762643,-1.1352858066552214,4.4213971590630452,4.466474123200693,109.84756259336237,1.3205919704012871E-41,14,-1.8511490433239004,-6.1067471156895134E-2]
[null,21,null,null,null,null,null,null,null,null,null,4.9953606397604027,-1.1438450626355665,6.5914983761574959,4.4423300864005117,109.92195934097016,2.4693672722188689E-42,14,-1.8781435081337763,-6.1067471156895134E-2]
[null,21.5,null,null,null,null,null,null,null,null,null,2.525696100715761,-1.1517244586797599,4.3377528296484362,4.4183008431654462,109.99043342844658,4.9213346949906244E-43,14,-1.9044678618309059,-6.1067471156895134E-2]
[null,22,null,null,null,null,null,null,null,null,null,4.5263486350994198,-1.1589965322651132,6.5168162234586271,4.3943871739797036,110.05361809389554,1.0411610678617238E-43,14,-1.9301939423963985,-6.1067471156895134E-2]
[null,22.5,null,null,null,null,null,null,null,null,null,2.1322185486313474,-1.1657242932227798,4.27085090600547,4.370589704328661,110.11206323909889,2.3297063005760199E-44,14,-1.9553841252251341,-6.1067471156895134E-2]
[null,23,null,null,null,null,null,null,null,null,null,4.194389528942394,-1.1719626887993211,6.4566950380753685,4.3469089253274715,110.16624826737726,5.4951459604677999E-45,14,-1.980092780827778,-6.1067471156895134E-2]
[null,23.5,null,null,null,null,null,null,null,null,null,1.850604786750198,-1.1777598134194214,4.2166615115318393,4.3233452112012207,110.21659268055389,1.3621352662573257E-45,14,-2,-6.1067471156895134E-2]
[null,24,null,null,null,null,null,null,null,null,null,3.9541872620558922,-1.18315791242611,6.4077132988766801,4.2998988341615858,110.26346486823159,3.538352985010407E-46,14,-2,-6.1067471156895134E-2]
[null,24.5,null,null,null,null,null,null,null,null,null,1.6446434686377489,-1.1881942187180112,4.1722672500105453,4.2765699771203503,110.30718943140718,9.607194852060283E-47,14,-2,-6.1067471156895134E-2]
[null,25,null,null,null,null,null,null,null,null,null,3.7766867458576185,-1.1929016531853553,6.3673733115589801,4.2533587445974055,110.34805331188443,2.7200005308277919E-47,14,-2,-6.1067471156895134E-2]
[null,25.5,null,null,null,null,null,null,null,null,null,1.4909227194981565,-1.1973094136061948,4.1355214093485344,4.2302651721151303,110.38631094404795,8.0123496753665489E-48,14,-2,-6.1067471156895134E-2]
[null,26,null,null,null,null,null,null,null,null,null,3.6429364677126008,-1.2014434717819578,6.3338231405557162,4.2072892343184831,110.4221886026243,2.4506561637226091E-48,14,-2,-6.1067471156895134E-2]
[null,26.5,null,null,null,null,null,null,null,null,null,1.3740277061343402,-1.2053269948520688,4.1048206474426445,4.1844308520179654,110.45588808630532,7.7680898706881203E-49,14,-2,-6.1067471156895134E-2]
[null,27,null,null,null,null,null,null,null,null,null,3.5403365116739676,-1.2089807036930473,6.3056699204946423,4.1616898983185715,110.48758985044383,2.5473696719899224E-49,14,-2,-6.1067471156895134E-2]
[null,27.5,null,null,null,null,null,null,null,null,null,1.2836083768627795,-1.2124231788978186,4.0789509813973375,4.1390662039702262,110.51745568086339,8.6279069331674307E-50,14,-2,-6.1067471156895134E-2]
[null,28,null,null,null,null,null,null,null,null,null,3.4603430866683844,-1.2156711229083712,6.2818522548448215,4.1165595620527657,110.54563098394057,3.0136523630583699E-50,14,-2,-6.1067471156895134E-2]
[null,28.5,null,null,null,null,null,null,null,null,null,1.2125777519127541,-1.2187395853338787,4.056981627509578,4.0941697320901387,110.57224675458947,1.0840215329473989E-50,14,-2,-6.1067471156895134E-2]
[null,29,null,null,null,null,null,null,null,null,null,3.3970496840089348,-1.2216421572458136,6.2615515408377105,4.0718964436733858,110.59742127289122,4.0101728796277193E-51,14,-2,-6.1067471156895134E-2]
[null,29.5,null,null,null,null,null,null,null,null,null,1.1559903617050715,-1.2243911392385423,4.0381906457691663,4.0497393996595639,110.62126157131078,1.52380438646264E-51,14,-2,-6.1067471156895134E-2]
[null,30,null,null,null,null,null,null,null,null,null,3.3462968764541037,-1.2269976872295656,6.2441293896759422,4.0276982790034381,110.64386470730162,5.9406073595856557E-52,14,-2,-6.1067471156895134E-2]
[]
[null,null,null,null,null,null,null,null,null,null,null,{"$f":"MIN(L14:L74)","v":1.1559903617050715},null,{"$f":"MAX(N14:N74)","v":69.259820423958686},{"$f":"MAX(O14:O74)","v":5.1408349940782898}]

{"sheet":"Ferment Archive","index":7,"n_rows":2,"n_cols":2182,"rows_kept":2,"cut":false,"hidden":false,"merged":[]}
["Ferment",1,null,null,null,null,null,null,null,null,null,null,null,null,null,null,null,null,null,null,null,null,"Ferment",2,null,null,null,null,null,null,null,null,null,null,null,null,null,null,null,null,null,null,null,null,"Ferment",3,null,null,null,null,null,null,null,null,null,null,null,null,null,null,null,null,null,null,null,null,"Ferment",4,null,null,null,null,null,null,null,null,null,null,null,null,null,null,null,null,null,null,null,null,"Ferment",5,null,null,null,null,null,null,null,null,null,null,null,null,null,null,null,null,null,null,null,null,"Ferment",6,null,null,null,null,null,null,null,null,null,null,null,null,null,null,null,null,null,null,null,null,"Ferment",7,null,null,null,null,null,null,null,null,null,null,null,null,null,null,null,null,null,null,null,null,"Ferment",8,null,null,null,null,null,null,null,null,null,null,null,null,null,null,null,null,null,null,null,null,"Ferment",9,null,null,null,null,null,null,null,null,null,null,null,null,null,null,null,null,null,null,null,null,"Ferment",10,null,null,null,null,null,null,null,null,null,null,null,null,null,null,null,null,null,null,null,null,"Ferment",11,null,null,null,null,null,null,null,null,null,null,null,null,null,null,null,null,null,null,null,null,"Ferment",12,null,null,null,null,null,null,null,null,null,null,null,null,null,null,null,null,null,null,null,null,"Ferment",13,null,null,null,null,null,null,null,null,null,null,null,null,null,null,null,null,null,null,null,null,"Ferment",14,null,null,null,null,null,null,null,null,null,null,null,null,null,null,null,null,null,null,null,null,"Ferment",15,null,null,null,null,null,null,null,null,null,null,null,null,null,null,null,null,null,null,null,null,"Ferment",16,null,null,null,null,null,null,null,null,null,null,null,null,null,null,null,null,null,null,null,null,"Ferment",17,null,null,null,null,null,null,null,null,null,null,null,null,null,null,null,null,null,null,null,null,"Ferment",18,null,null,null,null,null,null,null,null,null,null,null,null,null,null,null,null,null,null,null,null,"Ferment",19,null,null,null,null,null,null,null,null,null,null,null,null,null,null,null,null,null,null,null,null,"Ferment",20,null,null,null,null,null,null,null,null,null,null,null,null,null,null,null,null,null,null,null,null,"Ferment",21,null,null,null,null,null,null,null,null,null,null,null,null,null,null,null,null,null,null,null,null,"Ferment",22,null,null,null,null,null,null,null,null,null,null,null,null,null,null,null,null,null,null,null,null,"Ferment",23,null,null,null,null,null,null,null,null,null,null,null,null,null,null,null,null,null,null,null,null,"Ferment",24,null,null,null,null,null,null,null,null,null,null,null,null,null,null,null,null,null,null,null,null,"Ferment",25,null,null,null,null,null,null,null,null,null,null,null,null,null,null,null,null,null,null,null,null,"Ferment",26,null,null,null,null,null,null,null,null,null,null,null,null,null,null,null,null,null,null,null,null,"Ferment",27,null,null,null,null,null,null,null,null,null,null,null,null,null,null,null,null,null,null,null,null,"Ferment",28,null,null,null,null,null,null,null,null,null,null,null,null,null,null,null,null,null,null,null,null,"Ferment",29,null,null,null,null,null,null,null,null,null,null,null,null,null,null,null,null,null,null,null,null,"Ferment",30,null,null,null,null,null,null,null,null,null,null,null,null,null,null,null,null,null,null,null,null,"Ferment",31,null,null,null,null,null,null,null,null,null,null,null,null,null,null,null,null,null,null,null,null,"Ferment",32,null,null,null,null,null,null,null,null,null,null,null,null,null,null,null,null,null,null,null,null,"Ferment",33,null,null,null,null,null,null,null,null,null,null,null,null,null,null,null,null,null,null,null,null,"Ferment",34,null,null,null,null,null,null,null,null,null,null,null,null,null,null,null,null,null,null,null,null,"Ferment",35,null,null,null,null,null,null,null,null,null,null,null,null,null,null,null,null,null,null,null,null,"Ferment",36,null,null,null,null,null,null,null,null,null,null,null,null,null,null,null,null,null,null,null,null,"Ferment",37,null,null,null,null,null,null,null,null,null,null,null,null,null,null,null,null,null,null,null,null,"Ferment",38,null,null,null,null,null,null,null,null,null,null,null,null,null,null,null,null,null,null,null,null,"Ferment",39,null,null,null,null,null,null,null,null,null,null,null,null,null,null,null,null,null,null,null,null,"Ferment",40,null,null,null,null,null,null,null,null,null,null,null,null,null,null,null,null,null,null,null,null,"Ferment",41,null,null,null,null,null,null,null,null,null,null,null,null,null,null,null,null,null,null,null,null,"Ferment",42,null,null,null,null,null,null,null,null,null,null,null,null,null,null,null,null,null,null,null,null,"Ferment",43,null,null,null,null,null,null,null,null,null,null,null,null,null,null,null,null,null,null,null,null,"Ferment",44,null,null,null,null,null,null,null,null,null,null,null,null,null,null,null,null,null,null,null,null,"Ferment",45,null,null,null,null,null,null,null,null,null,null,null,null,null,null,null,null,null,null,null,null,"Ferment",46,null,null,null,null,null,null,null,null,null,null,null,null,null,null,null,null,null,null,null,null,"Ferment",47,null,null,null,null,null,null,null,null,null,null,null,null,null,null,null,null,null,null,null,null,"Ferment",48,null,null,null,null,null,null,null,null,null,null,null,null,null,null,null,null,null,null,null,null,"Ferment",49,null,null,null,null,null,null,null,null,null,null,null,null,null,null,null,null,null,null,null,null,"Ferment",50,null,null,null,null,null,null,null,null,null,null,null,null,null,null,null,null,null,null,null,null,"Ferment",51,null,null,null,null,null,null,null,null,null,null,null,null,null,null,null,null,null,null,null,null,"Ferment",52,null,null,null,null,null,null,null,null,null,null,null,null,null,null,null,null,null,null,null,null,"Ferment",53,null,null,null,null,null,null,null,null,null,null,null,null,null,null,null,null,null,null,null,null,"Ferment",54,null,null,null,null,null,null,null,null,null,null,null,null,null,null,null,null,null,null,null,null,"Ferment",55,null,null,null,null,null,null,null,null,null,null,null,null,null,null,null,null,null,null,null,null,"Ferment",56,null,null,null,null,null,null,null,null,null,null,null,null,null,null,null,null,null,null,null,null,"Ferment",57,null,null,null,null,null,null,null,null,null,null,null,null,null,null,null,null,null,null,null,null,"Ferment",58,null,null,null,null,null,null,null,null,null,null,null,null,null,null,null,null,null,null,null,null,"Ferment",59,null,null,null,null,null,null,null,null,null,null,null,null,null,null,null,null,null,null,null,null,"Ferment",60,null,null,null,null,null,null,null,null,null,null,null,null,null,null,null,null,null,null,null,null,"Ferment",61,null,null,null,null,null,null,null,null,null,null,null,null,null,null,null,null,null,null,null,null,"Ferment",62,null,null,null,null,null,null,null,null,null,null,null,null,null,null,null,null,null,null,null,null,"Ferment",63,null,null,null,null,null,null,null,null,null,null,null,null,null,null,null,null,null,null,null,null,"Ferment",64,null,null,null,null,null,null,null,null,null,null,null,null,null,null,null,null,null,null,null,null,"Ferment",65,null,null,null,null,null,null,null,null,null,null,null,null,null,null,null,null,null,null,null,null,"Ferment",66,null,null,null,null,null,null,null,null,null,null,null,null,null,null,null,null,null,null,null,null,"Ferment",67,null,null,null,null,null,null,null,null,null,null,null,null,null,null,null,null,null,null,null,null,"Ferment",68,null,null,null,null,null,null,null,null,null,null,null,null,null,null,null,null,null,null,null,null,"Ferment",69,null,null,null,null,null,null,null,null,null,null,null,null,null,null,null,null,null,null,null,null,"Ferment",70,null,null,null,null,null,null,null,null,null,null,null,null,null,null,null,null,null,null,null,null,"Ferment",71,null,null,null,null,null,null,null,null,null,null,null,null,null,null,null,null,null,null,null,null,"Ferment",72,null,null,null,null,null,null,null,null,null,null,null,null,null,null,null,null,null,null,null,null,"Ferment",73,null,null,null,null,null,null,null,null,null,null,null,null,null,null,null,null,null,null,null,null,"Ferment",74,null,null,null,null,null,null,null,null,null,null,null,null,null,null,null,null,null,null,null,null,"Ferment",75,null,null,null,null,null,null,null,null,null,null,null,null,null,null,null,null,null,null,null,null,"Ferment",76,null,null,null,null,null,null,null,null,null,null,null,null,null,null,null,null,null,null,null,null,"Ferment",77,null,null,null,null,null,null,null,null,null,null,null,null,null,null,null,null,null,null,null,null,"Ferment",78,null,null,null,null,null,null,null,null,null,null,null,null,null,null,null,null,null,null,null,null,"Ferment",79,null,null,null,null,null,null,null,null,null,null,null,null,null,null,null,null,null,null,null,null,"Ferment",80,null,null,null,null,null,null,null,null,null,null,null,null,null,null,null,null,null,null,null,null,"Ferment",81,null,null,null,null,null,null,null,null,null,null,null,null,null,null,null,null,null,null,null,null,"Ferment",82,null,null,null,null,null,null,null,null,null,null,null,null,null,null,null,null,null,null,null,null,"Ferment",83,null,null,null,null,null,null,null,null,null,null,null,null,null,null,null,null,null,null,null,null,"Ferment",84,null,null,null,null,null,null,null,null,null,null,null,null,null,null,null,null,null,null,null,null,"Ferment",85,null,null,null,null,null,null,null,null,null,null,null,null,null,null,null,null,null,null,null,null,"Ferment",86,null,null,null,null,null,null,null,null,null,null,null,null,null,null,null,null,null,null,null,null,"Ferment",87,null,null,null,null,null,null,null,null,null,null,null,null,null,null,null,null,null,null,null,null,"Ferment",88,null,null,null,null,null,null,null,null,null,null,null,null,null,null,null,null,null,null,null,null,"Ferment",89,null,null,null,null,null,null,null,null,null,null,null,null,null,null,null,null,null,null,null,null,"Ferment",90,null,null,null,null,null,null,null,null,null,null,null,null,null,null,null,null,null,null,null,null,"Ferment",91,null,null,null,null,null,null,null,null,null,null,null,null,null,null,null,null,null,null,null,null,"Ferment",92,null,null,null,null,null,null,null,null,null,null,null,null,null,null,null,null,null,null,null,null,"Ferment",93,null,null,null,null,null,null,null,null,null,null,null,null,null,null,null,null,null,null,null,null,"Ferment",94,null,null,null,null,null,null,null,null,null,null,null,null,null,null,null,null,null,null,null,null,"Ferment",95,null,null,null,null,null,null,null,null,null,null,null,null,null,null,null,null,null,null,null,null,"Ferment",96,null,null,null,null,null,null,null,null,null,null,null,null,null,null,null,null,null,null,null,null,"Ferment",97,null,null,null,null,null,null,null,null,null,null,null,null,null,null,null,null,null,null,null,null,"Ferment",98,null,null,null,null,null,null,null,null,null,null,null,null,null,null,null,null,null,null,null,null,"Ferment",99,null,null,null,null,null,null,null,null,null,null,null,null,null,null,null,null,null,null,null,null,"Ferment",100]
["Number of ferments achived:",null,null,0,null,null,null,null,null,null,null,null,null,null,null,null,null,null,null,null,null,null,"Number of ferments achived:",null,null,0,null,null,null,null,null,null,null,null,null,null,null,null,null,null,null,null,null,null,"Number of ferments achived:",null,null,0,null,null,null,null,null,null,null,null,null,null,null,null,null,null,null,null,null,null,"Number of ferments achived:",null,null,0,null,null,null,null,null,null,null,null,null,null,null,null,null,null,null,null,null,null,"Number of ferments achived:",null,null,0,null,null,null,null,null,null,null,null,null,null,null,null,null,null,null,null,null,null,"Number of ferments achived:",null,null,0,null,null,null,null,null,null,null,null,null,null,null,null,null,null,null,null,null,null,"Number of ferments achived:",null,null,0,null,null,null,null,null,null,null,null,null,null,null,null,null,null,null,null,null,null,"Number of ferments achived:",null,null,0,null,null,null,null,null,null,null,null,null,null,null,null,null,null,null,null,null,null,"Number of ferments achived:",null,null,0,null,null,null,null,null,null,null,null,null,null,null,null,null,null,null,null,null,null,"Number of ferments achived:",null,null,0,null,null,null,null,null,null,null,null,null,null,null,null,null,null,null,null,null,null,"Number of ferments achived:",null,null,0,null,null,null,null,null,null,null,null,null,null,null,null,null,null,null,null,null,null,"Number of ferments achived:",null,null,0,null,null,null,null,null,null,null,null,null,null,null,null,null,null,null,null,null,null,"Number of ferments achived:",null,null,0,null,null,null,null,null,null,null,null,null,null,null,null,null,null,null,null,null,null,"Number of ferments achived:",null,null,0,null,null,null,null,null,null,null,null,null,null,null,null,null,null,null,null,null,null,"Number of ferments achived:",null,null,0,null,null,null,null,null,null,null,null,null,null,null,null,null,null,null,null,null,null,"Number of ferments achived:",null,null,0,null,null,null,null,null,null,null,null,null,null,null,null,null,null,null,null,null,null,"Number of ferments achived:",null,null,0,null,null,null,null,null,null,null,null,null,null,null,null,null,null,null,null,null,null,"Number of ferments achived:",null,null,0,null,null,null,null,null,null,null,null,null,null,null,null,null,null,null,null,null,null,"Number of ferments achived:",null,null,0,null,null,null,null,null,null,null,null,null,null,null,null,null,null,null,null,null,null,"Number of ferments achived:",null,null,0,null,null,null,null,null,null,null,null,null,null,null,null,null,null,null,null,null,null,"Number of ferments achived:",null,null,0,null,null,null,null,null,null,null,null,null,null,null,null,null,null,null,null,null,null,"Number of ferments achived:",null,null,0,null,null,null,null,null,null,null,null,null,null,null,null,null,null,null,null,null,null,"Number of ferments achived:",null,null,0,null,null,null,null,null,null,null,null,null,null,null,null,null,null,null,null,null,null,"Number of ferments achived:",null,null,0,null,null,null,null,null,null,null,null,null,null,null,null,null,null,null,null,null,null,"Number of ferments achived:",null,null,0,null,null,null,null,null,null,null,null,null,null,null,null,null,null,null,null,null,null,"Number of ferments achived:",null,null,0,null,null,null,null,null,null,null,null,null,null,null,null,null,null,null,null,null,null,"Number of ferments achived:",null,null,0,null,null,null,null,null,null,null,null,null,null,null,null,null,null,null,null,null,null,"Number of ferments achived:",null,null,0,null,null,null,null,null,null,null,null,null,null,null,null,null,null,null,null,null,null,"Number of ferments achived:",null,null,0,null,null,null,null,null,null,null,null,null,null,null,null,null,null,null,null,null,null,"Number of ferments achived:",null,null,0,null,null,null,null,null,null,null,null,null,null,null,null,null,null,null,null,null,null,"Number of ferments achived:",null,null,0,null,null,null,null,null,null,null,null,null,null,null,null,null,null,null,null,null,null,"Number of ferments achived:",null,null,0,null,null,null,null,null,null,null,null,null,null,null,null,null,null,null,null,null,null,"Number of ferments achived:",null,null,0,null,null,null,null,null,null,null,null,null,null,null,null,null,null,null,null,null,null,"Number of ferments achived:",null,null,0,null,null,null,null,null,null,null,null,null,null,null,null,null,null,null,null,null,null,"Number of ferments achived:",null,null,0,null,null,null,null,null,null,null,null,null,null,null,null,null,null,null,null,null,null,"Number of ferments achived:",null,null,0,null,null,null,null,null,null,null,null,null,1,null,null,null,null,null,null,null,null,"Number of ferments achived:",null,null,0,null,null,null,null,null,null,null,null,null,null,null,null,null,null,null,null,null,null,"Number of ferments achived:",null,null,0,null,null,null,null,null,null,null,null,null,null,null,null,null,null,null,null,null,null,"Number of ferments achived:",null,null,0,null,null,null,null,null,null,null,null,null,null,null,null,null,null,null,null,null,null,"Number of ferments achived:",null,null,0,null,null,null,null,null,null,null,null,null,null,null,null,null,null,null,null,null,null,"Number of ferments achived:",null,null,0,null,null,null,null,null,null,null,null,null,null,null,null,null,null,null,null,1,null,"Number of ferments achived:",null,null,0,null,null,null,null,null,null,null,null,null,null,null,null,null,null,null,null,null,null,"Number of ferments achived:",null,null,0,null,null,null,null,null,null,null,null,null,null,null,null,null,null,null,null,null,null,"Number of ferments achived:",null,null,0,null,null,null,null,null,null,null,null,null,null,null,null,null,null,null,null,null,null,"Number of ferments achived:",null,null,0,null,null,null,null,null,null,null,null,null,null,null,null,null,null,null,null,null,null,"Number of ferments achived:",null,null,0,null,null,null,null,null,null,null,null,null,null,null,null,null,null,null,null,null,null,"Number of ferments achived:",null,null,0,null,null,null,null,null,null,null,null,null,null,null,null,null,null,null,null,null,null,"Number of ferments achived:",null,null,0,null,null,null,null,null,null,null,null,null,null,null,null,null,null,null,null,null,null,"Number of ferments achived:",null,null,0,null,null,null,null,null,null,null,null,null,null,null,null,null,null,null,null,null,null,"Number of ferments achived:",null,null,0,null,null,null,null,null,null,null,null,null,null,null,null,null,null,null,null,null,null,"Number of ferments achived:",null,null,0,null,null,null,null,null,null,null,null,null,null,null,null,null,null,null,null,null,null,"Number of ferments achived:",null,null,0,null,null,null,null,null,null,null,null,null,null,null,null,null,null,null,null,null,null,"Number of ferments achived:",null,null,0,null,null,null,null,null,null,null,null,null,null,null,null,null,null,null,null,null,null,"Number of ferments achived:",null,null,0,null,null,null,null,null,null,null,null,null,null,null,null,null,null,null,null,null,null,"Number of ferments achived:",null,null,0,null,null,null,null,null,null,null,null,null,null,null,null,null,null,null,null,null,null,"Number of ferments achived:",null,null,0,null,null,null,null,null,null,null,null,null,null,null,null,null,null,null,null,null,null,"Number of ferments achived:",null,null,0,null,null,null,null,null,null,null,null,null,null,null,null,null,null,null,null,null,null,"Number of ferments achived:",null,null,0,null,null,null,null,null,null,null,null,null,null,null,null,null,null,null,null,null,null,"Number of ferments achived:",null,null,0,null,null,null,null,null,null,null,null,null,null,null,null,null,null,null,null,null,null,"Number of ferments achived:",null,null,0,null,null,null,null,null,null,null,null,null,null,null,null,null,null,null,null,null,null,"Number of ferments achived:",null,null,0,null,null,null,null,null,null,null,null,null,null,null,null,null,null,null,null,null,null,"Number of ferments achived:",null,null,0,null,null,null,null,null,null,null,null,null,null,null,null,null,null,null,null,null,null,"Number of ferments achived:",null,null,0,null,null,null,null,null,null,null,null,null,null,null,null,null,null,null,null,null,null,"Number of ferments achived:",null,null,0,null,null,null,null,null,null,null,null,null,null,null,null,null,null,null,null,null,null,"Number of ferments achived:",null,null,0,null,null,null,null,null,null,null,null,null,null,null,null,null,null,null,null,null,null,"Number of ferments achived:",null,null,0,null,null,null,null,null,null,null,null,null,null,null,null,null,null,null,null,null,null,"Number of ferments achived:",null,null,0,null,null,null,null,null,null,null,null,null,null,null,null,null,null,null,null,null,null,"Number of ferments achived:",null,null,0,null,null,null,null,null,null,null,null,null,null,null,null,null,null,null,null,null,null,"Number of ferments achived:",null,null,0,null,null,null,null,null,null,null,null,null,null,null,null,null,null,null,null,null,null,"Number of ferments achived:",null,null,0,null,null,null,null,null,null,null,null,null,null,null,null,null,null,null,null,null,null,"Number of ferments achived:",null,null,0,null,null,null,null,null,null,null,null,null,null,null,null,null,null,null,null,null,null,"Number of ferments achived:",null,null,0,null,null,null,null,null,null,null,null,null,null,null,null,null,null,null,null,null,null,"Number of ferments achived:",null,null,0,null,null,null,null,null,null,null,null,null,null,null,null,null,null,null,null,null,null,"Number of ferments achived:",null,null,0,null,null,null,null,null,null,null,null,null,null,null,null,null,null,null,null,null,null,"Number of ferments achived:",null,null,0,null,null,null,null,null,null,null,null,null,null,null,null,null,null,null,null,null,null,"Number of ferments achived:",null,null,0,null,null,null,null,null,null,null,null,null,null,null,null,null,null,null,null,null,null,"Number of ferments achived:",null,null,0,null,null,null,null,null,null,null,null,null,null,null,null,null,null,null,null,null,null,"Number of ferments achived:",null,null,0,null,null,null,null,null,null,null,null,null,null,null,null,null,null,null,null,null,null,"Number of ferments achived:",null,null,0,null,null,null,null,null,null,null,null,null,null,null,null,null,null,null,null,null,null,"Number of ferments achived:",null,null,0,null,null,null,null,null,null,null,null,null,null,null,null,null,null,null,null,null,null,"Number of ferments achived:",null,null,0,null,null,null,null,null,null,null,null,null,null,null,null,null,null,null,null,null,null,"Number of ferments achived:",null,null,0,null,null,null,null,null,null,null,null,null,null,null,null,null,null,null,null,null,null,"Number of ferments achived:",null,null,0,null,null,null,null,null,null,null,null,null,null,null,null,null,null,null,null,null,null,"Number of ferments achived:",null,null,0,null,null,null,null,null,null,null,null,null,null,null,null,null,null,null,null,null,null,"Number of ferments achived:",null,null,0,null,null,null,null,null,null,null,null,null,null,null,null,null,null,null,null,null,null,"Number of ferments achived:",null,null,0,null,null,null,null,null,null,null,null,null,null,null,null,null,null,null,null,null,null,"Number of ferments achived:",null,null,0,null,null,null,null,null,null,null,null,null,null,null,null,null,null,null,null,null,null,"Number of ferments achived:",null,null,0,null,null,null,null,null,null,null,null,null,null,null,null,null,null,null,null,null,null,"Number of ferments achived:",null,null,0,null,null,null,null,null,null,null,null,null,null,null,null,null,null,null,null,null,null,"Number of ferments achived:",null,null,0,null,null,null,null,null,null,null,null,null,null,null,null,null,null,null,null,null,null,"Number of ferments achived:",null,null,0,null,null,null,null,null,null,null,null,null,null,null,null,null,null,null,null,null,null,"Number of ferments achived:",null,null,0,null,null,null,null,null,null,null,null,null,null,null,null,null,null,null,null,null,null,"Number of ferments achived:",null,null,0,null,null,null,null,null,null,null,null,null,null,null,null,null,null,null,null,null,null,"Number of ferments achived:",null,null,0,null,null,null,null,null,null,null,null,null,null,null,null,null,null,null,null,null,null,"Number of ferments achived:",null,null,0,null,null,null,null,null,null,null,null,null,null,null,null,null,null,null,null,null,null,"Number of ferments achived:",null,null,0,null,null,null,null,null,null,null,null,null,null,null,null,null,null,null,null,null,null,"Number of ferments achived:",null,null,0,null,null,null,null,null,null,null,null,null,null,null,null,null,null,null,null,null,null,"Number of ferments achived:",null,null,0,null,null,null,null,null,null,null,null,null,null,null,null,null,null,null,null,null,null,"Number of ferments achived:",null,null,0,null,null,null,null,null,null,null,null,null,null,null,null,null,null,null,null,null,null,"Number of ferments achived:",null,null,0]